{"text_format":"1","workbook":"xlsx","n_sheets":2,"sheets":["Sitios","Categorias"],"not_rendered":{"charts":0,"images":0,"macros":1,"external_links":0,"defined_names":0,"comments":0,"pivot_tables":0},"unopened":[],"bounds":{"document_bytes":16777216,"sheet_cells":100000,"rows_first":2000,"rows_last":500,"rows_between":2000,"halvings":0,"cell_chars":16384,"cell_head_chars":4096},"cells_cut":0,"cells_raw":0,"read":"whole","date_system":"1900"}

{"sheet":"Sitios","index":0,"n_rows":10000,"n_cols":9,"rows_kept":10000,"cut":false,"hidden":false,"merged":[]}
["IDCATEGORIA","CATEGORIA","NOMBRE","DESCRIPCIÓN","LATITUD","LONGITUD","RADIO DE SITIO","ID","TIEMPO ESTANCIA"]
[{"$f":"VLOOKUP(B2,Categorias!$A:$B,2,FALSE)","v":{"$error":"#N/A"}}]
[{"$f":"VLOOKUP(B3,Categorias!$A:$B,2,FALSE)","v":{"$error":"#N/A"}}]
[{"$f":"VLOOKUP(B4,Categorias!$A:$B,2,FALSE)","v":{"$error":"#N/A"}}]
[{"$f":"VLOOKUP(B5,Categorias!$A:$B,2,FALSE)","v":{"$error":"#N/A"}}]
[{"$f":"VLOOKUP(B6,Categorias!$A:$B,2,FALSE)","v":{"$error":"#N/A"}}]
[{"$f":"VLOOKUP(B7,Categorias!$A:$B,2,FALSE)","v":{"$error":"#N/A"}}]
[{"$f":"VLOOKUP(B8,Categorias!$A:$B,2,FALSE)","v":{"$error":"#N/A"}}]
[{"$f":"VLOOKUP(B9,Categorias!$A:$B,2,FALSE)","v":{"$error":"#N/A"}}]
[{"$f":"VLOOKUP(B10,Categorias!$A:$B,2,FALSE)","v":{"$error":"#N/A"}}]
[{"$f":"VLOOKUP(B11,Categorias!$A:$B,2,FALSE)","v":{"$error":"#N/A"}}]
[{"$f":"VLOOKUP(B12,Categorias!$A:$B,2,FALSE)","v":{"$error":"#N/A"}}]
[{"$f":"VLOOKUP(B13,Categorias!$A:$B,2,FALSE)","v":{"$error":"#N/A"}}]
[{"$f":"VLOOKUP(B14,Categorias!$A:$B,2,FALSE)","v":{"$error":"#N/A"}}]
[{"$f":"VLOOKUP(B15,Categorias!$A:$B,2,FALSE)","v":{"$error":"#N/A"}}]
[{"$f":"VLOOKUP(B16,Categorias!$A:$B,2,FALSE)","v":{"$error":"#N/A"}}]
[{"$f":"VLOOKUP(B17,Categorias!$A:$B,2,FALSE)","v":{"$error":"#N/A"}}]
[{"$f":"VLOOKUP(B18,Categorias!$A:$B,2,FALSE)","v":{"$error":"#N/A"}}]
[{"$f":"VLOOKUP(B19,Categorias!$A:$B,2,FALSE)","v":{"$error":"#N/A"}}]
[{"$f":"VLOOKUP(B20,Categorias!$A:$B,2,FALSE)","v":{"$error":"#N/A"}}]
[{"$f":"VLOOKUP(B21,Categorias!$A:$B,2,FALSE)","v":{"$error":"#N/A"}}]
[{"$f":"VLOOKUP(B22,Categorias!$A:$B,2,FALSE)","v":{"$error":"#N/A"}}]
[{"$f":"VLOOKUP(B23,Categorias!$A:$B,2,FALSE)","v":{"$error":"#N/A"}}]
[{"$f":"VLOOKUP(B24,Categorias!$A:$B,2,FALSE)","v":{"$error":"#N/A"}}]
[{"$f":"VLOOKUP(B25,Categorias!$A:$B,2,FALSE)","v":{"$error":"#N/A"}}]
[{"$f":"VLOOKUP(B26,Categorias!$A:$B,2,FALSE)","v":{"$error":"#N/A"}}]
[{"$f":"VLOOKUP(B27,Categorias!$A:$B,2,FALSE)","v":{"$error":"#N/A"}}]
[{"$f":"VLOOKUP(B28,Categorias!$A:$B,2,FALSE)","v":{"$error":"#N/A"}}]
[{"$f":"VLOOKUP(B29,Categorias!$A:$B,2,FALSE)","v":{"$error":"#N/A"}}]
[{"$f":"VLOOKUP(B30,Categorias!$A:$B,2,FALSE)","v":{"$error":"#N/A"}}]
[{"$f":"VLOOKUP(B31,Categorias!$A:$B,2,FALSE)","v":{"$error":"#N/A"}}]
[{"$f":"VLOOKUP(B32,Categorias!$A:$B,2,FALSE)","v":{"$error":"#N/A"}}]
[{"$f":"VLOOKUP(B33,Categorias!$A:$B,2,FALSE)","v":{"$error":"#N/A"}}]
[{"$f":"VLOOKUP(B34,Categorias!$A:$B,2,FALSE)","v":{"$error":"#N/A"}}]
[{"$f":"VLOOKUP(B35,Categorias!$A:$B,2,FALSE)","v":{"$error":"#N/A"}}]
[{"$f":"VLOOKUP(B36,Categorias!$A:$B,2,FALSE)","v":{"$error":"#N/A"}}]
[{"$f":"VLOOKUP(B37,Categorias!$A:$B,2,FALSE)","v":{"$error":"#N/A"}}]
[{"$f":"VLOOKUP(B38,Categorias!$A:$B,2,FALSE)","v":{"$error":"#N/A"}}]
[{"$f":"VLOOKUP(B39,Categorias!$A:$B,2,FALSE)","v":{"$error":"#N/A"}}]
[{"$f":"VLOOKUP(B40,Categorias!$A:$B,2,FALSE)","v":{"$error":"#N/A"}}]
[{"$f":"VLOOKUP(B41,Categorias!$A:$B,2,FALSE)","v":{"$error":"#N/A"}}]
[{"$f":"VLOOKUP(B42,Categorias!$A:$B,2,FALSE)","v":{"$error":"#N/A"}}]
[{"$f":"VLOOKUP(B43,Categorias!$A:$B,2,FALSE)","v":{"$error":"#N/A"}}]
[{"$f":"VLOOKUP(B44,Categorias!$A:$B,2,FALSE)","v":{"$error":"#N/A"}}]
[{"$f":"VLOOKUP(B45,Categorias!$A:$B,2,FALSE)","v":{"$error":"#N/A"}}]
[{"$f":"VLOOKUP(B46,Categorias!$A:$B,2,FALSE)","v":{"$error":"#N/A"}}]
[{"$f":"VLOOKUP(B47,Categorias!$A:$B,2,FALSE)","v":{"$error":"#N/A"}}]
[{"$f":"VLOOKUP(B48,Categorias!$A:$B,2,FALSE)","v":{"$error":"#N/A"}}]
[{"$f":"VLOOKUP(B49,Categorias!$A:$B,2,FALSE)","v":{"$error":"#N/A"}}]
[{"$f":"VLOOKUP(B50,Categorias!$A:$B,2,FALSE)","v":{"$error":"#N/A"}}]
[{"$f":"VLOOKUP(B51,Categorias!$A:$B,2,FALSE)","v":{"$error":"#N/A"}}]
[{"$f":"VLOOKUP(B52,Categorias!$A:$B,2,FALSE)","v":{"$error":"#N/A"}}]
[{"$f":"VLOOKUP(B53,Categorias!$A:$B,2,FALSE)","v":{"$error":"#N/A"}}]
[{"$f":"VLOOKUP(B54,Categorias!$A:$B,2,FALSE)","v":{"$error":"#N/A"}}]
[{"$f":"VLOOKUP(B55,Categorias!$A:$B,2,FALSE)","v":{"$error":"#N/A"}}]
[{"$f":"VLOOKUP(B56,Categorias!$A:$B,2,FALSE)","v":{"$error":"#N/A"}}]
[{"$f":"VLOOKUP(B57,Categorias!$A:$B,2,FALSE)","v":{"$error":"#N/A"}}]
[{"$f":"VLOOKUP(B58,Categorias!$A:$B,2,FALSE)","v":{"$error":"#N/A"}}]
[{"$f":"VLOOKUP(B59,Categorias!$A:$B,2,FALSE)","v":{"$error":"#N/A"}}]
[{"$f":"VLOOKUP(B60,Categorias!$A:$B,2,FALSE)","v":{"$error":"#N/A"}}]
[{"$f":"VLOOKUP(B61,Categorias!$A:$B,2,FALSE)","v":{"$error":"#N/A"}}]
[{"$f":"VLOOKUP(B62,Categorias!$A:$B,2,FALSE)","v":{"$error":"#N/A"}}]
[{"$f":"VLOOKUP(B63,Categorias!$A:$B,2,FALSE)","v":{"$error":"#N/A"}}]
[{"$f":"VLOOKUP(B64,Categorias!$A:$B,2,FALSE)","v":{"$error":"#N/A"}}]
[{"$f":"VLOOKUP(B65,Categorias!$A:$B,2,FALSE)","v":{"$error":"#N/A"}}]
[{"$f":"VLOOKUP(B66,Categorias!$A:$B,2,FALSE)","v":{"$error":"#N/A"}}]
[{"$f":"VLOOKUP(B67,Categorias!$A:$B,2,FALSE)","v":{"$error":"#N/A"}}]
[{"$f":"VLOOKUP(B68,Categorias!$A:$B,2,FALSE)","v":{"$error":"#N/A"}}]
[{"$f":"VLOOKUP(B69,Categorias!$A:$B,2,FALSE)","v":{"$error":"#N/A"}}]
[{"$f":"VLOOKUP(B70,Categorias!$A:$B,2,FALSE)","v":{"$error":"#N/A"}}]
[{"$f":"VLOOKUP(B71,Categorias!$A:$B,2,FALSE)","v":{"$error":"#N/A"}}]
[{"$f":"VLOOKUP(B72,Categorias!$A:$B,2,FALSE)","v":{"$error":"#N/A"}}]
[{"$f":"VLOOKUP(B73,Categorias!$A:$B,2,FALSE)","v":{"$error":"#N/A"}}]
[{"$f":"VLOOKUP(B74,Categorias!$A:$B,2,FALSE)","v":{"$error":"#N/A"}}]
[{"$f":"VLOOKUP(B75,Categorias!$A:$B,2,FALSE)","v":{"$error":"#N/A"}}]
[{"$f":"VLOOKUP(B76,Categorias!$A:$B,2,FALSE)","v":{"$error":"#N/A"}}]
[{"$f":"VLOOKUP(B77,Categorias!$A:$B,2,FALSE)","v":{"$error":"#N/A"}}]
[{"$f":"VLOOKUP(B78,Categorias!$A:$B,2,FALSE)","v":{"$error":"#N/A"}}]
[{"$f":"VLOOKUP(B79,Categorias!$A:$B,2,FALSE)","v":{"$error":"#N/A"}}]
[{"$f":"VLOOKUP(B80,Categorias!$A:$B,2,FALSE)","v":{"$error":"#N/A"}}]
[{"$f":"VLOOKUP(B81,Categorias!$A:$B,2,FALSE)","v":{"$error":"#N/A"}}]
[{"$f":"VLOOKUP(B82,Categorias!$A:$B,2,FALSE)","v":{"$error":"#N/A"}}]
[{"$f":"VLOOKUP(B83,Categorias!$A:$B,2,FALSE)","v":{"$error":"#N/A"}}]
[{"$f":"VLOOKUP(B84,Categorias!$A:$B,2,FALSE)","v":{"$error":"#N/A"}}]
[{"$f":"VLOOKUP(B85,Categorias!$A:$B,2,FALSE)","v":{"$error":"#N/A"}}]
[{"$f":"VLOOKUP(B86,Categorias!$A:$B,2,FALSE)","v":{"$error":"#N/A"}}]
[{"$f":"VLOOKUP(B87,Categorias!$A:$B,2,FALSE)","v":{"$error":"#N/A"}}]
[{"$f":"VLOOKUP(B88,Categorias!$A:$B,2,FALSE)","v":{"$error":"#N/A"}}]
[{"$f":"VLOOKUP(B89,Categorias!$A:$B,2,FALSE)","v":{"$error":"#N/A"}}]
[{"$f":"VLOOKUP(B90,Categorias!$A:$B,2,FALSE)","v":{"$error":"#N/A"}}]
[{"$f":"VLOOKUP(B91,Categorias!$A:$B,2,FALSE)","v":{"$error":"#N/A"}}]
[{"$f":"VLOOKUP(B92,Categorias!$A:$B,2,FALSE)","v":{"$error":"#N/A"}}]
[{"$f":"VLOOKUP(B93,Categorias!$A:$B,2,FALSE)","v":{"$error":"#N/A"}}]
[{"$f":"VLOOKUP(B94,Categorias!$A:$B,2,FALSE)","v":{"$error":"#N/A"}}]
[{"$f":"VLOOKUP(B95,Categorias!$A:$B,2,FALSE)","v":{"$error":"#N/A"}}]
[{"$f":"VLOOKUP(B96,Categorias!$A:$B,2,FALSE)","v":{"$error":"#N/A"}}]
[{"$f":"VLOOKUP(B97,Categorias!$A:$B,2,FALSE)","v":{"$error":"#N/A"}}]
[{"$f":"VLOOKUP(B98,Categorias!$A:$B,2,FALSE)","v":{"$error":"#N/A"}}]
[{"$f":"VLOOKUP(B99,Categorias!$A:$B,2,FALSE)","v":{"$error":"#N/A"}}]
[{"$f":"VLOOKUP(B100,Categorias!$A:$B,2,FALSE)","v":{"$error":"#N/A"}}]
[{"$f":"VLOOKUP(B101,Categorias!$A:$B,2,FALSE)","v":{"$error":"#N/A"}}]
[{"$f":"VLOOKUP(B102,Categorias!$A:$B,2,FALSE)","v":{"$error":"#N/A"}}]
[{"$f":"VLOOKUP(B103,Categorias!$A:$B,2,FALSE)","v":{"$error":"#N/A"}}]
[{"$f":"VLOOKUP(B104,Categorias!$A:$B,2,FALSE)","v":{"$error":"#N/A"}}]
[{"$f":"VLOOKUP(B105,Categorias!$A:$B,2,FALSE)","v":{"$error":"#N/A"}}]
[{"$f":"VLOOKUP(B106,Categorias!$A:$B,2,FALSE)","v":{"$error":"#N/A"}}]
[{"$f":"VLOOKUP(B107,Categorias!$A:$B,2,FALSE)","v":{"$error":"#N/A"}}]
[{"$f":"VLOOKUP(B108,Categorias!$A:$B,2,FALSE)","v":{"$error":"#N/A"}}]
[{"$f":"VLOOKUP(B109,Categorias!$A:$B,2,FALSE)","v":{"$error":"#N/A"}}]
[{"$f":"VLOOKUP(B110,Categorias!$A:$B,2,FALSE)","v":{"$error":"#N/A"}}]
[{"$f":"VLOOKUP(B111,Categorias!$A:$B,2,FALSE)","v":{"$error":"#N/A"}}]
[{"$f":"VLOOKUP(B112,Categorias!$A:$B,2,FALSE)","v":{"$error":"#N/A"}}]
[{"$f":"VLOOKUP(B113,Categorias!$A:$B,2,FALSE)","v":{"$error":"#N/A"}}]
[{"$f":"VLOOKUP(B114,Categorias!$A:$B,2,FALSE)","v":{"$error":"#N/A"}}]
[{"$f":"VLOOKUP(B115,Categorias!$A:$B,2,FALSE)","v":{"$error":"#N/A"}}]
[{"$f":"VLOOKUP(B116,Categorias!$A:$B,2,FALSE)","v":{"$error":"#N/A"}}]
[{"$f":"VLOOKUP(B117,Categorias!$A:$B,2,FALSE)","v":{"$error":"#N/A"}}]
[{"$f":"VLOOKUP(B118,Categorias!$A:$B,2,FALSE)","v":{"$error":"#N/A"}}]
[{"$f":"VLOOKUP(B119,Categorias!$A:$B,2,FALSE)","v":{"$error":"#N/A"}}]
[{"$f":"VLOOKUP(B120,Categorias!$A:$B,2,FALSE)","v":{"$error":"#N/A"}}]
[{"$f":"VLOOKUP(B121,Categorias!$A:$B,2,FALSE)","v":{"$error":"#N/A"}}]
[{"$f":"VLOOKUP(B122,Categorias!$A:$B,2,FALSE)","v":{"$error":"#N/A"}}]
[{"$f":"VLOOKUP(B123,Categorias!$A:$B,2,FALSE)","v":{"$error":"#N/A"}}]
[{"$f":"VLOOKUP(B124,Categorias!$A:$B,2,FALSE)","v":{"$error":"#N/A"}}]
[{"$f":"VLOOKUP(B125,Categorias!$A:$B,2,FALSE)","v":{"$error":"#N/A"}}]
[{"$f":"VLOOKUP(B126,Categorias!$A:$B,2,FALSE)","v":{"$error":"#N/A"}}]
[{"$f":"VLOOKUP(B127,Categorias!$A:$B,2,FALSE)","v":{"$error":"#N/A"}}]
[{"$f":"VLOOKUP(B128,Categorias!$A:$B,2,FALSE)","v":{"$error":"#N/A"}}]
[{"$f":"VLOOKUP(B129,Categorias!$A:$B,2,FALSE)","v":{"$error":"#N/A"}}]
[{"$f":"VLOOKUP(B130,Categorias!$A:$B,2,FALSE)","v":{"$error":"#N/A"}}]
[{"$f":"VLOOKUP(B131,Categorias!$A:$B,2,FALSE)","v":{"$error":"#N/A"}}]
[{"$f":"VLOOKUP(B132,Categorias!$A:$B,2,FALSE)","v":{"$error":"#N/A"}}]
[{"$f":"VLOOKUP(B133,Categorias!$A:$B,2,FALSE)","v":{"$error":"#N/A"}}]
[{"$f":"VLOOKUP(B134,Categorias!$A:$B,2,FALSE)","v":{"$error":"#N/A"}}]
[{"$f":"VLOOKUP(B135,Categorias!$A:$B,2,FALSE)","v":{"$error":"#N/A"}}]
[{"$f":"VLOOKUP(B136,Categorias!$A:$B,2,FALSE)","v":{"$error":"#N/A"}}]
[{"$f":"VLOOKUP(B137,Categorias!$A:$B,2,FALSE)","v":{"$error":"#N/A"}}]
[{"$f":"VLOOKUP(B138,Categorias!$A:$B,2,FALSE)","v":{"$error":"#N/A"}}]
[{"$f":"VLOOKUP(B139,Categorias!$A:$B,2,FALSE)","v":{"$error":"#N/A"}}]
[{"$f":"VLOOKUP(B140,Categorias!$A:$B,2,FALSE)","v":{"$error":"#N/A"}}]
[{"$f":"VLOOKUP(B141,Categorias!$A:$B,2,FALSE)","v":{"$error":"#N/A"}}]
[{"$f":"VLOOKUP(B142,Categorias!$A:$B,2,FALSE)","v":{"$error":"#N/A"}}]
[{"$f":"VLOOKUP(B143,Categorias!$A:$B,2,FALSE)","v":{"$error":"#N/A"}}]
[{"$f":"VLOOKUP(B144,Categorias!$A:$B,2,FALSE)","v":{"$error":"#N/A"}}]
[{"$f":"VLOOKUP(B145,Categorias!$A:$B,2,FALSE)","v":{"$error":"#N/A"}}]
[{"$f":"VLOOKUP(B146,Categorias!$A:$B,2,FALSE)","v":{"$error":"#N/A"}}]
[{"$f":"VLOOKUP(B147,Categorias!$A:$B,2,FALSE)","v":{"$error":"#N/A"}}]
[{"$f":"VLOOKUP(B148,Categorias!$A:$B,2,FALSE)","v":{"$error":"#N/A"}}]
[{"$f":"VLOOKUP(B149,Categorias!$A:$B,2,FALSE)","v":{"$error":"#N/A"}}]
[{"$f":"VLOOKUP(B150,Categorias!$A:$B,2,FALSE)","v":{"$error":"#N/A"}}]
[{"$f":"VLOOKUP(B151,Categorias!$A:$B,2,FALSE)","v":{"$error":"#N/A"}}]
[{"$f":"VLOOKUP(B152,Categorias!$A:$B,2,FALSE)","v":{"$error":"#N/A"}}]
[{"$f":"VLOOKUP(B153,Categorias!$A:$B,2,FALSE)","v":{"$error":"#N/A"}}]
[{"$f":"VLOOKUP(B154,Categorias!$A:$B,2,FALSE)","v":{"$error":"#N/A"}}]
[{"$f":"VLOOKUP(B155,Categorias!$A:$B,2,FALSE)","v":{"$error":"#N/A"}}]
[{"$f":"VLOOKUP(B156,Categorias!$A:$B,2,FALSE)","v":{"$error":"#N/A"}}]
[{"$f":"VLOOKUP(B157,Categorias!$A:$B,2,FALSE)","v":{"$error":"#N/A"}}]
[{"$f":"VLOOKUP(B158,Categorias!$A:$B,2,FALSE)","v":{"$error":"#N/A"}}]
[{"$f":"VLOOKUP(B159,Categorias!$A:$B,2,FALSE)","v":{"$error":"#N/A"}}]
[{"$f":"VLOOKUP(B160,Categorias!$A:$B,2,FALSE)","v":{"$error":"#N/A"}}]
[{"$f":"VLOOKUP(B161,Categorias!$A:$B,2,FALSE)","v":{"$error":"#N/A"}}]
[{"$f":"VLOOKUP(B162,Categorias!$A:$B,2,FALSE)","v":{"$error":"#N/A"}}]
[{"$f":"VLOOKUP(B163,Categorias!$A:$B,2,FALSE)","v":{"$error":"#N/A"}}]
[{"$f":"VLOOKUP(B164,Categorias!$A:$B,2,FALSE)","v":{"$error":"#N/A"}}]
[{"$f":"VLOOKUP(B165,Categorias!$A:$B,2,FALSE)","v":{"$error":"#N/A"}}]
[{"$f":"VLOOKUP(B166,Categorias!$A:$B,2,FALSE)","v":{"$error":"#N/A"}}]
[{"$f":"VLOOKUP(B167,Categorias!$A:$B,2,FALSE)","v":{"$error":"#N/A"}}]
[{"$f":"VLOOKUP(B168,Categorias!$A:$B,2,FALSE)","v":{"$error":"#N/A"}}]
[{"$f":"VLOOKUP(B169,Categorias!$A:$B,2,FALSE)","v":{"$error":"#N/A"}}]
[{"$f":"VLOOKUP(B170,Categorias!$A:$B,2,FALSE)","v":{"$error":"#N/A"}}]
[{"$f":"VLOOKUP(B171,Categorias!$A:$B,2,FALSE)","v":{"$error":"#N/A"}}]
[{"$f":"VLOOKUP(B172,Categorias!$A:$B,2,FALSE)","v":{"$error":"#N/A"}}]
[{"$f":"VLOOKUP(B173,Categorias!$A:$B,2,FALSE)","v":{"$error":"#N/A"}}]
[{"$f":"VLOOKUP(B174,Categorias!$A:$B,2,FALSE)","v":{"$error":"#N/A"}}]
[{"$f":"VLOOKUP(B175,Categorias!$A:$B,2,FALSE)","v":{"$error":"#N/A"}}]
[{"$f":"VLOOKUP(B176,Categorias!$A:$B,2,FALSE)","v":{"$error":"#N/A"}}]
[{"$f":"VLOOKUP(B177,Categorias!$A:$B,2,FALSE)","v":{"$error":"#N/A"}}]
[{"$f":"VLOOKUP(B178,Categorias!$A:$B,2,FALSE)","v":{"$error":"#N/A"}}]
[{"$f":"VLOOKUP(B179,Categorias!$A:$B,2,FALSE)","v":{"$error":"#N/A"}}]
[{"$f":"VLOOKUP(B180,Categorias!$A:$B,2,FALSE)","v":{"$error":"#N/A"}}]
[{"$f":"VLOOKUP(B181,Categorias!$A:$B,2,FALSE)","v":{"$error":"#N/A"}}]
[{"$f":"VLOOKUP(B182,Categorias!$A:$B,2,FALSE)","v":{"$error":"#N/A"}}]
[{"$f":"VLOOKUP(B183,Categorias!$A:$B,2,FALSE)","v":{"$error":"#N/A"}}]
[{"$f":"VLOOKUP(B184,Categorias!$A:$B,2,FALSE)","v":{"$error":"#N/A"}}]
[{"$f":"VLOOKUP(B185,Categorias!$A:$B,2,FALSE)","v":{"$error":"#N/A"}}]
[{"$f":"VLOOKUP(B186,Categorias!$A:$B,2,FALSE)","v":{"$error":"#N/A"}}]
[{"$f":"VLOOKUP(B187,Categorias!$A:$B,2,FALSE)","v":{"$error":"#N/A"}}]
[{"$f":"VLOOKUP(B188,Categorias!$A:$B,2,FALSE)","v":{"$error":"#N/A"}}]
[{"$f":"VLOOKUP(B189,Categorias!$A:$B,2,FALSE)","v":{"$error":"#N/A"}}]
[{"$f":"VLOOKUP(B190,Categorias!$A:$B,2,FALSE)","v":{"$error":"#N/A"}}]
[{"$f":"VLOOKUP(B191,Categorias!$A:$B,2,FALSE)","v":{"$error":"#N/A"}}]
[{"$f":"VLOOKUP(B192,Categorias!$A:$B,2,FALSE)","v":{"$error":"#N/A"}}]
[{"$f":"VLOOKUP(B193,Categorias!$A:$B,2,FALSE)","v":{"$error":"#N/A"}}]
[{"$f":"VLOOKUP(B194,Categorias!$A:$B,2,FALSE)","v":{"$error":"#N/A"}}]
[{"$f":"VLOOKUP(B195,Categorias!$A:$B,2,FALSE)","v":{"$error":"#N/A"}}]
[{"$f":"VLOOKUP(B196,Categorias!$A:$B,2,FALSE)","v":{"$error":"#N/A"}}]
[{"$f":"VLOOKUP(B197,Categorias!$A:$B,2,FALSE)","v":{"$error":"#N/A"}}]
[{"$f":"VLOOKUP(B198,Categorias!$A:$B,2,FALSE)","v":{"$error":"#N/A"}}]
[{"$f":"VLOOKUP(B199,Categorias!$A:$B,2,FALSE)","v":{"$error":"#N/A"}}]
[{"$f":"VLOOKUP(B200,Categorias!$A:$B,2,FALSE)","v":{"$error":"#N/A"}}]
[{"$f":"VLOOKUP(B201,Categorias!$A:$B,2,FALSE)","v":{"$error":"#N/A"}}]
[{"$f":"VLOOKUP(B202,Categorias!$A:$B,2,FALSE)","v":{"$error":"#N/A"}}]
[{"$f":"VLOOKUP(B203,Categorias!$A:$B,2,FALSE)","v":{"$error":"#N/A"}}]
[{"$f":"VLOOKUP(B204,Categorias!$A:$B,2,FALSE)","v":{"$error":"#N/A"}}]
[{"$f":"VLOOKUP(B205,Categorias!$A:$B,2,FALSE)","v":{"$error":"#N/A"}}]
[{"$f":"VLOOKUP(B206,Categorias!$A:$B,2,FALSE)","v":{"$error":"#N/A"}}]
[{"$f":"VLOOKUP(B207,Categorias!$A:$B,2,FALSE)","v":{"$error":"#N/A"}}]
[{"$f":"VLOOKUP(B208,Categorias!$A:$B,2,FALSE)","v":{"$error":"#N/A"}}]
[{"$f":"VLOOKUP(B209,Categorias!$A:$B,2,FALSE)","v":{"$error":"#N/A"}}]
[{"$f":"VLOOKUP(B210,Categorias!$A:$B,2,FALSE)","v":{"$error":"#N/A"}}]
[{"$f":"VLOOKUP(B211,Categorias!$A:$B,2,FALSE)","v":{"$error":"#N/A"}}]
[{"$f":"VLOOKUP(B212,Categorias!$A:$B,2,FALSE)","v":{"$error":"#N/A"}}]
[{"$f":"VLOOKUP(B213,Categorias!$A:$B,2,FALSE)","v":{"$error":"#N/A"}}]
[{"$f":"VLOOKUP(B214,Categorias!$A:$B,2,FALSE)","v":{"$error":"#N/A"}}]
[{"$f":"VLOOKUP(B215,Categorias!$A:$B,2,FALSE)","v":{"$error":"#N/A"}}]
[{"$f":"VLOOKUP(B216,Categorias!$A:$B,2,FALSE)","v":{"$error":"#N/A"}}]
[{"$f":"VLOOKUP(B217,Categorias!$A:$B,2,FALSE)","v":{"$error":"#N/A"}}]
[{"$f":"VLOOKUP(B218,Categorias!$A:$B,2,FALSE)","v":{"$error":"#N/A"}}]
[{"$f":"VLOOKUP(B219,Categorias!$A:$B,2,FALSE)","v":{"$error":"#N/A"}}]
[{"$f":"VLOOKUP(B220,Categorias!$A:$B,2,FALSE)","v":{"$error":"#N/A"}}]
[{"$f":"VLOOKUP(B221,Categorias!$A:$B,2,FALSE)","v":{"$error":"#N/A"}}]
[{"$f":"VLOOKUP(B222,Categorias!$A:$B,2,FALSE)","v":{"$error":"#N/A"}}]
[{"$f":"VLOOKUP(B223,Categorias!$A:$B,2,FALSE)","v":{"$error":"#N/A"}}]
[{"$f":"VLOOKUP(B224,Categorias!$A:$B,2,FALSE)","v":{"$error":"#N/A"}}]
[{"$f":"VLOOKUP(B225,Categorias!$A:$B,2,FALSE)","v":{"$error":"#N/A"}}]
[{"$f":"VLOOKUP(B226,Categorias!$A:$B,2,FALSE)","v":{"$error":"#N/A"}}]
[{"$f":"VLOOKUP(B227,Categorias!$A:$B,2,FALSE)","v":{"$error":"#N/A"}}]
[{"$f":"VLOOKUP(B228,Categorias!$A:$B,2,FALSE)","v":{"$error":"#N/A"}}]
[{"$f":"VLOOKUP(B229,Categorias!$A:$B,2,FALSE)","v":{"$error":"#N/A"}}]
[{"$f":"VLOOKUP(B230,Categorias!$A:$B,2,FALSE)","v":{"$error":"#N/A"}}]
[{"$f":"VLOOKUP(B231,Categorias!$A:$B,2,FALSE)","v":{"$error":"#N/A"}}]
[{"$f":"VLOOKUP(B232,Categorias!$A:$B,2,FALSE)","v":{"$error":"#N/A"}}]
[{"$f":"VLOOKUP(B233,Categorias!$A:$B,2,FALSE)","v":{"$error":"#N/A"}}]
[{"$f":"VLOOKUP(B234,Categorias!$A:$B,2,FALSE)","v":{"$error":"#N/A"}}]
[{"$f":"VLOOKUP(B235,Categorias!$A:$B,2,FALSE)","v":{"$error":"#N/A"}}]
[{"$f":"VLOOKUP(B236,Categorias!$A:$B,2,FALSE)","v":{"$error":"#N/A"}}]
[{"$f":"VLOOKUP(B237,Categorias!$A:$B,2,FALSE)","v":{"$error":"#N/A"}}]
[{"$f":"VLOOKUP(B238,Categorias!$A:$B,2,FALSE)","v":{"$error":"#N/A"}}]
[{"$f":"VLOOKUP(B239,Categorias!$A:$B,2,FALSE)","v":{"$error":"#N/A"}}]
[{"$f":"VLOOKUP(B240,Categorias!$A:$B,2,FALSE)","v":{"$error":"#N/A"}}]
[{"$f":"VLOOKUP(B241,Categorias!$A:$B,2,FALSE)","v":{"$error":"#N/A"}}]
[{"$f":"VLOOKUP(B242,Categorias!$A:$B,2,FALSE)","v":{"$error":"#N/A"}}]
[{"$f":"VLOOKUP(B243,Categorias!$A:$B,2,FALSE)","v":{"$error":"#N/A"}}]
[{"$f":"VLOOKUP(B244,Categorias!$A:$B,2,FALSE)","v":{"$error":"#N/A"}}]
[{"$f":"VLOOKUP(B245,Categorias!$A:$B,2,FALSE)","v":{"$error":"#N/A"}}]
[{"$f":"VLOOKUP(B246,Categorias!$A:$B,2,FALSE)","v":{"$error":"#N/A"}}]
[{"$f":"VLOOKUP(B247,Categorias!$A:$B,2,FALSE)","v":{"$error":"#N/A"}}]
[{"$f":"VLOOKUP(B248,Categorias!$A:$B,2,FALSE)","v":{"$error":"#N/A"}}]
[{"$f":"VLOOKUP(B249,Categorias!$A:$B,2,FALSE)","v":{"$error":"#N/A"}}]
[{"$f":"VLOOKUP(B250,Categorias!$A:$B,2,FALSE)","v":{"$error":"#N/A"}}]
[{"$f":"VLOOKUP(B251,Categorias!$A:$B,2,FALSE)","v":{"$error":"#N/A"}}]
[{"$f":"VLOOKUP(B252,Categorias!$A:$B,2,FALSE)","v":{"$error":"#N/A"}}]
[{"$f":"VLOOKUP(B253,Categorias!$A:$B,2,FALSE)","v":{"$error":"#N/A"}}]
[{"$f":"VLOOKUP(B254,Categorias!$A:$B,2,FALSE)","v":{"$error":"#N/A"}}]
[{"$f":"VLOOKUP(B255,Categorias!$A:$B,2,FALSE)","v":{"$error":"#N/A"}}]
[{"$f":"VLOOKUP(B256,Categorias!$A:$B,2,FALSE)","v":{"$error":"#N/A"}}]
[{"$f":"VLOOKUP(B257,Categorias!$A:$B,2,FALSE)","v":{"$error":"#N/A"}}]
[{"$f":"VLOOKUP(B258,Categorias!$A:$B,2,FALSE)","v":{"$error":"#N/A"}}]
[{"$f":"VLOOKUP(B259,Categorias!$A:$B,2,FALSE)","v":{"$error":"#N/A"}}]
[{"$f":"VLOOKUP(B260,Categorias!$A:$B,2,FALSE)","v":{"$error":"#N/A"}}]
[{"$f":"VLOOKUP(B261,Categorias!$A:$B,2,FALSE)","v":{"$error":"#N/A"}}]
[{"$f":"VLOOKUP(B262,Categorias!$A:$B,2,FALSE)","v":{"$error":"#N/A"}}]
[{"$f":"VLOOKUP(B263,Categorias!$A:$B,2,FALSE)","v":{"$error":"#N/A"}}]
[{"$f":"VLOOKUP(B264,Categorias!$A:$B,2,FALSE)","v":{"$error":"#N/A"}}]
[{"$f":"VLOOKUP(B265,Categorias!$A:$B,2,FALSE)","v":{"$error":"#N/A"}}]
[{"$f":"VLOOKUP(B266,Categorias!$A:$B,2,FALSE)","v":{"$error":"#N/A"}}]
[{"$f":"VLOOKUP(B267,Categorias!$A:$B,2,FALSE)","v":{"$error":"#N/A"}}]
[{"$f":"VLOOKUP(B268,Categorias!$A:$B,2,FALSE)","v":{"$error":"#N/A"}}]
[{"$f":"VLOOKUP(B269,Categorias!$A:$B,2,FALSE)","v":{"$error":"#N/A"}}]
[{"$f":"VLOOKUP(B270,Categorias!$A:$B,2,FALSE)","v":{"$error":"#N/A"}}]
[{"$f":"VLOOKUP(B271,Categorias!$A:$B,2,FALSE)","v":{"$error":"#N/A"}}]
[{"$f":"VLOOKUP(B272,Categorias!$A:$B,2,FALSE)","v":{"$error":"#N/A"}}]
[{"$f":"VLOOKUP(B273,Categorias!$A:$B,2,FALSE)","v":{"$error":"#N/A"}}]
[{"$f":"VLOOKUP(B274,Categorias!$A:$B,2,FALSE)","v":{"$error":"#N/A"}}]
[{"$f":"VLOOKUP(B275,Categorias!$A:$B,2,FALSE)","v":{"$error":"#N/A"}}]
[{"$f":"VLOOKUP(B276,Categorias!$A:$B,2,FALSE)","v":{"$error":"#N/A"}}]
[{"$f":"VLOOKUP(B277,Categorias!$A:$B,2,FALSE)","v":{"$error":"#N/A"}}]
[{"$f":"VLOOKUP(B278,Categorias!$A:$B,2,FALSE)","v":{"$error":"#N/A"}}]
[{"$f":"VLOOKUP(B279,Categorias!$A:$B,2,FALSE)","v":{"$error":"#N/A"}}]
[{"$f":"VLOOKUP(B280,Categorias!$A:$B,2,FALSE)","v":{"$error":"#N/A"}}]
[{"$f":"VLOOKUP(B281,Categorias!$A:$B,2,FALSE)","v":{"$error":"#N/A"}}]
[{"$f":"VLOOKUP(B282,Categorias!$A:$B,2,FALSE)","v":{"$error":"#N/A"}}]
[{"$f":"VLOOKUP(B283,Categorias!$A:$B,2,FALSE)","v":{"$error":"#N/A"}}]
[{"$f":"VLOOKUP(B284,Categorias!$A:$B,2,FALSE)","v":{"$error":"#N/A"}}]
[{"$f":"VLOOKUP(B285,Categorias!$A:$B,2,FALSE)","v":{"$error":"#N/A"}}]
[{"$f":"VLOOKUP(B286,Categorias!$A:$B,2,FALSE)","v":{"$error":"#N/A"}}]
[{"$f":"VLOOKUP(B287,Categorias!$A:$B,2,FALSE)","v":{"$error":"#N/A"}}]
[{"$f":"VLOOKUP(B288,Categorias!$A:$B,2,FALSE)","v":{"$error":"#N/A"}}]
[{"$f":"VLOOKUP(B289,Categorias!$A:$B,2,FALSE)","v":{"$error":"#N/A"}}]
[{"$f":"VLOOKUP(B290,Categorias!$A:$B,2,FALSE)","v":{"$error":"#N/A"}}]
[{"$f":"VLOOKUP(B291,Categorias!$A:$B,2,FALSE)","v":{"$error":"#N/A"}}]
[{"$f":"VLOOKUP(B292,Categorias!$A:$B,2,FALSE)","v":{"$error":"#N/A"}}]
[{"$f":"VLOOKUP(B293,Categorias!$A:$B,2,FALSE)","v":{"$error":"#N/A"}}]
[{"$f":"VLOOKUP(B294,Categorias!$A:$B,2,FALSE)","v":{"$error":"#N/A"}}]
[{"$f":"VLOOKUP(B295,Categorias!$A:$B,2,FALSE)","v":{"$error":"#N/A"}}]
[{"$f":"VLOOKUP(B296,Categorias!$A:$B,2,FALSE)","v":{"$error":"#N/A"}}]
[{"$f":"VLOOKUP(B297,Categorias!$A:$B,2,FALSE)","v":{"$error":"#N/A"}}]
[{"$f":"VLOOKUP(B298,Categorias!$A:$B,2,FALSE)","v":{"$error":"#N/A"}}]
[{"$f":"VLOOKUP(B299,Categorias!$A:$B,2,FALSE)","v":{"$error":"#N/A"}}]
[{"$f":"VLOOKUP(B300,Categorias!$A:$B,2,FALSE)","v":{"$error":"#N/A"}}]
[{"$f":"VLOOKUP(B301,Categorias!$A:$B,2,FALSE)","v":{"$error":"#N/A"}}]
[{"$f":"VLOOKUP(B302,Categorias!$A:$B,2,FALSE)","v":{"$error":"#N/A"}}]
[{"$f":"VLOOKUP(B303,Categorias!$A:$B,2,FALSE)","v":{"$error":"#N/A"}}]
[{"$f":"VLOOKUP(B304,Categorias!$A:$B,2,FALSE)","v":{"$error":"#N/A"}}]
[{"$f":"VLOOKUP(B305,Categorias!$A:$B,2,FALSE)","v":{"$error":"#N/A"}}]
[{"$f":"VLOOKUP(B306,Categorias!$A:$B,2,FALSE)","v":{"$error":"#N/A"}}]
[{"$f":"VLOOKUP(B307,Categorias!$A:$B,2,FALSE)","v":{"$error":"#N/A"}}]
[{"$f":"VLOOKUP(B308,Categorias!$A:$B,2,FALSE)","v":{"$error":"#N/A"}}]
[{"$f":"VLOOKUP(B309,Categorias!$A:$B,2,FALSE)","v":{"$error":"#N/A"}}]
[{"$f":"VLOOKUP(B310,Categorias!$A:$B,2,FALSE)","v":{"$error":"#N/A"}}]
[{"$f":"VLOOKUP(B311,Categorias!$A:$B,2,FALSE)","v":{"$error":"#N/A"}}]
[{"$f":"VLOOKUP(B312,Categorias!$A:$B,2,FALSE)","v":{"$error":"#N/A"}}]
[{"$f":"VLOOKUP(B313,Categorias!$A:$B,2,FALSE)","v":{"$error":"#N/A"}}]
[{"$f":"VLOOKUP(B314,Categorias!$A:$B,2,FALSE)","v":{"$error":"#N/A"}}]
[{"$f":"VLOOKUP(B315,Categorias!$A:$B,2,FALSE)","v":{"$error":"#N/A"}}]
[{"$f":"VLOOKUP(B316,Categorias!$A:$B,2,FALSE)","v":{"$error":"#N/A"}}]
[{"$f":"VLOOKUP(B317,Categorias!$A:$B,2,FALSE)","v":{"$error":"#N/A"}}]
[{"$f":"VLOOKUP(B318,Categorias!$A:$B,2,FALSE)","v":{"$error":"#N/A"}}]
[{"$f":"VLOOKUP(B319,Categorias!$A:$B,2,FALSE)","v":{"$error":"#N/A"}}]
[{"$f":"VLOOKUP(B320,Categorias!$A:$B,2,FALSE)","v":{"$error":"#N/A"}}]
[{"$f":"VLOOKUP(B321,Categorias!$A:$B,2,FALSE)","v":{"$error":"#N/A"}}]
[{"$f":"VLOOKUP(B322,Categorias!$A:$B,2,FALSE)","v":{"$error":"#N/A"}}]
[{"$f":"VLOOKUP(B323,Categorias!$A:$B,2,FALSE)","v":{"$error":"#N/A"}}]
[{"$f":"VLOOKUP(B324,Categorias!$A:$B,2,FALSE)","v":{"$error":"#N/A"}}]
[{"$f":"VLOOKUP(B325,Categorias!$A:$B,2,FALSE)","v":{"$error":"#N/A"}}]
[{"$f":"VLOOKUP(B326,Categorias!$A:$B,2,FALSE)","v":{"$error":"#N/A"}}]
[{"$f":"VLOOKUP(B327,Categorias!$A:$B,2,FALSE)","v":{"$error":"#N/A"}}]
[{"$f":"VLOOKUP(B328,Categorias!$A:$B,2,FALSE)","v":{"$error":"#N/A"}}]
[{"$f":"VLOOKUP(B329,Categorias!$A:$B,2,FALSE)","v":{"$error":"#N/A"}}]
[{"$f":"VLOOKUP(B330,Categorias!$A:$B,2,FALSE)","v":{"$error":"#N/A"}}]
[{"$f":"VLOOKUP(B331,Categorias!$A:$B,2,FALSE)","v":{"$error":"#N/A"}}]
[{"$f":"VLOOKUP(B332,Categorias!$A:$B,2,FALSE)","v":{"$error":"#N/A"}}]
[{"$f":"VLOOKUP(B333,Categorias!$A:$B,2,FALSE)","v":{"$error":"#N/A"}}]
[{"$f":"VLOOKUP(B334,Categorias!$A:$B,2,FALSE)","v":{"$error":"#N/A"}}]
[{"$f":"VLOOKUP(B335,Categorias!$A:$B,2,FALSE)","v":{"$error":"#N/A"}}]
[{"$f":"VLOOKUP(B336,Categorias!$A:$B,2,FALSE)","v":{"$error":"#N/A"}}]
[{"$f":"VLOOKUP(B337,Categorias!$A:$B,2,FALSE)","v":{"$error":"#N/A"}}]
[{"$f":"VLOOKUP(B338,Categorias!$A:$B,2,FALSE)","v":{"$error":"#N/A"}}]
[{"$f":"VLOOKUP(B339,Categorias!$A:$B,2,FALSE)","v":{"$error":"#N/A"}}]
[{"$f":"VLOOKUP(B340,Categorias!$A:$B,2,FALSE)","v":{"$error":"#N/A"}}]
[{"$f":"VLOOKUP(B341,Categorias!$A:$B,2,FALSE)","v":{"$error":"#N/A"}}]
[{"$f":"VLOOKUP(B342,Categorias!$A:$B,2,FALSE)","v":{"$error":"#N/A"}}]
[{"$f":"VLOOKUP(B343,Categorias!$A:$B,2,FALSE)","v":{"$error":"#N/A"}}]
[{"$f":"VLOOKUP(B344,Categorias!$A:$B,2,FALSE)","v":{"$error":"#N/A"}}]
[{"$f":"VLOOKUP(B345,Categorias!$A:$B,2,FALSE)","v":{"$error":"#N/A"}}]
[{"$f":"VLOOKUP(B346,Categorias!$A:$B,2,FALSE)","v":{"$error":"#N/A"}}]
[{"$f":"VLOOKUP(B347,Categorias!$A:$B,2,FALSE)","v":{"$error":"#N/A"}}]
[{"$f":"VLOOKUP(B348,Categorias!$A:$B,2,FALSE)","v":{"$error":"#N/A"}}]
[{"$f":"VLOOKUP(B349,Categorias!$A:$B,2,FALSE)","v":{"$error":"#N/A"}}]
[{"$f":"VLOOKUP(B350,Categorias!$A:$B,2,FALSE)","v":{"$error":"#N/A"}}]
[{"$f":"VLOOKUP(B351,Categorias!$A:$B,2,FALSE)","v":{"$error":"#N/A"}}]
[{"$f":"VLOOKUP(B352,Categorias!$A:$B,2,FALSE)","v":{"$error":"#N/A"}}]
[{"$f":"VLOOKUP(B353,Categorias!$A:$B,2,FALSE)","v":{"$error":"#N/A"}}]
[{"$f":"VLOOKUP(B354,Categorias!$A:$B,2,FALSE)","v":{"$error":"#N/A"}}]
[{"$f":"VLOOKUP(B355,Categorias!$A:$B,2,FALSE)","v":{"$error":"#N/A"}}]
[{"$f":"VLOOKUP(B356,Categorias!$A:$B,2,FALSE)","v":{"$error":"#N/A"}}]
[{"$f":"VLOOKUP(B357,Categorias!$A:$B,2,FALSE)","v":{"$error":"#N/A"}}]
[{"$f":"VLOOKUP(B358,Categorias!$A:$B,2,FALSE)","v":{"$error":"#N/A"}}]
[{"$f":"VLOOKUP(B359,Categorias!$A:$B,2,FALSE)","v":{"$error":"#N/A"}}]
[{"$f":"VLOOKUP(B360,Categorias!$A:$B,2,FALSE)","v":{"$error":"#N/A"}}]
[{"$f":"VLOOKUP(B361,Categorias!$A:$B,2,FALSE)","v":{"$error":"#N/A"}}]
[{"$f":"VLOOKUP(B362,Categorias!$A:$B,2,FALSE)","v":{"$error":"#N/A"}}]
[{"$f":"VLOOKUP(B363,Categorias!$A:$B,2,FALSE)","v":{"$error":"#N/A"}}]
[{"$f":"VLOOKUP(B364,Categorias!$A:$B,2,FALSE)","v":{"$error":"#N/A"}}]
[{"$f":"VLOOKUP(B365,Categorias!$A:$B,2,FALSE)","v":{"$error":"#N/A"}}]
[{"$f":"VLOOKUP(B366,Categorias!$A:$B,2,FALSE)","v":{"$error":"#N/A"}}]
[{"$f":"VLOOKUP(B367,Categorias!$A:$B,2,FALSE)","v":{"$error":"#N/A"}}]
[{"$f":"VLOOKUP(B368,Categorias!$A:$B,2,FALSE)","v":{"$error":"#N/A"}}]
[{"$f":"VLOOKUP(B369,Categorias!$A:$B,2,FALSE)","v":{"$error":"#N/A"}}]
[{"$f":"VLOOKUP(B370,Categorias!$A:$B,2,FALSE)","v":{"$error":"#N/A"}}]
[{"$f":"VLOOKUP(B371,Categorias!$A:$B,2,FALSE)","v":{"$error":"#N/A"}}]
[{"$f":"VLOOKUP(B372,Categorias!$A:$B,2,FALSE)","v":{"$error":"#N/A"}}]
[{"$f":"VLOOKUP(B373,Categorias!$A:$B,2,FALSE)","v":{"$error":"#N/A"}}]
[{"$f":"VLOOKUP(B374,Categorias!$A:$B,2,FALSE)","v":{"$error":"#N/A"}}]
[{"$f":"VLOOKUP(B375,Categorias!$A:$B,2,FALSE)","v":{"$error":"#N/A"}}]
[{"$f":"VLOOKUP(B376,Categorias!$A:$B,2,FALSE)","v":{"$error":"#N/A"}}]
[{"$f":"VLOOKUP(B377,Categorias!$A:$B,2,FALSE)","v":{"$error":"#N/A"}}]
[{"$f":"VLOOKUP(B378,Categorias!$A:$B,2,FALSE)","v":{"$error":"#N/A"}}]
[{"$f":"VLOOKUP(B379,Categorias!$A:$B,2,FALSE)","v":{"$error":"#N/A"}}]
[{"$f":"VLOOKUP(B380,Categorias!$A:$B,2,FALSE)","v":{"$error":"#N/A"}}]
[{"$f":"VLOOKUP(B381,Categorias!$A:$B,2,FALSE)","v":{"$error":"#N/A"}}]
[{"$f":"VLOOKUP(B382,Categorias!$A:$B,2,FALSE)","v":{"$error":"#N/A"}}]
[{"$f":"VLOOKUP(B383,Categorias!$A:$B,2,FALSE)","v":{"$error":"#N/A"}}]
[{"$f":"VLOOKUP(B384,Categorias!$A:$B,2,FALSE)","v":{"$error":"#N/A"}}]
[{"$f":"VLOOKUP(B385,Categorias!$A:$B,2,FALSE)","v":{"$error":"#N/A"}}]
[{"$f":"VLOOKUP(B386,Categorias!$A:$B,2,FALSE)","v":{"$error":"#N/A"}}]
[{"$f":"VLOOKUP(B387,Categorias!$A:$B,2,FALSE)","v":{"$error":"#N/A"}}]
[{"$f":"VLOOKUP(B388,Categorias!$A:$B,2,FALSE)","v":{"$error":"#N/A"}}]
[{"$f":"VLOOKUP(B389,Categorias!$A:$B,2,FALSE)","v":{"$error":"#N/A"}}]
[{"$f":"VLOOKUP(B390,Categorias!$A:$B,2,FALSE)","v":{"$error":"#N/A"}}]
[{"$f":"VLOOKUP(B391,Categorias!$A:$B,2,FALSE)","v":{"$error":"#N/A"}}]
[{"$f":"VLOOKUP(B392,Categorias!$A:$B,2,FALSE)","v":{"$error":"#N/A"}}]
[{"$f":"VLOOKUP(B393,Categorias!$A:$B,2,FALSE)","v":{"$error":"#N/A"}}]
[{"$f":"VLOOKUP(B394,Categorias!$A:$B,2,FALSE)","v":{"$error":"#N/A"}}]
[{"$f":"VLOOKUP(B395,Categorias!$A:$B,2,FALSE)","v":{"$error":"#N/A"}}]
[{"$f":"VLOOKUP(B396,Categorias!$A:$B,2,FALSE)","v":{"$error":"#N/A"}}]
[{"$f":"VLOOKUP(B397,Categorias!$A:$B,2,FALSE)","v":{"$error":"#N/A"}}]
[{"$f":"VLOOKUP(B398,Categorias!$A:$B,2,FALSE)","v":{"$error":"#N/A"}}]
[{"$f":"VLOOKUP(B399,Categorias!$A:$B,2,FALSE)","v":{"$error":"#N/A"}}]
[{"$f":"VLOOKUP(B400,Categorias!$A:$B,2,FALSE)","v":{"$error":"#N/A"}}]
[{"$f":"VLOOKUP(B401,Categorias!$A:$B,2,FALSE)","v":{"$error":"#N/A"}}]
[{"$f":"VLOOKUP(B402,Categorias!$A:$B,2,FALSE)","v":{"$error":"#N/A"}}]
[{"$f":"VLOOKUP(B403,Categorias!$A:$B,2,FALSE)","v":{"$error":"#N/A"}}]
[{"$f":"VLOOKUP(B404,Categorias!$A:$B,2,FALSE)","v":{"$error":"#N/A"}}]
[{"$f":"VLOOKUP(B405,Categorias!$A:$B,2,FALSE)","v":{"$error":"#N/A"}}]
[{"$f":"VLOOKUP(B406,Categorias!$A:$B,2,FALSE)","v":{"$error":"#N/A"}}]
[{"$f":"VLOOKUP(B407,Categorias!$A:$B,2,FALSE)","v":{"$error":"#N/A"}}]
[{"$f":"VLOOKUP(B408,Categorias!$A:$B,2,FALSE)","v":{"$error":"#N/A"}}]
[{"$f":"VLOOKUP(B409,Categorias!$A:$B,2,FALSE)","v":{"$error":"#N/A"}}]
[{"$f":"VLOOKUP(B410,Categorias!$A:$B,2,FALSE)","v":{"$error":"#N/A"}}]
[{"$f":"VLOOKUP(B411,Categorias!$A:$B,2,FALSE)","v":{"$error":"#N/A"}}]
[{"$f":"VLOOKUP(B412,Categorias!$A:$B,2,FALSE)","v":{"$error":"#N/A"}}]
[{"$f":"VLOOKUP(B413,Categorias!$A:$B,2,FALSE)","v":{"$error":"#N/A"}}]
[{"$f":"VLOOKUP(B414,Categorias!$A:$B,2,FALSE)","v":{"$error":"#N/A"}}]
[{"$f":"VLOOKUP(B415,Categorias!$A:$B,2,FALSE)","v":{"$error":"#N/A"}}]
[{"$f":"VLOOKUP(B416,Categorias!$A:$B,2,FALSE)","v":{"$error":"#N/A"}}]
[{"$f":"VLOOKUP(B417,Categorias!$A:$B,2,FALSE)","v":{"$error":"#N/A"}}]
[{"$f":"VLOOKUP(B418,Categorias!$A:$B,2,FALSE)","v":{"$error":"#N/A"}}]
[{"$f":"VLOOKUP(B419,Categorias!$A:$B,2,FALSE)","v":{"$error":"#N/A"}}]
[{"$f":"VLOOKUP(B420,Categorias!$A:$B,2,FALSE)","v":{"$error":"#N/A"}}]
[{"$f":"VLOOKUP(B421,Categorias!$A:$B,2,FALSE)","v":{"$error":"#N/A"}}]
[{"$f":"VLOOKUP(B422,Categorias!$A:$B,2,FALSE)","v":{"$error":"#N/A"}}]
[{"$f":"VLOOKUP(B423,Categorias!$A:$B,2,FALSE)","v":{"$error":"#N/A"}}]
[{"$f":"VLOOKUP(B424,Categorias!$A:$B,2,FALSE)","v":{"$error":"#N/A"}}]
[{"$f":"VLOOKUP(B425,Categorias!$A:$B,2,FALSE)","v":{"$error":"#N/A"}}]
[{"$f":"VLOOKUP(B426,Categorias!$A:$B,2,FALSE)","v":{"$error":"#N/A"}}]
[{"$f":"VLOOKUP(B427,Categorias!$A:$B,2,FALSE)","v":{"$error":"#N/A"}}]
[{"$f":"VLOOKUP(B428,Categorias!$A:$B,2,FALSE)","v":{"$error":"#N/A"}}]
[{"$f":"VLOOKUP(B429,Categorias!$A:$B,2,FALSE)","v":{"$error":"#N/A"}}]
[{"$f":"VLOOKUP(B430,Categorias!$A:$B,2,FALSE)","v":{"$error":"#N/A"}}]
[{"$f":"VLOOKUP(B431,Categorias!$A:$B,2,FALSE)","v":{"$error":"#N/A"}}]
[{"$f":"VLOOKUP(B432,Categorias!$A:$B,2,FALSE)","v":{"$error":"#N/A"}}]
[{"$f":"VLOOKUP(B433,Categorias!$A:$B,2,FALSE)","v":{"$error":"#N/A"}}]
[{"$f":"VLOOKUP(B434,Categorias!$A:$B,2,FALSE)","v":{"$error":"#N/A"}}]
[{"$f":"VLOOKUP(B435,Categorias!$A:$B,2,FALSE)","v":{"$error":"#N/A"}}]
[{"$f":"VLOOKUP(B436,Categorias!$A:$B,2,FALSE)","v":{"$error":"#N/A"}}]
[{"$f":"VLOOKUP(B437,Categorias!$A:$B,2,FALSE)","v":{"$error":"#N/A"}}]
[{"$f":"VLOOKUP(B438,Categorias!$A:$B,2,FALSE)","v":{"$error":"#N/A"}}]
[{"$f":"VLOOKUP(B439,Categorias!$A:$B,2,FALSE)","v":{"$error":"#N/A"}}]
[{"$f":"VLOOKUP(B440,Categorias!$A:$B,2,FALSE)","v":{"$error":"#N/A"}}]
[{"$f":"VLOOKUP(B441,Categorias!$A:$B,2,FALSE)","v":{"$error":"#N/A"}}]
[{"$f":"VLOOKUP(B442,Categorias!$A:$B,2,FALSE)","v":{"$error":"#N/A"}}]
[{"$f":"VLOOKUP(B443,Categorias!$A:$B,2,FALSE)","v":{"$error":"#N/A"}}]
[{"$f":"VLOOKUP(B444,Categorias!$A:$B,2,FALSE)","v":{"$error":"#N/A"}}]
[{"$f":"VLOOKUP(B445,Categorias!$A:$B,2,FALSE)","v":{"$error":"#N/A"}}]
[{"$f":"VLOOKUP(B446,Categorias!$A:$B,2,FALSE)","v":{"$error":"#N/A"}}]
[{"$f":"VLOOKUP(B447,Categorias!$A:$B,2,FALSE)","v":{"$error":"#N/A"}}]
[{"$f":"VLOOKUP(B448,Categorias!$A:$B,2,FALSE)","v":{"$error":"#N/A"}}]
[{"$f":"VLOOKUP(B449,Categorias!$A:$B,2,FALSE)","v":{"$error":"#N/A"}}]
[{"$f":"VLOOKUP(B450,Categorias!$A:$B,2,FALSE)","v":{"$error":"#N/A"}}]
[{"$f":"VLOOKUP(B451,Categorias!$A:$B,2,FALSE)","v":{"$error":"#N/A"}}]
[{"$f":"VLOOKUP(B452,Categorias!$A:$B,2,FALSE)","v":{"$error":"#N/A"}}]
[{"$f":"VLOOKUP(B453,Categorias!$A:$B,2,FALSE)","v":{"$error":"#N/A"}}]
[{"$f":"VLOOKUP(B454,Categorias!$A:$B,2,FALSE)","v":{"$error":"#N/A"}}]
[{"$f":"VLOOKUP(B455,Categorias!$A:$B,2,FALSE)","v":{"$error":"#N/A"}}]
[{"$f":"VLOOKUP(B456,Categorias!$A:$B,2,FALSE)","v":{"$error":"#N/A"}}]
[{"$f":"VLOOKUP(B457,Categorias!$A:$B,2,FALSE)","v":{"$error":"#N/A"}}]
[{"$f":"VLOOKUP(B458,Categorias!$A:$B,2,FALSE)","v":{"$error":"#N/A"}}]
[{"$f":"VLOOKUP(B459,Categorias!$A:$B,2,FALSE)","v":{"$error":"#N/A"}}]
[{"$f":"VLOOKUP(B460,Categorias!$A:$B,2,FALSE)","v":{"$error":"#N/A"}}]
[{"$f":"VLOOKUP(B461,Categorias!$A:$B,2,FALSE)","v":{"$error":"#N/A"}}]
[{"$f":"VLOOKUP(B462,Categorias!$A:$B,2,FALSE)","v":{"$error":"#N/A"}}]
[{"$f":"VLOOKUP(B463,Categorias!$A:$B,2,FALSE)","v":{"$error":"#N/A"}}]
[{"$f":"VLOOKUP(B464,Categorias!$A:$B,2,FALSE)","v":{"$error":"#N/A"}}]
[{"$f":"VLOOKUP(B465,Categorias!$A:$B,2,FALSE)","v":{"$error":"#N/A"}}]
[{"$f":"VLOOKUP(B466,Categorias!$A:$B,2,FALSE)","v":{"$error":"#N/A"}}]
[{"$f":"VLOOKUP(B467,Categorias!$A:$B,2,FALSE)","v":{"$error":"#N/A"}}]
[{"$f":"VLOOKUP(B468,Categorias!$A:$B,2,FALSE)","v":{"$error":"#N/A"}}]
[{"$f":"VLOOKUP(B469,Categorias!$A:$B,2,FALSE)","v":{"$error":"#N/A"}}]
[{"$f":"VLOOKUP(B470,Categorias!$A:$B,2,FALSE)","v":{"$error":"#N/A"}}]
[{"$f":"VLOOKUP(B471,Categorias!$A:$B,2,FALSE)","v":{"$error":"#N/A"}}]
[{"$f":"VLOOKUP(B472,Categorias!$A:$B,2,FALSE)","v":{"$error":"#N/A"}}]
[{"$f":"VLOOKUP(B473,Categorias!$A:$B,2,FALSE)","v":{"$error":"#N/A"}}]
[{"$f":"VLOOKUP(B474,Categorias!$A:$B,2,FALSE)","v":{"$error":"#N/A"}}]
[{"$f":"VLOOKUP(B475,Categorias!$A:$B,2,FALSE)","v":{"$error":"#N/A"}}]
[{"$f":"VLOOKUP(B476,Categorias!$A:$B,2,FALSE)","v":{"$error":"#N/A"}}]
[{"$f":"VLOOKUP(B477,Categorias!$A:$B,2,FALSE)","v":{"$error":"#N/A"}}]
[{"$f":"VLOOKUP(B478,Categorias!$A:$B,2,FALSE)","v":{"$error":"#N/A"}}]
[{"$f":"VLOOKUP(B479,Categorias!$A:$B,2,FALSE)","v":{"$error":"#N/A"}}]
[{"$f":"VLOOKUP(B480,Categorias!$A:$B,2,FALSE)","v":{"$error":"#N/A"}}]
[{"$f":"VLOOKUP(B481,Categorias!$A:$B,2,FALSE)","v":{"$error":"#N/A"}}]
[{"$f":"VLOOKUP(B482,Categorias!$A:$B,2,FALSE)","v":{"$error":"#N/A"}}]
[{"$f":"VLOOKUP(B483,Categorias!$A:$B,2,FALSE)","v":{"$error":"#N/A"}}]
[{"$f":"VLOOKUP(B484,Categorias!$A:$B,2,FALSE)","v":{"$error":"#N/A"}}]
[{"$f":"VLOOKUP(B485,Categorias!$A:$B,2,FALSE)","v":{"$error":"#N/A"}}]
[{"$f":"VLOOKUP(B486,Categorias!$A:$B,2,FALSE)","v":{"$error":"#N/A"}}]
[{"$f":"VLOOKUP(B487,Categorias!$A:$B,2,FALSE)","v":{"$error":"#N/A"}}]
[{"$f":"VLOOKUP(B488,Categorias!$A:$B,2,FALSE)","v":{"$error":"#N/A"}}]
[{"$f":"VLOOKUP(B489,Categorias!$A:$B,2,FALSE)","v":{"$error":"#N/A"}}]
[{"$f":"VLOOKUP(B490,Categorias!$A:$B,2,FALSE)","v":{"$error":"#N/A"}}]
[{"$f":"VLOOKUP(B491,Categorias!$A:$B,2,FALSE)","v":{"$error":"#N/A"}}]
[{"$f":"VLOOKUP(B492,Categorias!$A:$B,2,FALSE)","v":{"$error":"#N/A"}}]
[{"$f":"VLOOKUP(B493,Categorias!$A:$B,2,FALSE)","v":{"$error":"#N/A"}}]
[{"$f":"VLOOKUP(B494,Categorias!$A:$B,2,FALSE)","v":{"$error":"#N/A"}}]
[{"$f":"VLOOKUP(B495,Categorias!$A:$B,2,FALSE)","v":{"$error":"#N/A"}}]
[{"$f":"VLOOKUP(B496,Categorias!$A:$B,2,FALSE)","v":{"$error":"#N/A"}}]
[{"$f":"VLOOKUP(B497,Categorias!$A:$B,2,FALSE)","v":{"$error":"#N/A"}}]
[{"$f":"VLOOKUP(B498,Categorias!$A:$B,2,FALSE)","v":{"$error":"#N/A"}}]
[{"$f":"VLOOKUP(B499,Categorias!$A:$B,2,FALSE)","v":{"$error":"#N/A"}}]
[{"$f":"VLOOKUP(B500,Categorias!$A:$B,2,FALSE)","v":{"$error":"#N/A"}}]
[{"$f":"VLOOKUP(B501,Categorias!$A:$B,2,FALSE)","v":{"$error":"#N/A"}}]
[{"$f":"VLOOKUP(B502,Categorias!$A:$B,2,FALSE)","v":{"$error":"#N/A"}}]
[{"$f":"VLOOKUP(B503,Categorias!$A:$B,2,FALSE)","v":{"$error":"#N/A"}}]
[{"$f":"VLOOKUP(B504,Categorias!$A:$B,2,FALSE)","v":{"$error":"#N/A"}}]
[{"$f":"VLOOKUP(B505,Categorias!$A:$B,2,FALSE)","v":{"$error":"#N/A"}}]
[{"$f":"VLOOKUP(B506,Categorias!$A:$B,2,FALSE)","v":{"$error":"#N/A"}}]
[{"$f":"VLOOKUP(B507,Categorias!$A:$B,2,FALSE)","v":{"$error":"#N/A"}}]
[{"$f":"VLOOKUP(B508,Categorias!$A:$B,2,FALSE)","v":{"$error":"#N/A"}}]
[{"$f":"VLOOKUP(B509,Categorias!$A:$B,2,FALSE)","v":{"$error":"#N/A"}}]
[{"$f":"VLOOKUP(B510,Categorias!$A:$B,2,FALSE)","v":{"$error":"#N/A"}}]
[{"$f":"VLOOKUP(B511,Categorias!$A:$B,2,FALSE)","v":{"$error":"#N/A"}}]
[{"$f":"VLOOKUP(B512,Categorias!$A:$B,2,FALSE)","v":{"$error":"#N/A"}}]
[{"$f":"VLOOKUP(B513,Categorias!$A:$B,2,FALSE)","v":{"$error":"#N/A"}}]
[{"$f":"VLOOKUP(B514,Categorias!$A:$B,2,FALSE)","v":{"$error":"#N/A"}}]
[{"$f":"VLOOKUP(B515,Categorias!$A:$B,2,FALSE)","v":{"$error":"#N/A"}}]
[{"$f":"VLOOKUP(B516,Categorias!$A:$B,2,FALSE)","v":{"$error":"#N/A"}}]
[{"$f":"VLOOKUP(B517,Categorias!$A:$B,2,FALSE)","v":{"$error":"#N/A"}}]
[{"$f":"VLOOKUP(B518,Categorias!$A:$B,2,FALSE)","v":{"$error":"#N/A"}}]
[{"$f":"VLOOKUP(B519,Categorias!$A:$B,2,FALSE)","v":{"$error":"#N/A"}}]
[{"$f":"VLOOKUP(B520,Categorias!$A:$B,2,FALSE)","v":{"$error":"#N/A"}}]
[{"$f":"VLOOKUP(B521,Categorias!$A:$B,2,FALSE)","v":{"$error":"#N/A"}}]
[{"$f":"VLOOKUP(B522,Categorias!$A:$B,2,FALSE)","v":{"$error":"#N/A"}}]
[{"$f":"VLOOKUP(B523,Categorias!$A:$B,2,FALSE)","v":{"$error":"#N/A"}}]
[{"$f":"VLOOKUP(B524,Categorias!$A:$B,2,FALSE)","v":{"$error":"#N/A"}}]
[{"$f":"VLOOKUP(B525,Categorias!$A:$B,2,FALSE)","v":{"$error":"#N/A"}}]
[{"$f":"VLOOKUP(B526,Categorias!$A:$B,2,FALSE)","v":{"$error":"#N/A"}}]
[{"$f":"VLOOKUP(B527,Categorias!$A:$B,2,FALSE)","v":{"$error":"#N/A"}}]
[{"$f":"VLOOKUP(B528,Categorias!$A:$B,2,FALSE)","v":{"$error":"#N/A"}}]
[{"$f":"VLOOKUP(B529,Categorias!$A:$B,2,FALSE)","v":{"$error":"#N/A"}}]
[{"$f":"VLOOKUP(B530,Categorias!$A:$B,2,FALSE)","v":{"$error":"#N/A"}}]
[{"$f":"VLOOKUP(B531,Categorias!$A:$B,2,FALSE)","v":{"$error":"#N/A"}}]
[{"$f":"VLOOKUP(B532,Categorias!$A:$B,2,FALSE)","v":{"$error":"#N/A"}}]
[{"$f":"VLOOKUP(B533,Categorias!$A:$B,2,FALSE)","v":{"$error":"#N/A"}}]
[{"$f":"VLOOKUP(B534,Categorias!$A:$B,2,FALSE)","v":{"$error":"#N/A"}}]
[{"$f":"VLOOKUP(B535,Categorias!$A:$B,2,FALSE)","v":{"$error":"#N/A"}}]
[{"$f":"VLOOKUP(B536,Categorias!$A:$B,2,FALSE)","v":{"$error":"#N/A"}}]
[{"$f":"VLOOKUP(B537,Categorias!$A:$B,2,FALSE)","v":{"$error":"#N/A"}}]
[{"$f":"VLOOKUP(B538,Categorias!$A:$B,2,FALSE)","v":{"$error":"#N/A"}}]
[{"$f":"VLOOKUP(B539,Categorias!$A:$B,2,FALSE)","v":{"$error":"#N/A"}}]
[{"$f":"VLOOKUP(B540,Categorias!$A:$B,2,FALSE)","v":{"$error":"#N/A"}}]
[{"$f":"VLOOKUP(B541,Categorias!$A:$B,2,FALSE)","v":{"$error":"#N/A"}}]
[{"$f":"VLOOKUP(B542,Categorias!$A:$B,2,FALSE)","v":{"$error":"#N/A"}}]
[{"$f":"VLOOKUP(B543,Categorias!$A:$B,2,FALSE)","v":{"$error":"#N/A"}}]
[{"$f":"VLOOKUP(B544,Categorias!$A:$B,2,FALSE)","v":{"$error":"#N/A"}}]
[{"$f":"VLOOKUP(B545,Categorias!$A:$B,2,FALSE)","v":{"$error":"#N/A"}}]
[{"$f":"VLOOKUP(B546,Categorias!$A:$B,2,FALSE)","v":{"$error":"#N/A"}}]
[{"$f":"VLOOKUP(B547,Categorias!$A:$B,2,FALSE)","v":{"$error":"#N/A"}}]
[{"$f":"VLOOKUP(B548,Categorias!$A:$B,2,FALSE)","v":{"$error":"#N/A"}}]
[{"$f":"VLOOKUP(B549,Categorias!$A:$B,2,FALSE)","v":{"$error":"#N/A"}}]
[{"$f":"VLOOKUP(B550,Categorias!$A:$B,2,FALSE)","v":{"$error":"#N/A"}}]
[{"$f":"VLOOKUP(B551,Categorias!$A:$B,2,FALSE)","v":{"$error":"#N/A"}}]
[{"$f":"VLOOKUP(B552,Categorias!$A:$B,2,FALSE)","v":{"$error":"#N/A"}}]
[{"$f":"VLOOKUP(B553,Categorias!$A:$B,2,FALSE)","v":{"$error":"#N/A"}}]
[{"$f":"VLOOKUP(B554,Categorias!$A:$B,2,FALSE)","v":{"$error":"#N/A"}}]
[{"$f":"VLOOKUP(B555,Categorias!$A:$B,2,FALSE)","v":{"$error":"#N/A"}}]
[{"$f":"VLOOKUP(B556,Categorias!$A:$B,2,FALSE)","v":{"$error":"#N/A"}}]
[{"$f":"VLOOKUP(B557,Categorias!$A:$B,2,FALSE)","v":{"$error":"#N/A"}}]
[{"$f":"VLOOKUP(B558,Categorias!$A:$B,2,FALSE)","v":{"$error":"#N/A"}}]
[{"$f":"VLOOKUP(B559,Categorias!$A:$B,2,FALSE)","v":{"$error":"#N/A"}}]
[{"$f":"VLOOKUP(B560,Categorias!$A:$B,2,FALSE)","v":{"$error":"#N/A"}}]
[{"$f":"VLOOKUP(B561,Categorias!$A:$B,2,FALSE)","v":{"$error":"#N/A"}}]
[{"$f":"VLOOKUP(B562,Categorias!$A:$B,2,FALSE)","v":{"$error":"#N/A"}}]
[{"$f":"VLOOKUP(B563,Categorias!$A:$B,2,FALSE)","v":{"$error":"#N/A"}}]
[{"$f":"VLOOKUP(B564,Categorias!$A:$B,2,FALSE)","v":{"$error":"#N/A"}}]
[{"$f":"VLOOKUP(B565,Categorias!$A:$B,2,FALSE)","v":{"$error":"#N/A"}}]
[{"$f":"VLOOKUP(B566,Categorias!$A:$B,2,FALSE)","v":{"$error":"#N/A"}}]
[{"$f":"VLOOKUP(B567,Categorias!$A:$B,2,FALSE)","v":{"$error":"#N/A"}}]
[{"$f":"VLOOKUP(B568,Categorias!$A:$B,2,FALSE)","v":{"$error":"#N/A"}}]
[{"$f":"VLOOKUP(B569,Categorias!$A:$B,2,FALSE)","v":{"$error":"#N/A"}}]
[{"$f":"VLOOKUP(B570,Categorias!$A:$B,2,FALSE)","v":{"$error":"#N/A"}}]
[{"$f":"VLOOKUP(B571,Categorias!$A:$B,2,FALSE)","v":{"$error":"#N/A"}}]
[{"$f":"VLOOKUP(B572,Categorias!$A:$B,2,FALSE)","v":{"$error":"#N/A"}}]
[{"$f":"VLOOKUP(B573,Categorias!$A:$B,2,FALSE)","v":{"$error":"#N/A"}}]
[{"$f":"VLOOKUP(B574,Categorias!$A:$B,2,FALSE)","v":{"$error":"#N/A"}}]
[{"$f":"VLOOKUP(B575,Categorias!$A:$B,2,FALSE)","v":{"$error":"#N/A"}}]
[{"$f":"VLOOKUP(B576,Categorias!$A:$B,2,FALSE)","v":{"$error":"#N/A"}}]
[{"$f":"VLOOKUP(B577,Categorias!$A:$B,2,FALSE)","v":{"$error":"#N/A"}}]
[{"$f":"VLOOKUP(B578,Categorias!$A:$B,2,FALSE)","v":{"$error":"#N/A"}}]
[{"$f":"VLOOKUP(B579,Categorias!$A:$B,2,FALSE)","v":{"$error":"#N/A"}}]
[{"$f":"VLOOKUP(B580,Categorias!$A:$B,2,FALSE)","v":{"$error":"#N/A"}}]
[{"$f":"VLOOKUP(B581,Categorias!$A:$B,2,FALSE)","v":{"$error":"#N/A"}}]
[{"$f":"VLOOKUP(B582,Categorias!$A:$B,2,FALSE)","v":{"$error":"#N/A"}}]
[{"$f":"VLOOKUP(B583,Categorias!$A:$B,2,FALSE)","v":{"$error":"#N/A"}}]
[{"$f":"VLOOKUP(B584,Categorias!$A:$B,2,FALSE)","v":{"$error":"#N/A"}}]
[{"$f":"VLOOKUP(B585,Categorias!$A:$B,2,FALSE)","v":{"$error":"#N/A"}}]
[{"$f":"VLOOKUP(B586,Categorias!$A:$B,2,FALSE)","v":{"$error":"#N/A"}}]
[{"$f":"VLOOKUP(B587,Categorias!$A:$B,2,FALSE)","v":{"$error":"#N/A"}}]
[{"$f":"VLOOKUP(B588,Categorias!$A:$B,2,FALSE)","v":{"$error":"#N/A"}}]
[{"$f":"VLOOKUP(B589,Categorias!$A:$B,2,FALSE)","v":{"$error":"#N/A"}}]
[{"$f":"VLOOKUP(B590,Categorias!$A:$B,2,FALSE)","v":{"$error":"#N/A"}}]
[{"$f":"VLOOKUP(B591,Categorias!$A:$B,2,FALSE)","v":{"$error":"#N/A"}}]
[{"$f":"VLOOKUP(B592,Categorias!$A:$B,2,FALSE)","v":{"$error":"#N/A"}}]
[{"$f":"VLOOKUP(B593,Categorias!$A:$B,2,FALSE)","v":{"$error":"#N/A"}}]
[{"$f":"VLOOKUP(B594,Categorias!$A:$B,2,FALSE)","v":{"$error":"#N/A"}}]
[{"$f":"VLOOKUP(B595,Categorias!$A:$B,2,FALSE)","v":{"$error":"#N/A"}}]
[{"$f":"VLOOKUP(B596,Categorias!$A:$B,2,FALSE)","v":{"$error":"#N/A"}}]
[{"$f":"VLOOKUP(B597,Categorias!$A:$B,2,FALSE)","v":{"$error":"#N/A"}}]
[{"$f":"VLOOKUP(B598,Categorias!$A:$B,2,FALSE)","v":{"$error":"#N/A"}}]
[{"$f":"VLOOKUP(B599,Categorias!$A:$B,2,FALSE)","v":{"$error":"#N/A"}}]
[{"$f":"VLOOKUP(B600,Categorias!$A:$B,2,FALSE)","v":{"$error":"#N/A"}}]
[{"$f":"VLOOKUP(B601,Categorias!$A:$B,2,FALSE)","v":{"$error":"#N/A"}}]
[{"$f":"VLOOKUP(B602,Categorias!$A:$B,2,FALSE)","v":{"$error":"#N/A"}}]
[{"$f":"VLOOKUP(B603,Categorias!$A:$B,2,FALSE)","v":{"$error":"#N/A"}}]
[{"$f":"VLOOKUP(B604,Categorias!$A:$B,2,FALSE)","v":{"$error":"#N/A"}}]
[{"$f":"VLOOKUP(B605,Categorias!$A:$B,2,FALSE)","v":{"$error":"#N/A"}}]
[{"$f":"VLOOKUP(B606,Categorias!$A:$B,2,FALSE)","v":{"$error":"#N/A"}}]
[{"$f":"VLOOKUP(B607,Categorias!$A:$B,2,FALSE)","v":{"$error":"#N/A"}}]
[{"$f":"VLOOKUP(B608,Categorias!$A:$B,2,FALSE)","v":{"$error":"#N/A"}}]
[{"$f":"VLOOKUP(B609,Categorias!$A:$B,2,FALSE)","v":{"$error":"#N/A"}}]
[{"$f":"VLOOKUP(B610,Categorias!$A:$B,2,FALSE)","v":{"$error":"#N/A"}}]
[{"$f":"VLOOKUP(B611,Categorias!$A:$B,2,FALSE)","v":{"$error":"#N/A"}}]
[{"$f":"VLOOKUP(B612,Categorias!$A:$B,2,FALSE)","v":{"$error":"#N/A"}}]
[{"$f":"VLOOKUP(B613,Categorias!$A:$B,2,FALSE)","v":{"$error":"#N/A"}}]
[{"$f":"VLOOKUP(B614,Categorias!$A:$B,2,FALSE)","v":{"$error":"#N/A"}}]
[{"$f":"VLOOKUP(B615,Categorias!$A:$B,2,FALSE)","v":{"$error":"#N/A"}}]
[{"$f":"VLOOKUP(B616,Categorias!$A:$B,2,FALSE)","v":{"$error":"#N/A"}}]
[{"$f":"VLOOKUP(B617,Categorias!$A:$B,2,FALSE)","v":{"$error":"#N/A"}}]
[{"$f":"VLOOKUP(B618,Categorias!$A:$B,2,FALSE)","v":{"$error":"#N/A"}}]
[{"$f":"VLOOKUP(B619,Categorias!$A:$B,2,FALSE)","v":{"$error":"#N/A"}}]
[{"$f":"VLOOKUP(B620,Categorias!$A:$B,2,FALSE)","v":{"$error":"#N/A"}}]
[{"$f":"VLOOKUP(B621,Categorias!$A:$B,2,FALSE)","v":{"$error":"#N/A"}}]
[{"$f":"VLOOKUP(B622,Categorias!$A:$B,2,FALSE)","v":{"$error":"#N/A"}}]
[{"$f":"VLOOKUP(B623,Categorias!$A:$B,2,FALSE)","v":{"$error":"#N/A"}}]
[{"$f":"VLOOKUP(B624,Categorias!$A:$B,2,FALSE)","v":{"$error":"#N/A"}}]
[{"$f":"VLOOKUP(B625,Categorias!$A:$B,2,FALSE)","v":{"$error":"#N/A"}}]
[{"$f":"VLOOKUP(B626,Categorias!$A:$B,2,FALSE)","v":{"$error":"#N/A"}}]
[{"$f":"VLOOKUP(B627,Categorias!$A:$B,2,FALSE)","v":{"$error":"#N/A"}}]
[{"$f":"VLOOKUP(B628,Categorias!$A:$B,2,FALSE)","v":{"$error":"#N/A"}}]
[{"$f":"VLOOKUP(B629,Categorias!$A:$B,2,FALSE)","v":{"$error":"#N/A"}}]
[{"$f":"VLOOKUP(B630,Categorias!$A:$B,2,FALSE)","v":{"$error":"#N/A"}}]
[{"$f":"VLOOKUP(B631,Categorias!$A:$B,2,FALSE)","v":{"$error":"#N/A"}}]
[{"$f":"VLOOKUP(B632,Categorias!$A:$B,2,FALSE)","v":{"$error":"#N/A"}}]
[{"$f":"VLOOKUP(B633,Categorias!$A:$B,2,FALSE)","v":{"$error":"#N/A"}}]
[{"$f":"VLOOKUP(B634,Categorias!$A:$B,2,FALSE)","v":{"$error":"#N/A"}}]
[{"$f":"VLOOKUP(B635,Categorias!$A:$B,2,FALSE)","v":{"$error":"#N/A"}}]
[{"$f":"VLOOKUP(B636,Categorias!$A:$B,2,FALSE)","v":{"$error":"#N/A"}}]
[{"$f":"VLOOKUP(B637,Categorias!$A:$B,2,FALSE)","v":{"$error":"#N/A"}}]
[{"$f":"VLOOKUP(B638,Categorias!$A:$B,2,FALSE)","v":{"$error":"#N/A"}}]
[{"$f":"VLOOKUP(B639,Categorias!$A:$B,2,FALSE)","v":{"$error":"#N/A"}}]
[{"$f":"VLOOKUP(B640,Categorias!$A:$B,2,FALSE)","v":{"$error":"#N/A"}}]
[{"$f":"VLOOKUP(B641,Categorias!$A:$B,2,FALSE)","v":{"$error":"#N/A"}}]
[{"$f":"VLOOKUP(B642,Categorias!$A:$B,2,FALSE)","v":{"$error":"#N/A"}}]
[{"$f":"VLOOKUP(B643,Categorias!$A:$B,2,FALSE)","v":{"$error":"#N/A"}}]
[{"$f":"VLOOKUP(B644,Categorias!$A:$B,2,FALSE)","v":{"$error":"#N/A"}}]
[{"$f":"VLOOKUP(B645,Categorias!$A:$B,2,FALSE)","v":{"$error":"#N/A"}}]
[{"$f":"VLOOKUP(B646,Categorias!$A:$B,2,FALSE)","v":{"$error":"#N/A"}}]
[{"$f":"VLOOKUP(B647,Categorias!$A:$B,2,FALSE)","v":{"$error":"#N/A"}}]
[{"$f":"VLOOKUP(B648,Categorias!$A:$B,2,FALSE)","v":{"$error":"#N/A"}}]
[{"$f":"VLOOKUP(B649,Categorias!$A:$B,2,FALSE)","v":{"$error":"#N/A"}}]
[{"$f":"VLOOKUP(B650,Categorias!$A:$B,2,FALSE)","v":{"$error":"#N/A"}}]
[{"$f":"VLOOKUP(B651,Categorias!$A:$B,2,FALSE)","v":{"$error":"#N/A"}}]
[{"$f":"VLOOKUP(B652,Categorias!$A:$B,2,FALSE)","v":{"$error":"#N/A"}}]
[{"$f":"VLOOKUP(B653,Categorias!$A:$B,2,FALSE)","v":{"$error":"#N/A"}}]
[{"$f":"VLOOKUP(B654,Categorias!$A:$B,2,FALSE)","v":{"$error":"#N/A"}}]
[{"$f":"VLOOKUP(B655,Categorias!$A:$B,2,FALSE)","v":{"$error":"#N/A"}}]
[{"$f":"VLOOKUP(B656,Categorias!$A:$B,2,FALSE)","v":{"$error":"#N/A"}}]
[{"$f":"VLOOKUP(B657,Categorias!$A:$B,2,FALSE)","v":{"$error":"#N/A"}}]
[{"$f":"VLOOKUP(B658,Categorias!$A:$B,2,FALSE)","v":{"$error":"#N/A"}}]
[{"$f":"VLOOKUP(B659,Categorias!$A:$B,2,FALSE)","v":{"$error":"#N/A"}}]
[{"$f":"VLOOKUP(B660,Categorias!$A:$B,2,FALSE)","v":{"$error":"#N/A"}}]
[{"$f":"VLOOKUP(B661,Categorias!$A:$B,2,FALSE)","v":{"$error":"#N/A"}}]
[{"$f":"VLOOKUP(B662,Categorias!$A:$B,2,FALSE)","v":{"$error":"#N/A"}}]
[{"$f":"VLOOKUP(B663,Categorias!$A:$B,2,FALSE)","v":{"$error":"#N/A"}}]
[{"$f":"VLOOKUP(B664,Categorias!$A:$B,2,FALSE)","v":{"$error":"#N/A"}}]
[{"$f":"VLOOKUP(B665,Categorias!$A:$B,2,FALSE)","v":{"$error":"#N/A"}}]
[{"$f":"VLOOKUP(B666,Categorias!$A:$B,2,FALSE)","v":{"$error":"#N/A"}}]
[{"$f":"VLOOKUP(B667,Categorias!$A:$B,2,FALSE)","v":{"$error":"#N/A"}}]
[{"$f":"VLOOKUP(B668,Categorias!$A:$B,2,FALSE)","v":{"$error":"#N/A"}}]
[{"$f":"VLOOKUP(B669,Categorias!$A:$B,2,FALSE)","v":{"$error":"#N/A"}}]
[{"$f":"VLOOKUP(B670,Categorias!$A:$B,2,FALSE)","v":{"$error":"#N/A"}}]
[{"$f":"VLOOKUP(B671,Categorias!$A:$B,2,FALSE)","v":{"$error":"#N/A"}}]
[{"$f":"VLOOKUP(B672,Categorias!$A:$B,2,FALSE)","v":{"$error":"#N/A"}}]
[{"$f":"VLOOKUP(B673,Categorias!$A:$B,2,FALSE)","v":{"$error":"#N/A"}}]
[{"$f":"VLOOKUP(B674,Categorias!$A:$B,2,FALSE)","v":{"$error":"#N/A"}}]
[{"$f":"VLOOKUP(B675,Categorias!$A:$B,2,FALSE)","v":{"$error":"#N/A"}}]
[{"$f":"VLOOKUP(B676,Categorias!$A:$B,2,FALSE)","v":{"$error":"#N/A"}}]
[{"$f":"VLOOKUP(B677,Categorias!$A:$B,2,FALSE)","v":{"$error":"#N/A"}}]
[{"$f":"VLOOKUP(B678,Categorias!$A:$B,2,FALSE)","v":{"$error":"#N/A"}}]
[{"$f":"VLOOKUP(B679,Categorias!$A:$B,2,FALSE)","v":{"$error":"#N/A"}}]
[{"$f":"VLOOKUP(B680,Categorias!$A:$B,2,FALSE)","v":{"$error":"#N/A"}}]
[{"$f":"VLOOKUP(B681,Categorias!$A:$B,2,FALSE)","v":{"$error":"#N/A"}}]
[{"$f":"VLOOKUP(B682,Categorias!$A:$B,2,FALSE)","v":{"$error":"#N/A"}}]
[{"$f":"VLOOKUP(B683,Categorias!$A:$B,2,FALSE)","v":{"$error":"#N/A"}}]
[{"$f":"VLOOKUP(B684,Categorias!$A:$B,2,FALSE)","v":{"$error":"#N/A"}}]
[{"$f":"VLOOKUP(B685,Categorias!$A:$B,2,FALSE)","v":{"$error":"#N/A"}}]
[{"$f":"VLOOKUP(B686,Categorias!$A:$B,2,FALSE)","v":{"$error":"#N/A"}}]
[{"$f":"VLOOKUP(B687,Categorias!$A:$B,2,FALSE)","v":{"$error":"#N/A"}}]
[{"$f":"VLOOKUP(B688,Categorias!$A:$B,2,FALSE)","v":{"$error":"#N/A"}}]
[{"$f":"VLOOKUP(B689,Categorias!$A:$B,2,FALSE)","v":{"$error":"#N/A"}}]
[{"$f":"VLOOKUP(B690,Categorias!$A:$B,2,FALSE)","v":{"$error":"#N/A"}}]
[{"$f":"VLOOKUP(B691,Categorias!$A:$B,2,FALSE)","v":{"$error":"#N/A"}}]
[{"$f":"VLOOKUP(B692,Categorias!$A:$B,2,FALSE)","v":{"$error":"#N/A"}}]
[{"$f":"VLOOKUP(B693,Categorias!$A:$B,2,FALSE)","v":{"$error":"#N/A"}}]
[{"$f":"VLOOKUP(B694,Categorias!$A:$B,2,FALSE)","v":{"$error":"#N/A"}}]
[{"$f":"VLOOKUP(B695,Categorias!$A:$B,2,FALSE)","v":{"$error":"#N/A"}}]
[{"$f":"VLOOKUP(B696,Categorias!$A:$B,2,FALSE)","v":{"$error":"#N/A"}}]
[{"$f":"VLOOKUP(B697,Categorias!$A:$B,2,FALSE)","v":{"$error":"#N/A"}}]
[{"$f":"VLOOKUP(B698,Categorias!$A:$B,2,FALSE)","v":{"$error":"#N/A"}}]
[{"$f":"VLOOKUP(B699,Categorias!$A:$B,2,FALSE)","v":{"$error":"#N/A"}}]
[{"$f":"VLOOKUP(B700,Categorias!$A:$B,2,FALSE)","v":{"$error":"#N/A"}}]
[{"$f":"VLOOKUP(B701,Categorias!$A:$B,2,FALSE)","v":{"$error":"#N/A"}}]
[{"$f":"VLOOKUP(B702,Categorias!$A:$B,2,FALSE)","v":{"$error":"#N/A"}}]
[{"$f":"VLOOKUP(B703,Categorias!$A:$B,2,FALSE)","v":{"$error":"#N/A"}}]
[{"$f":"VLOOKUP(B704,Categorias!$A:$B,2,FALSE)","v":{"$error":"#N/A"}}]
[{"$f":"VLOOKUP(B705,Categorias!$A:$B,2,FALSE)","v":{"$error":"#N/A"}}]
[{"$f":"VLOOKUP(B706,Categorias!$A:$B,2,FALSE)","v":{"$error":"#N/A"}}]
[{"$f":"VLOOKUP(B707,Categorias!$A:$B,2,FALSE)","v":{"$error":"#N/A"}}]
[{"$f":"VLOOKUP(B708,Categorias!$A:$B,2,FALSE)","v":{"$error":"#N/A"}}]
[{"$f":"VLOOKUP(B709,Categorias!$A:$B,2,FALSE)","v":{"$error":"#N/A"}}]
[{"$f":"VLOOKUP(B710,Categorias!$A:$B,2,FALSE)","v":{"$error":"#N/A"}}]
[{"$f":"VLOOKUP(B711,Categorias!$A:$B,2,FALSE)","v":{"$error":"#N/A"}}]
[{"$f":"VLOOKUP(B712,Categorias!$A:$B,2,FALSE)","v":{"$error":"#N/A"}}]
[{"$f":"VLOOKUP(B713,Categorias!$A:$B,2,FALSE)","v":{"$error":"#N/A"}}]
[{"$f":"VLOOKUP(B714,Categorias!$A:$B,2,FALSE)","v":{"$error":"#N/A"}}]
[{"$f":"VLOOKUP(B715,Categorias!$A:$B,2,FALSE)","v":{"$error":"#N/A"}}]
[{"$f":"VLOOKUP(B716,Categorias!$A:$B,2,FALSE)","v":{"$error":"#N/A"}}]
[{"$f":"VLOOKUP(B717,Categorias!$A:$B,2,FALSE)","v":{"$error":"#N/A"}}]
[{"$f":"VLOOKUP(B718,Categorias!$A:$B,2,FALSE)","v":{"$error":"#N/A"}}]
[{"$f":"VLOOKUP(B719,Categorias!$A:$B,2,FALSE)","v":{"$error":"#N/A"}}]
[{"$f":"VLOOKUP(B720,Categorias!$A:$B,2,FALSE)","v":{"$error":"#N/A"}}]
[{"$f":"VLOOKUP(B721,Categorias!$A:$B,2,FALSE)","v":{"$error":"#N/A"}}]
[{"$f":"VLOOKUP(B722,Categorias!$A:$B,2,FALSE)","v":{"$error":"#N/A"}}]
[{"$f":"VLOOKUP(B723,Categorias!$A:$B,2,FALSE)","v":{"$error":"#N/A"}}]
[{"$f":"VLOOKUP(B724,Categorias!$A:$B,2,FALSE)","v":{"$error":"#N/A"}}]
[{"$f":"VLOOKUP(B725,Categorias!$A:$B,2,FALSE)","v":{"$error":"#N/A"}}]
[{"$f":"VLOOKUP(B726,Categorias!$A:$B,2,FALSE)","v":{"$error":"#N/A"}}]
[{"$f":"VLOOKUP(B727,Categorias!$A:$B,2,FALSE)","v":{"$error":"#N/A"}}]
[{"$f":"VLOOKUP(B728,Categorias!$A:$B,2,FALSE)","v":{"$error":"#N/A"}}]
[{"$f":"VLOOKUP(B729,Categorias!$A:$B,2,FALSE)","v":{"$error":"#N/A"}}]
[{"$f":"VLOOKUP(B730,Categorias!$A:$B,2,FALSE)","v":{"$error":"#N/A"}}]
[{"$f":"VLOOKUP(B731,Categorias!$A:$B,2,FALSE)","v":{"$error":"#N/A"}}]
[{"$f":"VLOOKUP(B732,Categorias!$A:$B,2,FALSE)","v":{"$error":"#N/A"}}]
[{"$f":"VLOOKUP(B733,Categorias!$A:$B,2,FALSE)","v":{"$error":"#N/A"}}]
[{"$f":"VLOOKUP(B734,Categorias!$A:$B,2,FALSE)","v":{"$error":"#N/A"}}]
[{"$f":"VLOOKUP(B735,Categorias!$A:$B,2,FALSE)","v":{"$error":"#N/A"}}]
[{"$f":"VLOOKUP(B736,Categorias!$A:$B,2,FALSE)","v":{"$error":"#N/A"}}]
[{"$f":"VLOOKUP(B737,Categorias!$A:$B,2,FALSE)","v":{"$error":"#N/A"}}]
[{"$f":"VLOOKUP(B738,Categorias!$A:$B,2,FALSE)","v":{"$error":"#N/A"}}]
[{"$f":"VLOOKUP(B739,Categorias!$A:$B,2,FALSE)","v":{"$error":"#N/A"}}]
[{"$f":"VLOOKUP(B740,Categorias!$A:$B,2,FALSE)","v":{"$error":"#N/A"}}]
[{"$f":"VLOOKUP(B741,Categorias!$A:$B,2,FALSE)","v":{"$error":"#N/A"}}]
[{"$f":"VLOOKUP(B742,Categorias!$A:$B,2,FALSE)","v":{"$error":"#N/A"}}]
[{"$f":"VLOOKUP(B743,Categorias!$A:$B,2,FALSE)","v":{"$error":"#N/A"}}]
[{"$f":"VLOOKUP(B744,Categorias!$A:$B,2,FALSE)","v":{"$error":"#N/A"}}]
[{"$f":"VLOOKUP(B745,Categorias!$A:$B,2,FALSE)","v":{"$error":"#N/A"}}]
[{"$f":"VLOOKUP(B746,Categorias!$A:$B,2,FALSE)","v":{"$error":"#N/A"}}]
[{"$f":"VLOOKUP(B747,Categorias!$A:$B,2,FALSE)","v":{"$error":"#N/A"}}]
[{"$f":"VLOOKUP(B748,Categorias!$A:$B,2,FALSE)","v":{"$error":"#N/A"}}]
[{"$f":"VLOOKUP(B749,Categorias!$A:$B,2,FALSE)","v":{"$error":"#N/A"}}]
[{"$f":"VLOOKUP(B750,Categorias!$A:$B,2,FALSE)","v":{"$error":"#N/A"}}]
[{"$f":"VLOOKUP(B751,Categorias!$A:$B,2,FALSE)","v":{"$error":"#N/A"}}]
[{"$f":"VLOOKUP(B752,Categorias!$A:$B,2,FALSE)","v":{"$error":"#N/A"}}]
[{"$f":"VLOOKUP(B753,Categorias!$A:$B,2,FALSE)","v":{"$error":"#N/A"}}]
[{"$f":"VLOOKUP(B754,Categorias!$A:$B,2,FALSE)","v":{"$error":"#N/A"}}]
[{"$f":"VLOOKUP(B755,Categorias!$A:$B,2,FALSE)","v":{"$error":"#N/A"}}]
[{"$f":"VLOOKUP(B756,Categorias!$A:$B,2,FALSE)","v":{"$error":"#N/A"}}]
[{"$f":"VLOOKUP(B757,Categorias!$A:$B,2,FALSE)","v":{"$error":"#N/A"}}]
[{"$f":"VLOOKUP(B758,Categorias!$A:$B,2,FALSE)","v":{"$error":"#N/A"}}]
[{"$f":"VLOOKUP(B759,Categorias!$A:$B,2,FALSE)","v":{"$error":"#N/A"}}]
[{"$f":"VLOOKUP(B760,Categorias!$A:$B,2,FALSE)","v":{"$error":"#N/A"}}]
[{"$f":"VLOOKUP(B761,Categorias!$A:$B,2,FALSE)","v":{"$error":"#N/A"}}]
[{"$f":"VLOOKUP(B762,Categorias!$A:$B,2,FALSE)","v":{"$error":"#N/A"}}]
[{"$f":"VLOOKUP(B763,Categorias!$A:$B,2,FALSE)","v":{"$error":"#N/A"}}]
[{"$f":"VLOOKUP(B764,Categorias!$A:$B,2,FALSE)","v":{"$error":"#N/A"}}]
[{"$f":"VLOOKUP(B765,Categorias!$A:$B,2,FALSE)","v":{"$error":"#N/A"}}]
[{"$f":"VLOOKUP(B766,Categorias!$A:$B,2,FALSE)","v":{"$error":"#N/A"}}]
[{"$f":"VLOOKUP(B767,Categorias!$A:$B,2,FALSE)","v":{"$error":"#N/A"}}]
[{"$f":"VLOOKUP(B768,Categorias!$A:$B,2,FALSE)","v":{"$error":"#N/A"}}]
[{"$f":"VLOOKUP(B769,Categorias!$A:$B,2,FALSE)","v":{"$error":"#N/A"}}]
[{"$f":"VLOOKUP(B770,Categorias!$A:$B,2,FALSE)","v":{"$error":"#N/A"}}]
[{"$f":"VLOOKUP(B771,Categorias!$A:$B,2,FALSE)","v":{"$error":"#N/A"}}]
[{"$f":"VLOOKUP(B772,Categorias!$A:$B,2,FALSE)","v":{"$error":"#N/A"}}]
[{"$f":"VLOOKUP(B773,Categorias!$A:$B,2,FALSE)","v":{"$error":"#N/A"}}]
[{"$f":"VLOOKUP(B774,Categorias!$A:$B,2,FALSE)","v":{"$error":"#N/A"}}]
[{"$f":"VLOOKUP(B775,Categorias!$A:$B,2,FALSE)","v":{"$error":"#N/A"}}]
[{"$f":"VLOOKUP(B776,Categorias!$A:$B,2,FALSE)","v":{"$error":"#N/A"}}]
[{"$f":"VLOOKUP(B777,Categorias!$A:$B,2,FALSE)","v":{"$error":"#N/A"}}]
[{"$f":"VLOOKUP(B778,Categorias!$A:$B,2,FALSE)","v":{"$error":"#N/A"}}]
[{"$f":"VLOOKUP(B779,Categorias!$A:$B,2,FALSE)","v":{"$error":"#N/A"}}]
[{"$f":"VLOOKUP(B780,Categorias!$A:$B,2,FALSE)","v":{"$error":"#N/A"}}]
[{"$f":"VLOOKUP(B781,Categorias!$A:$B,2,FALSE)","v":{"$error":"#N/A"}}]
[{"$f":"VLOOKUP(B782,Categorias!$A:$B,2,FALSE)","v":{"$error":"#N/A"}}]
[{"$f":"VLOOKUP(B783,Categorias!$A:$B,2,FALSE)","v":{"$error":"#N/A"}}]
[{"$f":"VLOOKUP(B784,Categorias!$A:$B,2,FALSE)","v":{"$error":"#N/A"}}]
[{"$f":"VLOOKUP(B785,Categorias!$A:$B,2,FALSE)","v":{"$error":"#N/A"}}]
[{"$f":"VLOOKUP(B786,Categorias!$A:$B,2,FALSE)","v":{"$error":"#N/A"}}]
[{"$f":"VLOOKUP(B787,Categorias!$A:$B,2,FALSE)","v":{"$error":"#N/A"}}]
[{"$f":"VLOOKUP(B788,Categorias!$A:$B,2,FALSE)","v":{"$error":"#N/A"}}]
[{"$f":"VLOOKUP(B789,Categorias!$A:$B,2,FALSE)","v":{"$error":"#N/A"}}]
[{"$f":"VLOOKUP(B790,Categorias!$A:$B,2,FALSE)","v":{"$error":"#N/A"}}]
[{"$f":"VLOOKUP(B791,Categorias!$A:$B,2,FALSE)","v":{"$error":"#N/A"}}]
[{"$f":"VLOOKUP(B792,Categorias!$A:$B,2,FALSE)","v":{"$error":"#N/A"}}]
[{"$f":"VLOOKUP(B793,Categorias!$A:$B,2,FALSE)","v":{"$error":"#N/A"}}]
[{"$f":"VLOOKUP(B794,Categorias!$A:$B,2,FALSE)","v":{"$error":"#N/A"}}]
[{"$f":"VLOOKUP(B795,Categorias!$A:$B,2,FALSE)","v":{"$error":"#N/A"}}]
[{"$f":"VLOOKUP(B796,Categorias!$A:$B,2,FALSE)","v":{"$error":"#N/A"}}]
[{"$f":"VLOOKUP(B797,Categorias!$A:$B,2,FALSE)","v":{"$error":"#N/A"}}]
[{"$f":"VLOOKUP(B798,Categorias!$A:$B,2,FALSE)","v":{"$error":"#N/A"}}]
[{"$f":"VLOOKUP(B799,Categorias!$A:$B,2,FALSE)","v":{"$error":"#N/A"}}]
[{"$f":"VLOOKUP(B800,Categorias!$A:$B,2,FALSE)","v":{"$error":"#N/A"}}]
[{"$f":"VLOOKUP(B801,Categorias!$A:$B,2,FALSE)","v":{"$error":"#N/A"}}]
[{"$f":"VLOOKUP(B802,Categorias!$A:$B,2,FALSE)","v":{"$error":"#N/A"}}]
[{"$f":"VLOOKUP(B803,Categorias!$A:$B,2,FALSE)","v":{"$error":"#N/A"}}]
[{"$f":"VLOOKUP(B804,Categorias!$A:$B,2,FALSE)","v":{"$error":"#N/A"}}]
[{"$f":"VLOOKUP(B805,Categorias!$A:$B,2,FALSE)","v":{"$error":"#N/A"}}]
[{"$f":"VLOOKUP(B806,Categorias!$A:$B,2,FALSE)","v":{"$error":"#N/A"}}]
[{"$f":"VLOOKUP(B807,Categorias!$A:$B,2,FALSE)","v":{"$error":"#N/A"}}]
[{"$f":"VLOOKUP(B808,Categorias!$A:$B,2,FALSE)","v":{"$error":"#N/A"}}]
[{"$f":"VLOOKUP(B809,Categorias!$A:$B,2,FALSE)","v":{"$error":"#N/A"}}]
[{"$f":"VLOOKUP(B810,Categorias!$A:$B,2,FALSE)","v":{"$error":"#N/A"}}]
[{"$f":"VLOOKUP(B811,Categorias!$A:$B,2,FALSE)","v":{"$error":"#N/A"}}]
[{"$f":"VLOOKUP(B812,Categorias!$A:$B,2,FALSE)","v":{"$error":"#N/A"}}]
[{"$f":"VLOOKUP(B813,Categorias!$A:$B,2,FALSE)","v":{"$error":"#N/A"}}]
[{"$f":"VLOOKUP(B814,Categorias!$A:$B,2,FALSE)","v":{"$error":"#N/A"}}]
[{"$f":"VLOOKUP(B815,Categorias!$A:$B,2,FALSE)","v":{"$error":"#N/A"}}]
[{"$f":"VLOOKUP(B816,Categorias!$A:$B,2,FALSE)","v":{"$error":"#N/A"}}]
[{"$f":"VLOOKUP(B817,Categorias!$A:$B,2,FALSE)","v":{"$error":"#N/A"}}]
[{"$f":"VLOOKUP(B818,Categorias!$A:$B,2,FALSE)","v":{"$error":"#N/A"}}]
[{"$f":"VLOOKUP(B819,Categorias!$A:$B,2,FALSE)","v":{"$error":"#N/A"}}]
[{"$f":"VLOOKUP(B820,Categorias!$A:$B,2,FALSE)","v":{"$error":"#N/A"}}]
[{"$f":"VLOOKUP(B821,Categorias!$A:$B,2,FALSE)","v":{"$error":"#N/A"}}]
[{"$f":"VLOOKUP(B822,Categorias!$A:$B,2,FALSE)","v":{"$error":"#N/A"}}]
[{"$f":"VLOOKUP(B823,Categorias!$A:$B,2,FALSE)","v":{"$error":"#N/A"}}]
[{"$f":"VLOOKUP(B824,Categorias!$A:$B,2,FALSE)","v":{"$error":"#N/A"}}]
[{"$f":"VLOOKUP(B825,Categorias!$A:$B,2,FALSE)","v":{"$error":"#N/A"}}]
[{"$f":"VLOOKUP(B826,Categorias!$A:$B,2,FALSE)","v":{"$error":"#N/A"}}]
[{"$f":"VLOOKUP(B827,Categorias!$A:$B,2,FALSE)","v":{"$error":"#N/A"}}]
[{"$f":"VLOOKUP(B828,Categorias!$A:$B,2,FALSE)","v":{"$error":"#N/A"}}]
[{"$f":"VLOOKUP(B829,Categorias!$A:$B,2,FALSE)","v":{"$error":"#N/A"}}]
[{"$f":"VLOOKUP(B830,Categorias!$A:$B,2,FALSE)","v":{"$error":"#N/A"}}]
[{"$f":"VLOOKUP(B831,Categorias!$A:$B,2,FALSE)","v":{"$error":"#N/A"}}]
[{"$f":"VLOOKUP(B832,Categorias!$A:$B,2,FALSE)","v":{"$error":"#N/A"}}]
[{"$f":"VLOOKUP(B833,Categorias!$A:$B,2,FALSE)","v":{"$error":"#N/A"}}]
[{"$f":"VLOOKUP(B834,Categorias!$A:$B,2,FALSE)","v":{"$error":"#N/A"}}]
[{"$f":"VLOOKUP(B835,Categorias!$A:$B,2,FALSE)","v":{"$error":"#N/A"}}]
[{"$f":"VLOOKUP(B836,Categorias!$A:$B,2,FALSE)","v":{"$error":"#N/A"}}]
[{"$f":"VLOOKUP(B837,Categorias!$A:$B,2,FALSE)","v":{"$error":"#N/A"}}]
[{"$f":"VLOOKUP(B838,Categorias!$A:$B,2,FALSE)","v":{"$error":"#N/A"}}]
[{"$f":"VLOOKUP(B839,Categorias!$A:$B,2,FALSE)","v":{"$error":"#N/A"}}]
[{"$f":"VLOOKUP(B840,Categorias!$A:$B,2,FALSE)","v":{"$error":"#N/A"}}]
[{"$f":"VLOOKUP(B841,Categorias!$A:$B,2,FALSE)","v":{"$error":"#N/A"}}]
[{"$f":"VLOOKUP(B842,Categorias!$A:$B,2,FALSE)","v":{"$error":"#N/A"}}]
[{"$f":"VLOOKUP(B843,Categorias!$A:$B,2,FALSE)","v":{"$error":"#N/A"}}]
[{"$f":"VLOOKUP(B844,Categorias!$A:$B,2,FALSE)","v":{"$error":"#N/A"}}]
[{"$f":"VLOOKUP(B845,Categorias!$A:$B,2,FALSE)","v":{"$error":"#N/A"}}]
[{"$f":"VLOOKUP(B846,Categorias!$A:$B,2,FALSE)","v":{"$error":"#N/A"}}]
[{"$f":"VLOOKUP(B847,Categorias!$A:$B,2,FALSE)","v":{"$error":"#N/A"}}]
[{"$f":"VLOOKUP(B848,Categorias!$A:$B,2,FALSE)","v":{"$error":"#N/A"}}]
[{"$f":"VLOOKUP(B849,Categorias!$A:$B,2,FALSE)","v":{"$error":"#N/A"}}]
[{"$f":"VLOOKUP(B850,Categorias!$A:$B,2,FALSE)","v":{"$error":"#N/A"}}]
[{"$f":"VLOOKUP(B851,Categorias!$A:$B,2,FALSE)","v":{"$error":"#N/A"}}]
[{"$f":"VLOOKUP(B852,Categorias!$A:$B,2,FALSE)","v":{"$error":"#N/A"}}]
[{"$f":"VLOOKUP(B853,Categorias!$A:$B,2,FALSE)","v":{"$error":"#N/A"}}]
[{"$f":"VLOOKUP(B854,Categorias!$A:$B,2,FALSE)","v":{"$error":"#N/A"}}]
[{"$f":"VLOOKUP(B855,Categorias!$A:$B,2,FALSE)","v":{"$error":"#N/A"}}]
[{"$f":"VLOOKUP(B856,Categorias!$A:$B,2,FALSE)","v":{"$error":"#N/A"}}]
[{"$f":"VLOOKUP(B857,Categorias!$A:$B,2,FALSE)","v":{"$error":"#N/A"}}]
[{"$f":"VLOOKUP(B858,Categorias!$A:$B,2,FALSE)","v":{"$error":"#N/A"}}]
[{"$f":"VLOOKUP(B859,Categorias!$A:$B,2,FALSE)","v":{"$error":"#N/A"}}]
[{"$f":"VLOOKUP(B860,Categorias!$A:$B,2,FALSE)","v":{"$error":"#N/A"}}]
[{"$f":"VLOOKUP(B861,Categorias!$A:$B,2,FALSE)","v":{"$error":"#N/A"}}]
[{"$f":"VLOOKUP(B862,Categorias!$A:$B,2,FALSE)","v":{"$error":"#N/A"}}]
[{"$f":"VLOOKUP(B863,Categorias!$A:$B,2,FALSE)","v":{"$error":"#N/A"}}]
[{"$f":"VLOOKUP(B864,Categorias!$A:$B,2,FALSE)","v":{"$error":"#N/A"}}]
[{"$f":"VLOOKUP(B865,Categorias!$A:$B,2,FALSE)","v":{"$error":"#N/A"}}]
[{"$f":"VLOOKUP(B866,Categorias!$A:$B,2,FALSE)","v":{"$error":"#N/A"}}]
[{"$f":"VLOOKUP(B867,Categorias!$A:$B,2,FALSE)","v":{"$error":"#N/A"}}]
[{"$f":"VLOOKUP(B868,Categorias!$A:$B,2,FALSE)","v":{"$error":"#N/A"}}]
[{"$f":"VLOOKUP(B869,Categorias!$A:$B,2,FALSE)","v":{"$error":"#N/A"}}]
[{"$f":"VLOOKUP(B870,Categorias!$A:$B,2,FALSE)","v":{"$error":"#N/A"}}]
[{"$f":"VLOOKUP(B871,Categorias!$A:$B,2,FALSE)","v":{"$error":"#N/A"}}]
[{"$f":"VLOOKUP(B872,Categorias!$A:$B,2,FALSE)","v":{"$error":"#N/A"}}]
[{"$f":"VLOOKUP(B873,Categorias!$A:$B,2,FALSE)","v":{"$error":"#N/A"}}]
[{"$f":"VLOOKUP(B874,Categorias!$A:$B,2,FALSE)","v":{"$error":"#N/A"}}]
[{"$f":"VLOOKUP(B875,Categorias!$A:$B,2,FALSE)","v":{"$error":"#N/A"}}]
[{"$f":"VLOOKUP(B876,Categorias!$A:$B,2,FALSE)","v":{"$error":"#N/A"}}]
[{"$f":"VLOOKUP(B877,Categorias!$A:$B,2,FALSE)","v":{"$error":"#N/A"}}]
[{"$f":"VLOOKUP(B878,Categorias!$A:$B,2,FALSE)","v":{"$error":"#N/A"}}]
[{"$f":"VLOOKUP(B879,Categorias!$A:$B,2,FALSE)","v":{"$error":"#N/A"}}]
[{"$f":"VLOOKUP(B880,Categorias!$A:$B,2,FALSE)","v":{"$error":"#N/A"}}]
[{"$f":"VLOOKUP(B881,Categorias!$A:$B,2,FALSE)","v":{"$error":"#N/A"}}]
[{"$f":"VLOOKUP(B882,Categorias!$A:$B,2,FALSE)","v":{"$error":"#N/A"}}]
[{"$f":"VLOOKUP(B883,Categorias!$A:$B,2,FALSE)","v":{"$error":"#N/A"}}]
[{"$f":"VLOOKUP(B884,Categorias!$A:$B,2,FALSE)","v":{"$error":"#N/A"}}]
[{"$f":"VLOOKUP(B885,Categorias!$A:$B,2,FALSE)","v":{"$error":"#N/A"}}]
[{"$f":"VLOOKUP(B886,Categorias!$A:$B,2,FALSE)","v":{"$error":"#N/A"}}]
[{"$f":"VLOOKUP(B887,Categorias!$A:$B,2,FALSE)","v":{"$error":"#N/A"}}]
[{"$f":"VLOOKUP(B888,Categorias!$A:$B,2,FALSE)","v":{"$error":"#N/A"}}]
[{"$f":"VLOOKUP(B889,Categorias!$A:$B,2,FALSE)","v":{"$error":"#N/A"}}]
[{"$f":"VLOOKUP(B890,Categorias!$A:$B,2,FALSE)","v":{"$error":"#N/A"}}]
[{"$f":"VLOOKUP(B891,Categorias!$A:$B,2,FALSE)","v":{"$error":"#N/A"}}]
[{"$f":"VLOOKUP(B892,Categorias!$A:$B,2,FALSE)","v":{"$error":"#N/A"}}]
[{"$f":"VLOOKUP(B893,Categorias!$A:$B,2,FALSE)","v":{"$error":"#N/A"}}]
[{"$f":"VLOOKUP(B894,Categorias!$A:$B,2,FALSE)","v":{"$error":"#N/A"}}]
[{"$f":"VLOOKUP(B895,Categorias!$A:$B,2,FALSE)","v":{"$error":"#N/A"}}]
[{"$f":"VLOOKUP(B896,Categorias!$A:$B,2,FALSE)","v":{"$error":"#N/A"}}]
[{"$f":"VLOOKUP(B897,Categorias!$A:$B,2,FALSE)","v":{"$error":"#N/A"}}]
[{"$f":"VLOOKUP(B898,Categorias!$A:$B,2,FALSE)","v":{"$error":"#N/A"}}]
[{"$f":"VLOOKUP(B899,Categorias!$A:$B,2,FALSE)","v":{"$error":"#N/A"}}]
[{"$f":"VLOOKUP(B900,Categorias!$A:$B,2,FALSE)","v":{"$error":"#N/A"}}]
[{"$f":"VLOOKUP(B901,Categorias!$A:$B,2,FALSE)","v":{"$error":"#N/A"}}]
[{"$f":"VLOOKUP(B902,Categorias!$A:$B,2,FALSE)","v":{"$error":"#N/A"}}]
[{"$f":"VLOOKUP(B903,Categorias!$A:$B,2,FALSE)","v":{"$error":"#N/A"}}]
[{"$f":"VLOOKUP(B904,Categorias!$A:$B,2,FALSE)","v":{"$error":"#N/A"}}]
[{"$f":"VLOOKUP(B905,Categorias!$A:$B,2,FALSE)","v":{"$error":"#N/A"}}]
[{"$f":"VLOOKUP(B906,Categorias!$A:$B,2,FALSE)","v":{"$error":"#N/A"}}]
[{"$f":"VLOOKUP(B907,Categorias!$A:$B,2,FALSE)","v":{"$error":"#N/A"}}]
[{"$f":"VLOOKUP(B908,Categorias!$A:$B,2,FALSE)","v":{"$error":"#N/A"}}]
[{"$f":"VLOOKUP(B909,Categorias!$A:$B,2,FALSE)","v":{"$error":"#N/A"}}]
[{"$f":"VLOOKUP(B910,Categorias!$A:$B,2,FALSE)","v":{"$error":"#N/A"}}]
[{"$f":"VLOOKUP(B911,Categorias!$A:$B,2,FALSE)","v":{"$error":"#N/A"}}]
[{"$f":"VLOOKUP(B912,Categorias!$A:$B,2,FALSE)","v":{"$error":"#N/A"}}]
[{"$f":"VLOOKUP(B913,Categorias!$A:$B,2,FALSE)","v":{"$error":"#N/A"}}]
[{"$f":"VLOOKUP(B914,Categorias!$A:$B,2,FALSE)","v":{"$error":"#N/A"}}]
[{"$f":"VLOOKUP(B915,Categorias!$A:$B,2,FALSE)","v":{"$error":"#N/A"}}]
[{"$f":"VLOOKUP(B916,Categorias!$A:$B,2,FALSE)","v":{"$error":"#N/A"}}]
[{"$f":"VLOOKUP(B917,Categorias!$A:$B,2,FALSE)","v":{"$error":"#N/A"}}]
[{"$f":"VLOOKUP(B918,Categorias!$A:$B,2,FALSE)","v":{"$error":"#N/A"}}]
[{"$f":"VLOOKUP(B919,Categorias!$A:$B,2,FALSE)","v":{"$error":"#N/A"}}]
[{"$f":"VLOOKUP(B920,Categorias!$A:$B,2,FALSE)","v":{"$error":"#N/A"}}]
[{"$f":"VLOOKUP(B921,Categorias!$A:$B,2,FALSE)","v":{"$error":"#N/A"}}]
[{"$f":"VLOOKUP(B922,Categorias!$A:$B,2,FALSE)","v":{"$error":"#N/A"}}]
[{"$f":"VLOOKUP(B923,Categorias!$A:$B,2,FALSE)","v":{"$error":"#N/A"}}]
[{"$f":"VLOOKUP(B924,Categorias!$A:$B,2,FALSE)","v":{"$error":"#N/A"}}]
[{"$f":"VLOOKUP(B925,Categorias!$A:$B,2,FALSE)","v":{"$error":"#N/A"}}]
[{"$f":"VLOOKUP(B926,Categorias!$A:$B,2,FALSE)","v":{"$error":"#N/A"}}]
[{"$f":"VLOOKUP(B927,Categorias!$A:$B,2,FALSE)","v":{"$error":"#N/A"}}]
[{"$f":"VLOOKUP(B928,Categorias!$A:$B,2,FALSE)","v":{"$error":"#N/A"}}]
[{"$f":"VLOOKUP(B929,Categorias!$A:$B,2,FALSE)","v":{"$error":"#N/A"}}]
[{"$f":"VLOOKUP(B930,Categorias!$A:$B,2,FALSE)","v":{"$error":"#N/A"}}]
[{"$f":"VLOOKUP(B931,Categorias!$A:$B,2,FALSE)","v":{"$error":"#N/A"}}]
[{"$f":"VLOOKUP(B932,Categorias!$A:$B,2,FALSE)","v":{"$error":"#N/A"}}]
[{"$f":"VLOOKUP(B933,Categorias!$A:$B,2,FALSE)","v":{"$error":"#N/A"}}]
[{"$f":"VLOOKUP(B934,Categorias!$A:$B,2,FALSE)","v":{"$error":"#N/A"}}]
[{"$f":"VLOOKUP(B935,Categorias!$A:$B,2,FALSE)","v":{"$error":"#N/A"}}]
[{"$f":"VLOOKUP(B936,Categorias!$A:$B,2,FALSE)","v":{"$error":"#N/A"}}]
[{"$f":"VLOOKUP(B937,Categorias!$A:$B,2,FALSE)","v":{"$error":"#N/A"}}]
[{"$f":"VLOOKUP(B938,Categorias!$A:$B,2,FALSE)","v":{"$error":"#N/A"}}]
[{"$f":"VLOOKUP(B939,Categorias!$A:$B,2,FALSE)","v":{"$error":"#N/A"}}]
[{"$f":"VLOOKUP(B940,Categorias!$A:$B,2,FALSE)","v":{"$error":"#N/A"}}]
[{"$f":"VLOOKUP(B941,Categorias!$A:$B,2,FALSE)","v":{"$error":"#N/A"}}]
[{"$f":"VLOOKUP(B942,Categorias!$A:$B,2,FALSE)","v":{"$error":"#N/A"}}]
[{"$f":"VLOOKUP(B943,Categorias!$A:$B,2,FALSE)","v":{"$error":"#N/A"}}]
[{"$f":"VLOOKUP(B944,Categorias!$A:$B,2,FALSE)","v":{"$error":"#N/A"}}]
[{"$f":"VLOOKUP(B945,Categorias!$A:$B,2,FALSE)","v":{"$error":"#N/A"}}]
[{"$f":"VLOOKUP(B946,Categorias!$A:$B,2,FALSE)","v":{"$error":"#N/A"}}]
[{"$f":"VLOOKUP(B947,Categorias!$A:$B,2,FALSE)","v":{"$error":"#N/A"}}]
[{"$f":"VLOOKUP(B948,Categorias!$A:$B,2,FALSE)","v":{"$error":"#N/A"}}]
[{"$f":"VLOOKUP(B949,Categorias!$A:$B,2,FALSE)","v":{"$error":"#N/A"}}]
[{"$f":"VLOOKUP(B950,Categorias!$A:$B,2,FALSE)","v":{"$error":"#N/A"}}]
[{"$f":"VLOOKUP(B951,Categorias!$A:$B,2,FALSE)","v":{"$error":"#N/A"}}]
[{"$f":"VLOOKUP(B952,Categorias!$A:$B,2,FALSE)","v":{"$error":"#N/A"}}]
[{"$f":"VLOOKUP(B953,Categorias!$A:$B,2,FALSE)","v":{"$error":"#N/A"}}]
[{"$f":"VLOOKUP(B954,Categorias!$A:$B,2,FALSE)","v":{"$error":"#N/A"}}]
[{"$f":"VLOOKUP(B955,Categorias!$A:$B,2,FALSE)","v":{"$error":"#N/A"}}]
[{"$f":"VLOOKUP(B956,Categorias!$A:$B,2,FALSE)","v":{"$error":"#N/A"}}]
[{"$f":"VLOOKUP(B957,Categorias!$A:$B,2,FALSE)","v":{"$error":"#N/A"}}]
[{"$f":"VLOOKUP(B958,Categorias!$A:$B,2,FALSE)","v":{"$error":"#N/A"}}]
[{"$f":"VLOOKUP(B959,Categorias!$A:$B,2,FALSE)","v":{"$error":"#N/A"}}]
[{"$f":"VLOOKUP(B960,Categorias!$A:$B,2,FALSE)","v":{"$error":"#N/A"}}]
[{"$f":"VLOOKUP(B961,Categorias!$A:$B,2,FALSE)","v":{"$error":"#N/A"}}]
[{"$f":"VLOOKUP(B962,Categorias!$A:$B,2,FALSE)","v":{"$error":"#N/A"}}]
[{"$f":"VLOOKUP(B963,Categorias!$A:$B,2,FALSE)","v":{"$error":"#N/A"}}]
[{"$f":"VLOOKUP(B964,Categorias!$A:$B,2,FALSE)","v":{"$error":"#N/A"}}]
[{"$f":"VLOOKUP(B965,Categorias!$A:$B,2,FALSE)","v":{"$error":"#N/A"}}]
[{"$f":"VLOOKUP(B966,Categorias!$A:$B,2,FALSE)","v":{"$error":"#N/A"}}]
[{"$f":"VLOOKUP(B967,Categorias!$A:$B,2,FALSE)","v":{"$error":"#N/A"}}]
[{"$f":"VLOOKUP(B968,Categorias!$A:$B,2,FALSE)","v":{"$error":"#N/A"}}]
[{"$f":"VLOOKUP(B969,Categorias!$A:$B,2,FALSE)","v":{"$error":"#N/A"}}]
[{"$f":"VLOOKUP(B970,Categorias!$A:$B,2,FALSE)","v":{"$error":"#N/A"}}]
[{"$f":"VLOOKUP(B971,Categorias!$A:$B,2,FALSE)","v":{"$error":"#N/A"}}]
[{"$f":"VLOOKUP(B972,Categorias!$A:$B,2,FALSE)","v":{"$error":"#N/A"}}]
[{"$f":"VLOOKUP(B973,Categorias!$A:$B,2,FALSE)","v":{"$error":"#N/A"}}]
[{"$f":"VLOOKUP(B974,Categorias!$A:$B,2,FALSE)","v":{"$error":"#N/A"}}]
[{"$f":"VLOOKUP(B975,Categorias!$A:$B,2,FALSE)","v":{"$error":"#N/A"}}]
[{"$f":"VLOOKUP(B976,Categorias!$A:$B,2,FALSE)","v":{"$error":"#N/A"}}]
[{"$f":"VLOOKUP(B977,Categorias!$A:$B,2,FALSE)","v":{"$error":"#N/A"}}]
[{"$f":"VLOOKUP(B978,Categorias!$A:$B,2,FALSE)","v":{"$error":"#N/A"}}]
[{"$f":"VLOOKUP(B979,Categorias!$A:$B,2,FALSE)","v":{"$error":"#N/A"}}]
[{"$f":"VLOOKUP(B980,Categorias!$A:$B,2,FALSE)","v":{"$error":"#N/A"}}]
[{"$f":"VLOOKUP(B981,Categorias!$A:$B,2,FALSE)","v":{"$error":"#N/A"}}]
[{"$f":"VLOOKUP(B982,Categorias!$A:$B,2,FALSE)","v":{"$error":"#N/A"}}]
[{"$f":"VLOOKUP(B983,Categorias!$A:$B,2,FALSE)","v":{"$error":"#N/A"}}]
[{"$f":"VLOOKUP(B984,Categorias!$A:$B,2,FALSE)","v":{"$error":"#N/A"}}]
[{"$f":"VLOOKUP(B985,Categorias!$A:$B,2,FALSE)","v":{"$error":"#N/A"}}]
[{"$f":"VLOOKUP(B986,Categorias!$A:$B,2,FALSE)","v":{"$error":"#N/A"}}]
[{"$f":"VLOOKUP(B987,Categorias!$A:$B,2,FALSE)","v":{"$error":"#N/A"}}]
[{"$f":"VLOOKUP(B988,Categorias!$A:$B,2,FALSE)","v":{"$error":"#N/A"}}]
[{"$f":"VLOOKUP(B989,Categorias!$A:$B,2,FALSE)","v":{"$error":"#N/A"}}]
[{"$f":"VLOOKUP(B990,Categorias!$A:$B,2,FALSE)","v":{"$error":"#N/A"}}]
[{"$f":"VLOOKUP(B991,Categorias!$A:$B,2,FALSE)","v":{"$error":"#N/A"}}]
[{"$f":"VLOOKUP(B992,Categorias!$A:$B,2,FALSE)","v":{"$error":"#N/A"}}]
[{"$f":"VLOOKUP(B993,Categorias!$A:$B,2,FALSE)","v":{"$error":"#N/A"}}]
[{"$f":"VLOOKUP(B994,Categorias!$A:$B,2,FALSE)","v":{"$error":"#N/A"}}]
[{"$f":"VLOOKUP(B995,Categorias!$A:$B,2,FALSE)","v":{"$error":"#N/A"}}]
[{"$f":"VLOOKUP(B996,Categorias!$A:$B,2,FALSE)","v":{"$error":"#N/A"}}]
[{"$f":"VLOOKUP(B997,Categorias!$A:$B,2,FALSE)","v":{"$error":"#N/A"}}]
[{"$f":"VLOOKUP(B998,Categorias!$A:$B,2,FALSE)","v":{"$error":"#N/A"}}]
[{"$f":"VLOOKUP(B999,Categorias!$A:$B,2,FALSE)","v":{"$error":"#N/A"}}]
[{"$f":"VLOOKUP(B1000,Categorias!$A:$B,2,FALSE)","v":{"$error":"#N/A"}}]
[{"$f":"VLOOKUP(B1001,Categorias!$A:$B,2,FALSE)","v":{"$error":"#N/A"}}]
[{"$f":"VLOOKUP(B1002,Categorias!$A:$B,2,FALSE)","v":{"$error":"#N/A"}}]
[{"$f":"VLOOKUP(B1003,Categorias!$A:$B,2,FALSE)","v":{"$error":"#N/A"}}]
[{"$f":"VLOOKUP(B1004,Categorias!$A:$B,2,FALSE)","v":{"$error":"#N/A"}}]
[{"$f":"VLOOKUP(B1005,Categorias!$A:$B,2,FALSE)","v":{"$error":"#N/A"}}]
[{"$f":"VLOOKUP(B1006,Categorias!$A:$B,2,FALSE)","v":{"$error":"#N/A"}}]
[{"$f":"VLOOKUP(B1007,Categorias!$A:$B,2,FALSE)","v":{"$error":"#N/A"}}]
[{"$f":"VLOOKUP(B1008,Categorias!$A:$B,2,FALSE)","v":{"$error":"#N/A"}}]
[{"$f":"VLOOKUP(B1009,Categorias!$A:$B,2,FALSE)","v":{"$error":"#N/A"}}]
[{"$f":"VLOOKUP(B1010,Categorias!$A:$B,2,FALSE)","v":{"$error":"#N/A"}}]
[{"$f":"VLOOKUP(B1011,Categorias!$A:$B,2,FALSE)","v":{"$error":"#N/A"}}]
[{"$f":"VLOOKUP(B1012,Categorias!$A:$B,2,FALSE)","v":{"$error":"#N/A"}}]
[{"$f":"VLOOKUP(B1013,Categorias!$A:$B,2,FALSE)","v":{"$error":"#N/A"}}]
[{"$f":"VLOOKUP(B1014,Categorias!$A:$B,2,FALSE)","v":{"$error":"#N/A"}}]
[{"$f":"VLOOKUP(B1015,Categorias!$A:$B,2,FALSE)","v":{"$error":"#N/A"}}]
[{"$f":"VLOOKUP(B1016,Categorias!$A:$B,2,FALSE)","v":{"$error":"#N/A"}}]
[{"$f":"VLOOKUP(B1017,Categorias!$A:$B,2,FALSE)","v":{"$error":"#N/A"}}]
[{"$f":"VLOOKUP(B1018,Categorias!$A:$B,2,FALSE)","v":{"$error":"#N/A"}}]
[{"$f":"VLOOKUP(B1019,Categorias!$A:$B,2,FALSE)","v":{"$error":"#N/A"}}]
[{"$f":"VLOOKUP(B1020,Categorias!$A:$B,2,FALSE)","v":{"$error":"#N/A"}}]
[{"$f":"VLOOKUP(B1021,Categorias!$A:$B,2,FALSE)","v":{"$error":"#N/A"}}]
[{"$f":"VLOOKUP(B1022,Categorias!$A:$B,2,FALSE)","v":{"$error":"#N/A"}}]
[{"$f":"VLOOKUP(B1023,Categorias!$A:$B,2,FALSE)","v":{"$error":"#N/A"}}]
[{"$f":"VLOOKUP(B1024,Categorias!$A:$B,2,FALSE)","v":{"$error":"#N/A"}}]
[{"$f":"VLOOKUP(B1025,Categorias!$A:$B,2,FALSE)","v":{"$error":"#N/A"}}]
[{"$f":"VLOOKUP(B1026,Categorias!$A:$B,2,FALSE)","v":{"$error":"#N/A"}}]
[{"$f":"VLOOKUP(B1027,Categorias!$A:$B,2,FALSE)","v":{"$error":"#N/A"}}]
[{"$f":"VLOOKUP(B1028,Categorias!$A:$B,2,FALSE)","v":{"$error":"#N/A"}}]
[{"$f":"VLOOKUP(B1029,Categorias!$A:$B,2,FALSE)","v":{"$error":"#N/A"}}]
[{"$f":"VLOOKUP(B1030,Categorias!$A:$B,2,FALSE)","v":{"$error":"#N/A"}}]
[{"$f":"VLOOKUP(B1031,Categorias!$A:$B,2,FALSE)","v":{"$error":"#N/A"}}]
[{"$f":"VLOOKUP(B1032,Categorias!$A:$B,2,FALSE)","v":{"$error":"#N/A"}}]
[{"$f":"VLOOKUP(B1033,Categorias!$A:$B,2,FALSE)","v":{"$error":"#N/A"}}]
[{"$f":"VLOOKUP(B1034,Categorias!$A:$B,2,FALSE)","v":{"$error":"#N/A"}}]
[{"$f":"VLOOKUP(B1035,Categorias!$A:$B,2,FALSE)","v":{"$error":"#N/A"}}]
[{"$f":"VLOOKUP(B1036,Categorias!$A:$B,2,FALSE)","v":{"$error":"#N/A"}}]
[{"$f":"VLOOKUP(B1037,Categorias!$A:$B,2,FALSE)","v":{"$error":"#N/A"}}]
[{"$f":"VLOOKUP(B1038,Categorias!$A:$B,2,FALSE)","v":{"$error":"#N/A"}}]
[{"$f":"VLOOKUP(B1039,Categorias!$A:$B,2,FALSE)","v":{"$error":"#N/A"}}]
[{"$f":"VLOOKUP(B1040,Categorias!$A:$B,2,FALSE)","v":{"$error":"#N/A"}}]
[{"$f":"VLOOKUP(B1041,Categorias!$A:$B,2,FALSE)","v":{"$error":"#N/A"}}]
[{"$f":"VLOOKUP(B1042,Categorias!$A:$B,2,FALSE)","v":{"$error":"#N/A"}}]
[{"$f":"VLOOKUP(B1043,Categorias!$A:$B,2,FALSE)","v":{"$error":"#N/A"}}]
[{"$f":"VLOOKUP(B1044,Categorias!$A:$B,2,FALSE)","v":{"$error":"#N/A"}}]
[{"$f":"VLOOKUP(B1045,Categorias!$A:$B,2,FALSE)","v":{"$error":"#N/A"}}]
[{"$f":"VLOOKUP(B1046,Categorias!$A:$B,2,FALSE)","v":{"$error":"#N/A"}}]
[{"$f":"VLOOKUP(B1047,Categorias!$A:$B,2,FALSE)","v":{"$error":"#N/A"}}]
[{"$f":"VLOOKUP(B1048,Categorias!$A:$B,2,FALSE)","v":{"$error":"#N/A"}}]
[{"$f":"VLOOKUP(B1049,Categorias!$A:$B,2,FALSE)","v":{"$error":"#N/A"}}]
[{"$f":"VLOOKUP(B1050,Categorias!$A:$B,2,FALSE)","v":{"$error":"#N/A"}}]
[{"$f":"VLOOKUP(B1051,Categorias!$A:$B,2,FALSE)","v":{"$error":"#N/A"}}]
[{"$f":"VLOOKUP(B1052,Categorias!$A:$B,2,FALSE)","v":{"$error":"#N/A"}}]
[{"$f":"VLOOKUP(B1053,Categorias!$A:$B,2,FALSE)","v":{"$error":"#N/A"}}]
[{"$f":"VLOOKUP(B1054,Categorias!$A:$B,2,FALSE)","v":{"$error":"#N/A"}}]
[{"$f":"VLOOKUP(B1055,Categorias!$A:$B,2,FALSE)","v":{"$error":"#N/A"}}]
[{"$f":"VLOOKUP(B1056,Categorias!$A:$B,2,FALSE)","v":{"$error":"#N/A"}}]
[{"$f":"VLOOKUP(B1057,Categorias!$A:$B,2,FALSE)","v":{"$error":"#N/A"}}]
[{"$f":"VLOOKUP(B1058,Categorias!$A:$B,2,FALSE)","v":{"$error":"#N/A"}}]
[{"$f":"VLOOKUP(B1059,Categorias!$A:$B,2,FALSE)","v":{"$error":"#N/A"}}]
[{"$f":"VLOOKUP(B1060,Categorias!$A:$B,2,FALSE)","v":{"$error":"#N/A"}}]
[{"$f":"VLOOKUP(B1061,Categorias!$A:$B,2,FALSE)","v":{"$error":"#N/A"}}]
[{"$f":"VLOOKUP(B1062,Categorias!$A:$B,2,FALSE)","v":{"$error":"#N/A"}}]
[{"$f":"VLOOKUP(B1063,Categorias!$A:$B,2,FALSE)","v":{"$error":"#N/A"}}]
[{"$f":"VLOOKUP(B1064,Categorias!$A:$B,2,FALSE)","v":{"$error":"#N/A"}}]
[{"$f":"VLOOKUP(B1065,Categorias!$A:$B,2,FALSE)","v":{"$error":"#N/A"}}]
[{"$f":"VLOOKUP(B1066,Categorias!$A:$B,2,FALSE)","v":{"$error":"#N/A"}}]
[{"$f":"VLOOKUP(B1067,Categorias!$A:$B,2,FALSE)","v":{"$error":"#N/A"}}]
[{"$f":"VLOOKUP(B1068,Categorias!$A:$B,2,FALSE)","v":{"$error":"#N/A"}}]
[{"$f":"VLOOKUP(B1069,Categorias!$A:$B,2,FALSE)","v":{"$error":"#N/A"}}]
[{"$f":"VLOOKUP(B1070,Categorias!$A:$B,2,FALSE)","v":{"$error":"#N/A"}}]
[{"$f":"VLOOKUP(B1071,Categorias!$A:$B,2,FALSE)","v":{"$error":"#N/A"}}]
[{"$f":"VLOOKUP(B1072,Categorias!$A:$B,2,FALSE)","v":{"$error":"#N/A"}}]
[{"$f":"VLOOKUP(B1073,Categorias!$A:$B,2,FALSE)","v":{"$error":"#N/A"}}]
[{"$f":"VLOOKUP(B1074,Categorias!$A:$B,2,FALSE)","v":{"$error":"#N/A"}}]
[{"$f":"VLOOKUP(B1075,Categorias!$A:$B,2,FALSE)","v":{"$error":"#N/A"}}]
[{"$f":"VLOOKUP(B1076,Categorias!$A:$B,2,FALSE)","v":{"$error":"#N/A"}}]
[{"$f":"VLOOKUP(B1077,Categorias!$A:$B,2,FALSE)","v":{"$error":"#N/A"}}]
[{"$f":"VLOOKUP(B1078,Categorias!$A:$B,2,FALSE)","v":{"$error":"#N/A"}}]
[{"$f":"VLOOKUP(B1079,Categorias!$A:$B,2,FALSE)","v":{"$error":"#N/A"}}]
[{"$f":"VLOOKUP(B1080,Categorias!$A:$B,2,FALSE)","v":{"$error":"#N/A"}}]
[{"$f":"VLOOKUP(B1081,Categorias!$A:$B,2,FALSE)","v":{"$error":"#N/A"}}]
[{"$f":"VLOOKUP(B1082,Categorias!$A:$B,2,FALSE)","v":{"$error":"#N/A"}}]
[{"$f":"VLOOKUP(B1083,Categorias!$A:$B,2,FALSE)","v":{"$error":"#N/A"}}]
[{"$f":"VLOOKUP(B1084,Categorias!$A:$B,2,FALSE)","v":{"$error":"#N/A"}}]
[{"$f":"VLOOKUP(B1085,Categorias!$A:$B,2,FALSE)","v":{"$error":"#N/A"}}]
[{"$f":"VLOOKUP(B1086,Categorias!$A:$B,2,FALSE)","v":{"$error":"#N/A"}}]
[{"$f":"VLOOKUP(B1087,Categorias!$A:$B,2,FALSE)","v":{"$error":"#N/A"}}]
[{"$f":"VLOOKUP(B1088,Categorias!$A:$B,2,FALSE)","v":{"$error":"#N/A"}}]
[{"$f":"VLOOKUP(B1089,Categorias!$A:$B,2,FALSE)","v":{"$error":"#N/A"}}]
[{"$f":"VLOOKUP(B1090,Categorias!$A:$B,2,FALSE)","v":{"$error":"#N/A"}}]
[{"$f":"VLOOKUP(B1091,Categorias!$A:$B,2,FALSE)","v":{"$error":"#N/A"}}]
[{"$f":"VLOOKUP(B1092,Categorias!$A:$B,2,FALSE)","v":{"$error":"#N/A"}}]
[{"$f":"VLOOKUP(B1093,Categorias!$A:$B,2,FALSE)","v":{"$error":"#N/A"}}]
[{"$f":"VLOOKUP(B1094,Categorias!$A:$B,2,FALSE)","v":{"$error":"#N/A"}}]
[{"$f":"VLOOKUP(B1095,Categorias!$A:$B,2,FALSE)","v":{"$error":"#N/A"}}]
[{"$f":"VLOOKUP(B1096,Categorias!$A:$B,2,FALSE)","v":{"$error":"#N/A"}}]
[{"$f":"VLOOKUP(B1097,Categorias!$A:$B,2,FALSE)","v":{"$error":"#N/A"}}]
[{"$f":"VLOOKUP(B1098,Categorias!$A:$B,2,FALSE)","v":{"$error":"#N/A"}}]
[{"$f":"VLOOKUP(B1099,Categorias!$A:$B,2,FALSE)","v":{"$error":"#N/A"}}]
[{"$f":"VLOOKUP(B1100,Categorias!$A:$B,2,FALSE)","v":{"$error":"#N/A"}}]
[{"$f":"VLOOKUP(B1101,Categorias!$A:$B,2,FALSE)","v":{"$error":"#N/A"}}]
[{"$f":"VLOOKUP(B1102,Categorias!$A:$B,2,FALSE)","v":{"$error":"#N/A"}}]
[{"$f":"VLOOKUP(B1103,Categorias!$A:$B,2,FALSE)","v":{"$error":"#N/A"}}]
[{"$f":"VLOOKUP(B1104,Categorias!$A:$B,2,FALSE)","v":{"$error":"#N/A"}}]
[{"$f":"VLOOKUP(B1105,Categorias!$A:$B,2,FALSE)","v":{"$error":"#N/A"}}]
[{"$f":"VLOOKUP(B1106,Categorias!$A:$B,2,FALSE)","v":{"$error":"#N/A"}}]
[{"$f":"VLOOKUP(B1107,Categorias!$A:$B,2,FALSE)","v":{"$error":"#N/A"}}]
[{"$f":"VLOOKUP(B1108,Categorias!$A:$B,2,FALSE)","v":{"$error":"#N/A"}}]
[{"$f":"VLOOKUP(B1109,Categorias!$A:$B,2,FALSE)","v":{"$error":"#N/A"}}]
[{"$f":"VLOOKUP(B1110,Categorias!$A:$B,2,FALSE)","v":{"$error":"#N/A"}}]
[{"$f":"VLOOKUP(B1111,Categorias!$A:$B,2,FALSE)","v":{"$error":"#N/A"}}]
[{"$f":"VLOOKUP(B1112,Categorias!$A:$B,2,FALSE)","v":{"$error":"#N/A"}}]
[{"$f":"VLOOKUP(B1113,Categorias!$A:$B,2,FALSE)","v":{"$error":"#N/A"}}]
[{"$f":"VLOOKUP(B1114,Categorias!$A:$B,2,FALSE)","v":{"$error":"#N/A"}}]
[{"$f":"VLOOKUP(B1115,Categorias!$A:$B,2,FALSE)","v":{"$error":"#N/A"}}]
[{"$f":"VLOOKUP(B1116,Categorias!$A:$B,2,FALSE)","v":{"$error":"#N/A"}}]
[{"$f":"VLOOKUP(B1117,Categorias!$A:$B,2,FALSE)","v":{"$error":"#N/A"}}]
[{"$f":"VLOOKUP(B1118,Categorias!$A:$B,2,FALSE)","v":{"$error":"#N/A"}}]
[{"$f":"VLOOKUP(B1119,Categorias!$A:$B,2,FALSE)","v":{"$error":"#N/A"}}]
[{"$f":"VLOOKUP(B1120,Categorias!$A:$B,2,FALSE)","v":{"$error":"#N/A"}}]
[{"$f":"VLOOKUP(B1121,Categorias!$A:$B,2,FALSE)","v":{"$error":"#N/A"}}]
[{"$f":"VLOOKUP(B1122,Categorias!$A:$B,2,FALSE)","v":{"$error":"#N/A"}}]
[{"$f":"VLOOKUP(B1123,Categorias!$A:$B,2,FALSE)","v":{"$error":"#N/A"}}]
[{"$f":"VLOOKUP(B1124,Categorias!$A:$B,2,FALSE)","v":{"$error":"#N/A"}}]
[{"$f":"VLOOKUP(B1125,Categorias!$A:$B,2,FALSE)","v":{"$error":"#N/A"}}]
[{"$f":"VLOOKUP(B1126,Categorias!$A:$B,2,FALSE)","v":{"$error":"#N/A"}}]
[{"$f":"VLOOKUP(B1127,Categorias!$A:$B,2,FALSE)","v":{"$error":"#N/A"}}]
[{"$f":"VLOOKUP(B1128,Categorias!$A:$B,2,FALSE)","v":{"$error":"#N/A"}}]
[{"$f":"VLOOKUP(B1129,Categorias!$A:$B,2,FALSE)","v":{"$error":"#N/A"}}]
[{"$f":"VLOOKUP(B1130,Categorias!$A:$B,2,FALSE)","v":{"$error":"#N/A"}}]
[{"$f":"VLOOKUP(B1131,Categorias!$A:$B,2,FALSE)","v":{"$error":"#N/A"}}]
[{"$f":"VLOOKUP(B1132,Categorias!$A:$B,2,FALSE)","v":{"$error":"#N/A"}}]
[{"$f":"VLOOKUP(B1133,Categorias!$A:$B,2,FALSE)","v":{"$error":"#N/A"}}]
[{"$f":"VLOOKUP(B1134,Categorias!$A:$B,2,FALSE)","v":{"$error":"#N/A"}}]
[{"$f":"VLOOKUP(B1135,Categorias!$A:$B,2,FALSE)","v":{"$error":"#N/A"}}]
[{"$f":"VLOOKUP(B1136,Categorias!$A:$B,2,FALSE)","v":{"$error":"#N/A"}}]
[{"$f":"VLOOKUP(B1137,Categorias!$A:$B,2,FALSE)","v":{"$error":"#N/A"}}]
[{"$f":"VLOOKUP(B1138,Categorias!$A:$B,2,FALSE)","v":{"$error":"#N/A"}}]
[{"$f":"VLOOKUP(B1139,Categorias!$A:$B,2,FALSE)","v":{"$error":"#N/A"}}]
[{"$f":"VLOOKUP(B1140,Categorias!$A:$B,2,FALSE)","v":{"$error":"#N/A"}}]
[{"$f":"VLOOKUP(B1141,Categorias!$A:$B,2,FALSE)","v":{"$error":"#N/A"}}]
[{"$f":"VLOOKUP(B1142,Categorias!$A:$B,2,FALSE)","v":{"$error":"#N/A"}}]
[{"$f":"VLOOKUP(B1143,Categorias!$A:$B,2,FALSE)","v":{"$error":"#N/A"}}]
[{"$f":"VLOOKUP(B1144,Categorias!$A:$B,2,FALSE)","v":{"$error":"#N/A"}}]
[{"$f":"VLOOKUP(B1145,Categorias!$A:$B,2,FALSE)","v":{"$error":"#N/A"}}]
[{"$f":"VLOOKUP(B1146,Categorias!$A:$B,2,FALSE)","v":{"$error":"#N/A"}}]
[{"$f":"VLOOKUP(B1147,Categorias!$A:$B,2,FALSE)","v":{"$error":"#N/A"}}]
[{"$f":"VLOOKUP(B1148,Categorias!$A:$B,2,FALSE)","v":{"$error":"#N/A"}}]
[{"$f":"VLOOKUP(B1149,Categorias!$A:$B,2,FALSE)","v":{"$error":"#N/A"}}]
[{"$f":"VLOOKUP(B1150,Categorias!$A:$B,2,FALSE)","v":{"$error":"#N/A"}}]
[{"$f":"VLOOKUP(B1151,Categorias!$A:$B,2,FALSE)","v":{"$error":"#N/A"}}]
[{"$f":"VLOOKUP(B1152,Categorias!$A:$B,2,FALSE)","v":{"$error":"#N/A"}}]
[{"$f":"VLOOKUP(B1153,Categorias!$A:$B,2,FALSE)","v":{"$error":"#N/A"}}]
[{"$f":"VLOOKUP(B1154,Categorias!$A:$B,2,FALSE)","v":{"$error":"#N/A"}}]
[{"$f":"VLOOKUP(B1155,Categorias!$A:$B,2,FALSE)","v":{"$error":"#N/A"}}]
[{"$f":"VLOOKUP(B1156,Categorias!$A:$B,2,FALSE)","v":{"$error":"#N/A"}}]
[{"$f":"VLOOKUP(B1157,Categorias!$A:$B,2,FALSE)","v":{"$error":"#N/A"}}]
[{"$f":"VLOOKUP(B1158,Categorias!$A:$B,2,FALSE)","v":{"$error":"#N/A"}}]
[{"$f":"VLOOKUP(B1159,Categorias!$A:$B,2,FALSE)","v":{"$error":"#N/A"}}]
[{"$f":"VLOOKUP(B1160,Categorias!$A:$B,2,FALSE)","v":{"$error":"#N/A"}}]
[{"$f":"VLOOKUP(B1161,Categorias!$A:$B,2,FALSE)","v":{"$error":"#N/A"}}]
[{"$f":"VLOOKUP(B1162,Categorias!$A:$B,2,FALSE)","v":{"$error":"#N/A"}}]
[{"$f":"VLOOKUP(B1163,Categorias!$A:$B,2,FALSE)","v":{"$error":"#N/A"}}]
[{"$f":"VLOOKUP(B1164,Categorias!$A:$B,2,FALSE)","v":{"$error":"#N/A"}}]
[{"$f":"VLOOKUP(B1165,Categorias!$A:$B,2,FALSE)","v":{"$error":"#N/A"}}]
[{"$f":"VLOOKUP(B1166,Categorias!$A:$B,2,FALSE)","v":{"$error":"#N/A"}}]
[{"$f":"VLOOKUP(B1167,Categorias!$A:$B,2,FALSE)","v":{"$error":"#N/A"}}]
[{"$f":"VLOOKUP(B1168,Categorias!$A:$B,2,FALSE)","v":{"$error":"#N/A"}}]
[{"$f":"VLOOKUP(B1169,Categorias!$A:$B,2,FALSE)","v":{"$error":"#N/A"}}]
[{"$f":"VLOOKUP(B1170,Categorias!$A:$B,2,FALSE)","v":{"$error":"#N/A"}}]
[{"$f":"VLOOKUP(B1171,Categorias!$A:$B,2,FALSE)","v":{"$error":"#N/A"}}]
[{"$f":"VLOOKUP(B1172,Categorias!$A:$B,2,FALSE)","v":{"$error":"#N/A"}}]
[{"$f":"VLOOKUP(B1173,Categorias!$A:$B,2,FALSE)","v":{"$error":"#N/A"}}]
[{"$f":"VLOOKUP(B1174,Categorias!$A:$B,2,FALSE)","v":{"$error":"#N/A"}}]
[{"$f":"VLOOKUP(B1175,Categorias!$A:$B,2,FALSE)","v":{"$error":"#N/A"}}]
[{"$f":"VLOOKUP(B1176,Categorias!$A:$B,2,FALSE)","v":{"$error":"#N/A"}}]
[{"$f":"VLOOKUP(B1177,Categorias!$A:$B,2,FALSE)","v":{"$error":"#N/A"}}]
[{"$f":"VLOOKUP(B1178,Categorias!$A:$B,2,FALSE)","v":{"$error":"#N/A"}}]
[{"$f":"VLOOKUP(B1179,Categorias!$A:$B,2,FALSE)","v":{"$error":"#N/A"}}]
[{"$f":"VLOOKUP(B1180,Categorias!$A:$B,2,FALSE)","v":{"$error":"#N/A"}}]
[{"$f":"VLOOKUP(B1181,Categorias!$A:$B,2,FALSE)","v":{"$error":"#N/A"}}]
[{"$f":"VLOOKUP(B1182,Categorias!$A:$B,2,FALSE)","v":{"$error":"#N/A"}}]
[{"$f":"VLOOKUP(B1183,Categorias!$A:$B,2,FALSE)","v":{"$error":"#N/A"}}]
[{"$f":"VLOOKUP(B1184,Categorias!$A:$B,2,FALSE)","v":{"$error":"#N/A"}}]
[{"$f":"VLOOKUP(B1185,Categorias!$A:$B,2,FALSE)","v":{"$error":"#N/A"}}]
[{"$f":"VLOOKUP(B1186,Categorias!$A:$B,2,FALSE)","v":{"$error":"#N/A"}}]
[{"$f":"VLOOKUP(B1187,Categorias!$A:$B,2,FALSE)","v":{"$error":"#N/A"}}]
[{"$f":"VLOOKUP(B1188,Categorias!$A:$B,2,FALSE)","v":{"$error":"#N/A"}}]
[{"$f":"VLOOKUP(B1189,Categorias!$A:$B,2,FALSE)","v":{"$error":"#N/A"}}]
[{"$f":"VLOOKUP(B1190,Categorias!$A:$B,2,FALSE)","v":{"$error":"#N/A"}}]
[{"$f":"VLOOKUP(B1191,Categorias!$A:$B,2,FALSE)","v":{"$error":"#N/A"}}]
[{"$f":"VLOOKUP(B1192,Categorias!$A:$B,2,FALSE)","v":{"$error":"#N/A"}}]
[{"$f":"VLOOKUP(B1193,Categorias!$A:$B,2,FALSE)","v":{"$error":"#N/A"}}]
[{"$f":"VLOOKUP(B1194,Categorias!$A:$B,2,FALSE)","v":{"$error":"#N/A"}}]
[{"$f":"VLOOKUP(B1195,Categorias!$A:$B,2,FALSE)","v":{"$error":"#N/A"}}]
[{"$f":"VLOOKUP(B1196,Categorias!$A:$B,2,FALSE)","v":{"$error":"#N/A"}}]
[{"$f":"VLOOKUP(B1197,Categorias!$A:$B,2,FALSE)","v":{"$error":"#N/A"}}]
[{"$f":"VLOOKUP(B1198,Categorias!$A:$B,2,FALSE)","v":{"$error":"#N/A"}}]
[{"$f":"VLOOKUP(B1199,Categorias!$A:$B,2,FALSE)","v":{"$error":"#N/A"}}]
[{"$f":"VLOOKUP(B1200,Categorias!$A:$B,2,FALSE)","v":{"$error":"#N/A"}}]
[{"$f":"VLOOKUP(B1201,Categorias!$A:$B,2,FALSE)","v":{"$error":"#N/A"}}]
[{"$f":"VLOOKUP(B1202,Categorias!$A:$B,2,FALSE)","v":{"$error":"#N/A"}}]
[{"$f":"VLOOKUP(B1203,Categorias!$A:$B,2,FALSE)","v":{"$error":"#N/A"}}]
[{"$f":"VLOOKUP(B1204,Categorias!$A:$B,2,FALSE)","v":{"$error":"#N/A"}}]
[{"$f":"VLOOKUP(B1205,Categorias!$A:$B,2,FALSE)","v":{"$error":"#N/A"}}]
[{"$f":"VLOOKUP(B1206,Categorias!$A:$B,2,FALSE)","v":{"$error":"#N/A"}}]
[{"$f":"VLOOKUP(B1207,Categorias!$A:$B,2,FALSE)","v":{"$error":"#N/A"}}]
[{"$f":"VLOOKUP(B1208,Categorias!$A:$B,2,FALSE)","v":{"$error":"#N/A"}}]
[{"$f":"VLOOKUP(B1209,Categorias!$A:$B,2,FALSE)","v":{"$error":"#N/A"}}]
[{"$f":"VLOOKUP(B1210,Categorias!$A:$B,2,FALSE)","v":{"$error":"#N/A"}}]
[{"$f":"VLOOKUP(B1211,Categorias!$A:$B,2,FALSE)","v":{"$error":"#N/A"}}]
[{"$f":"VLOOKUP(B1212,Categorias!$A:$B,2,FALSE)","v":{"$error":"#N/A"}}]
[{"$f":"VLOOKUP(B1213,Categorias!$A:$B,2,FALSE)","v":{"$error":"#N/A"}}]
[{"$f":"VLOOKUP(B1214,Categorias!$A:$B,2,FALSE)","v":{"$error":"#N/A"}}]
[{"$f":"VLOOKUP(B1215,Categorias!$A:$B,2,FALSE)","v":{"$error":"#N/A"}}]
[{"$f":"VLOOKUP(B1216,Categorias!$A:$B,2,FALSE)","v":{"$error":"#N/A"}}]
[{"$f":"VLOOKUP(B1217,Categorias!$A:$B,2,FALSE)","v":{"$error":"#N/A"}}]
[{"$f":"VLOOKUP(B1218,Categorias!$A:$B,2,FALSE)","v":{"$error":"#N/A"}}]
[{"$f":"VLOOKUP(B1219,Categorias!$A:$B,2,FALSE)","v":{"$error":"#N/A"}}]
[{"$f":"VLOOKUP(B1220,Categorias!$A:$B,2,FALSE)","v":{"$error":"#N/A"}}]
[{"$f":"VLOOKUP(B1221,Categorias!$A:$B,2,FALSE)","v":{"$error":"#N/A"}}]
[{"$f":"VLOOKUP(B1222,Categorias!$A:$B,2,FALSE)","v":{"$error":"#N/A"}}]
[{"$f":"VLOOKUP(B1223,Categorias!$A:$B,2,FALSE)","v":{"$error":"#N/A"}}]
[{"$f":"VLOOKUP(B1224,Categorias!$A:$B,2,FALSE)","v":{"$error":"#N/A"}}]
[{"$f":"VLOOKUP(B1225,Categorias!$A:$B,2,FALSE)","v":{"$error":"#N/A"}}]
[{"$f":"VLOOKUP(B1226,Categorias!$A:$B,2,FALSE)","v":{"$error":"#N/A"}}]
[{"$f":"VLOOKUP(B1227,Categorias!$A:$B,2,FALSE)","v":{"$error":"#N/A"}}]
[{"$f":"VLOOKUP(B1228,Categorias!$A:$B,2,FALSE)","v":{"$error":"#N/A"}}]
[{"$f":"VLOOKUP(B1229,Categorias!$A:$B,2,FALSE)","v":{"$error":"#N/A"}}]
[{"$f":"VLOOKUP(B1230,Categorias!$A:$B,2,FALSE)","v":{"$error":"#N/A"}}]
[{"$f":"VLOOKUP(B1231,Categorias!$A:$B,2,FALSE)","v":{"$error":"#N/A"}}]
[{"$f":"VLOOKUP(B1232,Categorias!$A:$B,2,FALSE)","v":{"$error":"#N/A"}}]
[{"$f":"VLOOKUP(B1233,Categorias!$A:$B,2,FALSE)","v":{"$error":"#N/A"}}]
[{"$f":"VLOOKUP(B1234,Categorias!$A:$B,2,FALSE)","v":{"$error":"#N/A"}}]
[{"$f":"VLOOKUP(B1235,Categorias!$A:$B,2,FALSE)","v":{"$error":"#N/A"}}]
[{"$f":"VLOOKUP(B1236,Categorias!$A:$B,2,FALSE)","v":{"$error":"#N/A"}}]
[{"$f":"VLOOKUP(B1237,Categorias!$A:$B,2,FALSE)","v":{"$error":"#N/A"}}]
[{"$f":"VLOOKUP(B1238,Categorias!$A:$B,2,FALSE)","v":{"$error":"#N/A"}}]
[{"$f":"VLOOKUP(B1239,Categorias!$A:$B,2,FALSE)","v":{"$error":"#N/A"}}]
[{"$f":"VLOOKUP(B1240,Categorias!$A:$B,2,FALSE)","v":{"$error":"#N/A"}}]
[{"$f":"VLOOKUP(B1241,Categorias!$A:$B,2,FALSE)","v":{"$error":"#N/A"}}]
[{"$f":"VLOOKUP(B1242,Categorias!$A:$B,2,FALSE)","v":{"$error":"#N/A"}}]
[{"$f":"VLOOKUP(B1243,Categorias!$A:$B,2,FALSE)","v":{"$error":"#N/A"}}]
[{"$f":"VLOOKUP(B1244,Categorias!$A:$B,2,FALSE)","v":{"$error":"#N/A"}}]
[{"$f":"VLOOKUP(B1245,Categorias!$A:$B,2,FALSE)","v":{"$error":"#N/A"}}]
[{"$f":"VLOOKUP(B1246,Categorias!$A:$B,2,FALSE)","v":{"$error":"#N/A"}}]
[{"$f":"VLOOKUP(B1247,Categorias!$A:$B,2,FALSE)","v":{"$error":"#N/A"}}]
[{"$f":"VLOOKUP(B1248,Categorias!$A:$B,2,FALSE)","v":{"$error":"#N/A"}}]
[{"$f":"VLOOKUP(B1249,Categorias!$A:$B,2,FALSE)","v":{"$error":"#N/A"}}]
[{"$f":"VLOOKUP(B1250,Categorias!$A:$B,2,FALSE)","v":{"$error":"#N/A"}}]
[{"$f":"VLOOKUP(B1251,Categorias!$A:$B,2,FALSE)","v":{"$error":"#N/A"}}]
[{"$f":"VLOOKUP(B1252,Categorias!$A:$B,2,FALSE)","v":{"$error":"#N/A"}}]
[{"$f":"VLOOKUP(B1253,Categorias!$A:$B,2,FALSE)","v":{"$error":"#N/A"}}]
[{"$f":"VLOOKUP(B1254,Categorias!$A:$B,2,FALSE)","v":{"$error":"#N/A"}}]
[{"$f":"VLOOKUP(B1255,Categorias!$A:$B,2,FALSE)","v":{"$error":"#N/A"}}]
[{"$f":"VLOOKUP(B1256,Categorias!$A:$B,2,FALSE)","v":{"$error":"#N/A"}}]
[{"$f":"VLOOKUP(B1257,Categorias!$A:$B,2,FALSE)","v":{"$error":"#N/A"}}]
[{"$f":"VLOOKUP(B1258,Categorias!$A:$B,2,FALSE)","v":{"$error":"#N/A"}}]
[{"$f":"VLOOKUP(B1259,Categorias!$A:$B,2,FALSE)","v":{"$error":"#N/A"}}]
[{"$f":"VLOOKUP(B1260,Categorias!$A:$B,2,FALSE)","v":{"$error":"#N/A"}}]
[{"$f":"VLOOKUP(B1261,Categorias!$A:$B,2,FALSE)","v":{"$error":"#N/A"}}]
[{"$f":"VLOOKUP(B1262,Categorias!$A:$B,2,FALSE)","v":{"$error":"#N/A"}}]
[{"$f":"VLOOKUP(B1263,Categorias!$A:$B,2,FALSE)","v":{"$error":"#N/A"}}]
[{"$f":"VLOOKUP(B1264,Categorias!$A:$B,2,FALSE)","v":{"$error":"#N/A"}}]
[{"$f":"VLOOKUP(B1265,Categorias!$A:$B,2,FALSE)","v":{"$error":"#N/A"}}]
[{"$f":"VLOOKUP(B1266,Categorias!$A:$B,2,FALSE)","v":{"$error":"#N/A"}}]
[{"$f":"VLOOKUP(B1267,Categorias!$A:$B,2,FALSE)","v":{"$error":"#N/A"}}]
[{"$f":"VLOOKUP(B1268,Categorias!$A:$B,2,FALSE)","v":{"$error":"#N/A"}}]
[{"$f":"VLOOKUP(B1269,Categorias!$A:$B,2,FALSE)","v":{"$error":"#N/A"}}]
[{"$f":"VLOOKUP(B1270,Categorias!$A:$B,2,FALSE)","v":{"$error":"#N/A"}}]
[{"$f":"VLOOKUP(B1271,Categorias!$A:$B,2,FALSE)","v":{"$error":"#N/A"}}]
[{"$f":"VLOOKUP(B1272,Categorias!$A:$B,2,FALSE)","v":{"$error":"#N/A"}}]
[{"$f":"VLOOKUP(B1273,Categorias!$A:$B,2,FALSE)","v":{"$error":"#N/A"}}]
[{"$f":"VLOOKUP(B1274,Categorias!$A:$B,2,FALSE)","v":{"$error":"#N/A"}}]
[{"$f":"VLOOKUP(B1275,Categorias!$A:$B,2,FALSE)","v":{"$error":"#N/A"}}]
[{"$f":"VLOOKUP(B1276,Categorias!$A:$B,2,FALSE)","v":{"$error":"#N/A"}}]
[{"$f":"VLOOKUP(B1277,Categorias!$A:$B,2,FALSE)","v":{"$error":"#N/A"}}]
[{"$f":"VLOOKUP(B1278,Categorias!$A:$B,2,FALSE)","v":{"$error":"#N/A"}}]
[{"$f":"VLOOKUP(B1279,Categorias!$A:$B,2,FALSE)","v":{"$error":"#N/A"}}]
[{"$f":"VLOOKUP(B1280,Categorias!$A:$B,2,FALSE)","v":{"$error":"#N/A"}}]
[{"$f":"VLOOKUP(B1281,Categorias!$A:$B,2,FALSE)","v":{"$error":"#N/A"}}]
[{"$f":"VLOOKUP(B1282,Categorias!$A:$B,2,FALSE)","v":{"$error":"#N/A"}}]
[{"$f":"VLOOKUP(B1283,Categorias!$A:$B,2,FALSE)","v":{"$error":"#N/A"}}]
[{"$f":"VLOOKUP(B1284,Categorias!$A:$B,2,FALSE)","v":{"$error":"#N/A"}}]
[{"$f":"VLOOKUP(B1285,Categorias!$A:$B,2,FALSE)","v":{"$error":"#N/A"}}]
[{"$f":"VLOOKUP(B1286,Categorias!$A:$B,2,FALSE)","v":{"$error":"#N/A"}}]
[{"$f":"VLOOKUP(B1287,Categorias!$A:$B,2,FALSE)","v":{"$error":"#N/A"}}]
[{"$f":"VLOOKUP(B1288,Categorias!$A:$B,2,FALSE)","v":{"$error":"#N/A"}}]
[{"$f":"VLOOKUP(B1289,Categorias!$A:$B,2,FALSE)","v":{"$error":"#N/A"}}]
[{"$f":"VLOOKUP(B1290,Categorias!$A:$B,2,FALSE)","v":{"$error":"#N/A"}}]
[{"$f":"VLOOKUP(B1291,Categorias!$A:$B,2,FALSE)","v":{"$error":"#N/A"}}]
[{"$f":"VLOOKUP(B1292,Categorias!$A:$B,2,FALSE)","v":{"$error":"#N/A"}}]
[{"$f":"VLOOKUP(B1293,Categorias!$A:$B,2,FALSE)","v":{"$error":"#N/A"}}]
[{"$f":"VLOOKUP(B1294,Categorias!$A:$B,2,FALSE)","v":{"$error":"#N/A"}}]
[{"$f":"VLOOKUP(B1295,Categorias!$A:$B,2,FALSE)","v":{"$error":"#N/A"}}]
[{"$f":"VLOOKUP(B1296,Categorias!$A:$B,2,FALSE)","v":{"$error":"#N/A"}}]
[{"$f":"VLOOKUP(B1297,Categorias!$A:$B,2,FALSE)","v":{"$error":"#N/A"}}]
[{"$f":"VLOOKUP(B1298,Categorias!$A:$B,2,FALSE)","v":{"$error":"#N/A"}}]
[{"$f":"VLOOKUP(B1299,Categorias!$A:$B,2,FALSE)","v":{"$error":"#N/A"}}]
[{"$f":"VLOOKUP(B1300,Categorias!$A:$B,2,FALSE)","v":{"$error":"#N/A"}}]
[{"$f":"VLOOKUP(B1301,Categorias!$A:$B,2,FALSE)","v":{"$error":"#N/A"}}]
[{"$f":"VLOOKUP(B1302,Categorias!$A:$B,2,FALSE)","v":{"$error":"#N/A"}}]
[{"$f":"VLOOKUP(B1303,Categorias!$A:$B,2,FALSE)","v":{"$error":"#N/A"}}]
[{"$f":"VLOOKUP(B1304,Categorias!$A:$B,2,FALSE)","v":{"$error":"#N/A"}}]
[{"$f":"VLOOKUP(B1305,Categorias!$A:$B,2,FALSE)","v":{"$error":"#N/A"}}]
[{"$f":"VLOOKUP(B1306,Categorias!$A:$B,2,FALSE)","v":{"$error":"#N/A"}}]
[{"$f":"VLOOKUP(B1307,Categorias!$A:$B,2,FALSE)","v":{"$error":"#N/A"}}]
[{"$f":"VLOOKUP(B1308,Categorias!$A:$B,2,FALSE)","v":{"$error":"#N/A"}}]
[{"$f":"VLOOKUP(B1309,Categorias!$A:$B,2,FALSE)","v":{"$error":"#N/A"}}]
[{"$f":"VLOOKUP(B1310,Categorias!$A:$B,2,FALSE)","v":{"$error":"#N/A"}}]
[{"$f":"VLOOKUP(B1311,Categorias!$A:$B,2,FALSE)","v":{"$error":"#N/A"}}]
[{"$f":"VLOOKUP(B1312,Categorias!$A:$B,2,FALSE)","v":{"$error":"#N/A"}}]
[{"$f":"VLOOKUP(B1313,Categorias!$A:$B,2,FALSE)","v":{"$error":"#N/A"}}]
[{"$f":"VLOOKUP(B1314,Categorias!$A:$B,2,FALSE)","v":{"$error":"#N/A"}}]
[{"$f":"VLOOKUP(B1315,Categorias!$A:$B,2,FALSE)","v":{"$error":"#N/A"}}]
[{"$f":"VLOOKUP(B1316,Categorias!$A:$B,2,FALSE)","v":{"$error":"#N/A"}}]
[{"$f":"VLOOKUP(B1317,Categorias!$A:$B,2,FALSE)","v":{"$error":"#N/A"}}]
[{"$f":"VLOOKUP(B1318,Categorias!$A:$B,2,FALSE)","v":{"$error":"#N/A"}}]
[{"$f":"VLOOKUP(B1319,Categorias!$A:$B,2,FALSE)","v":{"$error":"#N/A"}}]
[{"$f":"VLOOKUP(B1320,Categorias!$A:$B,2,FALSE)","v":{"$error":"#N/A"}}]
[{"$f":"VLOOKUP(B1321,Categorias!$A:$B,2,FALSE)","v":{"$error":"#N/A"}}]
[{"$f":"VLOOKUP(B1322,Categorias!$A:$B,2,FALSE)","v":{"$error":"#N/A"}}]
[{"$f":"VLOOKUP(B1323,Categorias!$A:$B,2,FALSE)","v":{"$error":"#N/A"}}]
[{"$f":"VLOOKUP(B1324,Categorias!$A:$B,2,FALSE)","v":{"$error":"#N/A"}}]
[{"$f":"VLOOKUP(B1325,Categorias!$A:$B,2,FALSE)","v":{"$error":"#N/A"}}]
[{"$f":"VLOOKUP(B1326,Categorias!$A:$B,2,FALSE)","v":{"$error":"#N/A"}}]
[{"$f":"VLOOKUP(B1327,Categorias!$A:$B,2,FALSE)","v":{"$error":"#N/A"}}]
[{"$f":"VLOOKUP(B1328,Categorias!$A:$B,2,FALSE)","v":{"$error":"#N/A"}}]
[{"$f":"VLOOKUP(B1329,Categorias!$A:$B,2,FALSE)","v":{"$error":"#N/A"}}]
[{"$f":"VLOOKUP(B1330,Categorias!$A:$B,2,FALSE)","v":{"$error":"#N/A"}}]
[{"$f":"VLOOKUP(B1331,Categorias!$A:$B,2,FALSE)","v":{"$error":"#N/A"}}]
[{"$f":"VLOOKUP(B1332,Categorias!$A:$B,2,FALSE)","v":{"$error":"#N/A"}}]
[{"$f":"VLOOKUP(B1333,Categorias!$A:$B,2,FALSE)","v":{"$error":"#N/A"}}]
[{"$f":"VLOOKUP(B1334,Categorias!$A:$B,2,FALSE)","v":{"$error":"#N/A"}}]
[{"$f":"VLOOKUP(B1335,Categorias!$A:$B,2,FALSE)","v":{"$error":"#N/A"}}]
[{"$f":"VLOOKUP(B1336,Categorias!$A:$B,2,FALSE)","v":{"$error":"#N/A"}}]
[{"$f":"VLOOKUP(B1337,Categorias!$A:$B,2,FALSE)","v":{"$error":"#N/A"}}]
[{"$f":"VLOOKUP(B1338,Categorias!$A:$B,2,FALSE)","v":{"$error":"#N/A"}}]
[{"$f":"VLOOKUP(B1339,Categorias!$A:$B,2,FALSE)","v":{"$error":"#N/A"}}]
[{"$f":"VLOOKUP(B1340,Categorias!$A:$B,2,FALSE)","v":{"$error":"#N/A"}}]
[{"$f":"VLOOKUP(B1341,Categorias!$A:$B,2,FALSE)","v":{"$error":"#N/A"}}]
[{"$f":"VLOOKUP(B1342,Categorias!$A:$B,2,FALSE)","v":{"$error":"#N/A"}}]
[{"$f":"VLOOKUP(B1343,Categorias!$A:$B,2,FALSE)","v":{"$error":"#N/A"}}]
[{"$f":"VLOOKUP(B1344,Categorias!$A:$B,2,FALSE)","v":{"$error":"#N/A"}}]
[{"$f":"VLOOKUP(B1345,Categorias!$A:$B,2,FALSE)","v":{"$error":"#N/A"}}]
[{"$f":"VLOOKUP(B1346,Categorias!$A:$B,2,FALSE)","v":{"$error":"#N/A"}}]
[{"$f":"VLOOKUP(B1347,Categorias!$A:$B,2,FALSE)","v":{"$error":"#N/A"}}]
[{"$f":"VLOOKUP(B1348,Categorias!$A:$B,2,FALSE)","v":{"$error":"#N/A"}}]
[{"$f":"VLOOKUP(B1349,Categorias!$A:$B,2,FALSE)","v":{"$error":"#N/A"}}]
[{"$f":"VLOOKUP(B1350,Categorias!$A:$B,2,FALSE)","v":{"$error":"#N/A"}}]
[{"$f":"VLOOKUP(B1351,Categorias!$A:$B,2,FALSE)","v":{"$error":"#N/A"}}]
[{"$f":"VLOOKUP(B1352,Categorias!$A:$B,2,FALSE)","v":{"$error":"#N/A"}}]
[{"$f":"VLOOKUP(B1353,Categorias!$A:$B,2,FALSE)","v":{"$error":"#N/A"}}]
[{"$f":"VLOOKUP(B1354,Categorias!$A:$B,2,FALSE)","v":{"$error":"#N/A"}}]
[{"$f":"VLOOKUP(B1355,Categorias!$A:$B,2,FALSE)","v":{"$error":"#N/A"}}]
[{"$f":"VLOOKUP(B1356,Categorias!$A:$B,2,FALSE)","v":{"$error":"#N/A"}}]
[{"$f":"VLOOKUP(B1357,Categorias!$A:$B,2,FALSE)","v":{"$error":"#N/A"}}]
[{"$f":"VLOOKUP(B1358,Categorias!$A:$B,2,FALSE)","v":{"$error":"#N/A"}}]
[{"$f":"VLOOKUP(B1359,Categorias!$A:$B,2,FALSE)","v":{"$error":"#N/A"}}]
[{"$f":"VLOOKUP(B1360,Categorias!$A:$B,2,FALSE)","v":{"$error":"#N/A"}}]
[{"$f":"VLOOKUP(B1361,Categorias!$A:$B,2,FALSE)","v":{"$error":"#N/A"}}]
[{"$f":"VLOOKUP(B1362,Categorias!$A:$B,2,FALSE)","v":{"$error":"#N/A"}}]
[{"$f":"VLOOKUP(B1363,Categorias!$A:$B,2,FALSE)","v":{"$error":"#N/A"}}]
[{"$f":"VLOOKUP(B1364,Categorias!$A:$B,2,FALSE)","v":{"$error":"#N/A"}}]
[{"$f":"VLOOKUP(B1365,Categorias!$A:$B,2,FALSE)","v":{"$error":"#N/A"}}]
[{"$f":"VLOOKUP(B1366,Categorias!$A:$B,2,FALSE)","v":{"$error":"#N/A"}}]
[{"$f":"VLOOKUP(B1367,Categorias!$A:$B,2,FALSE)","v":{"$error":"#N/A"}}]
[{"$f":"VLOOKUP(B1368,Categorias!$A:$B,2,FALSE)","v":{"$error":"#N/A"}}]
[{"$f":"VLOOKUP(B1369,Categorias!$A:$B,2,FALSE)","v":{"$error":"#N/A"}}]
[{"$f":"VLOOKUP(B1370,Categorias!$A:$B,2,FALSE)","v":{"$error":"#N/A"}}]
[{"$f":"VLOOKUP(B1371,Categorias!$A:$B,2,FALSE)","v":{"$error":"#N/A"}}]
[{"$f":"VLOOKUP(B1372,Categorias!$A:$B,2,FALSE)","v":{"$error":"#N/A"}}]
[{"$f":"VLOOKUP(B1373,Categorias!$A:$B,2,FALSE)","v":{"$error":"#N/A"}}]
[{"$f":"VLOOKUP(B1374,Categorias!$A:$B,2,FALSE)","v":{"$error":"#N/A"}}]
[{"$f":"VLOOKUP(B1375,Categorias!$A:$B,2,FALSE)","v":{"$error":"#N/A"}}]
[{"$f":"VLOOKUP(B1376,Categorias!$A:$B,2,FALSE)","v":{"$error":"#N/A"}}]
[{"$f":"VLOOKUP(B1377,Categorias!$A:$B,2,FALSE)","v":{"$error":"#N/A"}}]
[{"$f":"VLOOKUP(B1378,Categorias!$A:$B,2,FALSE)","v":{"$error":"#N/A"}}]
[{"$f":"VLOOKUP(B1379,Categorias!$A:$B,2,FALSE)","v":{"$error":"#N/A"}}]
[{"$f":"VLOOKUP(B1380,Categorias!$A:$B,2,FALSE)","v":{"$error":"#N/A"}}]
[{"$f":"VLOOKUP(B1381,Categorias!$A:$B,2,FALSE)","v":{"$error":"#N/A"}}]
[{"$f":"VLOOKUP(B1382,Categorias!$A:$B,2,FALSE)","v":{"$error":"#N/A"}}]
[{"$f":"VLOOKUP(B1383,Categorias!$A:$B,2,FALSE)","v":{"$error":"#N/A"}}]
[{"$f":"VLOOKUP(B1384,Categorias!$A:$B,2,FALSE)","v":{"$error":"#N/A"}}]
[{"$f":"VLOOKUP(B1385,Categorias!$A:$B,2,FALSE)","v":{"$error":"#N/A"}}]
[{"$f":"VLOOKUP(B1386,Categorias!$A:$B,2,FALSE)","v":{"$error":"#N/A"}}]
[{"$f":"VLOOKUP(B1387,Categorias!$A:$B,2,FALSE)","v":{"$error":"#N/A"}}]
[{"$f":"VLOOKUP(B1388,Categorias!$A:$B,2,FALSE)","v":{"$error":"#N/A"}}]
[{"$f":"VLOOKUP(B1389,Categorias!$A:$B,2,FALSE)","v":{"$error":"#N/A"}}]
[{"$f":"VLOOKUP(B1390,Categorias!$A:$B,2,FALSE)","v":{"$error":"#N/A"}}]
[{"$f":"VLOOKUP(B1391,Categorias!$A:$B,2,FALSE)","v":{"$error":"#N/A"}}]
[{"$f":"VLOOKUP(B1392,Categorias!$A:$B,2,FALSE)","v":{"$error":"#N/A"}}]
[{"$f":"VLOOKUP(B1393,Categorias!$A:$B,2,FALSE)","v":{"$error":"#N/A"}}]
[{"$f":"VLOOKUP(B1394,Categorias!$A:$B,2,FALSE)","v":{"$error":"#N/A"}}]
[{"$f":"VLOOKUP(B1395,Categorias!$A:$B,2,FALSE)","v":{"$error":"#N/A"}}]
[{"$f":"VLOOKUP(B1396,Categorias!$A:$B,2,FALSE)","v":{"$error":"#N/A"}}]
[{"$f":"VLOOKUP(B1397,Categorias!$A:$B,2,FALSE)","v":{"$error":"#N/A"}}]
[{"$f":"VLOOKUP(B1398,Categorias!$A:$B,2,FALSE)","v":{"$error":"#N/A"}}]
[{"$f":"VLOOKUP(B1399,Categorias!$A:$B,2,FALSE)","v":{"$error":"#N/A"}}]
[{"$f":"VLOOKUP(B1400,Categorias!$A:$B,2,FALSE)","v":{"$error":"#N/A"}}]
[{"$f":"VLOOKUP(B1401,Categorias!$A:$B,2,FALSE)","v":{"$error":"#N/A"}}]
[{"$f":"VLOOKUP(B1402,Categorias!$A:$B,2,FALSE)","v":{"$error":"#N/A"}}]
[{"$f":"VLOOKUP(B1403,Categorias!$A:$B,2,FALSE)","v":{"$error":"#N/A"}}]
[{"$f":"VLOOKUP(B1404,Categorias!$A:$B,2,FALSE)","v":{"$error":"#N/A"}}]
[{"$f":"VLOOKUP(B1405,Categorias!$A:$B,2,FALSE)","v":{"$error":"#N/A"}}]
[{"$f":"VLOOKUP(B1406,Categorias!$A:$B,2,FALSE)","v":{"$error":"#N/A"}}]
[{"$f":"VLOOKUP(B1407,Categorias!$A:$B,2,FALSE)","v":{"$error":"#N/A"}}]
[{"$f":"VLOOKUP(B1408,Categorias!$A:$B,2,FALSE)","v":{"$error":"#N/A"}}]
[{"$f":"VLOOKUP(B1409,Categorias!$A:$B,2,FALSE)","v":{"$error":"#N/A"}}]
[{"$f":"VLOOKUP(B1410,Categorias!$A:$B,2,FALSE)","v":{"$error":"#N/A"}}]
[{"$f":"VLOOKUP(B1411,Categorias!$A:$B,2,FALSE)","v":{"$error":"#N/A"}}]
[{"$f":"VLOOKUP(B1412,Categorias!$A:$B,2,FALSE)","v":{"$error":"#N/A"}}]
[{"$f":"VLOOKUP(B1413,Categorias!$A:$B,2,FALSE)","v":{"$error":"#N/A"}}]
[{"$f":"VLOOKUP(B1414,Categorias!$A:$B,2,FALSE)","v":{"$error":"#N/A"}}]
[{"$f":"VLOOKUP(B1415,Categorias!$A:$B,2,FALSE)","v":{"$error":"#N/A"}}]
[{"$f":"VLOOKUP(B1416,Categorias!$A:$B,2,FALSE)","v":{"$error":"#N/A"}}]
[{"$f":"VLOOKUP(B1417,Categorias!$A:$B,2,FALSE)","v":{"$error":"#N/A"}}]
[{"$f":"VLOOKUP(B1418,Categorias!$A:$B,2,FALSE)","v":{"$error":"#N/A"}}]
[{"$f":"VLOOKUP(B1419,Categorias!$A:$B,2,FALSE)","v":{"$error":"#N/A"}}]
[{"$f":"VLOOKUP(B1420,Categorias!$A:$B,2,FALSE)","v":{"$error":"#N/A"}}]
[{"$f":"VLOOKUP(B1421,Categorias!$A:$B,2,FALSE)","v":{"$error":"#N/A"}}]
[{"$f":"VLOOKUP(B1422,Categorias!$A:$B,2,FALSE)","v":{"$error":"#N/A"}}]
[{"$f":"VLOOKUP(B1423,Categorias!$A:$B,2,FALSE)","v":{"$error":"#N/A"}}]
[{"$f":"VLOOKUP(B1424,Categorias!$A:$B,2,FALSE)","v":{"$error":"#N/A"}}]
[{"$f":"VLOOKUP(B1425,Categorias!$A:$B,2,FALSE)","v":{"$error":"#N/A"}}]
[{"$f":"VLOOKUP(B1426,Categorias!$A:$B,2,FALSE)","v":{"$error":"#N/A"}}]
[{"$f":"VLOOKUP(B1427,Categorias!$A:$B,2,FALSE)","v":{"$error":"#N/A"}}]
[{"$f":"VLOOKUP(B1428,Categorias!$A:$B,2,FALSE)","v":{"$error":"#N/A"}}]
[{"$f":"VLOOKUP(B1429,Categorias!$A:$B,2,FALSE)","v":{"$error":"#N/A"}}]
[{"$f":"VLOOKUP(B1430,Categorias!$A:$B,2,FALSE)","v":{"$error":"#N/A"}}]
[{"$f":"VLOOKUP(B1431,Categorias!$A:$B,2,FALSE)","v":{"$error":"#N/A"}}]
[{"$f":"VLOOKUP(B1432,Categorias!$A:$B,2,FALSE)","v":{"$error":"#N/A"}}]
[{"$f":"VLOOKUP(B1433,Categorias!$A:$B,2,FALSE)","v":{"$error":"#N/A"}}]
[{"$f":"VLOOKUP(B1434,Categorias!$A:$B,2,FALSE)","v":{"$error":"#N/A"}}]
[{"$f":"VLOOKUP(B1435,Categorias!$A:$B,2,FALSE)","v":{"$error":"#N/A"}}]
[{"$f":"VLOOKUP(B1436,Categorias!$A:$B,2,FALSE)","v":{"$error":"#N/A"}}]
[{"$f":"VLOOKUP(B1437,Categorias!$A:$B,2,FALSE)","v":{"$error":"#N/A"}}]
[{"$f":"VLOOKUP(B1438,Categorias!$A:$B,2,FALSE)","v":{"$error":"#N/A"}}]
[{"$f":"VLOOKUP(B1439,Categorias!$A:$B,2,FALSE)","v":{"$error":"#N/A"}}]
[{"$f":"VLOOKUP(B1440,Categorias!$A:$B,2,FALSE)","v":{"$error":"#N/A"}}]
[{"$f":"VLOOKUP(B1441,Categorias!$A:$B,2,FALSE)","v":{"$error":"#N/A"}}]
[{"$f":"VLOOKUP(B1442,Categorias!$A:$B,2,FALSE)","v":{"$error":"#N/A"}}]
[{"$f":"VLOOKUP(B1443,Categorias!$A:$B,2,FALSE)","v":{"$error":"#N/A"}}]
[{"$f":"VLOOKUP(B1444,Categorias!$A:$B,2,FALSE)","v":{"$error":"#N/A"}}]
[{"$f":"VLOOKUP(B1445,Categorias!$A:$B,2,FALSE)","v":{"$error":"#N/A"}}]
[{"$f":"VLOOKUP(B1446,Categorias!$A:$B,2,FALSE)","v":{"$error":"#N/A"}}]
[{"$f":"VLOOKUP(B1447,Categorias!$A:$B,2,FALSE)","v":{"$error":"#N/A"}}]
[{"$f":"VLOOKUP(B1448,Categorias!$A:$B,2,FALSE)","v":{"$error":"#N/A"}}]
[{"$f":"VLOOKUP(B1449,Categorias!$A:$B,2,FALSE)","v":{"$error":"#N/A"}}]
[{"$f":"VLOOKUP(B1450,Categorias!$A:$B,2,FALSE)","v":{"$error":"#N/A"}}]
[{"$f":"VLOOKUP(B1451,Categorias!$A:$B,2,FALSE)","v":{"$error":"#N/A"}}]
[{"$f":"VLOOKUP(B1452,Categorias!$A:$B,2,FALSE)","v":{"$error":"#N/A"}}]
[{"$f":"VLOOKUP(B1453,Categorias!$A:$B,2,FALSE)","v":{"$error":"#N/A"}}]
[{"$f":"VLOOKUP(B1454,Categorias!$A:$B,2,FALSE)","v":{"$error":"#N/A"}}]
[{"$f":"VLOOKUP(B1455,Categorias!$A:$B,2,FALSE)","v":{"$error":"#N/A"}}]
[{"$f":"VLOOKUP(B1456,Categorias!$A:$B,2,FALSE)","v":{"$error":"#N/A"}}]
[{"$f":"VLOOKUP(B1457,Categorias!$A:$B,2,FALSE)","v":{"$error":"#N/A"}}]
[{"$f":"VLOOKUP(B1458,Categorias!$A:$B,2,FALSE)","v":{"$error":"#N/A"}}]
[{"$f":"VLOOKUP(B1459,Categorias!$A:$B,2,FALSE)","v":{"$error":"#N/A"}}]
[{"$f":"VLOOKUP(B1460,Categorias!$A:$B,2,FALSE)","v":{"$error":"#N/A"}}]
[{"$f":"VLOOKUP(B1461,Categorias!$A:$B,2,FALSE)","v":{"$error":"#N/A"}}]
[{"$f":"VLOOKUP(B1462,Categorias!$A:$B,2,FALSE)","v":{"$error":"#N/A"}}]
[{"$f":"VLOOKUP(B1463,Categorias!$A:$B,2,FALSE)","v":{"$error":"#N/A"}}]
[{"$f":"VLOOKUP(B1464,Categorias!$A:$B,2,FALSE)","v":{"$error":"#N/A"}}]
[{"$f":"VLOOKUP(B1465,Categorias!$A:$B,2,FALSE)","v":{"$error":"#N/A"}}]
[{"$f":"VLOOKUP(B1466,Categorias!$A:$B,2,FALSE)","v":{"$error":"#N/A"}}]
[{"$f":"VLOOKUP(B1467,Categorias!$A:$B,2,FALSE)","v":{"$error":"#N/A"}}]
[{"$f":"VLOOKUP(B1468,Categorias!$A:$B,2,FALSE)","v":{"$error":"#N/A"}}]
[{"$f":"VLOOKUP(B1469,Categorias!$A:$B,2,FALSE)","v":{"$error":"#N/A"}}]
[{"$f":"VLOOKUP(B1470,Categorias!$A:$B,2,FALSE)","v":{"$error":"#N/A"}}]
[{"$f":"VLOOKUP(B1471,Categorias!$A:$B,2,FALSE)","v":{"$error":"#N/A"}}]
[{"$f":"VLOOKUP(B1472,Categorias!$A:$B,2,FALSE)","v":{"$error":"#N/A"}}]
[{"$f":"VLOOKUP(B1473,Categorias!$A:$B,2,FALSE)","v":{"$error":"#N/A"}}]
[{"$f":"VLOOKUP(B1474,Categorias!$A:$B,2,FALSE)","v":{"$error":"#N/A"}}]
[{"$f":"VLOOKUP(B1475,Categorias!$A:$B,2,FALSE)","v":{"$error":"#N/A"}}]
[{"$f":"VLOOKUP(B1476,Categorias!$A:$B,2,FALSE)","v":{"$error":"#N/A"}}]
[{"$f":"VLOOKUP(B1477,Categorias!$A:$B,2,FALSE)","v":{"$error":"#N/A"}}]
[{"$f":"VLOOKUP(B1478,Categorias!$A:$B,2,FALSE)","v":{"$error":"#N/A"}}]
[{"$f":"VLOOKUP(B1479,Categorias!$A:$B,2,FALSE)","v":{"$error":"#N/A"}}]
[{"$f":"VLOOKUP(B1480,Categorias!$A:$B,2,FALSE)","v":{"$error":"#N/A"}}]
[{"$f":"VLOOKUP(B1481,Categorias!$A:$B,2,FALSE)","v":{"$error":"#N/A"}}]
[{"$f":"VLOOKUP(B1482,Categorias!$A:$B,2,FALSE)","v":{"$error":"#N/A"}}]
[{"$f":"VLOOKUP(B1483,Categorias!$A:$B,2,FALSE)","v":{"$error":"#N/A"}}]
[{"$f":"VLOOKUP(B1484,Categorias!$A:$B,2,FALSE)","v":{"$error":"#N/A"}}]
[{"$f":"VLOOKUP(B1485,Categorias!$A:$B,2,FALSE)","v":{"$error":"#N/A"}}]
[{"$f":"VLOOKUP(B1486,Categorias!$A:$B,2,FALSE)","v":{"$error":"#N/A"}}]
[{"$f":"VLOOKUP(B1487,Categorias!$A:$B,2,FALSE)","v":{"$error":"#N/A"}}]
[{"$f":"VLOOKUP(B1488,Categorias!$A:$B,2,FALSE)","v":{"$error":"#N/A"}}]
[{"$f":"VLOOKUP(B1489,Categorias!$A:$B,2,FALSE)","v":{"$error":"#N/A"}}]
[{"$f":"VLOOKUP(B1490,Categorias!$A:$B,2,FALSE)","v":{"$error":"#N/A"}}]
[{"$f":"VLOOKUP(B1491,Categorias!$A:$B,2,FALSE)","v":{"$error":"#N/A"}}]
[{"$f":"VLOOKUP(B1492,Categorias!$A:$B,2,FALSE)","v":{"$error":"#N/A"}}]
[{"$f":"VLOOKUP(B1493,Categorias!$A:$B,2,FALSE)","v":{"$error":"#N/A"}}]
[{"$f":"VLOOKUP(B1494,Categorias!$A:$B,2,FALSE)","v":{"$error":"#N/A"}}]
[{"$f":"VLOOKUP(B1495,Categorias!$A:$B,2,FALSE)","v":{"$error":"#N/A"}}]
[{"$f":"VLOOKUP(B1496,Categorias!$A:$B,2,FALSE)","v":{"$error":"#N/A"}}]
[{"$f":"VLOOKUP(B1497,Categorias!$A:$B,2,FALSE)","v":{"$error":"#N/A"}}]
[{"$f":"VLOOKUP(B1498,Categorias!$A:$B,2,FALSE)","v":{"$error":"#N/A"}}]
[{"$f":"VLOOKUP(B1499,Categorias!$A:$B,2,FALSE)","v":{"$error":"#N/A"}}]
[{"$f":"VLOOKUP(B1500,Categorias!$A:$B,2,FALSE)","v":{"$error":"#N/A"}}]
[{"$f":"VLOOKUP(B1501,Categorias!$A:$B,2,FALSE)","v":{"$error":"#N/A"}}]
[{"$f":"VLOOKUP(B1502,Categorias!$A:$B,2,FALSE)","v":{"$error":"#N/A"}}]
[{"$f":"VLOOKUP(B1503,Categorias!$A:$B,2,FALSE)","v":{"$error":"#N/A"}}]
[{"$f":"VLOOKUP(B1504,Categorias!$A:$B,2,FALSE)","v":{"$error":"#N/A"}}]
[{"$f":"VLOOKUP(B1505,Categorias!$A:$B,2,FALSE)","v":{"$error":"#N/A"}}]
[{"$f":"VLOOKUP(B1506,Categorias!$A:$B,2,FALSE)","v":{"$error":"#N/A"}}]
[{"$f":"VLOOKUP(B1507,Categorias!$A:$B,2,FALSE)","v":{"$error":"#N/A"}}]
[{"$f":"VLOOKUP(B1508,Categorias!$A:$B,2,FALSE)","v":{"$error":"#N/A"}}]
[{"$f":"VLOOKUP(B1509,Categorias!$A:$B,2,FALSE)","v":{"$error":"#N/A"}}]
[{"$f":"VLOOKUP(B1510,Categorias!$A:$B,2,FALSE)","v":{"$error":"#N/A"}}]
[{"$f":"VLOOKUP(B1511,Categorias!$A:$B,2,FALSE)","v":{"$error":"#N/A"}}]
[{"$f":"VLOOKUP(B1512,Categorias!$A:$B,2,FALSE)","v":{"$error":"#N/A"}}]
[{"$f":"VLOOKUP(B1513,Categorias!$A:$B,2,FALSE)","v":{"$error":"#N/A"}}]
[{"$f":"VLOOKUP(B1514,Categorias!$A:$B,2,FALSE)","v":{"$error":"#N/A"}}]
[{"$f":"VLOOKUP(B1515,Categorias!$A:$B,2,FALSE)","v":{"$error":"#N/A"}}]
[{"$f":"VLOOKUP(B1516,Categorias!$A:$B,2,FALSE)","v":{"$error":"#N/A"}}]
[{"$f":"VLOOKUP(B1517,Categorias!$A:$B,2,FALSE)","v":{"$error":"#N/A"}}]
[{"$f":"VLOOKUP(B1518,Categorias!$A:$B,2,FALSE)","v":{"$error":"#N/A"}}]
[{"$f":"VLOOKUP(B1519,Categorias!$A:$B,2,FALSE)","v":{"$error":"#N/A"}}]
[{"$f":"VLOOKUP(B1520,Categorias!$A:$B,2,FALSE)","v":{"$error":"#N/A"}}]
[{"$f":"VLOOKUP(B1521,Categorias!$A:$B,2,FALSE)","v":{"$error":"#N/A"}}]
[{"$f":"VLOOKUP(B1522,Categorias!$A:$B,2,FALSE)","v":{"$error":"#N/A"}}]
[{"$f":"VLOOKUP(B1523,Categorias!$A:$B,2,FALSE)","v":{"$error":"#N/A"}}]
[{"$f":"VLOOKUP(B1524,Categorias!$A:$B,2,FALSE)","v":{"$error":"#N/A"}}]
[{"$f":"VLOOKUP(B1525,Categorias!$A:$B,2,FALSE)","v":{"$error":"#N/A"}}]
[{"$f":"VLOOKUP(B1526,Categorias!$A:$B,2,FALSE)","v":{"$error":"#N/A"}}]
[{"$f":"VLOOKUP(B1527,Categorias!$A:$B,2,FALSE)","v":{"$error":"#N/A"}}]
[{"$f":"VLOOKUP(B1528,Categorias!$A:$B,2,FALSE)","v":{"$error":"#N/A"}}]
[{"$f":"VLOOKUP(B1529,Categorias!$A:$B,2,FALSE)","v":{"$error":"#N/A"}}]
[{"$f":"VLOOKUP(B1530,Categorias!$A:$B,2,FALSE)","v":{"$error":"#N/A"}}]
[{"$f":"VLOOKUP(B1531,Categorias!$A:$B,2,FALSE)","v":{"$error":"#N/A"}}]
[{"$f":"VLOOKUP(B1532,Categorias!$A:$B,2,FALSE)","v":{"$error":"#N/A"}}]
[{"$f":"VLOOKUP(B1533,Categorias!$A:$B,2,FALSE)","v":{"$error":"#N/A"}}]
[{"$f":"VLOOKUP(B1534,Categorias!$A:$B,2,FALSE)","v":{"$error":"#N/A"}}]
[{"$f":"VLOOKUP(B1535,Categorias!$A:$B,2,FALSE)","v":{"$error":"#N/A"}}]
[{"$f":"VLOOKUP(B1536,Categorias!$A:$B,2,FALSE)","v":{"$error":"#N/A"}}]
[{"$f":"VLOOKUP(B1537,Categorias!$A:$B,2,FALSE)","v":{"$error":"#N/A"}}]
[{"$f":"VLOOKUP(B1538,Categorias!$A:$B,2,FALSE)","v":{"$error":"#N/A"}}]
[{"$f":"VLOOKUP(B1539,Categorias!$A:$B,2,FALSE)","v":{"$error":"#N/A"}}]
[{"$f":"VLOOKUP(B1540,Categorias!$A:$B,2,FALSE)","v":{"$error":"#N/A"}}]
[{"$f":"VLOOKUP(B1541,Categorias!$A:$B,2,FALSE)","v":{"$error":"#N/A"}}]
[{"$f":"VLOOKUP(B1542,Categorias!$A:$B,2,FALSE)","v":{"$error":"#N/A"}}]
[{"$f":"VLOOKUP(B1543,Categorias!$A:$B,2,FALSE)","v":{"$error":"#N/A"}}]
[{"$f":"VLOOKUP(B1544,Categorias!$A:$B,2,FALSE)","v":{"$error":"#N/A"}}]
[{"$f":"VLOOKUP(B1545,Categorias!$A:$B,2,FALSE)","v":{"$error":"#N/A"}}]
[{"$f":"VLOOKUP(B1546,Categorias!$A:$B,2,FALSE)","v":{"$error":"#N/A"}}]
[{"$f":"VLOOKUP(B1547,Categorias!$A:$B,2,FALSE)","v":{"$error":"#N/A"}}]
[{"$f":"VLOOKUP(B1548,Categorias!$A:$B,2,FALSE)","v":{"$error":"#N/A"}}]
[{"$f":"VLOOKUP(B1549,Categorias!$A:$B,2,FALSE)","v":{"$error":"#N/A"}}]
[{"$f":"VLOOKUP(B1550,Categorias!$A:$B,2,FALSE)","v":{"$error":"#N/A"}}]
[{"$f":"VLOOKUP(B1551,Categorias!$A:$B,2,FALSE)","v":{"$error":"#N/A"}}]
[{"$f":"VLOOKUP(B1552,Categorias!$A:$B,2,FALSE)","v":{"$error":"#N/A"}}]
[{"$f":"VLOOKUP(B1553,Categorias!$A:$B,2,FALSE)","v":{"$error":"#N/A"}}]
[{"$f":"VLOOKUP(B1554,Categorias!$A:$B,2,FALSE)","v":{"$error":"#N/A"}}]
[{"$f":"VLOOKUP(B1555,Categorias!$A:$B,2,FALSE)","v":{"$error":"#N/A"}}]
[{"$f":"VLOOKUP(B1556,Categorias!$A:$B,2,FALSE)","v":{"$error":"#N/A"}}]
[{"$f":"VLOOKUP(B1557,Categorias!$A:$B,2,FALSE)","v":{"$error":"#N/A"}}]
[{"$f":"VLOOKUP(B1558,Categorias!$A:$B,2,FALSE)","v":{"$error":"#N/A"}}]
[{"$f":"VLOOKUP(B1559,Categorias!$A:$B,2,FALSE)","v":{"$error":"#N/A"}}]
[{"$f":"VLOOKUP(B1560,Categorias!$A:$B,2,FALSE)","v":{"$error":"#N/A"}}]
[{"$f":"VLOOKUP(B1561,Categorias!$A:$B,2,FALSE)","v":{"$error":"#N/A"}}]
[{"$f":"VLOOKUP(B1562,Categorias!$A:$B,2,FALSE)","v":{"$error":"#N/A"}}]
[{"$f":"VLOOKUP(B1563,Categorias!$A:$B,2,FALSE)","v":{"$error":"#N/A"}}]
[{"$f":"VLOOKUP(B1564,Categorias!$A:$B,2,FALSE)","v":{"$error":"#N/A"}}]
[{"$f":"VLOOKUP(B1565,Categorias!$A:$B,2,FALSE)","v":{"$error":"#N/A"}}]
[{"$f":"VLOOKUP(B1566,Categorias!$A:$B,2,FALSE)","v":{"$error":"#N/A"}}]
[{"$f":"VLOOKUP(B1567,Categorias!$A:$B,2,FALSE)","v":{"$error":"#N/A"}}]
[{"$f":"VLOOKUP(B1568,Categorias!$A:$B,2,FALSE)","v":{"$error":"#N/A"}}]
[{"$f":"VLOOKUP(B1569,Categorias!$A:$B,2,FALSE)","v":{"$error":"#N/A"}}]
[{"$f":"VLOOKUP(B1570,Categorias!$A:$B,2,FALSE)","v":{"$error":"#N/A"}}]
[{"$f":"VLOOKUP(B1571,Categorias!$A:$B,2,FALSE)","v":{"$error":"#N/A"}}]
[{"$f":"VLOOKUP(B1572,Categorias!$A:$B,2,FALSE)","v":{"$error":"#N/A"}}]
[{"$f":"VLOOKUP(B1573,Categorias!$A:$B,2,FALSE)","v":{"$error":"#N/A"}}]
[{"$f":"VLOOKUP(B1574,Categorias!$A:$B,2,FALSE)","v":{"$error":"#N/A"}}]
[{"$f":"VLOOKUP(B1575,Categorias!$A:$B,2,FALSE)","v":{"$error":"#N/A"}}]
[{"$f":"VLOOKUP(B1576,Categorias!$A:$B,2,FALSE)","v":{"$error":"#N/A"}}]
[{"$f":"VLOOKUP(B1577,Categorias!$A:$B,2,FALSE)","v":{"$error":"#N/A"}}]
[{"$f":"VLOOKUP(B1578,Categorias!$A:$B,2,FALSE)","v":{"$error":"#N/A"}}]
[{"$f":"VLOOKUP(B1579,Categorias!$A:$B,2,FALSE)","v":{"$error":"#N/A"}}]
[{"$f":"VLOOKUP(B1580,Categorias!$A:$B,2,FALSE)","v":{"$error":"#N/A"}}]
[{"$f":"VLOOKUP(B1581,Categorias!$A:$B,2,FALSE)","v":{"$error":"#N/A"}}]
[{"$f":"VLOOKUP(B1582,Categorias!$A:$B,2,FALSE)","v":{"$error":"#N/A"}}]
[{"$f":"VLOOKUP(B1583,Categorias!$A:$B,2,FALSE)","v":{"$error":"#N/A"}}]
[{"$f":"VLOOKUP(B1584,Categorias!$A:$B,2,FALSE)","v":{"$error":"#N/A"}}]
[{"$f":"VLOOKUP(B1585,Categorias!$A:$B,2,FALSE)","v":{"$error":"#N/A"}}]
[{"$f":"VLOOKUP(B1586,Categorias!$A:$B,2,FALSE)","v":{"$error":"#N/A"}}]
[{"$f":"VLOOKUP(B1587,Categorias!$A:$B,2,FALSE)","v":{"$error":"#N/A"}}]
[{"$f":"VLOOKUP(B1588,Categorias!$A:$B,2,FALSE)","v":{"$error":"#N/A"}}]
[{"$f":"VLOOKUP(B1589,Categorias!$A:$B,2,FALSE)","v":{"$error":"#N/A"}}]
[{"$f":"VLOOKUP(B1590,Categorias!$A:$B,2,FALSE)","v":{"$error":"#N/A"}}]
[{"$f":"VLOOKUP(B1591,Categorias!$A:$B,2,FALSE)","v":{"$error":"#N/A"}}]
[{"$f":"VLOOKUP(B1592,Categorias!$A:$B,2,FALSE)","v":{"$error":"#N/A"}}]
[{"$f":"VLOOKUP(B1593,Categorias!$A:$B,2,FALSE)","v":{"$error":"#N/A"}}]
[{"$f":"VLOOKUP(B1594,Categorias!$A:$B,2,FALSE)","v":{"$error":"#N/A"}}]
[{"$f":"VLOOKUP(B1595,Categorias!$A:$B,2,FALSE)","v":{"$error":"#N/A"}}]
[{"$f":"VLOOKUP(B1596,Categorias!$A:$B,2,FALSE)","v":{"$error":"#N/A"}}]
[{"$f":"VLOOKUP(B1597,Categorias!$A:$B,2,FALSE)","v":{"$error":"#N/A"}}]
[{"$f":"VLOOKUP(B1598,Categorias!$A:$B,2,FALSE)","v":{"$error":"#N/A"}}]
[{"$f":"VLOOKUP(B1599,Categorias!$A:$B,2,FALSE)","v":{"$error":"#N/A"}}]
[{"$f":"VLOOKUP(B1600,Categorias!$A:$B,2,FALSE)","v":{"$error":"#N/A"}}]
[{"$f":"VLOOKUP(B1601,Categorias!$A:$B,2,FALSE)","v":{"$error":"#N/A"}}]
[{"$f":"VLOOKUP(B1602,Categorias!$A:$B,2,FALSE)","v":{"$error":"#N/A"}}]
[{"$f":"VLOOKUP(B1603,Categorias!$A:$B,2,FALSE)","v":{"$error":"#N/A"}}]
[{"$f":"VLOOKUP(B1604,Categorias!$A:$B,2,FALSE)","v":{"$error":"#N/A"}}]
[{"$f":"VLOOKUP(B1605,Categorias!$A:$B,2,FALSE)","v":{"$error":"#N/A"}}]
[{"$f":"VLOOKUP(B1606,Categorias!$A:$B,2,FALSE)","v":{"$error":"#N/A"}}]
[{"$f":"VLOOKUP(B1607,Categorias!$A:$B,2,FALSE)","v":{"$error":"#N/A"}}]
[{"$f":"VLOOKUP(B1608,Categorias!$A:$B,2,FALSE)","v":{"$error":"#N/A"}}]
[{"$f":"VLOOKUP(B1609,Categorias!$A:$B,2,FALSE)","v":{"$error":"#N/A"}}]
[{"$f":"VLOOKUP(B1610,Categorias!$A:$B,2,FALSE)","v":{"$error":"#N/A"}}]
[{"$f":"VLOOKUP(B1611,Categorias!$A:$B,2,FALSE)","v":{"$error":"#N/A"}}]
[{"$f":"VLOOKUP(B1612,Categorias!$A:$B,2,FALSE)","v":{"$error":"#N/A"}}]
[{"$f":"VLOOKUP(B1613,Categorias!$A:$B,2,FALSE)","v":{"$error":"#N/A"}}]
[{"$f":"VLOOKUP(B1614,Categorias!$A:$B,2,FALSE)","v":{"$error":"#N/A"}}]
[{"$f":"VLOOKUP(B1615,Categorias!$A:$B,2,FALSE)","v":{"$error":"#N/A"}}]
[{"$f":"VLOOKUP(B1616,Categorias!$A:$B,2,FALSE)","v":{"$error":"#N/A"}}]
[{"$f":"VLOOKUP(B1617,Categorias!$A:$B,2,FALSE)","v":{"$error":"#N/A"}}]
[{"$f":"VLOOKUP(B1618,Categorias!$A:$B,2,FALSE)","v":{"$error":"#N/A"}}]
[{"$f":"VLOOKUP(B1619,Categorias!$A:$B,2,FALSE)","v":{"$error":"#N/A"}}]
[{"$f":"VLOOKUP(B1620,Categorias!$A:$B,2,FALSE)","v":{"$error":"#N/A"}}]
[{"$f":"VLOOKUP(B1621,Categorias!$A:$B,2,FALSE)","v":{"$error":"#N/A"}}]
[{"$f":"VLOOKUP(B1622,Categorias!$A:$B,2,FALSE)","v":{"$error":"#N/A"}}]
[{"$f":"VLOOKUP(B1623,Categorias!$A:$B,2,FALSE)","v":{"$error":"#N/A"}}]
[{"$f":"VLOOKUP(B1624,Categorias!$A:$B,2,FALSE)","v":{"$error":"#N/A"}}]
[{"$f":"VLOOKUP(B1625,Categorias!$A:$B,2,FALSE)","v":{"$error":"#N/A"}}]
[{"$f":"VLOOKUP(B1626,Categorias!$A:$B,2,FALSE)","v":{"$error":"#N/A"}}]
[{"$f":"VLOOKUP(B1627,Categorias!$A:$B,2,FALSE)","v":{"$error":"#N/A"}}]
[{"$f":"VLOOKUP(B1628,Categorias!$A:$B,2,FALSE)","v":{"$error":"#N/A"}}]
[{"$f":"VLOOKUP(B1629,Categorias!$A:$B,2,FALSE)","v":{"$error":"#N/A"}}]
[{"$f":"VLOOKUP(B1630,Categorias!$A:$B,2,FALSE)","v":{"$error":"#N/A"}}]
[{"$f":"VLOOKUP(B1631,Categorias!$A:$B,2,FALSE)","v":{"$error":"#N/A"}}]
[{"$f":"VLOOKUP(B1632,Categorias!$A:$B,2,FALSE)","v":{"$error":"#N/A"}}]
[{"$f":"VLOOKUP(B1633,Categorias!$A:$B,2,FALSE)","v":{"$error":"#N/A"}}]
[{"$f":"VLOOKUP(B1634,Categorias!$A:$B,2,FALSE)","v":{"$error":"#N/A"}}]
[{"$f":"VLOOKUP(B1635,Categorias!$A:$B,2,FALSE)","v":{"$error":"#N/A"}}]
[{"$f":"VLOOKUP(B1636,Categorias!$A:$B,2,FALSE)","v":{"$error":"#N/A"}}]
[{"$f":"VLOOKUP(B1637,Categorias!$A:$B,2,FALSE)","v":{"$error":"#N/A"}}]
[{"$f":"VLOOKUP(B1638,Categorias!$A:$B,2,FALSE)","v":{"$error":"#N/A"}}]
[{"$f":"VLOOKUP(B1639,Categorias!$A:$B,2,FALSE)","v":{"$error":"#N/A"}}]
[{"$f":"VLOOKUP(B1640,Categorias!$A:$B,2,FALSE)","v":{"$error":"#N/A"}}]
[{"$f":"VLOOKUP(B1641,Categorias!$A:$B,2,FALSE)","v":{"$error":"#N/A"}}]
[{"$f":"VLOOKUP(B1642,Categorias!$A:$B,2,FALSE)","v":{"$error":"#N/A"}}]
[{"$f":"VLOOKUP(B1643,Categorias!$A:$B,2,FALSE)","v":{"$error":"#N/A"}}]
[{"$f":"VLOOKUP(B1644,Categorias!$A:$B,2,FALSE)","v":{"$error":"#N/A"}}]
[{"$f":"VLOOKUP(B1645,Categorias!$A:$B,2,FALSE)","v":{"$error":"#N/A"}}]
[{"$f":"VLOOKUP(B1646,Categorias!$A:$B,2,FALSE)","v":{"$error":"#N/A"}}]
[{"$f":"VLOOKUP(B1647,Categorias!$A:$B,2,FALSE)","v":{"$error":"#N/A"}}]
[{"$f":"VLOOKUP(B1648,Categorias!$A:$B,2,FALSE)","v":{"$error":"#N/A"}}]
[{"$f":"VLOOKUP(B1649,Categorias!$A:$B,2,FALSE)","v":{"$error":"#N/A"}}]
[{"$f":"VLOOKUP(B1650,Categorias!$A:$B,2,FALSE)","v":{"$error":"#N/A"}}]
[{"$f":"VLOOKUP(B1651,Categorias!$A:$B,2,FALSE)","v":{"$error":"#N/A"}}]
[{"$f":"VLOOKUP(B1652,Categorias!$A:$B,2,FALSE)","v":{"$error":"#N/A"}}]
[{"$f":"VLOOKUP(B1653,Categorias!$A:$B,2,FALSE)","v":{"$error":"#N/A"}}]
[{"$f":"VLOOKUP(B1654,Categorias!$A:$B,2,FALSE)","v":{"$error":"#N/A"}}]
[{"$f":"VLOOKUP(B1655,Categorias!$A:$B,2,FALSE)","v":{"$error":"#N/A"}}]
[{"$f":"VLOOKUP(B1656,Categorias!$A:$B,2,FALSE)","v":{"$error":"#N/A"}}]
[{"$f":"VLOOKUP(B1657,Categorias!$A:$B,2,FALSE)","v":{"$error":"#N/A"}}]
[{"$f":"VLOOKUP(B1658,Categorias!$A:$B,2,FALSE)","v":{"$error":"#N/A"}}]
[{"$f":"VLOOKUP(B1659,Categorias!$A:$B,2,FALSE)","v":{"$error":"#N/A"}}]
[{"$f":"VLOOKUP(B1660,Categorias!$A:$B,2,FALSE)","v":{"$error":"#N/A"}}]
[{"$f":"VLOOKUP(B1661,Categorias!$A:$B,2,FALSE)","v":{"$error":"#N/A"}}]
[{"$f":"VLOOKUP(B1662,Categorias!$A:$B,2,FALSE)","v":{"$error":"#N/A"}}]
[{"$f":"VLOOKUP(B1663,Categorias!$A:$B,2,FALSE)","v":{"$error":"#N/A"}}]
[{"$f":"VLOOKUP(B1664,Categorias!$A:$B,2,FALSE)","v":{"$error":"#N/A"}}]
[{"$f":"VLOOKUP(B1665,Categorias!$A:$B,2,FALSE)","v":{"$error":"#N/A"}}]
[{"$f":"VLOOKUP(B1666,Categorias!$A:$B,2,FALSE)","v":{"$error":"#N/A"}}]
[{"$f":"VLOOKUP(B1667,Categorias!$A:$B,2,FALSE)","v":{"$error":"#N/A"}}]
[{"$f":"VLOOKUP(B1668,Categorias!$A:$B,2,FALSE)","v":{"$error":"#N/A"}}]
[{"$f":"VLOOKUP(B1669,Categorias!$A:$B,2,FALSE)","v":{"$error":"#N/A"}}]
[{"$f":"VLOOKUP(B1670,Categorias!$A:$B,2,FALSE)","v":{"$error":"#N/A"}}]
[{"$f":"VLOOKUP(B1671,Categorias!$A:$B,2,FALSE)","v":{"$error":"#N/A"}}]
[{"$f":"VLOOKUP(B1672,Categorias!$A:$B,2,FALSE)","v":{"$error":"#N/A"}}]
[{"$f":"VLOOKUP(B1673,Categorias!$A:$B,2,FALSE)","v":{"$error":"#N/A"}}]
[{"$f":"VLOOKUP(B1674,Categorias!$A:$B,2,FALSE)","v":{"$error":"#N/A"}}]
[{"$f":"VLOOKUP(B1675,Categorias!$A:$B,2,FALSE)","v":{"$error":"#N/A"}}]
[{"$f":"VLOOKUP(B1676,Categorias!$A:$B,2,FALSE)","v":{"$error":"#N/A"}}]
[{"$f":"VLOOKUP(B1677,Categorias!$A:$B,2,FALSE)","v":{"$error":"#N/A"}}]
[{"$f":"VLOOKUP(B1678,Categorias!$A:$B,2,FALSE)","v":{"$error":"#N/A"}}]
[{"$f":"VLOOKUP(B1679,Categorias!$A:$B,2,FALSE)","v":{"$error":"#N/A"}}]
[{"$f":"VLOOKUP(B1680,Categorias!$A:$B,2,FALSE)","v":{"$error":"#N/A"}}]
[{"$f":"VLOOKUP(B1681,Categorias!$A:$B,2,FALSE)","v":{"$error":"#N/A"}}]
[{"$f":"VLOOKUP(B1682,Categorias!$A:$B,2,FALSE)","v":{"$error":"#N/A"}}]
[{"$f":"VLOOKUP(B1683,Categorias!$A:$B,2,FALSE)","v":{"$error":"#N/A"}}]
[{"$f":"VLOOKUP(B1684,Categorias!$A:$B,2,FALSE)","v":{"$error":"#N/A"}}]
[{"$f":"VLOOKUP(B1685,Categorias!$A:$B,2,FALSE)","v":{"$error":"#N/A"}}]
[{"$f":"VLOOKUP(B1686,Categorias!$A:$B,2,FALSE)","v":{"$error":"#N/A"}}]
[{"$f":"VLOOKUP(B1687,Categorias!$A:$B,2,FALSE)","v":{"$error":"#N/A"}}]
[{"$f":"VLOOKUP(B1688,Categorias!$A:$B,2,FALSE)","v":{"$error":"#N/A"}}]
[{"$f":"VLOOKUP(B1689,Categorias!$A:$B,2,FALSE)","v":{"$error":"#N/A"}}]
[{"$f":"VLOOKUP(B1690,Categorias!$A:$B,2,FALSE)","v":{"$error":"#N/A"}}]
[{"$f":"VLOOKUP(B1691,Categorias!$A:$B,2,FALSE)","v":{"$error":"#N/A"}}]
[{"$f":"VLOOKUP(B1692,Categorias!$A:$B,2,FALSE)","v":{"$error":"#N/A"}}]
[{"$f":"VLOOKUP(B1693,Categorias!$A:$B,2,FALSE)","v":{"$error":"#N/A"}}]
[{"$f":"VLOOKUP(B1694,Categorias!$A:$B,2,FALSE)","v":{"$error":"#N/A"}}]
[{"$f":"VLOOKUP(B1695,Categorias!$A:$B,2,FALSE)","v":{"$error":"#N/A"}}]
[{"$f":"VLOOKUP(B1696,Categorias!$A:$B,2,FALSE)","v":{"$error":"#N/A"}}]
[{"$f":"VLOOKUP(B1697,Categorias!$A:$B,2,FALSE)","v":{"$error":"#N/A"}}]
[{"$f":"VLOOKUP(B1698,Categorias!$A:$B,2,FALSE)","v":{"$error":"#N/A"}}]
[{"$f":"VLOOKUP(B1699,Categorias!$A:$B,2,FALSE)","v":{"$error":"#N/A"}}]
[{"$f":"VLOOKUP(B1700,Categorias!$A:$B,2,FALSE)","v":{"$error":"#N/A"}}]
[{"$f":"VLOOKUP(B1701,Categorias!$A:$B,2,FALSE)","v":{"$error":"#N/A"}}]
[{"$f":"VLOOKUP(B1702,Categorias!$A:$B,2,FALSE)","v":{"$error":"#N/A"}}]
[{"$f":"VLOOKUP(B1703,Categorias!$A:$B,2,FALSE)","v":{"$error":"#N/A"}}]
[{"$f":"VLOOKUP(B1704,Categorias!$A:$B,2,FALSE)","v":{"$error":"#N/A"}}]
[{"$f":"VLOOKUP(B1705,Categorias!$A:$B,2,FALSE)","v":{"$error":"#N/A"}}]
[{"$f":"VLOOKUP(B1706,Categorias!$A:$B,2,FALSE)","v":{"$error":"#N/A"}}]
[{"$f":"VLOOKUP(B1707,Categorias!$A:$B,2,FALSE)","v":{"$error":"#N/A"}}]
[{"$f":"VLOOKUP(B1708,Categorias!$A:$B,2,FALSE)","v":{"$error":"#N/A"}}]
[{"$f":"VLOOKUP(B1709,Categorias!$A:$B,2,FALSE)","v":{"$error":"#N/A"}}]
[{"$f":"VLOOKUP(B1710,Categorias!$A:$B,2,FALSE)","v":{"$error":"#N/A"}}]
[{"$f":"VLOOKUP(B1711,Categorias!$A:$B,2,FALSE)","v":{"$error":"#N/A"}}]
[{"$f":"VLOOKUP(B1712,Categorias!$A:$B,2,FALSE)","v":{"$error":"#N/A"}}]
[{"$f":"VLOOKUP(B1713,Categorias!$A:$B,2,FALSE)","v":{"$error":"#N/A"}}]
[{"$f":"VLOOKUP(B1714,Categorias!$A:$B,2,FALSE)","v":{"$error":"#N/A"}}]
[{"$f":"VLOOKUP(B1715,Categorias!$A:$B,2,FALSE)","v":{"$error":"#N/A"}}]
[{"$f":"VLOOKUP(B1716,Categorias!$A:$B,2,FALSE)","v":{"$error":"#N/A"}}]
[{"$f":"VLOOKUP(B1717,Categorias!$A:$B,2,FALSE)","v":{"$error":"#N/A"}}]
[{"$f":"VLOOKUP(B1718,Categorias!$A:$B,2,FALSE)","v":{"$error":"#N/A"}}]
[{"$f":"VLOOKUP(B1719,Categorias!$A:$B,2,FALSE)","v":{"$error":"#N/A"}}]
[{"$f":"VLOOKUP(B1720,Categorias!$A:$B,2,FALSE)","v":{"$error":"#N/A"}}]
[{"$f":"VLOOKUP(B1721,Categorias!$A:$B,2,FALSE)","v":{"$error":"#N/A"}}]
[{"$f":"VLOOKUP(B1722,Categorias!$A:$B,2,FALSE)","v":{"$error":"#N/A"}}]
[{"$f":"VLOOKUP(B1723,Categorias!$A:$B,2,FALSE)","v":{"$error":"#N/A"}}]
[{"$f":"VLOOKUP(B1724,Categorias!$A:$B,2,FALSE)","v":{"$error":"#N/A"}}]
[{"$f":"VLOOKUP(B1725,Categorias!$A:$B,2,FALSE)","v":{"$error":"#N/A"}}]
[{"$f":"VLOOKUP(B1726,Categorias!$A:$B,2,FALSE)","v":{"$error":"#N/A"}}]
[{"$f":"VLOOKUP(B1727,Categorias!$A:$B,2,FALSE)","v":{"$error":"#N/A"}}]
[{"$f":"VLOOKUP(B1728,Categorias!$A:$B,2,FALSE)","v":{"$error":"#N/A"}}]
[{"$f":"VLOOKUP(B1729,Categorias!$A:$B,2,FALSE)","v":{"$error":"#N/A"}}]
[{"$f":"VLOOKUP(B1730,Categorias!$A:$B,2,FALSE)","v":{"$error":"#N/A"}}]
[{"$f":"VLOOKUP(B1731,Categorias!$A:$B,2,FALSE)","v":{"$error":"#N/A"}}]
[{"$f":"VLOOKUP(B1732,Categorias!$A:$B,2,FALSE)","v":{"$error":"#N/A"}}]
[{"$f":"VLOOKUP(B1733,Categorias!$A:$B,2,FALSE)","v":{"$error":"#N/A"}}]
[{"$f":"VLOOKUP(B1734,Categorias!$A:$B,2,FALSE)","v":{"$error":"#N/A"}}]
[{"$f":"VLOOKUP(B1735,Categorias!$A:$B,2,FALSE)","v":{"$error":"#N/A"}}]
[{"$f":"VLOOKUP(B1736,Categorias!$A:$B,2,FALSE)","v":{"$error":"#N/A"}}]
[{"$f":"VLOOKUP(B1737,Categorias!$A:$B,2,FALSE)","v":{"$error":"#N/A"}}]
[{"$f":"VLOOKUP(B1738,Categorias!$A:$B,2,FALSE)","v":{"$error":"#N/A"}}]
[{"$f":"VLOOKUP(B1739,Categorias!$A:$B,2,FALSE)","v":{"$error":"#N/A"}}]
[{"$f":"VLOOKUP(B1740,Categorias!$A:$B,2,FALSE)","v":{"$error":"#N/A"}}]
[{"$f":"VLOOKUP(B1741,Categorias!$A:$B,2,FALSE)","v":{"$error":"#N/A"}}]
[{"$f":"VLOOKUP(B1742,Categorias!$A:$B,2,FALSE)","v":{"$error":"#N/A"}}]
[{"$f":"VLOOKUP(B1743,Categorias!$A:$B,2,FALSE)","v":{"$error":"#N/A"}}]
[{"$f":"VLOOKUP(B1744,Categorias!$A:$B,2,FALSE)","v":{"$error":"#N/A"}}]
[{"$f":"VLOOKUP(B1745,Categorias!$A:$B,2,FALSE)","v":{"$error":"#N/A"}}]
[{"$f":"VLOOKUP(B1746,Categorias!$A:$B,2,FALSE)","v":{"$error":"#N/A"}}]
[{"$f":"VLOOKUP(B1747,Categorias!$A:$B,2,FALSE)","v":{"$error":"#N/A"}}]
[{"$f":"VLOOKUP(B1748,Categorias!$A:$B,2,FALSE)","v":{"$error":"#N/A"}}]
[{"$f":"VLOOKUP(B1749,Categorias!$A:$B,2,FALSE)","v":{"$error":"#N/A"}}]
[{"$f":"VLOOKUP(B1750,Categorias!$A:$B,2,FALSE)","v":{"$error":"#N/A"}}]
[{"$f":"VLOOKUP(B1751,Categorias!$A:$B,2,FALSE)","v":{"$error":"#N/A"}}]
[{"$f":"VLOOKUP(B1752,Categorias!$A:$B,2,FALSE)","v":{"$error":"#N/A"}}]
[{"$f":"VLOOKUP(B1753,Categorias!$A:$B,2,FALSE)","v":{"$error":"#N/A"}}]
[{"$f":"VLOOKUP(B1754,Categorias!$A:$B,2,FALSE)","v":{"$error":"#N/A"}}]
[{"$f":"VLOOKUP(B1755,Categorias!$A:$B,2,FALSE)","v":{"$error":"#N/A"}}]
[{"$f":"VLOOKUP(B1756,Categorias!$A:$B,2,FALSE)","v":{"$error":"#N/A"}}]
[{"$f":"VLOOKUP(B1757,Categorias!$A:$B,2,FALSE)","v":{"$error":"#N/A"}}]
[{"$f":"VLOOKUP(B1758,Categorias!$A:$B,2,FALSE)","v":{"$error":"#N/A"}}]
[{"$f":"VLOOKUP(B1759,Categorias!$A:$B,2,FALSE)","v":{"$error":"#N/A"}}]
[{"$f":"VLOOKUP(B1760,Categorias!$A:$B,2,FALSE)","v":{"$error":"#N/A"}}]
[{"$f":"VLOOKUP(B1761,Categorias!$A:$B,2,FALSE)","v":{"$error":"#N/A"}}]
[{"$f":"VLOOKUP(B1762,Categorias!$A:$B,2,FALSE)","v":{"$error":"#N/A"}}]
[{"$f":"VLOOKUP(B1763,Categorias!$A:$B,2,FALSE)","v":{"$error":"#N/A"}}]
[{"$f":"VLOOKUP(B1764,Categorias!$A:$B,2,FALSE)","v":{"$error":"#N/A"}}]
[{"$f":"VLOOKUP(B1765,Categorias!$A:$B,2,FALSE)","v":{"$error":"#N/A"}}]
[{"$f":"VLOOKUP(B1766,Categorias!$A:$B,2,FALSE)","v":{"$error":"#N/A"}}]
[{"$f":"VLOOKUP(B1767,Categorias!$A:$B,2,FALSE)","v":{"$error":"#N/A"}}]
[{"$f":"VLOOKUP(B1768,Categorias!$A:$B,2,FALSE)","v":{"$error":"#N/A"}}]
[{"$f":"VLOOKUP(B1769,Categorias!$A:$B,2,FALSE)","v":{"$error":"#N/A"}}]
[{"$f":"VLOOKUP(B1770,Categorias!$A:$B,2,FALSE)","v":{"$error":"#N/A"}}]
[{"$f":"VLOOKUP(B1771,Categorias!$A:$B,2,FALSE)","v":{"$error":"#N/A"}}]
[{"$f":"VLOOKUP(B1772,Categorias!$A:$B,2,FALSE)","v":{"$error":"#N/A"}}]
[{"$f":"VLOOKUP(B1773,Categorias!$A:$B,2,FALSE)","v":{"$error":"#N/A"}}]
[{"$f":"VLOOKUP(B1774,Categorias!$A:$B,2,FALSE)","v":{"$error":"#N/A"}}]
[{"$f":"VLOOKUP(B1775,Categorias!$A:$B,2,FALSE)","v":{"$error":"#N/A"}}]
[{"$f":"VLOOKUP(B1776,Categorias!$A:$B,2,FALSE)","v":{"$error":"#N/A"}}]
[{"$f":"VLOOKUP(B1777,Categorias!$A:$B,2,FALSE)","v":{"$error":"#N/A"}}]
[{"$f":"VLOOKUP(B1778,Categorias!$A:$B,2,FALSE)","v":{"$error":"#N/A"}}]
[{"$f":"VLOOKUP(B1779,Categorias!$A:$B,2,FALSE)","v":{"$error":"#N/A"}}]
[{"$f":"VLOOKUP(B1780,Categorias!$A:$B,2,FALSE)","v":{"$error":"#N/A"}}]
[{"$f":"VLOOKUP(B1781,Categorias!$A:$B,2,FALSE)","v":{"$error":"#N/A"}}]
[{"$f":"VLOOKUP(B1782,Categorias!$A:$B,2,FALSE)","v":{"$error":"#N/A"}}]
[{"$f":"VLOOKUP(B1783,Categorias!$A:$B,2,FALSE)","v":{"$error":"#N/A"}}]
[{"$f":"VLOOKUP(B1784,Categorias!$A:$B,2,FALSE)","v":{"$error":"#N/A"}}]
[{"$f":"VLOOKUP(B1785,Categorias!$A:$B,2,FALSE)","v":{"$error":"#N/A"}}]
[{"$f":"VLOOKUP(B1786,Categorias!$A:$B,2,FALSE)","v":{"$error":"#N/A"}}]
[{"$f":"VLOOKUP(B1787,Categorias!$A:$B,2,FALSE)","v":{"$error":"#N/A"}}]
[{"$f":"VLOOKUP(B1788,Categorias!$A:$B,2,FALSE)","v":{"$error":"#N/A"}}]
[{"$f":"VLOOKUP(B1789,Categorias!$A:$B,2,FALSE)","v":{"$error":"#N/A"}}]
[{"$f":"VLOOKUP(B1790,Categorias!$A:$B,2,FALSE)","v":{"$error":"#N/A"}}]
[{"$f":"VLOOKUP(B1791,Categorias!$A:$B,2,FALSE)","v":{"$error":"#N/A"}}]
[{"$f":"VLOOKUP(B1792,Categorias!$A:$B,2,FALSE)","v":{"$error":"#N/A"}}]
[{"$f":"VLOOKUP(B1793,Categorias!$A:$B,2,FALSE)","v":{"$error":"#N/A"}}]
[{"$f":"VLOOKUP(B1794,Categorias!$A:$B,2,FALSE)","v":{"$error":"#N/A"}}]
[{"$f":"VLOOKUP(B1795,Categorias!$A:$B,2,FALSE)","v":{"$error":"#N/A"}}]
[{"$f":"VLOOKUP(B1796,Categorias!$A:$B,2,FALSE)","v":{"$error":"#N/A"}}]
[{"$f":"VLOOKUP(B1797,Categorias!$A:$B,2,FALSE)","v":{"$error":"#N/A"}}]
[{"$f":"VLOOKUP(B1798,Categorias!$A:$B,2,FALSE)","v":{"$error":"#N/A"}}]
[{"$f":"VLOOKUP(B1799,Categorias!$A:$B,2,FALSE)","v":{"$error":"#N/A"}}]
[{"$f":"VLOOKUP(B1800,Categorias!$A:$B,2,FALSE)","v":{"$error":"#N/A"}}]
[{"$f":"VLOOKUP(B1801,Categorias!$A:$B,2,FALSE)","v":{"$error":"#N/A"}}]
[{"$f":"VLOOKUP(B1802,Categorias!$A:$B,2,FALSE)","v":{"$error":"#N/A"}}]
[{"$f":"VLOOKUP(B1803,Categorias!$A:$B,2,FALSE)","v":{"$error":"#N/A"}}]
[{"$f":"VLOOKUP(B1804,Categorias!$A:$B,2,FALSE)","v":{"$error":"#N/A"}}]
[{"$f":"VLOOKUP(B1805,Categorias!$A:$B,2,FALSE)","v":{"$error":"#N/A"}}]
[{"$f":"VLOOKUP(B1806,Categorias!$A:$B,2,FALSE)","v":{"$error":"#N/A"}}]
[{"$f":"VLOOKUP(B1807,Categorias!$A:$B,2,FALSE)","v":{"$error":"#N/A"}}]
[{"$f":"VLOOKUP(B1808,Categorias!$A:$B,2,FALSE)","v":{"$error":"#N/A"}}]
[{"$f":"VLOOKUP(B1809,Categorias!$A:$B,2,FALSE)","v":{"$error":"#N/A"}}]
[{"$f":"VLOOKUP(B1810,Categorias!$A:$B,2,FALSE)","v":{"$error":"#N/A"}}]
[{"$f":"VLOOKUP(B1811,Categorias!$A:$B,2,FALSE)","v":{"$error":"#N/A"}}]
[{"$f":"VLOOKUP(B1812,Categorias!$A:$B,2,FALSE)","v":{"$error":"#N/A"}}]
[{"$f":"VLOOKUP(B1813,Categorias!$A:$B,2,FALSE)","v":{"$error":"#N/A"}}]
[{"$f":"VLOOKUP(B1814,Categorias!$A:$B,2,FALSE)","v":{"$error":"#N/A"}}]
[{"$f":"VLOOKUP(B1815,Categorias!$A:$B,2,FALSE)","v":{"$error":"#N/A"}}]
[{"$f":"VLOOKUP(B1816,Categorias!$A:$B,2,FALSE)","v":{"$error":"#N/A"}}]
[{"$f":"VLOOKUP(B1817,Categorias!$A:$B,2,FALSE)","v":{"$error":"#N/A"}}]
[{"$f":"VLOOKUP(B1818,Categorias!$A:$B,2,FALSE)","v":{"$error":"#N/A"}}]
[{"$f":"VLOOKUP(B1819,Categorias!$A:$B,2,FALSE)","v":{"$error":"#N/A"}}]
[{"$f":"VLOOKUP(B1820,Categorias!$A:$B,2,FALSE)","v":{"$error":"#N/A"}}]
[{"$f":"VLOOKUP(B1821,Categorias!$A:$B,2,FALSE)","v":{"$error":"#N/A"}}]
[{"$f":"VLOOKUP(B1822,Categorias!$A:$B,2,FALSE)","v":{"$error":"#N/A"}}]
[{"$f":"VLOOKUP(B1823,Categorias!$A:$B,2,FALSE)","v":{"$error":"#N/A"}}]
[{"$f":"VLOOKUP(B1824,Categorias!$A:$B,2,FALSE)","v":{"$error":"#N/A"}}]
[{"$f":"VLOOKUP(B1825,Categorias!$A:$B,2,FALSE)","v":{"$error":"#N/A"}}]
[{"$f":"VLOOKUP(B1826,Categorias!$A:$B,2,FALSE)","v":{"$error":"#N/A"}}]
[{"$f":"VLOOKUP(B1827,Categorias!$A:$B,2,FALSE)","v":{"$error":"#N/A"}}]
[{"$f":"VLOOKUP(B1828,Categorias!$A:$B,2,FALSE)","v":{"$error":"#N/A"}}]
[{"$f":"VLOOKUP(B1829,Categorias!$A:$B,2,FALSE)","v":{"$error":"#N/A"}}]
[{"$f":"VLOOKUP(B1830,Categorias!$A:$B,2,FALSE)","v":{"$error":"#N/A"}}]
[{"$f":"VLOOKUP(B1831,Categorias!$A:$B,2,FALSE)","v":{"$error":"#N/A"}}]
[{"$f":"VLOOKUP(B1832,Categorias!$A:$B,2,FALSE)","v":{"$error":"#N/A"}}]
[{"$f":"VLOOKUP(B1833,Categorias!$A:$B,2,FALSE)","v":{"$error":"#N/A"}}]
[{"$f":"VLOOKUP(B1834,Categorias!$A:$B,2,FALSE)","v":{"$error":"#N/A"}}]
[{"$f":"VLOOKUP(B1835,Categorias!$A:$B,2,FALSE)","v":{"$error":"#N/A"}}]
[{"$f":"VLOOKUP(B1836,Categorias!$A:$B,2,FALSE)","v":{"$error":"#N/A"}}]
[{"$f":"VLOOKUP(B1837,Categorias!$A:$B,2,FALSE)","v":{"$error":"#N/A"}}]
[{"$f":"VLOOKUP(B1838,Categorias!$A:$B,2,FALSE)","v":{"$error":"#N/A"}}]
[{"$f":"VLOOKUP(B1839,Categorias!$A:$B,2,FALSE)","v":{"$error":"#N/A"}}]
[{"$f":"VLOOKUP(B1840,Categorias!$A:$B,2,FALSE)","v":{"$error":"#N/A"}}]
[{"$f":"VLOOKUP(B1841,Categorias!$A:$B,2,FALSE)","v":{"$error":"#N/A"}}]
[{"$f":"VLOOKUP(B1842,Categorias!$A:$B,2,FALSE)","v":{"$error":"#N/A"}}]
[{"$f":"VLOOKUP(B1843,Categorias!$A:$B,2,FALSE)","v":{"$error":"#N/A"}}]
[{"$f":"VLOOKUP(B1844,Categorias!$A:$B,2,FALSE)","v":{"$error":"#N/A"}}]
[{"$f":"VLOOKUP(B1845,Categorias!$A:$B,2,FALSE)","v":{"$error":"#N/A"}}]
[{"$f":"VLOOKUP(B1846,Categorias!$A:$B,2,FALSE)","v":{"$error":"#N/A"}}]
[{"$f":"VLOOKUP(B1847,Categorias!$A:$B,2,FALSE)","v":{"$error":"#N/A"}}]
[{"$f":"VLOOKUP(B1848,Categorias!$A:$B,2,FALSE)","v":{"$error":"#N/A"}}]
[{"$f":"VLOOKUP(B1849,Categorias!$A:$B,2,FALSE)","v":{"$error":"#N/A"}}]
[{"$f":"VLOOKUP(B1850,Categorias!$A:$B,2,FALSE)","v":{"$error":"#N/A"}}]
[{"$f":"VLOOKUP(B1851,Categorias!$A:$B,2,FALSE)","v":{"$error":"#N/A"}}]
[{"$f":"VLOOKUP(B1852,Categorias!$A:$B,2,FALSE)","v":{"$error":"#N/A"}}]
[{"$f":"VLOOKUP(B1853,Categorias!$A:$B,2,FALSE)","v":{"$error":"#N/A"}}]
[{"$f":"VLOOKUP(B1854,Categorias!$A:$B,2,FALSE)","v":{"$error":"#N/A"}}]
[{"$f":"VLOOKUP(B1855,Categorias!$A:$B,2,FALSE)","v":{"$error":"#N/A"}}]
[{"$f":"VLOOKUP(B1856,Categorias!$A:$B,2,FALSE)","v":{"$error":"#N/A"}}]
[{"$f":"VLOOKUP(B1857,Categorias!$A:$B,2,FALSE)","v":{"$error":"#N/A"}}]
[{"$f":"VLOOKUP(B1858,Categorias!$A:$B,2,FALSE)","v":{"$error":"#N/A"}}]
[{"$f":"VLOOKUP(B1859,Categorias!$A:$B,2,FALSE)","v":{"$error":"#N/A"}}]
[{"$f":"VLOOKUP(B1860,Categorias!$A:$B,2,FALSE)","v":{"$error":"#N/A"}}]
[{"$f":"VLOOKUP(B1861,Categorias!$A:$B,2,FALSE)","v":{"$error":"#N/A"}}]
[{"$f":"VLOOKUP(B1862,Categorias!$A:$B,2,FALSE)","v":{"$error":"#N/A"}}]
[{"$f":"VLOOKUP(B1863,Categorias!$A:$B,2,FALSE)","v":{"$error":"#N/A"}}]
[{"$f":"VLOOKUP(B1864,Categorias!$A:$B,2,FALSE)","v":{"$error":"#N/A"}}]
[{"$f":"VLOOKUP(B1865,Categorias!$A:$B,2,FALSE)","v":{"$error":"#N/A"}}]
[{"$f":"VLOOKUP(B1866,Categorias!$A:$B,2,FALSE)","v":{"$error":"#N/A"}}]
[{"$f":"VLOOKUP(B1867,Categorias!$A:$B,2,FALSE)","v":{"$error":"#N/A"}}]
[{"$f":"VLOOKUP(B1868,Categorias!$A:$B,2,FALSE)","v":{"$error":"#N/A"}}]
[{"$f":"VLOOKUP(B1869,Categorias!$A:$B,2,FALSE)","v":{"$error":"#N/A"}}]
[{"$f":"VLOOKUP(B1870,Categorias!$A:$B,2,FALSE)","v":{"$error":"#N/A"}}]
[{"$f":"VLOOKUP(B1871,Categorias!$A:$B,2,FALSE)","v":{"$error":"#N/A"}}]
[{"$f":"VLOOKUP(B1872,Categorias!$A:$B,2,FALSE)","v":{"$error":"#N/A"}}]
[{"$f":"VLOOKUP(B1873,Categorias!$A:$B,2,FALSE)","v":{"$error":"#N/A"}}]
[{"$f":"VLOOKUP(B1874,Categorias!$A:$B,2,FALSE)","v":{"$error":"#N/A"}}]
[{"$f":"VLOOKUP(B1875,Categorias!$A:$B,2,FALSE)","v":{"$error":"#N/A"}}]
[{"$f":"VLOOKUP(B1876,Categorias!$A:$B,2,FALSE)","v":{"$error":"#N/A"}}]
[{"$f":"VLOOKUP(B1877,Categorias!$A:$B,2,FALSE)","v":{"$error":"#N/A"}}]
[{"$f":"VLOOKUP(B1878,Categorias!$A:$B,2,FALSE)","v":{"$error":"#N/A"}}]
[{"$f":"VLOOKUP(B1879,Categorias!$A:$B,2,FALSE)","v":{"$error":"#N/A"}}]
[{"$f":"VLOOKUP(B1880,Categorias!$A:$B,2,FALSE)","v":{"$error":"#N/A"}}]
[{"$f":"VLOOKUP(B1881,Categorias!$A:$B,2,FALSE)","v":{"$error":"#N/A"}}]
[{"$f":"VLOOKUP(B1882,Categorias!$A:$B,2,FALSE)","v":{"$error":"#N/A"}}]
[{"$f":"VLOOKUP(B1883,Categorias!$A:$B,2,FALSE)","v":{"$error":"#N/A"}}]
[{"$f":"VLOOKUP(B1884,Categorias!$A:$B,2,FALSE)","v":{"$error":"#N/A"}}]
[{"$f":"VLOOKUP(B1885,Categorias!$A:$B,2,FALSE)","v":{"$error":"#N/A"}}]
[{"$f":"VLOOKUP(B1886,Categorias!$A:$B,2,FALSE)","v":{"$error":"#N/A"}}]
[{"$f":"VLOOKUP(B1887,Categorias!$A:$B,2,FALSE)","v":{"$error":"#N/A"}}]
[{"$f":"VLOOKUP(B1888,Categorias!$A:$B,2,FALSE)","v":{"$error":"#N/A"}}]
[{"$f":"VLOOKUP(B1889,Categorias!$A:$B,2,FALSE)","v":{"$error":"#N/A"}}]
[{"$f":"VLOOKUP(B1890,Categorias!$A:$B,2,FALSE)","v":{"$error":"#N/A"}}]
[{"$f":"VLOOKUP(B1891,Categorias!$A:$B,2,FALSE)","v":{"$error":"#N/A"}}]
[{"$f":"VLOOKUP(B1892,Categorias!$A:$B,2,FALSE)","v":{"$error":"#N/A"}}]
[{"$f":"VLOOKUP(B1893,Categorias!$A:$B,2,FALSE)","v":{"$error":"#N/A"}}]
[{"$f":"VLOOKUP(B1894,Categorias!$A:$B,2,FALSE)","v":{"$error":"#N/A"}}]
[{"$f":"VLOOKUP(B1895,Categorias!$A:$B,2,FALSE)","v":{"$error":"#N/A"}}]
[{"$f":"VLOOKUP(B1896,Categorias!$A:$B,2,FALSE)","v":{"$error":"#N/A"}}]
[{"$f":"VLOOKUP(B1897,Categorias!$A:$B,2,FALSE)","v":{"$error":"#N/A"}}]
[{"$f":"VLOOKUP(B1898,Categorias!$A:$B,2,FALSE)","v":{"$error":"#N/A"}}]
[{"$f":"VLOOKUP(B1899,Categorias!$A:$B,2,FALSE)","v":{"$error":"#N/A"}}]
[{"$f":"VLOOKUP(B1900,Categorias!$A:$B,2,FALSE)","v":{"$error":"#N/A"}}]
[{"$f":"VLOOKUP(B1901,Categorias!$A:$B,2,FALSE)","v":{"$error":"#N/A"}}]
[{"$f":"VLOOKUP(B1902,Categorias!$A:$B,2,FALSE)","v":{"$error":"#N/A"}}]
[{"$f":"VLOOKUP(B1903,Categorias!$A:$B,2,FALSE)","v":{"$error":"#N/A"}}]
[{"$f":"VLOOKUP(B1904,Categorias!$A:$B,2,FALSE)","v":{"$error":"#N/A"}}]
[{"$f":"VLOOKUP(B1905,Categorias!$A:$B,2,FALSE)","v":{"$error":"#N/A"}}]
[{"$f":"VLOOKUP(B1906,Categorias!$A:$B,2,FALSE)","v":{"$error":"#N/A"}}]
[{"$f":"VLOOKUP(B1907,Categorias!$A:$B,2,FALSE)","v":{"$error":"#N/A"}}]
[{"$f":"VLOOKUP(B1908,Categorias!$A:$B,2,FALSE)","v":{"$error":"#N/A"}}]
[{"$f":"VLOOKUP(B1909,Categorias!$A:$B,2,FALSE)","v":{"$error":"#N/A"}}]
[{"$f":"VLOOKUP(B1910,Categorias!$A:$B,2,FALSE)","v":{"$error":"#N/A"}}]
[{"$f":"VLOOKUP(B1911,Categorias!$A:$B,2,FALSE)","v":{"$error":"#N/A"}}]
[{"$f":"VLOOKUP(B1912,Categorias!$A:$B,2,FALSE)","v":{"$error":"#N/A"}}]
[{"$f":"VLOOKUP(B1913,Categorias!$A:$B,2,FALSE)","v":{"$error":"#N/A"}}]
[{"$f":"VLOOKUP(B1914,Categorias!$A:$B,2,FALSE)","v":{"$error":"#N/A"}}]
[{"$f":"VLOOKUP(B1915,Categorias!$A:$B,2,FALSE)","v":{"$error":"#N/A"}}]
[{"$f":"VLOOKUP(B1916,Categorias!$A:$B,2,FALSE)","v":{"$error":"#N/A"}}]
[{"$f":"VLOOKUP(B1917,Categorias!$A:$B,2,FALSE)","v":{"$error":"#N/A"}}]
[{"$f":"VLOOKUP(B1918,Categorias!$A:$B,2,FALSE)","v":{"$error":"#N/A"}}]
[{"$f":"VLOOKUP(B1919,Categorias!$A:$B,2,FALSE)","v":{"$error":"#N/A"}}]
[{"$f":"VLOOKUP(B1920,Categorias!$A:$B,2,FALSE)","v":{"$error":"#N/A"}}]
[{"$f":"VLOOKUP(B1921,Categorias!$A:$B,2,FALSE)","v":{"$error":"#N/A"}}]
[{"$f":"VLOOKUP(B1922,Categorias!$A:$B,2,FALSE)","v":{"$error":"#N/A"}}]
[{"$f":"VLOOKUP(B1923,Categorias!$A:$B,2,FALSE)","v":{"$error":"#N/A"}}]
[{"$f":"VLOOKUP(B1924,Categorias!$A:$B,2,FALSE)","v":{"$error":"#N/A"}}]
[{"$f":"VLOOKUP(B1925,Categorias!$A:$B,2,FALSE)","v":{"$error":"#N/A"}}]
[{"$f":"VLOOKUP(B1926,Categorias!$A:$B,2,FALSE)","v":{"$error":"#N/A"}}]
[{"$f":"VLOOKUP(B1927,Categorias!$A:$B,2,FALSE)","v":{"$error":"#N/A"}}]
[{"$f":"VLOOKUP(B1928,Categorias!$A:$B,2,FALSE)","v":{"$error":"#N/A"}}]
[{"$f":"VLOOKUP(B1929,Categorias!$A:$B,2,FALSE)","v":{"$error":"#N/A"}}]
[{"$f":"VLOOKUP(B1930,Categorias!$A:$B,2,FALSE)","v":{"$error":"#N/A"}}]
[{"$f":"VLOOKUP(B1931,Categorias!$A:$B,2,FALSE)","v":{"$error":"#N/A"}}]
[{"$f":"VLOOKUP(B1932,Categorias!$A:$B,2,FALSE)","v":{"$error":"#N/A"}}]
[{"$f":"VLOOKUP(B1933,Categorias!$A:$B,2,FALSE)","v":{"$error":"#N/A"}}]
[{"$f":"VLOOKUP(B1934,Categorias!$A:$B,2,FALSE)","v":{"$error":"#N/A"}}]
[{"$f":"VLOOKUP(B1935,Categorias!$A:$B,2,FALSE)","v":{"$error":"#N/A"}}]
[{"$f":"VLOOKUP(B1936,Categorias!$A:$B,2,FALSE)","v":{"$error":"#N/A"}}]
[{"$f":"VLOOKUP(B1937,Categorias!$A:$B,2,FALSE)","v":{"$error":"#N/A"}}]
[{"$f":"VLOOKUP(B1938,Categorias!$A:$B,2,FALSE)","v":{"$error":"#N/A"}}]
[{"$f":"VLOOKUP(B1939,Categorias!$A:$B,2,FALSE)","v":{"$error":"#N/A"}}]
[{"$f":"VLOOKUP(B1940,Categorias!$A:$B,2,FALSE)","v":{"$error":"#N/A"}}]
[{"$f":"VLOOKUP(B1941,Categorias!$A:$B,2,FALSE)","v":{"$error":"#N/A"}}]
[{"$f":"VLOOKUP(B1942,Categorias!$A:$B,2,FALSE)","v":{"$error":"#N/A"}}]
[{"$f":"VLOOKUP(B1943,Categorias!$A:$B,2,FALSE)","v":{"$error":"#N/A"}}]
[{"$f":"VLOOKUP(B1944,Categorias!$A:$B,2,FALSE)","v":{"$error":"#N/A"}}]
[{"$f":"VLOOKUP(B1945,Categorias!$A:$B,2,FALSE)","v":{"$error":"#N/A"}}]
[{"$f":"VLOOKUP(B1946,Categorias!$A:$B,2,FALSE)","v":{"$error":"#N/A"}}]
[{"$f":"VLOOKUP(B1947,Categorias!$A:$B,2,FALSE)","v":{"$error":"#N/A"}}]
[{"$f":"VLOOKUP(B1948,Categorias!$A:$B,2,FALSE)","v":{"$error":"#N/A"}}]
[{"$f":"VLOOKUP(B1949,Categorias!$A:$B,2,FALSE)","v":{"$error":"#N/A"}}]
[{"$f":"VLOOKUP(B1950,Categorias!$A:$B,2,FALSE)","v":{"$error":"#N/A"}}]
[{"$f":"VLOOKUP(B1951,Categorias!$A:$B,2,FALSE)","v":{"$error":"#N/A"}}]
[{"$f":"VLOOKUP(B1952,Categorias!$A:$B,2,FALSE)","v":{"$error":"#N/A"}}]
[{"$f":"VLOOKUP(B1953,Categorias!$A:$B,2,FALSE)","v":{"$error":"#N/A"}}]
[{"$f":"VLOOKUP(B1954,Categorias!$A:$B,2,FALSE)","v":{"$error":"#N/A"}}]
[{"$f":"VLOOKUP(B1955,Categorias!$A:$B,2,FALSE)","v":{"$error":"#N/A"}}]
[{"$f":"VLOOKUP(B1956,Categorias!$A:$B,2,FALSE)","v":{"$error":"#N/A"}}]
[{"$f":"VLOOKUP(B1957,Categorias!$A:$B,2,FALSE)","v":{"$error":"#N/A"}}]
[{"$f":"VLOOKUP(B1958,Categorias!$A:$B,2,FALSE)","v":{"$error":"#N/A"}}]
[{"$f":"VLOOKUP(B1959,Categorias!$A:$B,2,FALSE)","v":{"$error":"#N/A"}}]
[{"$f":"VLOOKUP(B1960,Categorias!$A:$B,2,FALSE)","v":{"$error":"#N/A"}}]
[{"$f":"VLOOKUP(B1961,Categorias!$A:$B,2,FALSE)","v":{"$error":"#N/A"}}]
[{"$f":"VLOOKUP(B1962,Categorias!$A:$B,2,FALSE)","v":{"$error":"#N/A"}}]
[{"$f":"VLOOKUP(B1963,Categorias!$A:$B,2,FALSE)","v":{"$error":"#N/A"}}]
[{"$f":"VLOOKUP(B1964,Categorias!$A:$B,2,FALSE)","v":{"$error":"#N/A"}}]
[{"$f":"VLOOKUP(B1965,Categorias!$A:$B,2,FALSE)","v":{"$error":"#N/A"}}]
[{"$f":"VLOOKUP(B1966,Categorias!$A:$B,2,FALSE)","v":{"$error":"#N/A"}}]
[{"$f":"VLOOKUP(B1967,Categorias!$A:$B,2,FALSE)","v":{"$error":"#N/A"}}]
[{"$f":"VLOOKUP(B1968,Categorias!$A:$B,2,FALSE)","v":{"$error":"#N/A"}}]
[{"$f":"VLOOKUP(B1969,Categorias!$A:$B,2,FALSE)","v":{"$error":"#N/A"}}]
[{"$f":"VLOOKUP(B1970,Categorias!$A:$B,2,FALSE)","v":{"$error":"#N/A"}}]
[{"$f":"VLOOKUP(B1971,Categorias!$A:$B,2,FALSE)","v":{"$error":"#N/A"}}]
[{"$f":"VLOOKUP(B1972,Categorias!$A:$B,2,FALSE)","v":{"$error":"#N/A"}}]
[{"$f":"VLOOKUP(B1973,Categorias!$A:$B,2,FALSE)","v":{"$error":"#N/A"}}]
[{"$f":"VLOOKUP(B1974,Categorias!$A:$B,2,FALSE)","v":{"$error":"#N/A"}}]
[{"$f":"VLOOKUP(B1975,Categorias!$A:$B,2,FALSE)","v":{"$error":"#N/A"}}]
[{"$f":"VLOOKUP(B1976,Categorias!$A:$B,2,FALSE)","v":{"$error":"#N/A"}}]
[{"$f":"VLOOKUP(B1977,Categorias!$A:$B,2,FALSE)","v":{"$error":"#N/A"}}]
[{"$f":"VLOOKUP(B1978,Categorias!$A:$B,2,FALSE)","v":{"$error":"#N/A"}}]
[{"$f":"VLOOKUP(B1979,Categorias!$A:$B,2,FALSE)","v":{"$error":"#N/A"}}]
[{"$f":"VLOOKUP(B1980,Categorias!$A:$B,2,FALSE)","v":{"$error":"#N/A"}}]
[{"$f":"VLOOKUP(B1981,Categorias!$A:$B,2,FALSE)","v":{"$error":"#N/A"}}]
[{"$f":"VLOOKUP(B1982,Categorias!$A:$B,2,FALSE)","v":{"$error":"#N/A"}}]
[{"$f":"VLOOKUP(B1983,Categorias!$A:$B,2,FALSE)","v":{"$error":"#N/A"}}]
[{"$f":"VLOOKUP(B1984,Categorias!$A:$B,2,FALSE)","v":{"$error":"#N/A"}}]
[{"$f":"VLOOKUP(B1985,Categorias!$A:$B,2,FALSE)","v":{"$error":"#N/A"}}]
[{"$f":"VLOOKUP(B1986,Categorias!$A:$B,2,FALSE)","v":{"$error":"#N/A"}}]
[{"$f":"VLOOKUP(B1987,Categorias!$A:$B,2,FALSE)","v":{"$error":"#N/A"}}]
[{"$f":"VLOOKUP(B1988,Categorias!$A:$B,2,FALSE)","v":{"$error":"#N/A"}}]
[{"$f":"VLOOKUP(B1989,Categorias!$A:$B,2,FALSE)","v":{"$error":"#N/A"}}]
[{"$f":"VLOOKUP(B1990,Categorias!$A:$B,2,FALSE)","v":{"$error":"#N/A"}}]
[{"$f":"VLOOKUP(B1991,Categorias!$A:$B,2,FALSE)","v":{"$error":"#N/A"}}]
[{"$f":"VLOOKUP(B1992,Categorias!$A:$B,2,FALSE)","v":{"$error":"#N/A"}}]
[{"$f":"VLOOKUP(B1993,Categorias!$A:$B,2,FALSE)","v":{"$error":"#N/A"}}]
[{"$f":"VLOOKUP(B1994,Categorias!$A:$B,2,FALSE)","v":{"$error":"#N/A"}}]
[{"$f":"VLOOKUP(B1995,Categorias!$A:$B,2,FALSE)","v":{"$error":"#N/A"}}]
[{"$f":"VLOOKUP(B1996,Categorias!$A:$B,2,FALSE)","v":{"$error":"#N/A"}}]
[{"$f":"VLOOKUP(B1997,Categorias!$A:$B,2,FALSE)","v":{"$error":"#N/A"}}]
[{"$f":"VLOOKUP(B1998,Categorias!$A:$B,2,FALSE)","v":{"$error":"#N/A"}}]
[{"$f":"VLOOKUP(B1999,Categorias!$A:$B,2,FALSE)","v":{"$error":"#N/A"}}]
[{"$f":"VLOOKUP(B2000,Categorias!$A:$B,2,FALSE)","v":{"$error":"#N/A"}}]
[{"$f":"VLOOKUP(B2001,Categorias!$A:$B,2,FALSE)","v":{"$error":"#N/A"}}]
[{"$f":"VLOOKUP(B2002,Categorias!$A:$B,2,FALSE)","v":{"$error":"#N/A"}}]
[{"$f":"VLOOKUP(B2003,Categorias!$A:$B,2,FALSE)","v":{"$error":"#N/A"}}]
[{"$f":"VLOOKUP(B2004,Categorias!$A:$B,2,FALSE)","v":{"$error":"#N/A"}}]
[{"$f":"VLOOKUP(B2005,Categorias!$A:$B,2,FALSE)","v":{"$error":"#N/A"}}]
[{"$f":"VLOOKUP(B2006,Categorias!$A:$B,2,FALSE)","v":{"$error":"#N/A"}}]
[{"$f":"VLOOKUP(B2007,Categorias!$A:$B,2,FALSE)","v":{"$error":"#N/A"}}]
[{"$f":"VLOOKUP(B2008,Categorias!$A:$B,2,FALSE)","v":{"$error":"#N/A"}}]
[{"$f":"VLOOKUP(B2009,Categorias!$A:$B,2,FALSE)","v":{"$error":"#N/A"}}]
[{"$f":"VLOOKUP(B2010,Categorias!$A:$B,2,FALSE)","v":{"$error":"#N/A"}}]
[{"$f":"VLOOKUP(B2011,Categorias!$A:$B,2,FALSE)","v":{"$error":"#N/A"}}]
[{"$f":"VLOOKUP(B2012,Categorias!$A:$B,2,FALSE)","v":{"$error":"#N/A"}}]
[{"$f":"VLOOKUP(B2013,Categorias!$A:$B,2,FALSE)","v":{"$error":"#N/A"}}]
[{"$f":"VLOOKUP(B2014,Categorias!$A:$B,2,FALSE)","v":{"$error":"#N/A"}}]
[{"$f":"VLOOKUP(B2015,Categorias!$A:$B,2,FALSE)","v":{"$error":"#N/A"}}]
[{"$f":"VLOOKUP(B2016,Categorias!$A:$B,2,FALSE)","v":{"$error":"#N/A"}}]
[{"$f":"VLOOKUP(B2017,Categorias!$A:$B,2,FALSE)","v":{"$error":"#N/A"}}]
[{"$f":"VLOOKUP(B2018,Categorias!$A:$B,2,FALSE)","v":{"$error":"#N/A"}}]
[{"$f":"VLOOKUP(B2019,Categorias!$A:$B,2,FALSE)","v":{"$error":"#N/A"}}]
[{"$f":"VLOOKUP(B2020,Categorias!$A:$B,2,FALSE)","v":{"$error":"#N/A"}}]
[{"$f":"VLOOKUP(B2021,Categorias!$A:$B,2,FALSE)","v":{"$error":"#N/A"}}]
[{"$f":"VLOOKUP(B2022,Categorias!$A:$B,2,FALSE)","v":{"$error":"#N/A"}}]
[{"$f":"VLOOKUP(B2023,Categorias!$A:$B,2,FALSE)","v":{"$error":"#N/A"}}]
[{"$f":"VLOOKUP(B2024,Categorias!$A:$B,2,FALSE)","v":{"$error":"#N/A"}}]
[{"$f":"VLOOKUP(B2025,Categorias!$A:$B,2,FALSE)","v":{"$error":"#N/A"}}]
[{"$f":"VLOOKUP(B2026,Categorias!$A:$B,2,FALSE)","v":{"$error":"#N/A"}}]
[{"$f":"VLOOKUP(B2027,Categorias!$A:$B,2,FALSE)","v":{"$error":"#N/A"}}]
[{"$f":"VLOOKUP(B2028,Categorias!$A:$B,2,FALSE)","v":{"$error":"#N/A"}}]
[{"$f":"VLOOKUP(B2029,Categorias!$A:$B,2,FALSE)","v":{"$error":"#N/A"}}]
[{"$f":"VLOOKUP(B2030,Categorias!$A:$B,2,FALSE)","v":{"$error":"#N/A"}}]
[{"$f":"VLOOKUP(B2031,Categorias!$A:$B,2,FALSE)","v":{"$error":"#N/A"}}]
[{"$f":"VLOOKUP(B2032,Categorias!$A:$B,2,FALSE)","v":{"$error":"#N/A"}}]
[{"$f":"VLOOKUP(B2033,Categorias!$A:$B,2,FALSE)","v":{"$error":"#N/A"}}]
[{"$f":"VLOOKUP(B2034,Categorias!$A:$B,2,FALSE)","v":{"$error":"#N/A"}}]
[{"$f":"VLOOKUP(B2035,Categorias!$A:$B,2,FALSE)","v":{"$error":"#N/A"}}]
[{"$f":"VLOOKUP(B2036,Categorias!$A:$B,2,FALSE)","v":{"$error":"#N/A"}}]
[{"$f":"VLOOKUP(B2037,Categorias!$A:$B,2,FALSE)","v":{"$error":"#N/A"}}]
[{"$f":"VLOOKUP(B2038,Categorias!$A:$B,2,FALSE)","v":{"$error":"#N/A"}}]
[{"$f":"VLOOKUP(B2039,Categorias!$A:$B,2,FALSE)","v":{"$error":"#N/A"}}]
[{"$f":"VLOOKUP(B2040,Categorias!$A:$B,2,FALSE)","v":{"$error":"#N/A"}}]
[{"$f":"VLOOKUP(B2041,Categorias!$A:$B,2,FALSE)","v":{"$error":"#N/A"}}]
[{"$f":"VLOOKUP(B2042,Categorias!$A:$B,2,FALSE)","v":{"$error":"#N/A"}}]
[{"$f":"VLOOKUP(B2043,Categorias!$A:$B,2,FALSE)","v":{"$error":"#N/A"}}]
[{"$f":"VLOOKUP(B2044,Categorias!$A:$B,2,FALSE)","v":{"$error":"#N/A"}}]
[{"$f":"VLOOKUP(B2045,Categorias!$A:$B,2,FALSE)","v":{"$error":"#N/A"}}]
[{"$f":"VLOOKUP(B2046,Categorias!$A:$B,2,FALSE)","v":{"$error":"#N/A"}}]
[{"$f":"VLOOKUP(B2047,Categorias!$A:$B,2,FALSE)","v":{"$error":"#N/A"}}]
[{"$f":"VLOOKUP(B2048,Categorias!$A:$B,2,FALSE)","v":{"$error":"#N/A"}}]
[{"$f":"VLOOKUP(B2049,Categorias!$A:$B,2,FALSE)","v":{"$error":"#N/A"}}]
[{"$f":"VLOOKUP(B2050,Categorias!$A:$B,2,FALSE)","v":{"$error":"#N/A"}}]
[{"$f":"VLOOKUP(B2051,Categorias!$A:$B,2,FALSE)","v":{"$error":"#N/A"}}]
[{"$f":"VLOOKUP(B2052,Categorias!$A:$B,2,FALSE)","v":{"$error":"#N/A"}}]
[{"$f":"VLOOKUP(B2053,Categorias!$A:$B,2,FALSE)","v":{"$error":"#N/A"}}]
[{"$f":"VLOOKUP(B2054,Categorias!$A:$B,2,FALSE)","v":{"$error":"#N/A"}}]
[{"$f":"VLOOKUP(B2055,Categorias!$A:$B,2,FALSE)","v":{"$error":"#N/A"}}]
[{"$f":"VLOOKUP(B2056,Categorias!$A:$B,2,FALSE)","v":{"$error":"#N/A"}}]
[{"$f":"VLOOKUP(B2057,Categorias!$A:$B,2,FALSE)","v":{"$error":"#N/A"}}]
[{"$f":"VLOOKUP(B2058,Categorias!$A:$B,2,FALSE)","v":{"$error":"#N/A"}}]
[{"$f":"VLOOKUP(B2059,Categorias!$A:$B,2,FALSE)","v":{"$error":"#N/A"}}]
[{"$f":"VLOOKUP(B2060,Categorias!$A:$B,2,FALSE)","v":{"$error":"#N/A"}}]
[{"$f":"VLOOKUP(B2061,Categorias!$A:$B,2,FALSE)","v":{"$error":"#N/A"}}]
[{"$f":"VLOOKUP(B2062,Categorias!$A:$B,2,FALSE)","v":{"$error":"#N/A"}}]
[{"$f":"VLOOKUP(B2063,Categorias!$A:$B,2,FALSE)","v":{"$error":"#N/A"}}]
[{"$f":"VLOOKUP(B2064,Categorias!$A:$B,2,FALSE)","v":{"$error":"#N/A"}}]
[{"$f":"VLOOKUP(B2065,Categorias!$A:$B,2,FALSE)","v":{"$error":"#N/A"}}]
[{"$f":"VLOOKUP(B2066,Categorias!$A:$B,2,FALSE)","v":{"$error":"#N/A"}}]
[{"$f":"VLOOKUP(B2067,Categorias!$A:$B,2,FALSE)","v":{"$error":"#N/A"}}]
[{"$f":"VLOOKUP(B2068,Categorias!$A:$B,2,FALSE)","v":{"$error":"#N/A"}}]
[{"$f":"VLOOKUP(B2069,Categorias!$A:$B,2,FALSE)","v":{"$error":"#N/A"}}]
[{"$f":"VLOOKUP(B2070,Categorias!$A:$B,2,FALSE)","v":{"$error":"#N/A"}}]
[{"$f":"VLOOKUP(B2071,Categorias!$A:$B,2,FALSE)","v":{"$error":"#N/A"}}]
[{"$f":"VLOOKUP(B2072,Categorias!$A:$B,2,FALSE)","v":{"$error":"#N/A"}}]
[{"$f":"VLOOKUP(B2073,Categorias!$A:$B,2,FALSE)","v":{"$error":"#N/A"}}]
[{"$f":"VLOOKUP(B2074,Categorias!$A:$B,2,FALSE)","v":{"$error":"#N/A"}}]
[{"$f":"VLOOKUP(B2075,Categorias!$A:$B,2,FALSE)","v":{"$error":"#N/A"}}]
[{"$f":"VLOOKUP(B2076,Categorias!$A:$B,2,FALSE)","v":{"$error":"#N/A"}}]
[{"$f":"VLOOKUP(B2077,Categorias!$A:$B,2,FALSE)","v":{"$error":"#N/A"}}]
[{"$f":"VLOOKUP(B2078,Categorias!$A:$B,2,FALSE)","v":{"$error":"#N/A"}}]
[{"$f":"VLOOKUP(B2079,Categorias!$A:$B,2,FALSE)","v":{"$error":"#N/A"}}]
[{"$f":"VLOOKUP(B2080,Categorias!$A:$B,2,FALSE)","v":{"$error":"#N/A"}}]
[{"$f":"VLOOKUP(B2081,Categorias!$A:$B,2,FALSE)","v":{"$error":"#N/A"}}]
[{"$f":"VLOOKUP(B2082,Categorias!$A:$B,2,FALSE)","v":{"$error":"#N/A"}}]
[{"$f":"VLOOKUP(B2083,Categorias!$A:$B,2,FALSE)","v":{"$error":"#N/A"}}]
[{"$f":"VLOOKUP(B2084,Categorias!$A:$B,2,FALSE)","v":{"$error":"#N/A"}}]
[{"$f":"VLOOKUP(B2085,Categorias!$A:$B,2,FALSE)","v":{"$error":"#N/A"}}]
[{"$f":"VLOOKUP(B2086,Categorias!$A:$B,2,FALSE)","v":{"$error":"#N/A"}}]
[{"$f":"VLOOKUP(B2087,Categorias!$A:$B,2,FALSE)","v":{"$error":"#N/A"}}]
[{"$f":"VLOOKUP(B2088,Categorias!$A:$B,2,FALSE)","v":{"$error":"#N/A"}}]
[{"$f":"VLOOKUP(B2089,Categorias!$A:$B,2,FALSE)","v":{"$error":"#N/A"}}]
[{"$f":"VLOOKUP(B2090,Categorias!$A:$B,2,FALSE)","v":{"$error":"#N/A"}}]
[{"$f":"VLOOKUP(B2091,Categorias!$A:$B,2,FALSE)","v":{"$error":"#N/A"}}]
[{"$f":"VLOOKUP(B2092,Categorias!$A:$B,2,FALSE)","v":{"$error":"#N/A"}}]
[{"$f":"VLOOKUP(B2093,Categorias!$A:$B,2,FALSE)","v":{"$error":"#N/A"}}]
[{"$f":"VLOOKUP(B2094,Categorias!$A:$B,2,FALSE)","v":{"$error":"#N/A"}}]
[{"$f":"VLOOKUP(B2095,Categorias!$A:$B,2,FALSE)","v":{"$error":"#N/A"}}]
[{"$f":"VLOOKUP(B2096,Categorias!$A:$B,2,FALSE)","v":{"$error":"#N/A"}}]
[{"$f":"VLOOKUP(B2097,Categorias!$A:$B,2,FALSE)","v":{"$error":"#N/A"}}]
[{"$f":"VLOOKUP(B2098,Categorias!$A:$B,2,FALSE)","v":{"$error":"#N/A"}}]
[{"$f":"VLOOKUP(B2099,Categorias!$A:$B,2,FALSE)","v":{"$error":"#N/A"}}]
[{"$f":"VLOOKUP(B2100,Categorias!$A:$B,2,FALSE)","v":{"$error":"#N/A"}}]
[{"$f":"VLOOKUP(B2101,Categorias!$A:$B,2,FALSE)","v":{"$error":"#N/A"}}]
[{"$f":"VLOOKUP(B2102,Categorias!$A:$B,2,FALSE)","v":{"$error":"#N/A"}}]
[{"$f":"VLOOKUP(B2103,Categorias!$A:$B,2,FALSE)","v":{"$error":"#N/A"}}]
[{"$f":"VLOOKUP(B2104,Categorias!$A:$B,2,FALSE)","v":{"$error":"#N/A"}}]
[{"$f":"VLOOKUP(B2105,Categorias!$A:$B,2,FALSE)","v":{"$error":"#N/A"}}]
[{"$f":"VLOOKUP(B2106,Categorias!$A:$B,2,FALSE)","v":{"$error":"#N/A"}}]
[{"$f":"VLOOKUP(B2107,Categorias!$A:$B,2,FALSE)","v":{"$error":"#N/A"}}]
[{"$f":"VLOOKUP(B2108,Categorias!$A:$B,2,FALSE)","v":{"$error":"#N/A"}}]
[{"$f":"VLOOKUP(B2109,Categorias!$A:$B,2,FALSE)","v":{"$error":"#N/A"}}]
[{"$f":"VLOOKUP(B2110,Categorias!$A:$B,2,FALSE)","v":{"$error":"#N/A"}}]
[{"$f":"VLOOKUP(B2111,Categorias!$A:$B,2,FALSE)","v":{"$error":"#N/A"}}]
[{"$f":"VLOOKUP(B2112,Categorias!$A:$B,2,FALSE)","v":{"$error":"#N/A"}}]
[{"$f":"VLOOKUP(B2113,Categorias!$A:$B,2,FALSE)","v":{"$error":"#N/A"}}]
[{"$f":"VLOOKUP(B2114,Categorias!$A:$B,2,FALSE)","v":{"$error":"#N/A"}}]
[{"$f":"VLOOKUP(B2115,Categorias!$A:$B,2,FALSE)","v":{"$error":"#N/A"}}]
[{"$f":"VLOOKUP(B2116,Categorias!$A:$B,2,FALSE)","v":{"$error":"#N/A"}}]
[{"$f":"VLOOKUP(B2117,Categorias!$A:$B,2,FALSE)","v":{"$error":"#N/A"}}]
[{"$f":"VLOOKUP(B2118,Categorias!$A:$B,2,FALSE)","v":{"$error":"#N/A"}}]
[{"$f":"VLOOKUP(B2119,Categorias!$A:$B,2,FALSE)","v":{"$error":"#N/A"}}]
[{"$f":"VLOOKUP(B2120,Categorias!$A:$B,2,FALSE)","v":{"$error":"#N/A"}}]
[{"$f":"VLOOKUP(B2121,Categorias!$A:$B,2,FALSE)","v":{"$error":"#N/A"}}]
[{"$f":"VLOOKUP(B2122,Categorias!$A:$B,2,FALSE)","v":{"$error":"#N/A"}}]
[{"$f":"VLOOKUP(B2123,Categorias!$A:$B,2,FALSE)","v":{"$error":"#N/A"}}]
[{"$f":"VLOOKUP(B2124,Categorias!$A:$B,2,FALSE)","v":{"$error":"#N/A"}}]
[{"$f":"VLOOKUP(B2125,Categorias!$A:$B,2,FALSE)","v":{"$error":"#N/A"}}]
[{"$f":"VLOOKUP(B2126,Categorias!$A:$B,2,FALSE)","v":{"$error":"#N/A"}}]
[{"$f":"VLOOKUP(B2127,Categorias!$A:$B,2,FALSE)","v":{"$error":"#N/A"}}]
[{"$f":"VLOOKUP(B2128,Categorias!$A:$B,2,FALSE)","v":{"$error":"#N/A"}}]
[{"$f":"VLOOKUP(B2129,Categorias!$A:$B,2,FALSE)","v":{"$error":"#N/A"}}]
[{"$f":"VLOOKUP(B2130,Categorias!$A:$B,2,FALSE)","v":{"$error":"#N/A"}}]
[{"$f":"VLOOKUP(B2131,Categorias!$A:$B,2,FALSE)","v":{"$error":"#N/A"}}]
[{"$f":"VLOOKUP(B2132,Categorias!$A:$B,2,FALSE)","v":{"$error":"#N/A"}}]
[{"$f":"VLOOKUP(B2133,Categorias!$A:$B,2,FALSE)","v":{"$error":"#N/A"}}]
[{"$f":"VLOOKUP(B2134,Categorias!$A:$B,2,FALSE)","v":{"$error":"#N/A"}}]
[{"$f":"VLOOKUP(B2135,Categorias!$A:$B,2,FALSE)","v":{"$error":"#N/A"}}]
[{"$f":"VLOOKUP(B2136,Categorias!$A:$B,2,FALSE)","v":{"$error":"#N/A"}}]
[{"$f":"VLOOKUP(B2137,Categorias!$A:$B,2,FALSE)","v":{"$error":"#N/A"}}]
[{"$f":"VLOOKUP(B2138,Categorias!$A:$B,2,FALSE)","v":{"$error":"#N/A"}}]
[{"$f":"VLOOKUP(B2139,Categorias!$A:$B,2,FALSE)","v":{"$error":"#N/A"}}]
[{"$f":"VLOOKUP(B2140,Categorias!$A:$B,2,FALSE)","v":{"$error":"#N/A"}}]
[{"$f":"VLOOKUP(B2141,Categorias!$A:$B,2,FALSE)","v":{"$error":"#N/A"}}]
[{"$f":"VLOOKUP(B2142,Categorias!$A:$B,2,FALSE)","v":{"$error":"#N/A"}}]
[{"$f":"VLOOKUP(B2143,Categorias!$A:$B,2,FALSE)","v":{"$error":"#N/A"}}]
[{"$f":"VLOOKUP(B2144,Categorias!$A:$B,2,FALSE)","v":{"$error":"#N/A"}}]
[{"$f":"VLOOKUP(B2145,Categorias!$A:$B,2,FALSE)","v":{"$error":"#N/A"}}]
[{"$f":"VLOOKUP(B2146,Categorias!$A:$B,2,FALSE)","v":{"$error":"#N/A"}}]
[{"$f":"VLOOKUP(B2147,Categorias!$A:$B,2,FALSE)","v":{"$error":"#N/A"}}]
[{"$f":"VLOOKUP(B2148,Categorias!$A:$B,2,FALSE)","v":{"$error":"#N/A"}}]
[{"$f":"VLOOKUP(B2149,Categorias!$A:$B,2,FALSE)","v":{"$error":"#N/A"}}]
[{"$f":"VLOOKUP(B2150,Categorias!$A:$B,2,FALSE)","v":{"$error":"#N/A"}}]
[{"$f":"VLOOKUP(B2151,Categorias!$A:$B,2,FALSE)","v":{"$error":"#N/A"}}]
[{"$f":"VLOOKUP(B2152,Categorias!$A:$B,2,FALSE)","v":{"$error":"#N/A"}}]
[{"$f":"VLOOKUP(B2153,Categorias!$A:$B,2,FALSE)","v":{"$error":"#N/A"}}]
[{"$f":"VLOOKUP(B2154,Categorias!$A:$B,2,FALSE)","v":{"$error":"#N/A"}}]
[{"$f":"VLOOKUP(B2155,Categorias!$A:$B,2,FALSE)","v":{"$error":"#N/A"}}]
[{"$f":"VLOOKUP(B2156,Categorias!$A:$B,2,FALSE)","v":{"$error":"#N/A"}}]
[{"$f":"VLOOKUP(B2157,Categorias!$A:$B,2,FALSE)","v":{"$error":"#N/A"}}]
[{"$f":"VLOOKUP(B2158,Categorias!$A:$B,2,FALSE)","v":{"$error":"#N/A"}}]
[{"$f":"VLOOKUP(B2159,Categorias!$A:$B,2,FALSE)","v":{"$error":"#N/A"}}]
[{"$f":"VLOOKUP(B2160,Categorias!$A:$B,2,FALSE)","v":{"$error":"#N/A"}}]
[{"$f":"VLOOKUP(B2161,Categorias!$A:$B,2,FALSE)","v":{"$error":"#N/A"}}]
[{"$f":"VLOOKUP(B2162,Categorias!$A:$B,2,FALSE)","v":{"$error":"#N/A"}}]
[{"$f":"VLOOKUP(B2163,Categorias!$A:$B,2,FALSE)","v":{"$error":"#N/A"}}]
[{"$f":"VLOOKUP(B2164,Categorias!$A:$B,2,FALSE)","v":{"$error":"#N/A"}}]
[{"$f":"VLOOKUP(B2165,Categorias!$A:$B,2,FALSE)","v":{"$error":"#N/A"}}]
[{"$f":"VLOOKUP(B2166,Categorias!$A:$B,2,FALSE)","v":{"$error":"#N/A"}}]
[{"$f":"VLOOKUP(B2167,Categorias!$A:$B,2,FALSE)","v":{"$error":"#N/A"}}]
[{"$f":"VLOOKUP(B2168,Categorias!$A:$B,2,FALSE)","v":{"$error":"#N/A"}}]
[{"$f":"VLOOKUP(B2169,Categorias!$A:$B,2,FALSE)","v":{"$error":"#N/A"}}]
[{"$f":"VLOOKUP(B2170,Categorias!$A:$B,2,FALSE)","v":{"$error":"#N/A"}}]
[{"$f":"VLOOKUP(B2171,Categorias!$A:$B,2,FALSE)","v":{"$error":"#N/A"}}]
[{"$f":"VLOOKUP(B2172,Categorias!$A:$B,2,FALSE)","v":{"$error":"#N/A"}}]
[{"$f":"VLOOKUP(B2173,Categorias!$A:$B,2,FALSE)","v":{"$error":"#N/A"}}]
[{"$f":"VLOOKUP(B2174,Categorias!$A:$B,2,FALSE)","v":{"$error":"#N/A"}}]
[{"$f":"VLOOKUP(B2175,Categorias!$A:$B,2,FALSE)","v":{"$error":"#N/A"}}]
[{"$f":"VLOOKUP(B2176,Categorias!$A:$B,2,FALSE)","v":{"$error":"#N/A"}}]
[{"$f":"VLOOKUP(B2177,Categorias!$A:$B,2,FALSE)","v":{"$error":"#N/A"}}]
[{"$f":"VLOOKUP(B2178,Categorias!$A:$B,2,FALSE)","v":{"$error":"#N/A"}}]
[{"$f":"VLOOKUP(B2179,Categorias!$A:$B,2,FALSE)","v":{"$error":"#N/A"}}]
[{"$f":"VLOOKUP(B2180,Categorias!$A:$B,2,FALSE)","v":{"$error":"#N/A"}}]
[{"$f":"VLOOKUP(B2181,Categorias!$A:$B,2,FALSE)","v":{"$error":"#N/A"}}]
[{"$f":"VLOOKUP(B2182,Categorias!$A:$B,2,FALSE)","v":{"$error":"#N/A"}}]
[{"$f":"VLOOKUP(B2183,Categorias!$A:$B,2,FALSE)","v":{"$error":"#N/A"}}]
[{"$f":"VLOOKUP(B2184,Categorias!$A:$B,2,FALSE)","v":{"$error":"#N/A"}}]
[{"$f":"VLOOKUP(B2185,Categorias!$A:$B,2,FALSE)","v":{"$error":"#N/A"}}]
[{"$f":"VLOOKUP(B2186,Categorias!$A:$B,2,FALSE)","v":{"$error":"#N/A"}}]
[{"$f":"VLOOKUP(B2187,Categorias!$A:$B,2,FALSE)","v":{"$error":"#N/A"}}]
[{"$f":"VLOOKUP(B2188,Categorias!$A:$B,2,FALSE)","v":{"$error":"#N/A"}}]
[{"$f":"VLOOKUP(B2189,Categorias!$A:$B,2,FALSE)","v":{"$error":"#N/A"}}]
[{"$f":"VLOOKUP(B2190,Categorias!$A:$B,2,FALSE)","v":{"$error":"#N/A"}}]
[{"$f":"VLOOKUP(B2191,Categorias!$A:$B,2,FALSE)","v":{"$error":"#N/A"}}]
[{"$f":"VLOOKUP(B2192,Categorias!$A:$B,2,FALSE)","v":{"$error":"#N/A"}}]
[{"$f":"VLOOKUP(B2193,Categorias!$A:$B,2,FALSE)","v":{"$error":"#N/A"}}]
[{"$f":"VLOOKUP(B2194,Categorias!$A:$B,2,FALSE)","v":{"$error":"#N/A"}}]
[{"$f":"VLOOKUP(B2195,Categorias!$A:$B,2,FALSE)","v":{"$error":"#N/A"}}]
[{"$f":"VLOOKUP(B2196,Categorias!$A:$B,2,FALSE)","v":{"$error":"#N/A"}}]
[{"$f":"VLOOKUP(B2197,Categorias!$A:$B,2,FALSE)","v":{"$error":"#N/A"}}]
[{"$f":"VLOOKUP(B2198,Categorias!$A:$B,2,FALSE)","v":{"$error":"#N/A"}}]
[{"$f":"VLOOKUP(B2199,Categorias!$A:$B,2,FALSE)","v":{"$error":"#N/A"}}]
[{"$f":"VLOOKUP(B2200,Categorias!$A:$B,2,FALSE)","v":{"$error":"#N/A"}}]
[{"$f":"VLOOKUP(B2201,Categorias!$A:$B,2,FALSE)","v":{"$error":"#N/A"}}]
[{"$f":"VLOOKUP(B2202,Categorias!$A:$B,2,FALSE)","v":{"$error":"#N/A"}}]
[{"$f":"VLOOKUP(B2203,Categorias!$A:$B,2,FALSE)","v":{"$error":"#N/A"}}]
[{"$f":"VLOOKUP(B2204,Categorias!$A:$B,2,FALSE)","v":{"$error":"#N/A"}}]
[{"$f":"VLOOKUP(B2205,Categorias!$A:$B,2,FALSE)","v":{"$error":"#N/A"}}]
[{"$f":"VLOOKUP(B2206,Categorias!$A:$B,2,FALSE)","v":{"$error":"#N/A"}}]
[{"$f":"VLOOKUP(B2207,Categorias!$A:$B,2,FALSE)","v":{"$error":"#N/A"}}]
[{"$f":"VLOOKUP(B2208,Categorias!$A:$B,2,FALSE)","v":{"$error":"#N/A"}}]
[{"$f":"VLOOKUP(B2209,Categorias!$A:$B,2,FALSE)","v":{"$error":"#N/A"}}]
[{"$f":"VLOOKUP(B2210,Categorias!$A:$B,2,FALSE)","v":{"$error":"#N/A"}}]
[{"$f":"VLOOKUP(B2211,Categorias!$A:$B,2,FALSE)","v":{"$error":"#N/A"}}]
[{"$f":"VLOOKUP(B2212,Categorias!$A:$B,2,FALSE)","v":{"$error":"#N/A"}}]
[{"$f":"VLOOKUP(B2213,Categorias!$A:$B,2,FALSE)","v":{"$error":"#N/A"}}]
[{"$f":"VLOOKUP(B2214,Categorias!$A:$B,2,FALSE)","v":{"$error":"#N/A"}}]
[{"$f":"VLOOKUP(B2215,Categorias!$A:$B,2,FALSE)","v":{"$error":"#N/A"}}]
[{"$f":"VLOOKUP(B2216,Categorias!$A:$B,2,FALSE)","v":{"$error":"#N/A"}}]
[{"$f":"VLOOKUP(B2217,Categorias!$A:$B,2,FALSE)","v":{"$error":"#N/A"}}]
[{"$f":"VLOOKUP(B2218,Categorias!$A:$B,2,FALSE)","v":{"$error":"#N/A"}}]
[{"$f":"VLOOKUP(B2219,Categorias!$A:$B,2,FALSE)","v":{"$error":"#N/A"}}]
[{"$f":"VLOOKUP(B2220,Categorias!$A:$B,2,FALSE)","v":{"$error":"#N/A"}}]
[{"$f":"VLOOKUP(B2221,Categorias!$A:$B,2,FALSE)","v":{"$error":"#N/A"}}]
[{"$f":"VLOOKUP(B2222,Categorias!$A:$B,2,FALSE)","v":{"$error":"#N/A"}}]
[{"$f":"VLOOKUP(B2223,Categorias!$A:$B,2,FALSE)","v":{"$error":"#N/A"}}]
[{"$f":"VLOOKUP(B2224,Categorias!$A:$B,2,FALSE)","v":{"$error":"#N/A"}}]
[{"$f":"VLOOKUP(B2225,Categorias!$A:$B,2,FALSE)","v":{"$error":"#N/A"}}]
[{"$f":"VLOOKUP(B2226,Categorias!$A:$B,2,FALSE)","v":{"$error":"#N/A"}}]
[{"$f":"VLOOKUP(B2227,Categorias!$A:$B,2,FALSE)","v":{"$error":"#N/A"}}]
[{"$f":"VLOOKUP(B2228,Categorias!$A:$B,2,FALSE)","v":{"$error":"#N/A"}}]
[{"$f":"VLOOKUP(B2229,Categorias!$A:$B,2,FALSE)","v":{"$error":"#N/A"}}]
[{"$f":"VLOOKUP(B2230,Categorias!$A:$B,2,FALSE)","v":{"$error":"#N/A"}}]
[{"$f":"VLOOKUP(B2231,Categorias!$A:$B,2,FALSE)","v":{"$error":"#N/A"}}]
[{"$f":"VLOOKUP(B2232,Categorias!$A:$B,2,FALSE)","v":{"$error":"#N/A"}}]
[{"$f":"VLOOKUP(B2233,Categorias!$A:$B,2,FALSE)","v":{"$error":"#N/A"}}]
[{"$f":"VLOOKUP(B2234,Categorias!$A:$B,2,FALSE)","v":{"$error":"#N/A"}}]
[{"$f":"VLOOKUP(B2235,Categorias!$A:$B,2,FALSE)","v":{"$error":"#N/A"}}]
[{"$f":"VLOOKUP(B2236,Categorias!$A:$B,2,FALSE)","v":{"$error":"#N/A"}}]
[{"$f":"VLOOKUP(B2237,Categorias!$A:$B,2,FALSE)","v":{"$error":"#N/A"}}]
[{"$f":"VLOOKUP(B2238,Categorias!$A:$B,2,FALSE)","v":{"$error":"#N/A"}}]
[{"$f":"VLOOKUP(B2239,Categorias!$A:$B,2,FALSE)","v":{"$error":"#N/A"}}]
[{"$f":"VLOOKUP(B2240,Categorias!$A:$B,2,FALSE)","v":{"$error":"#N/A"}}]
[{"$f":"VLOOKUP(B2241,Categorias!$A:$B,2,FALSE)","v":{"$error":"#N/A"}}]
[{"$f":"VLOOKUP(B2242,Categorias!$A:$B,2,FALSE)","v":{"$error":"#N/A"}}]
[{"$f":"VLOOKUP(B2243,Categorias!$A:$B,2,FALSE)","v":{"$error":"#N/A"}}]
[{"$f":"VLOOKUP(B2244,Categorias!$A:$B,2,FALSE)","v":{"$error":"#N/A"}}]
[{"$f":"VLOOKUP(B2245,Categorias!$A:$B,2,FALSE)","v":{"$error":"#N/A"}}]
[{"$f":"VLOOKUP(B2246,Categorias!$A:$B,2,FALSE)","v":{"$error":"#N/A"}}]
[{"$f":"VLOOKUP(B2247,Categorias!$A:$B,2,FALSE)","v":{"$error":"#N/A"}}]
[{"$f":"VLOOKUP(B2248,Categorias!$A:$B,2,FALSE)","v":{"$error":"#N/A"}}]
[{"$f":"VLOOKUP(B2249,Categorias!$A:$B,2,FALSE)","v":{"$error":"#N/A"}}]
[{"$f":"VLOOKUP(B2250,Categorias!$A:$B,2,FALSE)","v":{"$error":"#N/A"}}]
[{"$f":"VLOOKUP(B2251,Categorias!$A:$B,2,FALSE)","v":{"$error":"#N/A"}}]
[{"$f":"VLOOKUP(B2252,Categorias!$A:$B,2,FALSE)","v":{"$error":"#N/A"}}]
[{"$f":"VLOOKUP(B2253,Categorias!$A:$B,2,FALSE)","v":{"$error":"#N/A"}}]
[{"$f":"VLOOKUP(B2254,Categorias!$A:$B,2,FALSE)","v":{"$error":"#N/A"}}]
[{"$f":"VLOOKUP(B2255,Categorias!$A:$B,2,FALSE)","v":{"$error":"#N/A"}}]
[{"$f":"VLOOKUP(B2256,Categorias!$A:$B,2,FALSE)","v":{"$error":"#N/A"}}]
[{"$f":"VLOOKUP(B2257,Categorias!$A:$B,2,FALSE)","v":{"$error":"#N/A"}}]
[{"$f":"VLOOKUP(B2258,Categorias!$A:$B,2,FALSE)","v":{"$error":"#N/A"}}]
[{"$f":"VLOOKUP(B2259,Categorias!$A:$B,2,FALSE)","v":{"$error":"#N/A"}}]
[{"$f":"VLOOKUP(B2260,Categorias!$A:$B,2,FALSE)","v":{"$error":"#N/A"}}]
[{"$f":"VLOOKUP(B2261,Categorias!$A:$B,2,FALSE)","v":{"$error":"#N/A"}}]
[{"$f":"VLOOKUP(B2262,Categorias!$A:$B,2,FALSE)","v":{"$error":"#N/A"}}]
[{"$f":"VLOOKUP(B2263,Categorias!$A:$B,2,FALSE)","v":{"$error":"#N/A"}}]
[{"$f":"VLOOKUP(B2264,Categorias!$A:$B,2,FALSE)","v":{"$error":"#N/A"}}]
[{"$f":"VLOOKUP(B2265,Categorias!$A:$B,2,FALSE)","v":{"$error":"#N/A"}}]
[{"$f":"VLOOKUP(B2266,Categorias!$A:$B,2,FALSE)","v":{"$error":"#N/A"}}]
[{"$f":"VLOOKUP(B2267,Categorias!$A:$B,2,FALSE)","v":{"$error":"#N/A"}}]
[{"$f":"VLOOKUP(B2268,Categorias!$A:$B,2,FALSE)","v":{"$error":"#N/A"}}]
[{"$f":"VLOOKUP(B2269,Categorias!$A:$B,2,FALSE)","v":{"$error":"#N/A"}}]
[{"$f":"VLOOKUP(B2270,Categorias!$A:$B,2,FALSE)","v":{"$error":"#N/A"}}]
[{"$f":"VLOOKUP(B2271,Categorias!$A:$B,2,FALSE)","v":{"$error":"#N/A"}}]
[{"$f":"VLOOKUP(B2272,Categorias!$A:$B,2,FALSE)","v":{"$error":"#N/A"}}]
[{"$f":"VLOOKUP(B2273,Categorias!$A:$B,2,FALSE)","v":{"$error":"#N/A"}}]
[{"$f":"VLOOKUP(B2274,Categorias!$A:$B,2,FALSE)","v":{"$error":"#N/A"}}]
[{"$f":"VLOOKUP(B2275,Categorias!$A:$B,2,FALSE)","v":{"$error":"#N/A"}}]
[{"$f":"VLOOKUP(B2276,Categorias!$A:$B,2,FALSE)","v":{"$error":"#N/A"}}]
[{"$f":"VLOOKUP(B2277,Categorias!$A:$B,2,FALSE)","v":{"$error":"#N/A"}}]
[{"$f":"VLOOKUP(B2278,Categorias!$A:$B,2,FALSE)","v":{"$error":"#N/A"}}]
[{"$f":"VLOOKUP(B2279,Categorias!$A:$B,2,FALSE)","v":{"$error":"#N/A"}}]
[{"$f":"VLOOKUP(B2280,Categorias!$A:$B,2,FALSE)","v":{"$error":"#N/A"}}]
[{"$f":"VLOOKUP(B2281,Categorias!$A:$B,2,FALSE)","v":{"$error":"#N/A"}}]
[{"$f":"VLOOKUP(B2282,Categorias!$A:$B,2,FALSE)","v":{"$error":"#N/A"}}]
[{"$f":"VLOOKUP(B2283,Categorias!$A:$B,2,FALSE)","v":{"$error":"#N/A"}}]
[{"$f":"VLOOKUP(B2284,Categorias!$A:$B,2,FALSE)","v":{"$error":"#N/A"}}]
[{"$f":"VLOOKUP(B2285,Categorias!$A:$B,2,FALSE)","v":{"$error":"#N/A"}}]
[{"$f":"VLOOKUP(B2286,Categorias!$A:$B,2,FALSE)","v":{"$error":"#N/A"}}]
[{"$f":"VLOOKUP(B2287,Categorias!$A:$B,2,FALSE)","v":{"$error":"#N/A"}}]
[{"$f":"VLOOKUP(B2288,Categorias!$A:$B,2,FALSE)","v":{"$error":"#N/A"}}]
[{"$f":"VLOOKUP(B2289,Categorias!$A:$B,2,FALSE)","v":{"$error":"#N/A"}}]
[{"$f":"VLOOKUP(B2290,Categorias!$A:$B,2,FALSE)","v":{"$error":"#N/A"}}]
[{"$f":"VLOOKUP(B2291,Categorias!$A:$B,2,FALSE)","v":{"$error":"#N/A"}}]
[{"$f":"VLOOKUP(B2292,Categorias!$A:$B,2,FALSE)","v":{"$error":"#N/A"}}]
[{"$f":"VLOOKUP(B2293,Categorias!$A:$B,2,FALSE)","v":{"$error":"#N/A"}}]
[{"$f":"VLOOKUP(B2294,Categorias!$A:$B,2,FALSE)","v":{"$error":"#N/A"}}]
[{"$f":"VLOOKUP(B2295,Categorias!$A:$B,2,FALSE)","v":{"$error":"#N/A"}}]
[{"$f":"VLOOKUP(B2296,Categorias!$A:$B,2,FALSE)","v":{"$error":"#N/A"}}]
[{"$f":"VLOOKUP(B2297,Categorias!$A:$B,2,FALSE)","v":{"$error":"#N/A"}}]
[{"$f":"VLOOKUP(B2298,Categorias!$A:$B,2,FALSE)","v":{"$error":"#N/A"}}]
[{"$f":"VLOOKUP(B2299,Categorias!$A:$B,2,FALSE)","v":{"$error":"#N/A"}}]
[{"$f":"VLOOKUP(B2300,Categorias!$A:$B,2,FALSE)","v":{"$error":"#N/A"}}]
[{"$f":"VLOOKUP(B2301,Categorias!$A:$B,2,FALSE)","v":{"$error":"#N/A"}}]
[{"$f":"VLOOKUP(B2302,Categorias!$A:$B,2,FALSE)","v":{"$error":"#N/A"}}]
[{"$f":"VLOOKUP(B2303,Categorias!$A:$B,2,FALSE)","v":{"$error":"#N/A"}}]
[{"$f":"VLOOKUP(B2304,Categorias!$A:$B,2,FALSE)","v":{"$error":"#N/A"}}]
[{"$f":"VLOOKUP(B2305,Categorias!$A:$B,2,FALSE)","v":{"$error":"#N/A"}}]
[{"$f":"VLOOKUP(B2306,Categorias!$A:$B,2,FALSE)","v":{"$error":"#N/A"}}]
[{"$f":"VLOOKUP(B2307,Categorias!$A:$B,2,FALSE)","v":{"$error":"#N/A"}}]
[{"$f":"VLOOKUP(B2308,Categorias!$A:$B,2,FALSE)","v":{"$error":"#N/A"}}]
[{"$f":"VLOOKUP(B2309,Categorias!$A:$B,2,FALSE)","v":{"$error":"#N/A"}}]
[{"$f":"VLOOKUP(B2310,Categorias!$A:$B,2,FALSE)","v":{"$error":"#N/A"}}]
[{"$f":"VLOOKUP(B2311,Categorias!$A:$B,2,FALSE)","v":{"$error":"#N/A"}}]
[{"$f":"VLOOKUP(B2312,Categorias!$A:$B,2,FALSE)","v":{"$error":"#N/A"}}]
[{"$f":"VLOOKUP(B2313,Categorias!$A:$B,2,FALSE)","v":{"$error":"#N/A"}}]
[{"$f":"VLOOKUP(B2314,Categorias!$A:$B,2,FALSE)","v":{"$error":"#N/A"}}]
[{"$f":"VLOOKUP(B2315,Categorias!$A:$B,2,FALSE)","v":{"$error":"#N/A"}}]
[{"$f":"VLOOKUP(B2316,Categorias!$A:$B,2,FALSE)","v":{"$error":"#N/A"}}]
[{"$f":"VLOOKUP(B2317,Categorias!$A:$B,2,FALSE)","v":{"$error":"#N/A"}}]
[{"$f":"VLOOKUP(B2318,Categorias!$A:$B,2,FALSE)","v":{"$error":"#N/A"}}]
[{"$f":"VLOOKUP(B2319,Categorias!$A:$B,2,FALSE)","v":{"$error":"#N/A"}}]
[{"$f":"VLOOKUP(B2320,Categorias!$A:$B,2,FALSE)","v":{"$error":"#N/A"}}]
[{"$f":"VLOOKUP(B2321,Categorias!$A:$B,2,FALSE)","v":{"$error":"#N/A"}}]
[{"$f":"VLOOKUP(B2322,Categorias!$A:$B,2,FALSE)","v":{"$error":"#N/A"}}]
[{"$f":"VLOOKUP(B2323,Categorias!$A:$B,2,FALSE)","v":{"$error":"#N/A"}}]
[{"$f":"VLOOKUP(B2324,Categorias!$A:$B,2,FALSE)","v":{"$error":"#N/A"}}]
[{"$f":"VLOOKUP(B2325,Categorias!$A:$B,2,FALSE)","v":{"$error":"#N/A"}}]
[{"$f":"VLOOKUP(B2326,Categorias!$A:$B,2,FALSE)","v":{"$error":"#N/A"}}]
[{"$f":"VLOOKUP(B2327,Categorias!$A:$B,2,FALSE)","v":{"$error":"#N/A"}}]
[{"$f":"VLOOKUP(B2328,Categorias!$A:$B,2,FALSE)","v":{"$error":"#N/A"}}]
[{"$f":"VLOOKUP(B2329,Categorias!$A:$B,2,FALSE)","v":{"$error":"#N/A"}}]
[{"$f":"VLOOKUP(B2330,Categorias!$A:$B,2,FALSE)","v":{"$error":"#N/A"}}]
[{"$f":"VLOOKUP(B2331,Categorias!$A:$B,2,FALSE)","v":{"$error":"#N/A"}}]
[{"$f":"VLOOKUP(B2332,Categorias!$A:$B,2,FALSE)","v":{"$error":"#N/A"}}]
[{"$f":"VLOOKUP(B2333,Categorias!$A:$B,2,FALSE)","v":{"$error":"#N/A"}}]
[{"$f":"VLOOKUP(B2334,Categorias!$A:$B,2,FALSE)","v":{"$error":"#N/A"}}]
[{"$f":"VLOOKUP(B2335,Categorias!$A:$B,2,FALSE)","v":{"$error":"#N/A"}}]
[{"$f":"VLOOKUP(B2336,Categorias!$A:$B,2,FALSE)","v":{"$error":"#N/A"}}]
[{"$f":"VLOOKUP(B2337,Categorias!$A:$B,2,FALSE)","v":{"$error":"#N/A"}}]
[{"$f":"VLOOKUP(B2338,Categorias!$A:$B,2,FALSE)","v":{"$error":"#N/A"}}]
[{"$f":"VLOOKUP(B2339,Categorias!$A:$B,2,FALSE)","v":{"$error":"#N/A"}}]
[{"$f":"VLOOKUP(B2340,Categorias!$A:$B,2,FALSE)","v":{"$error":"#N/A"}}]
[{"$f":"VLOOKUP(B2341,Categorias!$A:$B,2,FALSE)","v":{"$error":"#N/A"}}]
[{"$f":"VLOOKUP(B2342,Categorias!$A:$B,2,FALSE)","v":{"$error":"#N/A"}}]
[{"$f":"VLOOKUP(B2343,Categorias!$A:$B,2,FALSE)","v":{"$error":"#N/A"}}]
[{"$f":"VLOOKUP(B2344,Categorias!$A:$B,2,FALSE)","v":{"$error":"#N/A"}}]
[{"$f":"VLOOKUP(B2345,Categorias!$A:$B,2,FALSE)","v":{"$error":"#N/A"}}]
[{"$f":"VLOOKUP(B2346,Categorias!$A:$B,2,FALSE)","v":{"$error":"#N/A"}}]
[{"$f":"VLOOKUP(B2347,Categorias!$A:$B,2,FALSE)","v":{"$error":"#N/A"}}]
[{"$f":"VLOOKUP(B2348,Categorias!$A:$B,2,FALSE)","v":{"$error":"#N/A"}}]
[{"$f":"VLOOKUP(B2349,Categorias!$A:$B,2,FALSE)","v":{"$error":"#N/A"}}]
[{"$f":"VLOOKUP(B2350,Categorias!$A:$B,2,FALSE)","v":{"$error":"#N/A"}}]
[{"$f":"VLOOKUP(B2351,Categorias!$A:$B,2,FALSE)","v":{"$error":"#N/A"}}]
[{"$f":"VLOOKUP(B2352,Categorias!$A:$B,2,FALSE)","v":{"$error":"#N/A"}}]
[{"$f":"VLOOKUP(B2353,Categorias!$A:$B,2,FALSE)","v":{"$error":"#N/A"}}]
[{"$f":"VLOOKUP(B2354,Categorias!$A:$B,2,FALSE)","v":{"$error":"#N/A"}}]
[{"$f":"VLOOKUP(B2355,Categorias!$A:$B,2,FALSE)","v":{"$error":"#N/A"}}]
[{"$f":"VLOOKUP(B2356,Categorias!$A:$B,2,FALSE)","v":{"$error":"#N/A"}}]
[{"$f":"VLOOKUP(B2357,Categorias!$A:$B,2,FALSE)","v":{"$error":"#N/A"}}]
[{"$f":"VLOOKUP(B2358,Categorias!$A:$B,2,FALSE)","v":{"$error":"#N/A"}}]
[{"$f":"VLOOKUP(B2359,Categorias!$A:$B,2,FALSE)","v":{"$error":"#N/A"}}]
[{"$f":"VLOOKUP(B2360,Categorias!$A:$B,2,FALSE)","v":{"$error":"#N/A"}}]
[{"$f":"VLOOKUP(B2361,Categorias!$A:$B,2,FALSE)","v":{"$error":"#N/A"}}]
[{"$f":"VLOOKUP(B2362,Categorias!$A:$B,2,FALSE)","v":{"$error":"#N/A"}}]
[{"$f":"VLOOKUP(B2363,Categorias!$A:$B,2,FALSE)","v":{"$error":"#N/A"}}]
[{"$f":"VLOOKUP(B2364,Categorias!$A:$B,2,FALSE)","v":{"$error":"#N/A"}}]
[{"$f":"VLOOKUP(B2365,Categorias!$A:$B,2,FALSE)","v":{"$error":"#N/A"}}]
[{"$f":"VLOOKUP(B2366,Categorias!$A:$B,2,FALSE)","v":{"$error":"#N/A"}}]
[{"$f":"VLOOKUP(B2367,Categorias!$A:$B,2,FALSE)","v":{"$error":"#N/A"}}]
[{"$f":"VLOOKUP(B2368,Categorias!$A:$B,2,FALSE)","v":{"$error":"#N/A"}}]
[{"$f":"VLOOKUP(B2369,Categorias!$A:$B,2,FALSE)","v":{"$error":"#N/A"}}]
[{"$f":"VLOOKUP(B2370,Categorias!$A:$B,2,FALSE)","v":{"$error":"#N/A"}}]
[{"$f":"VLOOKUP(B2371,Categorias!$A:$B,2,FALSE)","v":{"$error":"#N/A"}}]
[{"$f":"VLOOKUP(B2372,Categorias!$A:$B,2,FALSE)","v":{"$error":"#N/A"}}]
[{"$f":"VLOOKUP(B2373,Categorias!$A:$B,2,FALSE)","v":{"$error":"#N/A"}}]
[{"$f":"VLOOKUP(B2374,Categorias!$A:$B,2,FALSE)","v":{"$error":"#N/A"}}]
[{"$f":"VLOOKUP(B2375,Categorias!$A:$B,2,FALSE)","v":{"$error":"#N/A"}}]
[{"$f":"VLOOKUP(B2376,Categorias!$A:$B,2,FALSE)","v":{"$error":"#N/A"}}]
[{"$f":"VLOOKUP(B2377,Categorias!$A:$B,2,FALSE)","v":{"$error":"#N/A"}}]
[{"$f":"VLOOKUP(B2378,Categorias!$A:$B,2,FALSE)","v":{"$error":"#N/A"}}]
[{"$f":"VLOOKUP(B2379,Categorias!$A:$B,2,FALSE)","v":{"$error":"#N/A"}}]
[{"$f":"VLOOKUP(B2380,Categorias!$A:$B,2,FALSE)","v":{"$error":"#N/A"}}]
[{"$f":"VLOOKUP(B2381,Categorias!$A:$B,2,FALSE)","v":{"$error":"#N/A"}}]
[{"$f":"VLOOKUP(B2382,Categorias!$A:$B,2,FALSE)","v":{"$error":"#N/A"}}]
[{"$f":"VLOOKUP(B2383,Categorias!$A:$B,2,FALSE)","v":{"$error":"#N/A"}}]
[{"$f":"VLOOKUP(B2384,Categorias!$A:$B,2,FALSE)","v":{"$error":"#N/A"}}]
[{"$f":"VLOOKUP(B2385,Categorias!$A:$B,2,FALSE)","v":{"$error":"#N/A"}}]
[{"$f":"VLOOKUP(B2386,Categorias!$A:$B,2,FALSE)","v":{"$error":"#N/A"}}]
[{"$f":"VLOOKUP(B2387,Categorias!$A:$B,2,FALSE)","v":{"$error":"#N/A"}}]
[{"$f":"VLOOKUP(B2388,Categorias!$A:$B,2,FALSE)","v":{"$error":"#N/A"}}]
[{"$f":"VLOOKUP(B2389,Categorias!$A:$B,2,FALSE)","v":{"$error":"#N/A"}}]
[{"$f":"VLOOKUP(B2390,Categorias!$A:$B,2,FALSE)","v":{"$error":"#N/A"}}]
[{"$f":"VLOOKUP(B2391,Categorias!$A:$B,2,FALSE)","v":{"$error":"#N/A"}}]
[{"$f":"VLOOKUP(B2392,Categorias!$A:$B,2,FALSE)","v":{"$error":"#N/A"}}]
[{"$f":"VLOOKUP(B2393,Categorias!$A:$B,2,FALSE)","v":{"$error":"#N/A"}}]
[{"$f":"VLOOKUP(B2394,Categorias!$A:$B,2,FALSE)","v":{"$error":"#N/A"}}]
[{"$f":"VLOOKUP(B2395,Categorias!$A:$B,2,FALSE)","v":{"$error":"#N/A"}}]
[{"$f":"VLOOKUP(B2396,Categorias!$A:$B,2,FALSE)","v":{"$error":"#N/A"}}]
[{"$f":"VLOOKUP(B2397,Categorias!$A:$B,2,FALSE)","v":{"$error":"#N/A"}}]
[{"$f":"VLOOKUP(B2398,Categorias!$A:$B,2,FALSE)","v":{"$error":"#N/A"}}]
[{"$f":"VLOOKUP(B2399,Categorias!$A:$B,2,FALSE)","v":{"$error":"#N/A"}}]
[{"$f":"VLOOKUP(B2400,Categorias!$A:$B,2,FALSE)","v":{"$error":"#N/A"}}]
[{"$f":"VLOOKUP(B2401,Categorias!$A:$B,2,FALSE)","v":{"$error":"#N/A"}}]
[{"$f":"VLOOKUP(B2402,Categorias!$A:$B,2,FALSE)","v":{"$error":"#N/A"}}]
[{"$f":"VLOOKUP(B2403,Categorias!$A:$B,2,FALSE)","v":{"$error":"#N/A"}}]
[{"$f":"VLOOKUP(B2404,Categorias!$A:$B,2,FALSE)","v":{"$error":"#N/A"}}]
[{"$f":"VLOOKUP(B2405,Categorias!$A:$B,2,FALSE)","v":{"$error":"#N/A"}}]
[{"$f":"VLOOKUP(B2406,Categorias!$A:$B,2,FALSE)","v":{"$error":"#N/A"}}]
[{"$f":"VLOOKUP(B2407,Categorias!$A:$B,2,FALSE)","v":{"$error":"#N/A"}}]
[{"$f":"VLOOKUP(B2408,Categorias!$A:$B,2,FALSE)","v":{"$error":"#N/A"}}]
[{"$f":"VLOOKUP(B2409,Categorias!$A:$B,2,FALSE)","v":{"$error":"#N/A"}}]
[{"$f":"VLOOKUP(B2410,Categorias!$A:$B,2,FALSE)","v":{"$error":"#N/A"}}]
[{"$f":"VLOOKUP(B2411,Categorias!$A:$B,2,FALSE)","v":{"$error":"#N/A"}}]
[{"$f":"VLOOKUP(B2412,Categorias!$A:$B,2,FALSE)","v":{"$error":"#N/A"}}]
[{"$f":"VLOOKUP(B2413,Categorias!$A:$B,2,FALSE)","v":{"$error":"#N/A"}}]
[{"$f":"VLOOKUP(B2414,Categorias!$A:$B,2,FALSE)","v":{"$error":"#N/A"}}]
[{"$f":"VLOOKUP(B2415,Categorias!$A:$B,2,FALSE)","v":{"$error":"#N/A"}}]
[{"$f":"VLOOKUP(B2416,Categorias!$A:$B,2,FALSE)","v":{"$error":"#N/A"}}]
[{"$f":"VLOOKUP(B2417,Categorias!$A:$B,2,FALSE)","v":{"$error":"#N/A"}}]
[{"$f":"VLOOKUP(B2418,Categorias!$A:$B,2,FALSE)","v":{"$error":"#N/A"}}]
[{"$f":"VLOOKUP(B2419,Categorias!$A:$B,2,FALSE)","v":{"$error":"#N/A"}}]
[{"$f":"VLOOKUP(B2420,Categorias!$A:$B,2,FALSE)","v":{"$error":"#N/A"}}]
[{"$f":"VLOOKUP(B2421,Categorias!$A:$B,2,FALSE)","v":{"$error":"#N/A"}}]
[{"$f":"VLOOKUP(B2422,Categorias!$A:$B,2,FALSE)","v":{"$error":"#N/A"}}]
[{"$f":"VLOOKUP(B2423,Categorias!$A:$B,2,FALSE)","v":{"$error":"#N/A"}}]
[{"$f":"VLOOKUP(B2424,Categorias!$A:$B,2,FALSE)","v":{"$error":"#N/A"}}]
[{"$f":"VLOOKUP(B2425,Categorias!$A:$B,2,FALSE)","v":{"$error":"#N/A"}}]
[{"$f":"VLOOKUP(B2426,Categorias!$A:$B,2,FALSE)","v":{"$error":"#N/A"}}]
[{"$f":"VLOOKUP(B2427,Categorias!$A:$B,2,FALSE)","v":{"$error":"#N/A"}}]
[{"$f":"VLOOKUP(B2428,Categorias!$A:$B,2,FALSE)","v":{"$error":"#N/A"}}]
[{"$f":"VLOOKUP(B2429,Categorias!$A:$B,2,FALSE)","v":{"$error":"#N/A"}}]
[{"$f":"VLOOKUP(B2430,Categorias!$A:$B,2,FALSE)","v":{"$error":"#N/A"}}]
[{"$f":"VLOOKUP(B2431,Categorias!$A:$B,2,FALSE)","v":{"$error":"#N/A"}}]
[{"$f":"VLOOKUP(B2432,Categorias!$A:$B,2,FALSE)","v":{"$error":"#N/A"}}]
[{"$f":"VLOOKUP(B2433,Categorias!$A:$B,2,FALSE)","v":{"$error":"#N/A"}}]
[{"$f":"VLOOKUP(B2434,Categorias!$A:$B,2,FALSE)","v":{"$error":"#N/A"}}]
[{"$f":"VLOOKUP(B2435,Categorias!$A:$B,2,FALSE)","v":{"$error":"#N/A"}}]
[{"$f":"VLOOKUP(B2436,Categorias!$A:$B,2,FALSE)","v":{"$error":"#N/A"}}]
[{"$f":"VLOOKUP(B2437,Categorias!$A:$B,2,FALSE)","v":{"$error":"#N/A"}}]
[{"$f":"VLOOKUP(B2438,Categorias!$A:$B,2,FALSE)","v":{"$error":"#N/A"}}]
[{"$f":"VLOOKUP(B2439,Categorias!$A:$B,2,FALSE)","v":{"$error":"#N/A"}}]
[{"$f":"VLOOKUP(B2440,Categorias!$A:$B,2,FALSE)","v":{"$error":"#N/A"}}]
[{"$f":"VLOOKUP(B2441,Categorias!$A:$B,2,FALSE)","v":{"$error":"#N/A"}}]
[{"$f":"VLOOKUP(B2442,Categorias!$A:$B,2,FALSE)","v":{"$error":"#N/A"}}]
[{"$f":"VLOOKUP(B2443,Categorias!$A:$B,2,FALSE)","v":{"$error":"#N/A"}}]
[{"$f":"VLOOKUP(B2444,Categorias!$A:$B,2,FALSE)","v":{"$error":"#N/A"}}]
[{"$f":"VLOOKUP(B2445,Categorias!$A:$B,2,FALSE)","v":{"$error":"#N/A"}}]
[{"$f":"VLOOKUP(B2446,Categorias!$A:$B,2,FALSE)","v":{"$error":"#N/A"}}]
[{"$f":"VLOOKUP(B2447,Categorias!$A:$B,2,FALSE)","v":{"$error":"#N/A"}}]
[{"$f":"VLOOKUP(B2448,Categorias!$A:$B,2,FALSE)","v":{"$error":"#N/A"}}]
[{"$f":"VLOOKUP(B2449,Categorias!$A:$B,2,FALSE)","v":{"$error":"#N/A"}}]
[{"$f":"VLOOKUP(B2450,Categorias!$A:$B,2,FALSE)","v":{"$error":"#N/A"}}]
[{"$f":"VLOOKUP(B2451,Categorias!$A:$B,2,FALSE)","v":{"$error":"#N/A"}}]
[{"$f":"VLOOKUP(B2452,Categorias!$A:$B,2,FALSE)","v":{"$error":"#N/A"}}]
[{"$f":"VLOOKUP(B2453,Categorias!$A:$B,2,FALSE)","v":{"$error":"#N/A"}}]
[{"$f":"VLOOKUP(B2454,Categorias!$A:$B,2,FALSE)","v":{"$error":"#N/A"}}]
[{"$f":"VLOOKUP(B2455,Categorias!$A:$B,2,FALSE)","v":{"$error":"#N/A"}}]
[{"$f":"VLOOKUP(B2456,Categorias!$A:$B,2,FALSE)","v":{"$error":"#N/A"}}]
[{"$f":"VLOOKUP(B2457,Categorias!$A:$B,2,FALSE)","v":{"$error":"#N/A"}}]
[{"$f":"VLOOKUP(B2458,Categorias!$A:$B,2,FALSE)","v":{"$error":"#N/A"}}]
[{"$f":"VLOOKUP(B2459,Categorias!$A:$B,2,FALSE)","v":{"$error":"#N/A"}}]
[{"$f":"VLOOKUP(B2460,Categorias!$A:$B,2,FALSE)","v":{"$error":"#N/A"}}]
[{"$f":"VLOOKUP(B2461,Categorias!$A:$B,2,FALSE)","v":{"$error":"#N/A"}}]
[{"$f":"VLOOKUP(B2462,Categorias!$A:$B,2,FALSE)","v":{"$error":"#N/A"}}]
[{"$f":"VLOOKUP(B2463,Categorias!$A:$B,2,FALSE)","v":{"$error":"#N/A"}}]
[{"$f":"VLOOKUP(B2464,Categorias!$A:$B,2,FALSE)","v":{"$error":"#N/A"}}]
[{"$f":"VLOOKUP(B2465,Categorias!$A:$B,2,FALSE)","v":{"$error":"#N/A"}}]
[{"$f":"VLOOKUP(B2466,Categorias!$A:$B,2,FALSE)","v":{"$error":"#N/A"}}]
[{"$f":"VLOOKUP(B2467,Categorias!$A:$B,2,FALSE)","v":{"$error":"#N/A"}}]
[{"$f":"VLOOKUP(B2468,Categorias!$A:$B,2,FALSE)","v":{"$error":"#N/A"}}]
[{"$f":"VLOOKUP(B2469,Categorias!$A:$B,2,FALSE)","v":{"$error":"#N/A"}}]
[{"$f":"VLOOKUP(B2470,Categorias!$A:$B,2,FALSE)","v":{"$error":"#N/A"}}]
[{"$f":"VLOOKUP(B2471,Categorias!$A:$B,2,FALSE)","v":{"$error":"#N/A"}}]
[{"$f":"VLOOKUP(B2472,Categorias!$A:$B,2,FALSE)","v":{"$error":"#N/A"}}]
[{"$f":"VLOOKUP(B2473,Categorias!$A:$B,2,FALSE)","v":{"$error":"#N/A"}}]
[{"$f":"VLOOKUP(B2474,Categorias!$A:$B,2,FALSE)","v":{"$error":"#N/A"}}]
[{"$f":"VLOOKUP(B2475,Categorias!$A:$B,2,FALSE)","v":{"$error":"#N/A"}}]
[{"$f":"VLOOKUP(B2476,Categorias!$A:$B,2,FALSE)","v":{"$error":"#N/A"}}]
[{"$f":"VLOOKUP(B2477,Categorias!$A:$B,2,FALSE)","v":{"$error":"#N/A"}}]
[{"$f":"VLOOKUP(B2478,Categorias!$A:$B,2,FALSE)","v":{"$error":"#N/A"}}]
[{"$f":"VLOOKUP(B2479,Categorias!$A:$B,2,FALSE)","v":{"$error":"#N/A"}}]
[{"$f":"VLOOKUP(B2480,Categorias!$A:$B,2,FALSE)","v":{"$error":"#N/A"}}]
[{"$f":"VLOOKUP(B2481,Categorias!$A:$B,2,FALSE)","v":{"$error":"#N/A"}}]
[{"$f":"VLOOKUP(B2482,Categorias!$A:$B,2,FALSE)","v":{"$error":"#N/A"}}]
[{"$f":"VLOOKUP(B2483,Categorias!$A:$B,2,FALSE)","v":{"$error":"#N/A"}}]
[{"$f":"VLOOKUP(B2484,Categorias!$A:$B,2,FALSE)","v":{"$error":"#N/A"}}]
[{"$f":"VLOOKUP(B2485,Categorias!$A:$B,2,FALSE)","v":{"$error":"#N/A"}}]
[{"$f":"VLOOKUP(B2486,Categorias!$A:$B,2,FALSE)","v":{"$error":"#N/A"}}]
[{"$f":"VLOOKUP(B2487,Categorias!$A:$B,2,FALSE)","v":{"$error":"#N/A"}}]
[{"$f":"VLOOKUP(B2488,Categorias!$A:$B,2,FALSE)","v":{"$error":"#N/A"}}]
[{"$f":"VLOOKUP(B2489,Categorias!$A:$B,2,FALSE)","v":{"$error":"#N/A"}}]
[{"$f":"VLOOKUP(B2490,Categorias!$A:$B,2,FALSE)","v":{"$error":"#N/A"}}]
[{"$f":"VLOOKUP(B2491,Categorias!$A:$B,2,FALSE)","v":{"$error":"#N/A"}}]
[{"$f":"VLOOKUP(B2492,Categorias!$A:$B,2,FALSE)","v":{"$error":"#N/A"}}]
[{"$f":"VLOOKUP(B2493,Categorias!$A:$B,2,FALSE)","v":{"$error":"#N/A"}}]
[{"$f":"VLOOKUP(B2494,Categorias!$A:$B,2,FALSE)","v":{"$error":"#N/A"}}]
[{"$f":"VLOOKUP(B2495,Categorias!$A:$B,2,FALSE)","v":{"$error":"#N/A"}}]
[{"$f":"VLOOKUP(B2496,Categorias!$A:$B,2,FALSE)","v":{"$error":"#N/A"}}]
[{"$f":"VLOOKUP(B2497,Categorias!$A:$B,2,FALSE)","v":{"$error":"#N/A"}}]
[{"$f":"VLOOKUP(B2498,Categorias!$A:$B,2,FALSE)","v":{"$error":"#N/A"}}]
[{"$f":"VLOOKUP(B2499,Categorias!$A:$B,2,FALSE)","v":{"$error":"#N/A"}}]
[{"$f":"VLOOKUP(B2500,Categorias!$A:$B,2,FALSE)","v":{"$error":"#N/A"}}]
[{"$f":"VLOOKUP(B2501,Categorias!$A:$B,2,FALSE)","v":{"$error":"#N/A"}}]
[{"$f":"VLOOKUP(B2502,Categorias!$A:$B,2,FALSE)","v":{"$error":"#N/A"}}]
[{"$f":"VLOOKUP(B2503,Categorias!$A:$B,2,FALSE)","v":{"$error":"#N/A"}}]
[{"$f":"VLOOKUP(B2504,Categorias!$A:$B,2,FALSE)","v":{"$error":"#N/A"}}]
[{"$f":"VLOOKUP(B2505,Categorias!$A:$B,2,FALSE)","v":{"$error":"#N/A"}}]
[{"$f":"VLOOKUP(B2506,Categorias!$A:$B,2,FALSE)","v":{"$error":"#N/A"}}]
[{"$f":"VLOOKUP(B2507,Categorias!$A:$B,2,FALSE)","v":{"$error":"#N/A"}}]
[{"$f":"VLOOKUP(B2508,Categorias!$A:$B,2,FALSE)","v":{"$error":"#N/A"}}]
[{"$f":"VLOOKUP(B2509,Categorias!$A:$B,2,FALSE)","v":{"$error":"#N/A"}}]
[{"$f":"VLOOKUP(B2510,Categorias!$A:$B,2,FALSE)","v":{"$error":"#N/A"}}]
[{"$f":"VLOOKUP(B2511,Categorias!$A:$B,2,FALSE)","v":{"$error":"#N/A"}}]
[{"$f":"VLOOKUP(B2512,Categorias!$A:$B,2,FALSE)","v":{"$error":"#N/A"}}]
[{"$f":"VLOOKUP(B2513,Categorias!$A:$B,2,FALSE)","v":{"$error":"#N/A"}}]
[{"$f":"VLOOKUP(B2514,Categorias!$A:$B,2,FALSE)","v":{"$error":"#N/A"}}]
[{"$f":"VLOOKUP(B2515,Categorias!$A:$B,2,FALSE)","v":{"$error":"#N/A"}}]
[{"$f":"VLOOKUP(B2516,Categorias!$A:$B,2,FALSE)","v":{"$error":"#N/A"}}]
[{"$f":"VLOOKUP(B2517,Categorias!$A:$B,2,FALSE)","v":{"$error":"#N/A"}}]
[{"$f":"VLOOKUP(B2518,Categorias!$A:$B,2,FALSE)","v":{"$error":"#N/A"}}]
[{"$f":"VLOOKUP(B2519,Categorias!$A:$B,2,FALSE)","v":{"$error":"#N/A"}}]
[{"$f":"VLOOKUP(B2520,Categorias!$A:$B,2,FALSE)","v":{"$error":"#N/A"}}]
[{"$f":"VLOOKUP(B2521,Categorias!$A:$B,2,FALSE)","v":{"$error":"#N/A"}}]
[{"$f":"VLOOKUP(B2522,Categorias!$A:$B,2,FALSE)","v":{"$error":"#N/A"}}]
[{"$f":"VLOOKUP(B2523,Categorias!$A:$B,2,FALSE)","v":{"$error":"#N/A"}}]
[{"$f":"VLOOKUP(B2524,Categorias!$A:$B,2,FALSE)","v":{"$error":"#N/A"}}]
[{"$f":"VLOOKUP(B2525,Categorias!$A:$B,2,FALSE)","v":{"$error":"#N/A"}}]
[{"$f":"VLOOKUP(B2526,Categorias!$A:$B,2,FALSE)","v":{"$error":"#N/A"}}]
[{"$f":"VLOOKUP(B2527,Categorias!$A:$B,2,FALSE)","v":{"$error":"#N/A"}}]
[{"$f":"VLOOKUP(B2528,Categorias!$A:$B,2,FALSE)","v":{"$error":"#N/A"}}]
[{"$f":"VLOOKUP(B2529,Categorias!$A:$B,2,FALSE)","v":{"$error":"#N/A"}}]
[{"$f":"VLOOKUP(B2530,Categorias!$A:$B,2,FALSE)","v":{"$error":"#N/A"}}]
[{"$f":"VLOOKUP(B2531,Categorias!$A:$B,2,FALSE)","v":{"$error":"#N/A"}}]
[{"$f":"VLOOKUP(B2532,Categorias!$A:$B,2,FALSE)","v":{"$error":"#N/A"}}]
[{"$f":"VLOOKUP(B2533,Categorias!$A:$B,2,FALSE)","v":{"$error":"#N/A"}}]
[{"$f":"VLOOKUP(B2534,Categorias!$A:$B,2,FALSE)","v":{"$error":"#N/A"}}]
[{"$f":"VLOOKUP(B2535,Categorias!$A:$B,2,FALSE)","v":{"$error":"#N/A"}}]
[{"$f":"VLOOKUP(B2536,Categorias!$A:$B,2,FALSE)","v":{"$error":"#N/A"}}]
[{"$f":"VLOOKUP(B2537,Categorias!$A:$B,2,FALSE)","v":{"$error":"#N/A"}}]
[{"$f":"VLOOKUP(B2538,Categorias!$A:$B,2,FALSE)","v":{"$error":"#N/A"}}]
[{"$f":"VLOOKUP(B2539,Categorias!$A:$B,2,FALSE)","v":{"$error":"#N/A"}}]
[{"$f":"VLOOKUP(B2540,Categorias!$A:$B,2,FALSE)","v":{"$error":"#N/A"}}]
[{"$f":"VLOOKUP(B2541,Categorias!$A:$B,2,FALSE)","v":{"$error":"#N/A"}}]
[{"$f":"VLOOKUP(B2542,Categorias!$A:$B,2,FALSE)","v":{"$error":"#N/A"}}]
[{"$f":"VLOOKUP(B2543,Categorias!$A:$B,2,FALSE)","v":{"$error":"#N/A"}}]
[{"$f":"VLOOKUP(B2544,Categorias!$A:$B,2,FALSE)","v":{"$error":"#N/A"}}]
[{"$f":"VLOOKUP(B2545,Categorias!$A:$B,2,FALSE)","v":{"$error":"#N/A"}}]
[{"$f":"VLOOKUP(B2546,Categorias!$A:$B,2,FALSE)","v":{"$error":"#N/A"}}]
[{"$f":"VLOOKUP(B2547,Categorias!$A:$B,2,FALSE)","v":{"$error":"#N/A"}}]
[{"$f":"VLOOKUP(B2548,Categorias!$A:$B,2,FALSE)","v":{"$error":"#N/A"}}]
[{"$f":"VLOOKUP(B2549,Categorias!$A:$B,2,FALSE)","v":{"$error":"#N/A"}}]
[{"$f":"VLOOKUP(B2550,Categorias!$A:$B,2,FALSE)","v":{"$error":"#N/A"}}]
[{"$f":"VLOOKUP(B2551,Categorias!$A:$B,2,FALSE)","v":{"$error":"#N/A"}}]
[{"$f":"VLOOKUP(B2552,Categorias!$A:$B,2,FALSE)","v":{"$error":"#N/A"}}]
[{"$f":"VLOOKUP(B2553,Categorias!$A:$B,2,FALSE)","v":{"$error":"#N/A"}}]
[{"$f":"VLOOKUP(B2554,Categorias!$A:$B,2,FALSE)","v":{"$error":"#N/A"}}]
[{"$f":"VLOOKUP(B2555,Categorias!$A:$B,2,FALSE)","v":{"$error":"#N/A"}}]
[{"$f":"VLOOKUP(B2556,Categorias!$A:$B,2,FALSE)","v":{"$error":"#N/A"}}]
[{"$f":"VLOOKUP(B2557,Categorias!$A:$B,2,FALSE)","v":{"$error":"#N/A"}}]
[{"$f":"VLOOKUP(B2558,Categorias!$A:$B,2,FALSE)","v":{"$error":"#N/A"}}]
[{"$f":"VLOOKUP(B2559,Categorias!$A:$B,2,FALSE)","v":{"$error":"#N/A"}}]
[{"$f":"VLOOKUP(B2560,Categorias!$A:$B,2,FALSE)","v":{"$error":"#N/A"}}]
[{"$f":"VLOOKUP(B2561,Categorias!$A:$B,2,FALSE)","v":{"$error":"#N/A"}}]
[{"$f":"VLOOKUP(B2562,Categorias!$A:$B,2,FALSE)","v":{"$error":"#N/A"}}]
[{"$f":"VLOOKUP(B2563,Categorias!$A:$B,2,FALSE)","v":{"$error":"#N/A"}}]
[{"$f":"VLOOKUP(B2564,Categorias!$A:$B,2,FALSE)","v":{"$error":"#N/A"}}]
[{"$f":"VLOOKUP(B2565,Categorias!$A:$B,2,FALSE)","v":{"$error":"#N/A"}}]
[{"$f":"VLOOKUP(B2566,Categorias!$A:$B,2,FALSE)","v":{"$error":"#N/A"}}]
[{"$f":"VLOOKUP(B2567,Categorias!$A:$B,2,FALSE)","v":{"$error":"#N/A"}}]
[{"$f":"VLOOKUP(B2568,Categorias!$A:$B,2,FALSE)","v":{"$error":"#N/A"}}]
[{"$f":"VLOOKUP(B2569,Categorias!$A:$B,2,FALSE)","v":{"$error":"#N/A"}}]
[{"$f":"VLOOKUP(B2570,Categorias!$A:$B,2,FALSE)","v":{"$error":"#N/A"}}]
[{"$f":"VLOOKUP(B2571,Categorias!$A:$B,2,FALSE)","v":{"$error":"#N/A"}}]
[{"$f":"VLOOKUP(B2572,Categorias!$A:$B,2,FALSE)","v":{"$error":"#N/A"}}]
[{"$f":"VLOOKUP(B2573,Categorias!$A:$B,2,FALSE)","v":{"$error":"#N/A"}}]
[{"$f":"VLOOKUP(B2574,Categorias!$A:$B,2,FALSE)","v":{"$error":"#N/A"}}]
[{"$f":"VLOOKUP(B2575,Categorias!$A:$B,2,FALSE)","v":{"$error":"#N/A"}}]
[{"$f":"VLOOKUP(B2576,Categorias!$A:$B,2,FALSE)","v":{"$error":"#N/A"}}]
[{"$f":"VLOOKUP(B2577,Categorias!$A:$B,2,FALSE)","v":{"$error":"#N/A"}}]
[{"$f":"VLOOKUP(B2578,Categorias!$A:$B,2,FALSE)","v":{"$error":"#N/A"}}]
[{"$f":"VLOOKUP(B2579,Categorias!$A:$B,2,FALSE)","v":{"$error":"#N/A"}}]
[{"$f":"VLOOKUP(B2580,Categorias!$A:$B,2,FALSE)","v":{"$error":"#N/A"}}]
[{"$f":"VLOOKUP(B2581,Categorias!$A:$B,2,FALSE)","v":{"$error":"#N/A"}}]
[{"$f":"VLOOKUP(B2582,Categorias!$A:$B,2,FALSE)","v":{"$error":"#N/A"}}]
[{"$f":"VLOOKUP(B2583,Categorias!$A:$B,2,FALSE)","v":{"$error":"#N/A"}}]
[{"$f":"VLOOKUP(B2584,Categorias!$A:$B,2,FALSE)","v":{"$error":"#N/A"}}]
[{"$f":"VLOOKUP(B2585,Categorias!$A:$B,2,FALSE)","v":{"$error":"#N/A"}}]
[{"$f":"VLOOKUP(B2586,Categorias!$A:$B,2,FALSE)","v":{"$error":"#N/A"}}]
[{"$f":"VLOOKUP(B2587,Categorias!$A:$B,2,FALSE)","v":{"$error":"#N/A"}}]
[{"$f":"VLOOKUP(B2588,Categorias!$A:$B,2,FALSE)","v":{"$error":"#N/A"}}]
[{"$f":"VLOOKUP(B2589,Categorias!$A:$B,2,FALSE)","v":{"$error":"#N/A"}}]
[{"$f":"VLOOKUP(B2590,Categorias!$A:$B,2,FALSE)","v":{"$error":"#N/A"}}]
[{"$f":"VLOOKUP(B2591,Categorias!$A:$B,2,FALSE)","v":{"$error":"#N/A"}}]
[{"$f":"VLOOKUP(B2592,Categorias!$A:$B,2,FALSE)","v":{"$error":"#N/A"}}]
[{"$f":"VLOOKUP(B2593,Categorias!$A:$B,2,FALSE)","v":{"$error":"#N/A"}}]
[{"$f":"VLOOKUP(B2594,Categorias!$A:$B,2,FALSE)","v":{"$error":"#N/A"}}]
[{"$f":"VLOOKUP(B2595,Categorias!$A:$B,2,FALSE)","v":{"$error":"#N/A"}}]
[{"$f":"VLOOKUP(B2596,Categorias!$A:$B,2,FALSE)","v":{"$error":"#N/A"}}]
[{"$f":"VLOOKUP(B2597,Categorias!$A:$B,2,FALSE)","v":{"$error":"#N/A"}}]
[{"$f":"VLOOKUP(B2598,Categorias!$A:$B,2,FALSE)","v":{"$error":"#N/A"}}]
[{"$f":"VLOOKUP(B2599,Categorias!$A:$B,2,FALSE)","v":{"$error":"#N/A"}}]
[{"$f":"VLOOKUP(B2600,Categorias!$A:$B,2,FALSE)","v":{"$error":"#N/A"}}]
[{"$f":"VLOOKUP(B2601,Categorias!$A:$B,2,FALSE)","v":{"$error":"#N/A"}}]
[{"$f":"VLOOKUP(B2602,Categorias!$A:$B,2,FALSE)","v":{"$error":"#N/A"}}]
[{"$f":"VLOOKUP(B2603,Categorias!$A:$B,2,FALSE)","v":{"$error":"#N/A"}}]
[{"$f":"VLOOKUP(B2604,Categorias!$A:$B,2,FALSE)","v":{"$error":"#N/A"}}]
[{"$f":"VLOOKUP(B2605,Categorias!$A:$B,2,FALSE)","v":{"$error":"#N/A"}}]
[{"$f":"VLOOKUP(B2606,Categorias!$A:$B,2,FALSE)","v":{"$error":"#N/A"}}]
[{"$f":"VLOOKUP(B2607,Categorias!$A:$B,2,FALSE)","v":{"$error":"#N/A"}}]
[{"$f":"VLOOKUP(B2608,Categorias!$A:$B,2,FALSE)","v":{"$error":"#N/A"}}]
[{"$f":"VLOOKUP(B2609,Categorias!$A:$B,2,FALSE)","v":{"$error":"#N/A"}}]
[{"$f":"VLOOKUP(B2610,Categorias!$A:$B,2,FALSE)","v":{"$error":"#N/A"}}]
[{"$f":"VLOOKUP(B2611,Categorias!$A:$B,2,FALSE)","v":{"$error":"#N/A"}}]
[{"$f":"VLOOKUP(B2612,Categorias!$A:$B,2,FALSE)","v":{"$error":"#N/A"}}]
[{"$f":"VLOOKUP(B2613,Categorias!$A:$B,2,FALSE)","v":{"$error":"#N/A"}}]
[{"$f":"VLOOKUP(B2614,Categorias!$A:$B,2,FALSE)","v":{"$error":"#N/A"}}]
[{"$f":"VLOOKUP(B2615,Categorias!$A:$B,2,FALSE)","v":{"$error":"#N/A"}}]
[{"$f":"VLOOKUP(B2616,Categorias!$A:$B,2,FALSE)","v":{"$error":"#N/A"}}]
[{"$f":"VLOOKUP(B2617,Categorias!$A:$B,2,FALSE)","v":{"$error":"#N/A"}}]
[{"$f":"VLOOKUP(B2618,Categorias!$A:$B,2,FALSE)","v":{"$error":"#N/A"}}]
[{"$f":"VLOOKUP(B2619,Categorias!$A:$B,2,FALSE)","v":{"$error":"#N/A"}}]
[{"$f":"VLOOKUP(B2620,Categorias!$A:$B,2,FALSE)","v":{"$error":"#N/A"}}]
[{"$f":"VLOOKUP(B2621,Categorias!$A:$B,2,FALSE)","v":{"$error":"#N/A"}}]
[{"$f":"VLOOKUP(B2622,Categorias!$A:$B,2,FALSE)","v":{"$error":"#N/A"}}]
[{"$f":"VLOOKUP(B2623,Categorias!$A:$B,2,FALSE)","v":{"$error":"#N/A"}}]
[{"$f":"VLOOKUP(B2624,Categorias!$A:$B,2,FALSE)","v":{"$error":"#N/A"}}]
[{"$f":"VLOOKUP(B2625,Categorias!$A:$B,2,FALSE)","v":{"$error":"#N/A"}}]
[{"$f":"VLOOKUP(B2626,Categorias!$A:$B,2,FALSE)","v":{"$error":"#N/A"}}]
[{"$f":"VLOOKUP(B2627,Categorias!$A:$B,2,FALSE)","v":{"$error":"#N/A"}}]
[{"$f":"VLOOKUP(B2628,Categorias!$A:$B,2,FALSE)","v":{"$error":"#N/A"}}]
[{"$f":"VLOOKUP(B2629,Categorias!$A:$B,2,FALSE)","v":{"$error":"#N/A"}}]
[{"$f":"VLOOKUP(B2630,Categorias!$A:$B,2,FALSE)","v":{"$error":"#N/A"}}]
[{"$f":"VLOOKUP(B2631,Categorias!$A:$B,2,FALSE)","v":{"$error":"#N/A"}}]
[{"$f":"VLOOKUP(B2632,Categorias!$A:$B,2,FALSE)","v":{"$error":"#N/A"}}]
[{"$f":"VLOOKUP(B2633,Categorias!$A:$B,2,FALSE)","v":{"$error":"#N/A"}}]
[{"$f":"VLOOKUP(B2634,Categorias!$A:$B,2,FALSE)","v":{"$error":"#N/A"}}]
[{"$f":"VLOOKUP(B2635,Categorias!$A:$B,2,FALSE)","v":{"$error":"#N/A"}}]
[{"$f":"VLOOKUP(B2636,Categorias!$A:$B,2,FALSE)","v":{"$error":"#N/A"}}]
[{"$f":"VLOOKUP(B2637,Categorias!$A:$B,2,FALSE)","v":{"$error":"#N/A"}}]
[{"$f":"VLOOKUP(B2638,Categorias!$A:$B,2,FALSE)","v":{"$error":"#N/A"}}]
[{"$f":"VLOOKUP(B2639,Categorias!$A:$B,2,FALSE)","v":{"$error":"#N/A"}}]
[{"$f":"VLOOKUP(B2640,Categorias!$A:$B,2,FALSE)","v":{"$error":"#N/A"}}]
[{"$f":"VLOOKUP(B2641,Categorias!$A:$B,2,FALSE)","v":{"$error":"#N/A"}}]
[{"$f":"VLOOKUP(B2642,Categorias!$A:$B,2,FALSE)","v":{"$error":"#N/A"}}]
[{"$f":"VLOOKUP(B2643,Categorias!$A:$B,2,FALSE)","v":{"$error":"#N/A"}}]
[{"$f":"VLOOKUP(B2644,Categorias!$A:$B,2,FALSE)","v":{"$error":"#N/A"}}]
[{"$f":"VLOOKUP(B2645,Categorias!$A:$B,2,FALSE)","v":{"$error":"#N/A"}}]
[{"$f":"VLOOKUP(B2646,Categorias!$A:$B,2,FALSE)","v":{"$error":"#N/A"}}]
[{"$f":"VLOOKUP(B2647,Categorias!$A:$B,2,FALSE)","v":{"$error":"#N/A"}}]
[{"$f":"VLOOKUP(B2648,Categorias!$A:$B,2,FALSE)","v":{"$error":"#N/A"}}]
[{"$f":"VLOOKUP(B2649,Categorias!$A:$B,2,FALSE)","v":{"$error":"#N/A"}}]
[{"$f":"VLOOKUP(B2650,Categorias!$A:$B,2,FALSE)","v":{"$error":"#N/A"}}]
[{"$f":"VLOOKUP(B2651,Categorias!$A:$B,2,FALSE)","v":{"$error":"#N/A"}}]
[{"$f":"VLOOKUP(B2652,Categorias!$A:$B,2,FALSE)","v":{"$error":"#N/A"}}]
[{"$f":"VLOOKUP(B2653,Categorias!$A:$B,2,FALSE)","v":{"$error":"#N/A"}}]
[{"$f":"VLOOKUP(B2654,Categorias!$A:$B,2,FALSE)","v":{"$error":"#N/A"}}]
[{"$f":"VLOOKUP(B2655,Categorias!$A:$B,2,FALSE)","v":{"$error":"#N/A"}}]
[{"$f":"VLOOKUP(B2656,Categorias!$A:$B,2,FALSE)","v":{"$error":"#N/A"}}]
[{"$f":"VLOOKUP(B2657,Categorias!$A:$B,2,FALSE)","v":{"$error":"#N/A"}}]
[{"$f":"VLOOKUP(B2658,Categorias!$A:$B,2,FALSE)","v":{"$error":"#N/A"}}]
[{"$f":"VLOOKUP(B2659,Categorias!$A:$B,2,FALSE)","v":{"$error":"#N/A"}}]
[{"$f":"VLOOKUP(B2660,Categorias!$A:$B,2,FALSE)","v":{"$error":"#N/A"}}]
[{"$f":"VLOOKUP(B2661,Categorias!$A:$B,2,FALSE)","v":{"$error":"#N/A"}}]
[{"$f":"VLOOKUP(B2662,Categorias!$A:$B,2,FALSE)","v":{"$error":"#N/A"}}]
[{"$f":"VLOOKUP(B2663,Categorias!$A:$B,2,FALSE)","v":{"$error":"#N/A"}}]
[{"$f":"VLOOKUP(B2664,Categorias!$A:$B,2,FALSE)","v":{"$error":"#N/A"}}]
[{"$f":"VLOOKUP(B2665,Categorias!$A:$B,2,FALSE)","v":{"$error":"#N/A"}}]
[{"$f":"VLOOKUP(B2666,Categorias!$A:$B,2,FALSE)","v":{"$error":"#N/A"}}]
[{"$f":"VLOOKUP(B2667,Categorias!$A:$B,2,FALSE)","v":{"$error":"#N/A"}}]
[{"$f":"VLOOKUP(B2668,Categorias!$A:$B,2,FALSE)","v":{"$error":"#N/A"}}]
[{"$f":"VLOOKUP(B2669,Categorias!$A:$B,2,FALSE)","v":{"$error":"#N/A"}}]
[{"$f":"VLOOKUP(B2670,Categorias!$A:$B,2,FALSE)","v":{"$error":"#N/A"}}]
[{"$f":"VLOOKUP(B2671,Categorias!$A:$B,2,FALSE)","v":{"$error":"#N/A"}}]
[{"$f":"VLOOKUP(B2672,Categorias!$A:$B,2,FALSE)","v":{"$error":"#N/A"}}]
[{"$f":"VLOOKUP(B2673,Categorias!$A:$B,2,FALSE)","v":{"$error":"#N/A"}}]
[{"$f":"VLOOKUP(B2674,Categorias!$A:$B,2,FALSE)","v":{"$error":"#N/A"}}]
[{"$f":"VLOOKUP(B2675,Categorias!$A:$B,2,FALSE)","v":{"$error":"#N/A"}}]
[{"$f":"VLOOKUP(B2676,Categorias!$A:$B,2,FALSE)","v":{"$error":"#N/A"}}]
[{"$f":"VLOOKUP(B2677,Categorias!$A:$B,2,FALSE)","v":{"$error":"#N/A"}}]
[{"$f":"VLOOKUP(B2678,Categorias!$A:$B,2,FALSE)","v":{"$error":"#N/A"}}]
[{"$f":"VLOOKUP(B2679,Categorias!$A:$B,2,FALSE)","v":{"$error":"#N/A"}}]
[{"$f":"VLOOKUP(B2680,Categorias!$A:$B,2,FALSE)","v":{"$error":"#N/A"}}]
[{"$f":"VLOOKUP(B2681,Categorias!$A:$B,2,FALSE)","v":{"$error":"#N/A"}}]
[{"$f":"VLOOKUP(B2682,Categorias!$A:$B,2,FALSE)","v":{"$error":"#N/A"}}]
[{"$f":"VLOOKUP(B2683,Categorias!$A:$B,2,FALSE)","v":{"$error":"#N/A"}}]
[{"$f":"VLOOKUP(B2684,Categorias!$A:$B,2,FALSE)","v":{"$error":"#N/A"}}]
[{"$f":"VLOOKUP(B2685,Categorias!$A:$B,2,FALSE)","v":{"$error":"#N/A"}}]
[{"$f":"VLOOKUP(B2686,Categorias!$A:$B,2,FALSE)","v":{"$error":"#N/A"}}]
[{"$f":"VLOOKUP(B2687,Categorias!$A:$B,2,FALSE)","v":{"$error":"#N/A"}}]
[{"$f":"VLOOKUP(B2688,Categorias!$A:$B,2,FALSE)","v":{"$error":"#N/A"}}]
[{"$f":"VLOOKUP(B2689,Categorias!$A:$B,2,FALSE)","v":{"$error":"#N/A"}}]
[{"$f":"VLOOKUP(B2690,Categorias!$A:$B,2,FALSE)","v":{"$error":"#N/A"}}]
[{"$f":"VLOOKUP(B2691,Categorias!$A:$B,2,FALSE)","v":{"$error":"#N/A"}}]
[{"$f":"VLOOKUP(B2692,Categorias!$A:$B,2,FALSE)","v":{"$error":"#N/A"}}]
[{"$f":"VLOOKUP(B2693,Categorias!$A:$B,2,FALSE)","v":{"$error":"#N/A"}}]
[{"$f":"VLOOKUP(B2694,Categorias!$A:$B,2,FALSE)","v":{"$error":"#N/A"}}]
[{"$f":"VLOOKUP(B2695,Categorias!$A:$B,2,FALSE)","v":{"$error":"#N/A"}}]
[{"$f":"VLOOKUP(B2696,Categorias!$A:$B,2,FALSE)","v":{"$error":"#N/A"}}]
[{"$f":"VLOOKUP(B2697,Categorias!$A:$B,2,FALSE)","v":{"$error":"#N/A"}}]
[{"$f":"VLOOKUP(B2698,Categorias!$A:$B,2,FALSE)","v":{"$error":"#N/A"}}]
[{"$f":"VLOOKUP(B2699,Categorias!$A:$B,2,FALSE)","v":{"$error":"#N/A"}}]
[{"$f":"VLOOKUP(B2700,Categorias!$A:$B,2,FALSE)","v":{"$error":"#N/A"}}]
[{"$f":"VLOOKUP(B2701,Categorias!$A:$B,2,FALSE)","v":{"$error":"#N/A"}}]
[{"$f":"VLOOKUP(B2702,Categorias!$A:$B,2,FALSE)","v":{"$error":"#N/A"}}]
[{"$f":"VLOOKUP(B2703,Categorias!$A:$B,2,FALSE)","v":{"$error":"#N/A"}}]
[{"$f":"VLOOKUP(B2704,Categorias!$A:$B,2,FALSE)","v":{"$error":"#N/A"}}]
[{"$f":"VLOOKUP(B2705,Categorias!$A:$B,2,FALSE)","v":{"$error":"#N/A"}}]
[{"$f":"VLOOKUP(B2706,Categorias!$A:$B,2,FALSE)","v":{"$error":"#N/A"}}]
[{"$f":"VLOOKUP(B2707,Categorias!$A:$B,2,FALSE)","v":{"$error":"#N/A"}}]
[{"$f":"VLOOKUP(B2708,Categorias!$A:$B,2,FALSE)","v":{"$error":"#N/A"}}]
[{"$f":"VLOOKUP(B2709,Categorias!$A:$B,2,FALSE)","v":{"$error":"#N/A"}}]
[{"$f":"VLOOKUP(B2710,Categorias!$A:$B,2,FALSE)","v":{"$error":"#N/A"}}]
[{"$f":"VLOOKUP(B2711,Categorias!$A:$B,2,FALSE)","v":{"$error":"#N/A"}}]
[{"$f":"VLOOKUP(B2712,Categorias!$A:$B,2,FALSE)","v":{"$error":"#N/A"}}]
[{"$f":"VLOOKUP(B2713,Categorias!$A:$B,2,FALSE)","v":{"$error":"#N/A"}}]
[{"$f":"VLOOKUP(B2714,Categorias!$A:$B,2,FALSE)","v":{"$error":"#N/A"}}]
[{"$f":"VLOOKUP(B2715,Categorias!$A:$B,2,FALSE)","v":{"$error":"#N/A"}}]
[{"$f":"VLOOKUP(B2716,Categorias!$A:$B,2,FALSE)","v":{"$error":"#N/A"}}]
[{"$f":"VLOOKUP(B2717,Categorias!$A:$B,2,FALSE)","v":{"$error":"#N/A"}}]
[{"$f":"VLOOKUP(B2718,Categorias!$A:$B,2,FALSE)","v":{"$error":"#N/A"}}]
[{"$f":"VLOOKUP(B2719,Categorias!$A:$B,2,FALSE)","v":{"$error":"#N/A"}}]
[{"$f":"VLOOKUP(B2720,Categorias!$A:$B,2,FALSE)","v":{"$error":"#N/A"}}]
[{"$f":"VLOOKUP(B2721,Categorias!$A:$B,2,FALSE)","v":{"$error":"#N/A"}}]
[{"$f":"VLOOKUP(B2722,Categorias!$A:$B,2,FALSE)","v":{"$error":"#N/A"}}]
[{"$f":"VLOOKUP(B2723,Categorias!$A:$B,2,FALSE)","v":{"$error":"#N/A"}}]
[{"$f":"VLOOKUP(B2724,Categorias!$A:$B,2,FALSE)","v":{"$error":"#N/A"}}]
[{"$f":"VLOOKUP(B2725,Categorias!$A:$B,2,FALSE)","v":{"$error":"#N/A"}}]
[{"$f":"VLOOKUP(B2726,Categorias!$A:$B,2,FALSE)","v":{"$error":"#N/A"}}]
[{"$f":"VLOOKUP(B2727,Categorias!$A:$B,2,FALSE)","v":{"$error":"#N/A"}}]
[{"$f":"VLOOKUP(B2728,Categorias!$A:$B,2,FALSE)","v":{"$error":"#N/A"}}]
[{"$f":"VLOOKUP(B2729,Categorias!$A:$B,2,FALSE)","v":{"$error":"#N/A"}}]
[{"$f":"VLOOKUP(B2730,Categorias!$A:$B,2,FALSE)","v":{"$error":"#N/A"}}]
[{"$f":"VLOOKUP(B2731,Categorias!$A:$B,2,FALSE)","v":{"$error":"#N/A"}}]
[{"$f":"VLOOKUP(B2732,Categorias!$A:$B,2,FALSE)","v":{"$error":"#N/A"}}]
[{"$f":"VLOOKUP(B2733,Categorias!$A:$B,2,FALSE)","v":{"$error":"#N/A"}}]
[{"$f":"VLOOKUP(B2734,Categorias!$A:$B,2,FALSE)","v":{"$error":"#N/A"}}]
[{"$f":"VLOOKUP(B2735,Categorias!$A:$B,2,FALSE)","v":{"$error":"#N/A"}}]
[{"$f":"VLOOKUP(B2736,Categorias!$A:$B,2,FALSE)","v":{"$error":"#N/A"}}]
[{"$f":"VLOOKUP(B2737,Categorias!$A:$B,2,FALSE)","v":{"$error":"#N/A"}}]
[{"$f":"VLOOKUP(B2738,Categorias!$A:$B,2,FALSE)","v":{"$error":"#N/A"}}]
[{"$f":"VLOOKUP(B2739,Categorias!$A:$B,2,FALSE)","v":{"$error":"#N/A"}}]
[{"$f":"VLOOKUP(B2740,Categorias!$A:$B,2,FALSE)","v":{"$error":"#N/A"}}]
[{"$f":"VLOOKUP(B2741,Categorias!$A:$B,2,FALSE)","v":{"$error":"#N/A"}}]
[{"$f":"VLOOKUP(B2742,Categorias!$A:$B,2,FALSE)","v":{"$error":"#N/A"}}]
[{"$f":"VLOOKUP(B2743,Categorias!$A:$B,2,FALSE)","v":{"$error":"#N/A"}}]
[{"$f":"VLOOKUP(B2744,Categorias!$A:$B,2,FALSE)","v":{"$error":"#N/A"}}]
[{"$f":"VLOOKUP(B2745,Categorias!$A:$B,2,FALSE)","v":{"$error":"#N/A"}}]
[{"$f":"VLOOKUP(B2746,Categorias!$A:$B,2,FALSE)","v":{"$error":"#N/A"}}]
[{"$f":"VLOOKUP(B2747,Categorias!$A:$B,2,FALSE)","v":{"$error":"#N/A"}}]
[{"$f":"VLOOKUP(B2748,Categorias!$A:$B,2,FALSE)","v":{"$error":"#N/A"}}]
[{"$f":"VLOOKUP(B2749,Categorias!$A:$B,2,FALSE)","v":{"$error":"#N/A"}}]
[{"$f":"VLOOKUP(B2750,Categorias!$A:$B,2,FALSE)","v":{"$error":"#N/A"}}]
[{"$f":"VLOOKUP(B2751,Categorias!$A:$B,2,FALSE)","v":{"$error":"#N/A"}}]
[{"$f":"VLOOKUP(B2752,Categorias!$A:$B,2,FALSE)","v":{"$error":"#N/A"}}]
[{"$f":"VLOOKUP(B2753,Categorias!$A:$B,2,FALSE)","v":{"$error":"#N/A"}}]
[{"$f":"VLOOKUP(B2754,Categorias!$A:$B,2,FALSE)","v":{"$error":"#N/A"}}]
[{"$f":"VLOOKUP(B2755,Categorias!$A:$B,2,FALSE)","v":{"$error":"#N/A"}}]
[{"$f":"VLOOKUP(B2756,Categorias!$A:$B,2,FALSE)","v":{"$error":"#N/A"}}]
[{"$f":"VLOOKUP(B2757,Categorias!$A:$B,2,FALSE)","v":{"$error":"#N/A"}}]
[{"$f":"VLOOKUP(B2758,Categorias!$A:$B,2,FALSE)","v":{"$error":"#N/A"}}]
[{"$f":"VLOOKUP(B2759,Categorias!$A:$B,2,FALSE)","v":{"$error":"#N/A"}}]
[{"$f":"VLOOKUP(B2760,Categorias!$A:$B,2,FALSE)","v":{"$error":"#N/A"}}]
[{"$f":"VLOOKUP(B2761,Categorias!$A:$B,2,FALSE)","v":{"$error":"#N/A"}}]
[{"$f":"VLOOKUP(B2762,Categorias!$A:$B,2,FALSE)","v":{"$error":"#N/A"}}]
[{"$f":"VLOOKUP(B2763,Categorias!$A:$B,2,FALSE)","v":{"$error":"#N/A"}}]
[{"$f":"VLOOKUP(B2764,Categorias!$A:$B,2,FALSE)","v":{"$error":"#N/A"}}]
[{"$f":"VLOOKUP(B2765,Categorias!$A:$B,2,FALSE)","v":{"$error":"#N/A"}}]
[{"$f":"VLOOKUP(B2766,Categorias!$A:$B,2,FALSE)","v":{"$error":"#N/A"}}]
[{"$f":"VLOOKUP(B2767,Categorias!$A:$B,2,FALSE)","v":{"$error":"#N/A"}}]
[{"$f":"VLOOKUP(B2768,Categorias!$A:$B,2,FALSE)","v":{"$error":"#N/A"}}]
[{"$f":"VLOOKUP(B2769,Categorias!$A:$B,2,FALSE)","v":{"$error":"#N/A"}}]
[{"$f":"VLOOKUP(B2770,Categorias!$A:$B,2,FALSE)","v":{"$error":"#N/A"}}]
[{"$f":"VLOOKUP(B2771,Categorias!$A:$B,2,FALSE)","v":{"$error":"#N/A"}}]
[{"$f":"VLOOKUP(B2772,Categorias!$A:$B,2,FALSE)","v":{"$error":"#N/A"}}]
[{"$f":"VLOOKUP(B2773,Categorias!$A:$B,2,FALSE)","v":{"$error":"#N/A"}}]
[{"$f":"VLOOKUP(B2774,Categorias!$A:$B,2,FALSE)","v":{"$error":"#N/A"}}]
[{"$f":"VLOOKUP(B2775,Categorias!$A:$B,2,FALSE)","v":{"$error":"#N/A"}}]
[{"$f":"VLOOKUP(B2776,Categorias!$A:$B,2,FALSE)","v":{"$error":"#N/A"}}]
[{"$f":"VLOOKUP(B2777,Categorias!$A:$B,2,FALSE)","v":{"$error":"#N/A"}}]
[{"$f":"VLOOKUP(B2778,Categorias!$A:$B,2,FALSE)","v":{"$error":"#N/A"}}]
[{"$f":"VLOOKUP(B2779,Categorias!$A:$B,2,FALSE)","v":{"$error":"#N/A"}}]
[{"$f":"VLOOKUP(B2780,Categorias!$A:$B,2,FALSE)","v":{"$error":"#N/A"}}]
[{"$f":"VLOOKUP(B2781,Categorias!$A:$B,2,FALSE)","v":{"$error":"#N/A"}}]
[{"$f":"VLOOKUP(B2782,Categorias!$A:$B,2,FALSE)","v":{"$error":"#N/A"}}]
[{"$f":"VLOOKUP(B2783,Categorias!$A:$B,2,FALSE)","v":{"$error":"#N/A"}}]
[{"$f":"VLOOKUP(B2784,Categorias!$A:$B,2,FALSE)","v":{"$error":"#N/A"}}]
[{"$f":"VLOOKUP(B2785,Categorias!$A:$B,2,FALSE)","v":{"$error":"#N/A"}}]
[{"$f":"VLOOKUP(B2786,Categorias!$A:$B,2,FALSE)","v":{"$error":"#N/A"}}]
[{"$f":"VLOOKUP(B2787,Categorias!$A:$B,2,FALSE)","v":{"$error":"#N/A"}}]
[{"$f":"VLOOKUP(B2788,Categorias!$A:$B,2,FALSE)","v":{"$error":"#N/A"}}]
[{"$f":"VLOOKUP(B2789,Categorias!$A:$B,2,FALSE)","v":{"$error":"#N/A"}}]
[{"$f":"VLOOKUP(B2790,Categorias!$A:$B,2,FALSE)","v":{"$error":"#N/A"}}]
[{"$f":"VLOOKUP(B2791,Categorias!$A:$B,2,FALSE)","v":{"$error":"#N/A"}}]
[{"$f":"VLOOKUP(B2792,Categorias!$A:$B,2,FALSE)","v":{"$error":"#N/A"}}]
[{"$f":"VLOOKUP(B2793,Categorias!$A:$B,2,FALSE)","v":{"$error":"#N/A"}}]
[{"$f":"VLOOKUP(B2794,Categorias!$A:$B,2,FALSE)","v":{"$error":"#N/A"}}]
[{"$f":"VLOOKUP(B2795,Categorias!$A:$B,2,FALSE)","v":{"$error":"#N/A"}}]
[{"$f":"VLOOKUP(B2796,Categorias!$A:$B,2,FALSE)","v":{"$error":"#N/A"}}]
[{"$f":"VLOOKUP(B2797,Categorias!$A:$B,2,FALSE)","v":{"$error":"#N/A"}}]
[{"$f":"VLOOKUP(B2798,Categorias!$A:$B,2,FALSE)","v":{"$error":"#N/A"}}]
[{"$f":"VLOOKUP(B2799,Categorias!$A:$B,2,FALSE)","v":{"$error":"#N/A"}}]
[{"$f":"VLOOKUP(B2800,Categorias!$A:$B,2,FALSE)","v":{"$error":"#N/A"}}]
[{"$f":"VLOOKUP(B2801,Categorias!$A:$B,2,FALSE)","v":{"$error":"#N/A"}}]
[{"$f":"VLOOKUP(B2802,Categorias!$A:$B,2,FALSE)","v":{"$error":"#N/A"}}]
[{"$f":"VLOOKUP(B2803,Categorias!$A:$B,2,FALSE)","v":{"$error":"#N/A"}}]
[{"$f":"VLOOKUP(B2804,Categorias!$A:$B,2,FALSE)","v":{"$error":"#N/A"}}]
[{"$f":"VLOOKUP(B2805,Categorias!$A:$B,2,FALSE)","v":{"$error":"#N/A"}}]
[{"$f":"VLOOKUP(B2806,Categorias!$A:$B,2,FALSE)","v":{"$error":"#N/A"}}]
[{"$f":"VLOOKUP(B2807,Categorias!$A:$B,2,FALSE)","v":{"$error":"#N/A"}}]
[{"$f":"VLOOKUP(B2808,Categorias!$A:$B,2,FALSE)","v":{"$error":"#N/A"}}]
[{"$f":"VLOOKUP(B2809,Categorias!$A:$B,2,FALSE)","v":{"$error":"#N/A"}}]
[{"$f":"VLOOKUP(B2810,Categorias!$A:$B,2,FALSE)","v":{"$error":"#N/A"}}]
[{"$f":"VLOOKUP(B2811,Categorias!$A:$B,2,FALSE)","v":{"$error":"#N/A"}}]
[{"$f":"VLOOKUP(B2812,Categorias!$A:$B,2,FALSE)","v":{"$error":"#N/A"}}]
[{"$f":"VLOOKUP(B2813,Categorias!$A:$B,2,FALSE)","v":{"$error":"#N/A"}}]
[{"$f":"VLOOKUP(B2814,Categorias!$A:$B,2,FALSE)","v":{"$error":"#N/A"}}]
[{"$f":"VLOOKUP(B2815,Categorias!$A:$B,2,FALSE)","v":{"$error":"#N/A"}}]
[{"$f":"VLOOKUP(B2816,Categorias!$A:$B,2,FALSE)","v":{"$error":"#N/A"}}]
[{"$f":"VLOOKUP(B2817,Categorias!$A:$B,2,FALSE)","v":{"$error":"#N/A"}}]
[{"$f":"VLOOKUP(B2818,Categorias!$A:$B,2,FALSE)","v":{"$error":"#N/A"}}]
[{"$f":"VLOOKUP(B2819,Categorias!$A:$B,2,FALSE)","v":{"$error":"#N/A"}}]
[{"$f":"VLOOKUP(B2820,Categorias!$A:$B,2,FALSE)","v":{"$error":"#N/A"}}]
[{"$f":"VLOOKUP(B2821,Categorias!$A:$B,2,FALSE)","v":{"$error":"#N/A"}}]
[{"$f":"VLOOKUP(B2822,Categorias!$A:$B,2,FALSE)","v":{"$error":"#N/A"}}]
[{"$f":"VLOOKUP(B2823,Categorias!$A:$B,2,FALSE)","v":{"$error":"#N/A"}}]
[{"$f":"VLOOKUP(B2824,Categorias!$A:$B,2,FALSE)","v":{"$error":"#N/A"}}]
[{"$f":"VLOOKUP(B2825,Categorias!$A:$B,2,FALSE)","v":{"$error":"#N/A"}}]
[{"$f":"VLOOKUP(B2826,Categorias!$A:$B,2,FALSE)","v":{"$error":"#N/A"}}]
[{"$f":"VLOOKUP(B2827,Categorias!$A:$B,2,FALSE)","v":{"$error":"#N/A"}}]
[{"$f":"VLOOKUP(B2828,Categorias!$A:$B,2,FALSE)","v":{"$error":"#N/A"}}]
[{"$f":"VLOOKUP(B2829,Categorias!$A:$B,2,FALSE)","v":{"$error":"#N/A"}}]
[{"$f":"VLOOKUP(B2830,Categorias!$A:$B,2,FALSE)","v":{"$error":"#N/A"}}]
[{"$f":"VLOOKUP(B2831,Categorias!$A:$B,2,FALSE)","v":{"$error":"#N/A"}}]
[{"$f":"VLOOKUP(B2832,Categorias!$A:$B,2,FALSE)","v":{"$error":"#N/A"}}]
[{"$f":"VLOOKUP(B2833,Categorias!$A:$B,2,FALSE)","v":{"$error":"#N/A"}}]
[{"$f":"VLOOKUP(B2834,Categorias!$A:$B,2,FALSE)","v":{"$error":"#N/A"}}]
[{"$f":"VLOOKUP(B2835,Categorias!$A:$B,2,FALSE)","v":{"$error":"#N/A"}}]
[{"$f":"VLOOKUP(B2836,Categorias!$A:$B,2,FALSE)","v":{"$error":"#N/A"}}]
[{"$f":"VLOOKUP(B2837,Categorias!$A:$B,2,FALSE)","v":{"$error":"#N/A"}}]
[{"$f":"VLOOKUP(B2838,Categorias!$A:$B,2,FALSE)","v":{"$error":"#N/A"}}]
[{"$f":"VLOOKUP(B2839,Categorias!$A:$B,2,FALSE)","v":{"$error":"#N/A"}}]
[{"$f":"VLOOKUP(B2840,Categorias!$A:$B,2,FALSE)","v":{"$error":"#N/A"}}]
[{"$f":"VLOOKUP(B2841,Categorias!$A:$B,2,FALSE)","v":{"$error":"#N/A"}}]
[{"$f":"VLOOKUP(B2842,Categorias!$A:$B,2,FALSE)","v":{"$error":"#N/A"}}]
[{"$f":"VLOOKUP(B2843,Categorias!$A:$B,2,FALSE)","v":{"$error":"#N/A"}}]
[{"$f":"VLOOKUP(B2844,Categorias!$A:$B,2,FALSE)","v":{"$error":"#N/A"}}]
[{"$f":"VLOOKUP(B2845,Categorias!$A:$B,2,FALSE)","v":{"$error":"#N/A"}}]
[{"$f":"VLOOKUP(B2846,Categorias!$A:$B,2,FALSE)","v":{"$error":"#N/A"}}]
[{"$f":"VLOOKUP(B2847,Categorias!$A:$B,2,FALSE)","v":{"$error":"#N/A"}}]
[{"$f":"VLOOKUP(B2848,Categorias!$A:$B,2,FALSE)","v":{"$error":"#N/A"}}]
[{"$f":"VLOOKUP(B2849,Categorias!$A:$B,2,FALSE)","v":{"$error":"#N/A"}}]
[{"$f":"VLOOKUP(B2850,Categorias!$A:$B,2,FALSE)","v":{"$error":"#N/A"}}]
[{"$f":"VLOOKUP(B2851,Categorias!$A:$B,2,FALSE)","v":{"$error":"#N/A"}}]
[{"$f":"VLOOKUP(B2852,Categorias!$A:$B,2,FALSE)","v":{"$error":"#N/A"}}]
[{"$f":"VLOOKUP(B2853,Categorias!$A:$B,2,FALSE)","v":{"$error":"#N/A"}}]
[{"$f":"VLOOKUP(B2854,Categorias!$A:$B,2,FALSE)","v":{"$error":"#N/A"}}]
[{"$f":"VLOOKUP(B2855,Categorias!$A:$B,2,FALSE)","v":{"$error":"#N/A"}}]
[{"$f":"VLOOKUP(B2856,Categorias!$A:$B,2,FALSE)","v":{"$error":"#N/A"}}]
[{"$f":"VLOOKUP(B2857,Categorias!$A:$B,2,FALSE)","v":{"$error":"#N/A"}}]
[{"$f":"VLOOKUP(B2858,Categorias!$A:$B,2,FALSE)","v":{"$error":"#N/A"}}]
[{"$f":"VLOOKUP(B2859,Categorias!$A:$B,2,FALSE)","v":{"$error":"#N/A"}}]
[{"$f":"VLOOKUP(B2860,Categorias!$A:$B,2,FALSE)","v":{"$error":"#N/A"}}]
[{"$f":"VLOOKUP(B2861,Categorias!$A:$B,2,FALSE)","v":{"$error":"#N/A"}}]
[{"$f":"VLOOKUP(B2862,Categorias!$A:$B,2,FALSE)","v":{"$error":"#N/A"}}]
[{"$f":"VLOOKUP(B2863,Categorias!$A:$B,2,FALSE)","v":{"$error":"#N/A"}}]
[{"$f":"VLOOKUP(B2864,Categorias!$A:$B,2,FALSE)","v":{"$error":"#N/A"}}]
[{"$f":"VLOOKUP(B2865,Categorias!$A:$B,2,FALSE)","v":{"$error":"#N/A"}}]
[{"$f":"VLOOKUP(B2866,Categorias!$A:$B,2,FALSE)","v":{"$error":"#N/A"}}]
[{"$f":"VLOOKUP(B2867,Categorias!$A:$B,2,FALSE)","v":{"$error":"#N/A"}}]
[{"$f":"VLOOKUP(B2868,Categorias!$A:$B,2,FALSE)","v":{"$error":"#N/A"}}]
[{"$f":"VLOOKUP(B2869,Categorias!$A:$B,2,FALSE)","v":{"$error":"#N/A"}}]
[{"$f":"VLOOKUP(B2870,Categorias!$A:$B,2,FALSE)","v":{"$error":"#N/A"}}]
[{"$f":"VLOOKUP(B2871,Categorias!$A:$B,2,FALSE)","v":{"$error":"#N/A"}}]
[{"$f":"VLOOKUP(B2872,Categorias!$A:$B,2,FALSE)","v":{"$error":"#N/A"}}]
[{"$f":"VLOOKUP(B2873,Categorias!$A:$B,2,FALSE)","v":{"$error":"#N/A"}}]
[{"$f":"VLOOKUP(B2874,Categorias!$A:$B,2,FALSE)","v":{"$error":"#N/A"}}]
[{"$f":"VLOOKUP(B2875,Categorias!$A:$B,2,FALSE)","v":{"$error":"#N/A"}}]
[{"$f":"VLOOKUP(B2876,Categorias!$A:$B,2,FALSE)","v":{"$error":"#N/A"}}]
[{"$f":"VLOOKUP(B2877,Categorias!$A:$B,2,FALSE)","v":{"$error":"#N/A"}}]
[{"$f":"VLOOKUP(B2878,Categorias!$A:$B,2,FALSE)","v":{"$error":"#N/A"}}]
[{"$f":"VLOOKUP(B2879,Categorias!$A:$B,2,FALSE)","v":{"$error":"#N/A"}}]
[{"$f":"VLOOKUP(B2880,Categorias!$A:$B,2,FALSE)","v":{"$error":"#N/A"}}]
[{"$f":"VLOOKUP(B2881,Categorias!$A:$B,2,FALSE)","v":{"$error":"#N/A"}}]
[{"$f":"VLOOKUP(B2882,Categorias!$A:$B,2,FALSE)","v":{"$error":"#N/A"}}]
[{"$f":"VLOOKUP(B2883,Categorias!$A:$B,2,FALSE)","v":{"$error":"#N/A"}}]
[{"$f":"VLOOKUP(B2884,Categorias!$A:$B,2,FALSE)","v":{"$error":"#N/A"}}]
[{"$f":"VLOOKUP(B2885,Categorias!$A:$B,2,FALSE)","v":{"$error":"#N/A"}}]
[{"$f":"VLOOKUP(B2886,Categorias!$A:$B,2,FALSE)","v":{"$error":"#N/A"}}]
[{"$f":"VLOOKUP(B2887,Categorias!$A:$B,2,FALSE)","v":{"$error":"#N/A"}}]
[{"$f":"VLOOKUP(B2888,Categorias!$A:$B,2,FALSE)","v":{"$error":"#N/A"}}]
[{"$f":"VLOOKUP(B2889,Categorias!$A:$B,2,FALSE)","v":{"$error":"#N/A"}}]
[{"$f":"VLOOKUP(B2890,Categorias!$A:$B,2,FALSE)","v":{"$error":"#N/A"}}]
[{"$f":"VLOOKUP(B2891,Categorias!$A:$B,2,FALSE)","v":{"$error":"#N/A"}}]
[{"$f":"VLOOKUP(B2892,Categorias!$A:$B,2,FALSE)","v":{"$error":"#N/A"}}]
[{"$f":"VLOOKUP(B2893,Categorias!$A:$B,2,FALSE)","v":{"$error":"#N/A"}}]
[{"$f":"VLOOKUP(B2894,Categorias!$A:$B,2,FALSE)","v":{"$error":"#N/A"}}]
[{"$f":"VLOOKUP(B2895,Categorias!$A:$B,2,FALSE)","v":{"$error":"#N/A"}}]
[{"$f":"VLOOKUP(B2896,Categorias!$A:$B,2,FALSE)","v":{"$error":"#N/A"}}]
[{"$f":"VLOOKUP(B2897,Categorias!$A:$B,2,FALSE)","v":{"$error":"#N/A"}}]
[{"$f":"VLOOKUP(B2898,Categorias!$A:$B,2,FALSE)","v":{"$error":"#N/A"}}]
[{"$f":"VLOOKUP(B2899,Categorias!$A:$B,2,FALSE)","v":{"$error":"#N/A"}}]
[{"$f":"VLOOKUP(B2900,Categorias!$A:$B,2,FALSE)","v":{"$error":"#N/A"}}]
[{"$f":"VLOOKUP(B2901,Categorias!$A:$B,2,FALSE)","v":{"$error":"#N/A"}}]
[{"$f":"VLOOKUP(B2902,Categorias!$A:$B,2,FALSE)","v":{"$error":"#N/A"}}]
[{"$f":"VLOOKUP(B2903,Categorias!$A:$B,2,FALSE)","v":{"$error":"#N/A"}}]
[{"$f":"VLOOKUP(B2904,Categorias!$A:$B,2,FALSE)","v":{"$error":"#N/A"}}]
[{"$f":"VLOOKUP(B2905,Categorias!$A:$B,2,FALSE)","v":{"$error":"#N/A"}}]
[{"$f":"VLOOKUP(B2906,Categorias!$A:$B,2,FALSE)","v":{"$error":"#N/A"}}]
[{"$f":"VLOOKUP(B2907,Categorias!$A:$B,2,FALSE)","v":{"$error":"#N/A"}}]
[{"$f":"VLOOKUP(B2908,Categorias!$A:$B,2,FALSE)","v":{"$error":"#N/A"}}]
[{"$f":"VLOOKUP(B2909,Categorias!$A:$B,2,FALSE)","v":{"$error":"#N/A"}}]
[{"$f":"VLOOKUP(B2910,Categorias!$A:$B,2,FALSE)","v":{"$error":"#N/A"}}]
[{"$f":"VLOOKUP(B2911,Categorias!$A:$B,2,FALSE)","v":{"$error":"#N/A"}}]
[{"$f":"VLOOKUP(B2912,Categorias!$A:$B,2,FALSE)","v":{"$error":"#N/A"}}]
[{"$f":"VLOOKUP(B2913,Categorias!$A:$B,2,FALSE)","v":{"$error":"#N/A"}}]
[{"$f":"VLOOKUP(B2914,Categorias!$A:$B,2,FALSE)","v":{"$error":"#N/A"}}]
[{"$f":"VLOOKUP(B2915,Categorias!$A:$B,2,FALSE)","v":{"$error":"#N/A"}}]
[{"$f":"VLOOKUP(B2916,Categorias!$A:$B,2,FALSE)","v":{"$error":"#N/A"}}]
[{"$f":"VLOOKUP(B2917,Categorias!$A:$B,2,FALSE)","v":{"$error":"#N/A"}}]
[{"$f":"VLOOKUP(B2918,Categorias!$A:$B,2,FALSE)","v":{"$error":"#N/A"}}]
[{"$f":"VLOOKUP(B2919,Categorias!$A:$B,2,FALSE)","v":{"$error":"#N/A"}}]
[{"$f":"VLOOKUP(B2920,Categorias!$A:$B,2,FALSE)","v":{"$error":"#N/A"}}]
[{"$f":"VLOOKUP(B2921,Categorias!$A:$B,2,FALSE)","v":{"$error":"#N/A"}}]
[{"$f":"VLOOKUP(B2922,Categorias!$A:$B,2,FALSE)","v":{"$error":"#N/A"}}]
[{"$f":"VLOOKUP(B2923,Categorias!$A:$B,2,FALSE)","v":{"$error":"#N/A"}}]
[{"$f":"VLOOKUP(B2924,Categorias!$A:$B,2,FALSE)","v":{"$error":"#N/A"}}]
[{"$f":"VLOOKUP(B2925,Categorias!$A:$B,2,FALSE)","v":{"$error":"#N/A"}}]
[{"$f":"VLOOKUP(B2926,Categorias!$A:$B,2,FALSE)","v":{"$error":"#N/A"}}]
[{"$f":"VLOOKUP(B2927,Categorias!$A:$B,2,FALSE)","v":{"$error":"#N/A"}}]
[{"$f":"VLOOKUP(B2928,Categorias!$A:$B,2,FALSE)","v":{"$error":"#N/A"}}]
[{"$f":"VLOOKUP(B2929,Categorias!$A:$B,2,FALSE)","v":{"$error":"#N/A"}}]
[{"$f":"VLOOKUP(B2930,Categorias!$A:$B,2,FALSE)","v":{"$error":"#N/A"}}]
[{"$f":"VLOOKUP(B2931,Categorias!$A:$B,2,FALSE)","v":{"$error":"#N/A"}}]
[{"$f":"VLOOKUP(B2932,Categorias!$A:$B,2,FALSE)","v":{"$error":"#N/A"}}]
[{"$f":"VLOOKUP(B2933,Categorias!$A:$B,2,FALSE)","v":{"$error":"#N/A"}}]
[{"$f":"VLOOKUP(B2934,Categorias!$A:$B,2,FALSE)","v":{"$error":"#N/A"}}]
[{"$f":"VLOOKUP(B2935,Categorias!$A:$B,2,FALSE)","v":{"$error":"#N/A"}}]
[{"$f":"VLOOKUP(B2936,Categorias!$A:$B,2,FALSE)","v":{"$error":"#N/A"}}]
[{"$f":"VLOOKUP(B2937,Categorias!$A:$B,2,FALSE)","v":{"$error":"#N/A"}}]
[{"$f":"VLOOKUP(B2938,Categorias!$A:$B,2,FALSE)","v":{"$error":"#N/A"}}]
[{"$f":"VLOOKUP(B2939,Categorias!$A:$B,2,FALSE)","v":{"$error":"#N/A"}}]
[{"$f":"VLOOKUP(B2940,Categorias!$A:$B,2,FALSE)","v":{"$error":"#N/A"}}]
[{"$f":"VLOOKUP(B2941,Categorias!$A:$B,2,FALSE)","v":{"$error":"#N/A"}}]
[{"$f":"VLOOKUP(B2942,Categorias!$A:$B,2,FALSE)","v":{"$error":"#N/A"}}]
[{"$f":"VLOOKUP(B2943,Categorias!$A:$B,2,FALSE)","v":{"$error":"#N/A"}}]
[{"$f":"VLOOKUP(B2944,Categorias!$A:$B,2,FALSE)","v":{"$error":"#N/A"}}]
[{"$f":"VLOOKUP(B2945,Categorias!$A:$B,2,FALSE)","v":{"$error":"#N/A"}}]
[{"$f":"VLOOKUP(B2946,Categorias!$A:$B,2,FALSE)","v":{"$error":"#N/A"}}]
[{"$f":"VLOOKUP(B2947,Categorias!$A:$B,2,FALSE)","v":{"$error":"#N/A"}}]
[{"$f":"VLOOKUP(B2948,Categorias!$A:$B,2,FALSE)","v":{"$error":"#N/A"}}]
[{"$f":"VLOOKUP(B2949,Categorias!$A:$B,2,FALSE)","v":{"$error":"#N/A"}}]
[{"$f":"VLOOKUP(B2950,Categorias!$A:$B,2,FALSE)","v":{"$error":"#N/A"}}]
[{"$f":"VLOOKUP(B2951,Categorias!$A:$B,2,FALSE)","v":{"$error":"#N/A"}}]
[{"$f":"VLOOKUP(B2952,Categorias!$A:$B,2,FALSE)","v":{"$error":"#N/A"}}]
[{"$f":"VLOOKUP(B2953,Categorias!$A:$B,2,FALSE)","v":{"$error":"#N/A"}}]
[{"$f":"VLOOKUP(B2954,Categorias!$A:$B,2,FALSE)","v":{"$error":"#N/A"}}]
[{"$f":"VLOOKUP(B2955,Categorias!$A:$B,2,FALSE)","v":{"$error":"#N/A"}}]
[{"$f":"VLOOKUP(B2956,Categorias!$A:$B,2,FALSE)","v":{"$error":"#N/A"}}]
[{"$f":"VLOOKUP(B2957,Categorias!$A:$B,2,FALSE)","v":{"$error":"#N/A"}}]
[{"$f":"VLOOKUP(B2958,Categorias!$A:$B,2,FALSE)","v":{"$error":"#N/A"}}]
[{"$f":"VLOOKUP(B2959,Categorias!$A:$B,2,FALSE)","v":{"$error":"#N/A"}}]
[{"$f":"VLOOKUP(B2960,Categorias!$A:$B,2,FALSE)","v":{"$error":"#N/A"}}]
[{"$f":"VLOOKUP(B2961,Categorias!$A:$B,2,FALSE)","v":{"$error":"#N/A"}}]
[{"$f":"VLOOKUP(B2962,Categorias!$A:$B,2,FALSE)","v":{"$error":"#N/A"}}]
[{"$f":"VLOOKUP(B2963,Categorias!$A:$B,2,FALSE)","v":{"$error":"#N/A"}}]
[{"$f":"VLOOKUP(B2964,Categorias!$A:$B,2,FALSE)","v":{"$error":"#N/A"}}]
[{"$f":"VLOOKUP(B2965,Categorias!$A:$B,2,FALSE)","v":{"$error":"#N/A"}}]
[{"$f":"VLOOKUP(B2966,Categorias!$A:$B,2,FALSE)","v":{"$error":"#N/A"}}]
[{"$f":"VLOOKUP(B2967,Categorias!$A:$B,2,FALSE)","v":{"$error":"#N/A"}}]
[{"$f":"VLOOKUP(B2968,Categorias!$A:$B,2,FALSE)","v":{"$error":"#N/A"}}]
[{"$f":"VLOOKUP(B2969,Categorias!$A:$B,2,FALSE)","v":{"$error":"#N/A"}}]
[{"$f":"VLOOKUP(B2970,Categorias!$A:$B,2,FALSE)","v":{"$error":"#N/A"}}]
[{"$f":"VLOOKUP(B2971,Categorias!$A:$B,2,FALSE)","v":{"$error":"#N/A"}}]
[{"$f":"VLOOKUP(B2972,Categorias!$A:$B,2,FALSE)","v":{"$error":"#N/A"}}]
[{"$f":"VLOOKUP(B2973,Categorias!$A:$B,2,FALSE)","v":{"$error":"#N/A"}}]
[{"$f":"VLOOKUP(B2974,Categorias!$A:$B,2,FALSE)","v":{"$error":"#N/A"}}]
[{"$f":"VLOOKUP(B2975,Categorias!$A:$B,2,FALSE)","v":{"$error":"#N/A"}}]
[{"$f":"VLOOKUP(B2976,Categorias!$A:$B,2,FALSE)","v":{"$error":"#N/A"}}]
[{"$f":"VLOOKUP(B2977,Categorias!$A:$B,2,FALSE)","v":{"$error":"#N/A"}}]
[{"$f":"VLOOKUP(B2978,Categorias!$A:$B,2,FALSE)","v":{"$error":"#N/A"}}]
[{"$f":"VLOOKUP(B2979,Categorias!$A:$B,2,FALSE)","v":{"$error":"#N/A"}}]
[{"$f":"VLOOKUP(B2980,Categorias!$A:$B,2,FALSE)","v":{"$error":"#N/A"}}]
[{"$f":"VLOOKUP(B2981,Categorias!$A:$B,2,FALSE)","v":{"$error":"#N/A"}}]
[{"$f":"VLOOKUP(B2982,Categorias!$A:$B,2,FALSE)","v":{"$error":"#N/A"}}]
[{"$f":"VLOOKUP(B2983,Categorias!$A:$B,2,FALSE)","v":{"$error":"#N/A"}}]
[{"$f":"VLOOKUP(B2984,Categorias!$A:$B,2,FALSE)","v":{"$error":"#N/A"}}]
[{"$f":"VLOOKUP(B2985,Categorias!$A:$B,2,FALSE)","v":{"$error":"#N/A"}}]
[{"$f":"VLOOKUP(B2986,Categorias!$A:$B,2,FALSE)","v":{"$error":"#N/A"}}]
[{"$f":"VLOOKUP(B2987,Categorias!$A:$B,2,FALSE)","v":{"$error":"#N/A"}}]
[{"$f":"VLOOKUP(B2988,Categorias!$A:$B,2,FALSE)","v":{"$error":"#N/A"}}]
[{"$f":"VLOOKUP(B2989,Categorias!$A:$B,2,FALSE)","v":{"$error":"#N/A"}}]
[{"$f":"VLOOKUP(B2990,Categorias!$A:$B,2,FALSE)","v":{"$error":"#N/A"}}]
[{"$f":"VLOOKUP(B2991,Categorias!$A:$B,2,FALSE)","v":{"$error":"#N/A"}}]
[{"$f":"VLOOKUP(B2992,Categorias!$A:$B,2,FALSE)","v":{"$error":"#N/A"}}]
[{"$f":"VLOOKUP(B2993,Categorias!$A:$B,2,FALSE)","v":{"$error":"#N/A"}}]
[{"$f":"VLOOKUP(B2994,Categorias!$A:$B,2,FALSE)","v":{"$error":"#N/A"}}]
[{"$f":"VLOOKUP(B2995,Categorias!$A:$B,2,FALSE)","v":{"$error":"#N/A"}}]
[{"$f":"VLOOKUP(B2996,Categorias!$A:$B,2,FALSE)","v":{"$error":"#N/A"}}]
[{"$f":"VLOOKUP(B2997,Categorias!$A:$B,2,FALSE)","v":{"$error":"#N/A"}}]
[{"$f":"VLOOKUP(B2998,Categorias!$A:$B,2,FALSE)","v":{"$error":"#N/A"}}]
[{"$f":"VLOOKUP(B2999,Categorias!$A:$B,2,FALSE)","v":{"$error":"#N/A"}}]
[{"$f":"VLOOKUP(B3000,Categorias!$A:$B,2,FALSE)","v":{"$error":"#N/A"}}]
[{"$f":"VLOOKUP(B3001,Categorias!$A:$B,2,FALSE)","v":{"$error":"#N/A"}}]
[{"$f":"VLOOKUP(B3002,Categorias!$A:$B,2,FALSE)","v":{"$error":"#N/A"}}]
[{"$f":"VLOOKUP(B3003,Categorias!$A:$B,2,FALSE)","v":{"$error":"#N/A"}}]
[{"$f":"VLOOKUP(B3004,Categorias!$A:$B,2,FALSE)","v":{"$error":"#N/A"}}]
[{"$f":"VLOOKUP(B3005,Categorias!$A:$B,2,FALSE)","v":{"$error":"#N/A"}}]
[{"$f":"VLOOKUP(B3006,Categorias!$A:$B,2,FALSE)","v":{"$error":"#N/A"}}]
[{"$f":"VLOOKUP(B3007,Categorias!$A:$B,2,FALSE)","v":{"$error":"#N/A"}}]
[{"$f":"VLOOKUP(B3008,Categorias!$A:$B,2,FALSE)","v":{"$error":"#N/A"}}]
[{"$f":"VLOOKUP(B3009,Categorias!$A:$B,2,FALSE)","v":{"$error":"#N/A"}}]
[{"$f":"VLOOKUP(B3010,Categorias!$A:$B,2,FALSE)","v":{"$error":"#N/A"}}]
[{"$f":"VLOOKUP(B3011,Categorias!$A:$B,2,FALSE)","v":{"$error":"#N/A"}}]
[{"$f":"VLOOKUP(B3012,Categorias!$A:$B,2,FALSE)","v":{"$error":"#N/A"}}]
[{"$f":"VLOOKUP(B3013,Categorias!$A:$B,2,FALSE)","v":{"$error":"#N/A"}}]
[{"$f":"VLOOKUP(B3014,Categorias!$A:$B,2,FALSE)","v":{"$error":"#N/A"}}]
[{"$f":"VLOOKUP(B3015,Categorias!$A:$B,2,FALSE)","v":{"$error":"#N/A"}}]
[{"$f":"VLOOKUP(B3016,Categorias!$A:$B,2,FALSE)","v":{"$error":"#N/A"}}]
[{"$f":"VLOOKUP(B3017,Categorias!$A:$B,2,FALSE)","v":{"$error":"#N/A"}}]
[{"$f":"VLOOKUP(B3018,Categorias!$A:$B,2,FALSE)","v":{"$error":"#N/A"}}]
[{"$f":"VLOOKUP(B3019,Categorias!$A:$B,2,FALSE)","v":{"$error":"#N/A"}}]
[{"$f":"VLOOKUP(B3020,Categorias!$A:$B,2,FALSE)","v":{"$error":"#N/A"}}]
[{"$f":"VLOOKUP(B3021,Categorias!$A:$B,2,FALSE)","v":{"$error":"#N/A"}}]
[{"$f":"VLOOKUP(B3022,Categorias!$A:$B,2,FALSE)","v":{"$error":"#N/A"}}]
[{"$f":"VLOOKUP(B3023,Categorias!$A:$B,2,FALSE)","v":{"$error":"#N/A"}}]
[{"$f":"VLOOKUP(B3024,Categorias!$A:$B,2,FALSE)","v":{"$error":"#N/A"}}]
[{"$f":"VLOOKUP(B3025,Categorias!$A:$B,2,FALSE)","v":{"$error":"#N/A"}}]
[{"$f":"VLOOKUP(B3026,Categorias!$A:$B,2,FALSE)","v":{"$error":"#N/A"}}]
[{"$f":"VLOOKUP(B3027,Categorias!$A:$B,2,FALSE)","v":{"$error":"#N/A"}}]
[{"$f":"VLOOKUP(B3028,Categorias!$A:$B,2,FALSE)","v":{"$error":"#N/A"}}]
[{"$f":"VLOOKUP(B3029,Categorias!$A:$B,2,FALSE)","v":{"$error":"#N/A"}}]
[{"$f":"VLOOKUP(B3030,Categorias!$A:$B,2,FALSE)","v":{"$error":"#N/A"}}]
[{"$f":"VLOOKUP(B3031,Categorias!$A:$B,2,FALSE)","v":{"$error":"#N/A"}}]
[{"$f":"VLOOKUP(B3032,Categorias!$A:$B,2,FALSE)","v":{"$error":"#N/A"}}]
[{"$f":"VLOOKUP(B3033,Categorias!$A:$B,2,FALSE)","v":{"$error":"#N/A"}}]
[{"$f":"VLOOKUP(B3034,Categorias!$A:$B,2,FALSE)","v":{"$error":"#N/A"}}]
[{"$f":"VLOOKUP(B3035,Categorias!$A:$B,2,FALSE)","v":{"$error":"#N/A"}}]
[{"$f":"VLOOKUP(B3036,Categorias!$A:$B,2,FALSE)","v":{"$error":"#N/A"}}]
[{"$f":"VLOOKUP(B3037,Categorias!$A:$B,2,FALSE)","v":{"$error":"#N/A"}}]
[{"$f":"VLOOKUP(B3038,Categorias!$A:$B,2,FALSE)","v":{"$error":"#N/A"}}]
[{"$f":"VLOOKUP(B3039,Categorias!$A:$B,2,FALSE)","v":{"$error":"#N/A"}}]
[{"$f":"VLOOKUP(B3040,Categorias!$A:$B,2,FALSE)","v":{"$error":"#N/A"}}]
[{"$f":"VLOOKUP(B3041,Categorias!$A:$B,2,FALSE)","v":{"$error":"#N/A"}}]
[{"$f":"VLOOKUP(B3042,Categorias!$A:$B,2,FALSE)","v":{"$error":"#N/A"}}]
[{"$f":"VLOOKUP(B3043,Categorias!$A:$B,2,FALSE)","v":{"$error":"#N/A"}}]
[{"$f":"VLOOKUP(B3044,Categorias!$A:$B,2,FALSE)","v":{"$error":"#N/A"}}]
[{"$f":"VLOOKUP(B3045,Categorias!$A:$B,2,FALSE)","v":{"$error":"#N/A"}}]
[{"$f":"VLOOKUP(B3046,Categorias!$A:$B,2,FALSE)","v":{"$error":"#N/A"}}]
[{"$f":"VLOOKUP(B3047,Categorias!$A:$B,2,FALSE)","v":{"$error":"#N/A"}}]
[{"$f":"VLOOKUP(B3048,Categorias!$A:$B,2,FALSE)","v":{"$error":"#N/A"}}]
[{"$f":"VLOOKUP(B3049,Categorias!$A:$B,2,FALSE)","v":{"$error":"#N/A"}}]
[{"$f":"VLOOKUP(B3050,Categorias!$A:$B,2,FALSE)","v":{"$error":"#N/A"}}]
[{"$f":"VLOOKUP(B3051,Categorias!$A:$B,2,FALSE)","v":{"$error":"#N/A"}}]
[{"$f":"VLOOKUP(B3052,Categorias!$A:$B,2,FALSE)","v":{"$error":"#N/A"}}]
[{"$f":"VLOOKUP(B3053,Categorias!$A:$B,2,FALSE)","v":{"$error":"#N/A"}}]
[{"$f":"VLOOKUP(B3054,Categorias!$A:$B,2,FALSE)","v":{"$error":"#N/A"}}]
[{"$f":"VLOOKUP(B3055,Categorias!$A:$B,2,FALSE)","v":{"$error":"#N/A"}}]
[{"$f":"VLOOKUP(B3056,Categorias!$A:$B,2,FALSE)","v":{"$error":"#N/A"}}]
[{"$f":"VLOOKUP(B3057,Categorias!$A:$B,2,FALSE)","v":{"$error":"#N/A"}}]
[{"$f":"VLOOKUP(B3058,Categorias!$A:$B,2,FALSE)","v":{"$error":"#N/A"}}]
[{"$f":"VLOOKUP(B3059,Categorias!$A:$B,2,FALSE)","v":{"$error":"#N/A"}}]
[{"$f":"VLOOKUP(B3060,Categorias!$A:$B,2,FALSE)","v":{"$error":"#N/A"}}]
[{"$f":"VLOOKUP(B3061,Categorias!$A:$B,2,FALSE)","v":{"$error":"#N/A"}}]
[{"$f":"VLOOKUP(B3062,Categorias!$A:$B,2,FALSE)","v":{"$error":"#N/A"}}]
[{"$f":"VLOOKUP(B3063,Categorias!$A:$B,2,FALSE)","v":{"$error":"#N/A"}}]
[{"$f":"VLOOKUP(B3064,Categorias!$A:$B,2,FALSE)","v":{"$error":"#N/A"}}]
[{"$f":"VLOOKUP(B3065,Categorias!$A:$B,2,FALSE)","v":{"$error":"#N/A"}}]
[{"$f":"VLOOKUP(B3066,Categorias!$A:$B,2,FALSE)","v":{"$error":"#N/A"}}]
[{"$f":"VLOOKUP(B3067,Categorias!$A:$B,2,FALSE)","v":{"$error":"#N/A"}}]
[{"$f":"VLOOKUP(B3068,Categorias!$A:$B,2,FALSE)","v":{"$error":"#N/A"}}]
[{"$f":"VLOOKUP(B3069,Categorias!$A:$B,2,FALSE)","v":{"$error":"#N/A"}}]
[{"$f":"VLOOKUP(B3070,Categorias!$A:$B,2,FALSE)","v":{"$error":"#N/A"}}]
[{"$f":"VLOOKUP(B3071,Categorias!$A:$B,2,FALSE)","v":{"$error":"#N/A"}}]
[{"$f":"VLOOKUP(B3072,Categorias!$A:$B,2,FALSE)","v":{"$error":"#N/A"}}]
[{"$f":"VLOOKUP(B3073,Categorias!$A:$B,2,FALSE)","v":{"$error":"#N/A"}}]
[{"$f":"VLOOKUP(B3074,Categorias!$A:$B,2,FALSE)","v":{"$error":"#N/A"}}]
[{"$f":"VLOOKUP(B3075,Categorias!$A:$B,2,FALSE)","v":{"$error":"#N/A"}}]
[{"$f":"VLOOKUP(B3076,Categorias!$A:$B,2,FALSE)","v":{"$error":"#N/A"}}]
[{"$f":"VLOOKUP(B3077,Categorias!$A:$B,2,FALSE)","v":{"$error":"#N/A"}}]
[{"$f":"VLOOKUP(B3078,Categorias!$A:$B,2,FALSE)","v":{"$error":"#N/A"}}]
[{"$f":"VLOOKUP(B3079,Categorias!$A:$B,2,FALSE)","v":{"$error":"#N/A"}}]
[{"$f":"VLOOKUP(B3080,Categorias!$A:$B,2,FALSE)","v":{"$error":"#N/A"}}]
[{"$f":"VLOOKUP(B3081,Categorias!$A:$B,2,FALSE)","v":{"$error":"#N/A"}}]
[{"$f":"VLOOKUP(B3082,Categorias!$A:$B,2,FALSE)","v":{"$error":"#N/A"}}]
[{"$f":"VLOOKUP(B3083,Categorias!$A:$B,2,FALSE)","v":{"$error":"#N/A"}}]
[{"$f":"VLOOKUP(B3084,Categorias!$A:$B,2,FALSE)","v":{"$error":"#N/A"}}]
[{"$f":"VLOOKUP(B3085,Categorias!$A:$B,2,FALSE)","v":{"$error":"#N/A"}}]
[{"$f":"VLOOKUP(B3086,Categorias!$A:$B,2,FALSE)","v":{"$error":"#N/A"}}]
[{"$f":"VLOOKUP(B3087,Categorias!$A:$B,2,FALSE)","v":{"$error":"#N/A"}}]
[{"$f":"VLOOKUP(B3088,Categorias!$A:$B,2,FALSE)","v":{"$error":"#N/A"}}]
[{"$f":"VLOOKUP(B3089,Categorias!$A:$B,2,FALSE)","v":{"$error":"#N/A"}}]
[{"$f":"VLOOKUP(B3090,Categorias!$A:$B,2,FALSE)","v":{"$error":"#N/A"}}]
[{"$f":"VLOOKUP(B3091,Categorias!$A:$B,2,FALSE)","v":{"$error":"#N/A"}}]
[{"$f":"VLOOKUP(B3092,Categorias!$A:$B,2,FALSE)","v":{"$error":"#N/A"}}]
[{"$f":"VLOOKUP(B3093,Categorias!$A:$B,2,FALSE)","v":{"$error":"#N/A"}}]
[{"$f":"VLOOKUP(B3094,Categorias!$A:$B,2,FALSE)","v":{"$error":"#N/A"}}]
[{"$f":"VLOOKUP(B3095,Categorias!$A:$B,2,FALSE)","v":{"$error":"#N/A"}}]
[{"$f":"VLOOKUP(B3096,Categorias!$A:$B,2,FALSE)","v":{"$error":"#N/A"}}]
[{"$f":"VLOOKUP(B3097,Categorias!$A:$B,2,FALSE)","v":{"$error":"#N/A"}}]
[{"$f":"VLOOKUP(B3098,Categorias!$A:$B,2,FALSE)","v":{"$error":"#N/A"}}]
[{"$f":"VLOOKUP(B3099,Categorias!$A:$B,2,FALSE)","v":{"$error":"#N/A"}}]
[{"$f":"VLOOKUP(B3100,Categorias!$A:$B,2,FALSE)","v":{"$error":"#N/A"}}]
[{"$f":"VLOOKUP(B3101,Categorias!$A:$B,2,FALSE)","v":{"$error":"#N/A"}}]
[{"$f":"VLOOKUP(B3102,Categorias!$A:$B,2,FALSE)","v":{"$error":"#N/A"}}]
[{"$f":"VLOOKUP(B3103,Categorias!$A:$B,2,FALSE)","v":{"$error":"#N/A"}}]
[{"$f":"VLOOKUP(B3104,Categorias!$A:$B,2,FALSE)","v":{"$error":"#N/A"}}]
[{"$f":"VLOOKUP(B3105,Categorias!$A:$B,2,FALSE)","v":{"$error":"#N/A"}}]
[{"$f":"VLOOKUP(B3106,Categorias!$A:$B,2,FALSE)","v":{"$error":"#N/A"}}]
[{"$f":"VLOOKUP(B3107,Categorias!$A:$B,2,FALSE)","v":{"$error":"#N/A"}}]
[{"$f":"VLOOKUP(B3108,Categorias!$A:$B,2,FALSE)","v":{"$error":"#N/A"}}]
[{"$f":"VLOOKUP(B3109,Categorias!$A:$B,2,FALSE)","v":{"$error":"#N/A"}}]
[{"$f":"VLOOKUP(B3110,Categorias!$A:$B,2,FALSE)","v":{"$error":"#N/A"}}]
[{"$f":"VLOOKUP(B3111,Categorias!$A:$B,2,FALSE)","v":{"$error":"#N/A"}}]
[{"$f":"VLOOKUP(B3112,Categorias!$A:$B,2,FALSE)","v":{"$error":"#N/A"}}]
[{"$f":"VLOOKUP(B3113,Categorias!$A:$B,2,FALSE)","v":{"$error":"#N/A"}}]
[{"$f":"VLOOKUP(B3114,Categorias!$A:$B,2,FALSE)","v":{"$error":"#N/A"}}]
[{"$f":"VLOOKUP(B3115,Categorias!$A:$B,2,FALSE)","v":{"$error":"#N/A"}}]
[{"$f":"VLOOKUP(B3116,Categorias!$A:$B,2,FALSE)","v":{"$error":"#N/A"}}]
[{"$f":"VLOOKUP(B3117,Categorias!$A:$B,2,FALSE)","v":{"$error":"#N/A"}}]
[{"$f":"VLOOKUP(B3118,Categorias!$A:$B,2,FALSE)","v":{"$error":"#N/A"}}]
[{"$f":"VLOOKUP(B3119,Categorias!$A:$B,2,FALSE)","v":{"$error":"#N/A"}}]
[{"$f":"VLOOKUP(B3120,Categorias!$A:$B,2,FALSE)","v":{"$error":"#N/A"}}]
[{"$f":"VLOOKUP(B3121,Categorias!$A:$B,2,FALSE)","v":{"$error":"#N/A"}}]
[{"$f":"VLOOKUP(B3122,Categorias!$A:$B,2,FALSE)","v":{"$error":"#N/A"}}]
[{"$f":"VLOOKUP(B3123,Categorias!$A:$B,2,FALSE)","v":{"$error":"#N/A"}}]
[{"$f":"VLOOKUP(B3124,Categorias!$A:$B,2,FALSE)","v":{"$error":"#N/A"}}]
[{"$f":"VLOOKUP(B3125,Categorias!$A:$B,2,FALSE)","v":{"$error":"#N/A"}}]
[{"$f":"VLOOKUP(B3126,Categorias!$A:$B,2,FALSE)","v":{"$error":"#N/A"}}]
[{"$f":"VLOOKUP(B3127,Categorias!$A:$B,2,FALSE)","v":{"$error":"#N/A"}}]
[{"$f":"VLOOKUP(B3128,Categorias!$A:$B,2,FALSE)","v":{"$error":"#N/A"}}]
[{"$f":"VLOOKUP(B3129,Categorias!$A:$B,2,FALSE)","v":{"$error":"#N/A"}}]
[{"$f":"VLOOKUP(B3130,Categorias!$A:$B,2,FALSE)","v":{"$error":"#N/A"}}]
[{"$f":"VLOOKUP(B3131,Categorias!$A:$B,2,FALSE)","v":{"$error":"#N/A"}}]
[{"$f":"VLOOKUP(B3132,Categorias!$A:$B,2,FALSE)","v":{"$error":"#N/A"}}]
[{"$f":"VLOOKUP(B3133,Categorias!$A:$B,2,FALSE)","v":{"$error":"#N/A"}}]
[{"$f":"VLOOKUP(B3134,Categorias!$A:$B,2,FALSE)","v":{"$error":"#N/A"}}]
[{"$f":"VLOOKUP(B3135,Categorias!$A:$B,2,FALSE)","v":{"$error":"#N/A"}}]
[{"$f":"VLOOKUP(B3136,Categorias!$A:$B,2,FALSE)","v":{"$error":"#N/A"}}]
[{"$f":"VLOOKUP(B3137,Categorias!$A:$B,2,FALSE)","v":{"$error":"#N/A"}}]
[{"$f":"VLOOKUP(B3138,Categorias!$A:$B,2,FALSE)","v":{"$error":"#N/A"}}]
[{"$f":"VLOOKUP(B3139,Categorias!$A:$B,2,FALSE)","v":{"$error":"#N/A"}}]
[{"$f":"VLOOKUP(B3140,Categorias!$A:$B,2,FALSE)","v":{"$error":"#N/A"}}]
[{"$f":"VLOOKUP(B3141,Categorias!$A:$B,2,FALSE)","v":{"$error":"#N/A"}}]
[{"$f":"VLOOKUP(B3142,Categorias!$A:$B,2,FALSE)","v":{"$error":"#N/A"}}]
[{"$f":"VLOOKUP(B3143,Categorias!$A:$B,2,FALSE)","v":{"$error":"#N/A"}}]
[{"$f":"VLOOKUP(B3144,Categorias!$A:$B,2,FALSE)","v":{"$error":"#N/A"}}]
[{"$f":"VLOOKUP(B3145,Categorias!$A:$B,2,FALSE)","v":{"$error":"#N/A"}}]
[{"$f":"VLOOKUP(B3146,Categorias!$A:$B,2,FALSE)","v":{"$error":"#N/A"}}]
[{"$f":"VLOOKUP(B3147,Categorias!$A:$B,2,FALSE)","v":{"$error":"#N/A"}}]
[{"$f":"VLOOKUP(B3148,Categorias!$A:$B,2,FALSE)","v":{"$error":"#N/A"}}]
[{"$f":"VLOOKUP(B3149,Categorias!$A:$B,2,FALSE)","v":{"$error":"#N/A"}}]
[{"$f":"VLOOKUP(B3150,Categorias!$A:$B,2,FALSE)","v":{"$error":"#N/A"}}]
[{"$f":"VLOOKUP(B3151,Categorias!$A:$B,2,FALSE)","v":{"$error":"#N/A"}}]
[{"$f":"VLOOKUP(B3152,Categorias!$A:$B,2,FALSE)","v":{"$error":"#N/A"}}]
[{"$f":"VLOOKUP(B3153,Categorias!$A:$B,2,FALSE)","v":{"$error":"#N/A"}}]
[{"$f":"VLOOKUP(B3154,Categorias!$A:$B,2,FALSE)","v":{"$error":"#N/A"}}]
[{"$f":"VLOOKUP(B3155,Categorias!$A:$B,2,FALSE)","v":{"$error":"#N/A"}}]
[{"$f":"VLOOKUP(B3156,Categorias!$A:$B,2,FALSE)","v":{"$error":"#N/A"}}]
[{"$f":"VLOOKUP(B3157,Categorias!$A:$B,2,FALSE)","v":{"$error":"#N/A"}}]
[{"$f":"VLOOKUP(B3158,Categorias!$A:$B,2,FALSE)","v":{"$error":"#N/A"}}]
[{"$f":"VLOOKUP(B3159,Categorias!$A:$B,2,FALSE)","v":{"$error":"#N/A"}}]
[{"$f":"VLOOKUP(B3160,Categorias!$A:$B,2,FALSE)","v":{"$error":"#N/A"}}]
[{"$f":"VLOOKUP(B3161,Categorias!$A:$B,2,FALSE)","v":{"$error":"#N/A"}}]
[{"$f":"VLOOKUP(B3162,Categorias!$A:$B,2,FALSE)","v":{"$error":"#N/A"}}]
[{"$f":"VLOOKUP(B3163,Categorias!$A:$B,2,FALSE)","v":{"$error":"#N/A"}}]
[{"$f":"VLOOKUP(B3164,Categorias!$A:$B,2,FALSE)","v":{"$error":"#N/A"}}]
[{"$f":"VLOOKUP(B3165,Categorias!$A:$B,2,FALSE)","v":{"$error":"#N/A"}}]
[{"$f":"VLOOKUP(B3166,Categorias!$A:$B,2,FALSE)","v":{"$error":"#N/A"}}]
[{"$f":"VLOOKUP(B3167,Categorias!$A:$B,2,FALSE)","v":{"$error":"#N/A"}}]
[{"$f":"VLOOKUP(B3168,Categorias!$A:$B,2,FALSE)","v":{"$error":"#N/A"}}]
[{"$f":"VLOOKUP(B3169,Categorias!$A:$B,2,FALSE)","v":{"$error":"#N/A"}}]
[{"$f":"VLOOKUP(B3170,Categorias!$A:$B,2,FALSE)","v":{"$error":"#N/A"}}]
[{"$f":"VLOOKUP(B3171,Categorias!$A:$B,2,FALSE)","v":{"$error":"#N/A"}}]
[{"$f":"VLOOKUP(B3172,Categorias!$A:$B,2,FALSE)","v":{"$error":"#N/A"}}]
[{"$f":"VLOOKUP(B3173,Categorias!$A:$B,2,FALSE)","v":{"$error":"#N/A"}}]
[{"$f":"VLOOKUP(B3174,Categorias!$A:$B,2,FALSE)","v":{"$error":"#N/A"}}]
[{"$f":"VLOOKUP(B3175,Categorias!$A:$B,2,FALSE)","v":{"$error":"#N/A"}}]
[{"$f":"VLOOKUP(B3176,Categorias!$A:$B,2,FALSE)","v":{"$error":"#N/A"}}]
[{"$f":"VLOOKUP(B3177,Categorias!$A:$B,2,FALSE)","v":{"$error":"#N/A"}}]
[{"$f":"VLOOKUP(B3178,Categorias!$A:$B,2,FALSE)","v":{"$error":"#N/A"}}]
[{"$f":"VLOOKUP(B3179,Categorias!$A:$B,2,FALSE)","v":{"$error":"#N/A"}}]
[{"$f":"VLOOKUP(B3180,Categorias!$A:$B,2,FALSE)","v":{"$error":"#N/A"}}]
[{"$f":"VLOOKUP(B3181,Categorias!$A:$B,2,FALSE)","v":{"$error":"#N/A"}}]
[{"$f":"VLOOKUP(B3182,Categorias!$A:$B,2,FALSE)","v":{"$error":"#N/A"}}]
[{"$f":"VLOOKUP(B3183,Categorias!$A:$B,2,FALSE)","v":{"$error":"#N/A"}}]
[{"$f":"VLOOKUP(B3184,Categorias!$A:$B,2,FALSE)","v":{"$error":"#N/A"}}]
[{"$f":"VLOOKUP(B3185,Categorias!$A:$B,2,FALSE)","v":{"$error":"#N/A"}}]
[{"$f":"VLOOKUP(B3186,Categorias!$A:$B,2,FALSE)","v":{"$error":"#N/A"}}]
[{"$f":"VLOOKUP(B3187,Categorias!$A:$B,2,FALSE)","v":{"$error":"#N/A"}}]
[{"$f":"VLOOKUP(B3188,Categorias!$A:$B,2,FALSE)","v":{"$error":"#N/A"}}]
[{"$f":"VLOOKUP(B3189,Categorias!$A:$B,2,FALSE)","v":{"$error":"#N/A"}}]
[{"$f":"VLOOKUP(B3190,Categorias!$A:$B,2,FALSE)","v":{"$error":"#N/A"}}]
[{"$f":"VLOOKUP(B3191,Categorias!$A:$B,2,FALSE)","v":{"$error":"#N/A"}}]
[{"$f":"VLOOKUP(B3192,Categorias!$A:$B,2,FALSE)","v":{"$error":"#N/A"}}]
[{"$f":"VLOOKUP(B3193,Categorias!$A:$B,2,FALSE)","v":{"$error":"#N/A"}}]
[{"$f":"VLOOKUP(B3194,Categorias!$A:$B,2,FALSE)","v":{"$error":"#N/A"}}]
[{"$f":"VLOOKUP(B3195,Categorias!$A:$B,2,FALSE)","v":{"$error":"#N/A"}}]
[{"$f":"VLOOKUP(B3196,Categorias!$A:$B,2,FALSE)","v":{"$error":"#N/A"}}]
[{"$f":"VLOOKUP(B3197,Categorias!$A:$B,2,FALSE)","v":{"$error":"#N/A"}}]
[{"$f":"VLOOKUP(B3198,Categorias!$A:$B,2,FALSE)","v":{"$error":"#N/A"}}]
[{"$f":"VLOOKUP(B3199,Categorias!$A:$B,2,FALSE)","v":{"$error":"#N/A"}}]
[{"$f":"VLOOKUP(B3200,Categorias!$A:$B,2,FALSE)","v":{"$error":"#N/A"}}]
[{"$f":"VLOOKUP(B3201,Categorias!$A:$B,2,FALSE)","v":{"$error":"#N/A"}}]
[{"$f":"VLOOKUP(B3202,Categorias!$A:$B,2,FALSE)","v":{"$error":"#N/A"}}]
[{"$f":"VLOOKUP(B3203,Categorias!$A:$B,2,FALSE)","v":{"$error":"#N/A"}}]
[{"$f":"VLOOKUP(B3204,Categorias!$A:$B,2,FALSE)","v":{"$error":"#N/A"}}]
[{"$f":"VLOOKUP(B3205,Categorias!$A:$B,2,FALSE)","v":{"$error":"#N/A"}}]
[{"$f":"VLOOKUP(B3206,Categorias!$A:$B,2,FALSE)","v":{"$error":"#N/A"}}]
[{"$f":"VLOOKUP(B3207,Categorias!$A:$B,2,FALSE)","v":{"$error":"#N/A"}}]
[{"$f":"VLOOKUP(B3208,Categorias!$A:$B,2,FALSE)","v":{"$error":"#N/A"}}]
[{"$f":"VLOOKUP(B3209,Categorias!$A:$B,2,FALSE)","v":{"$error":"#N/A"}}]
[{"$f":"VLOOKUP(B3210,Categorias!$A:$B,2,FALSE)","v":{"$error":"#N/A"}}]
[{"$f":"VLOOKUP(B3211,Categorias!$A:$B,2,FALSE)","v":{"$error":"#N/A"}}]
[{"$f":"VLOOKUP(B3212,Categorias!$A:$B,2,FALSE)","v":{"$error":"#N/A"}}]
[{"$f":"VLOOKUP(B3213,Categorias!$A:$B,2,FALSE)","v":{"$error":"#N/A"}}]
[{"$f":"VLOOKUP(B3214,Categorias!$A:$B,2,FALSE)","v":{"$error":"#N/A"}}]
[{"$f":"VLOOKUP(B3215,Categorias!$A:$B,2,FALSE)","v":{"$error":"#N/A"}}]
[{"$f":"VLOOKUP(B3216,Categorias!$A:$B,2,FALSE)","v":{"$error":"#N/A"}}]
[{"$f":"VLOOKUP(B3217,Categorias!$A:$B,2,FALSE)","v":{"$error":"#N/A"}}]
[{"$f":"VLOOKUP(B3218,Categorias!$A:$B,2,FALSE)","v":{"$error":"#N/A"}}]
[{"$f":"VLOOKUP(B3219,Categorias!$A:$B,2,FALSE)","v":{"$error":"#N/A"}}]
[{"$f":"VLOOKUP(B3220,Categorias!$A:$B,2,FALSE)","v":{"$error":"#N/A"}}]
[{"$f":"VLOOKUP(B3221,Categorias!$A:$B,2,FALSE)","v":{"$error":"#N/A"}}]
[{"$f":"VLOOKUP(B3222,Categorias!$A:$B,2,FALSE)","v":{"$error":"#N/A"}}]
[{"$f":"VLOOKUP(B3223,Categorias!$A:$B,2,FALSE)","v":{"$error":"#N/A"}}]
[{"$f":"VLOOKUP(B3224,Categorias!$A:$B,2,FALSE)","v":{"$error":"#N/A"}}]
[{"$f":"VLOOKUP(B3225,Categorias!$A:$B,2,FALSE)","v":{"$error":"#N/A"}}]
[{"$f":"VLOOKUP(B3226,Categorias!$A:$B,2,FALSE)","v":{"$error":"#N/A"}}]
[{"$f":"VLOOKUP(B3227,Categorias!$A:$B,2,FALSE)","v":{"$error":"#N/A"}}]
[{"$f":"VLOOKUP(B3228,Categorias!$A:$B,2,FALSE)","v":{"$error":"#N/A"}}]
[{"$f":"VLOOKUP(B3229,Categorias!$A:$B,2,FALSE)","v":{"$error":"#N/A"}}]
[{"$f":"VLOOKUP(B3230,Categorias!$A:$B,2,FALSE)","v":{"$error":"#N/A"}}]
[{"$f":"VLOOKUP(B3231,Categorias!$A:$B,2,FALSE)","v":{"$error":"#N/A"}}]
[{"$f":"VLOOKUP(B3232,Categorias!$A:$B,2,FALSE)","v":{"$error":"#N/A"}}]
[{"$f":"VLOOKUP(B3233,Categorias!$A:$B,2,FALSE)","v":{"$error":"#N/A"}}]
[{"$f":"VLOOKUP(B3234,Categorias!$A:$B,2,FALSE)","v":{"$error":"#N/A"}}]
[{"$f":"VLOOKUP(B3235,Categorias!$A:$B,2,FALSE)","v":{"$error":"#N/A"}}]
[{"$f":"VLOOKUP(B3236,Categorias!$A:$B,2,FALSE)","v":{"$error":"#N/A"}}]
[{"$f":"VLOOKUP(B3237,Categorias!$A:$B,2,FALSE)","v":{"$error":"#N/A"}}]
[{"$f":"VLOOKUP(B3238,Categorias!$A:$B,2,FALSE)","v":{"$error":"#N/A"}}]
[{"$f":"VLOOKUP(B3239,Categorias!$A:$B,2,FALSE)","v":{"$error":"#N/A"}}]
[{"$f":"VLOOKUP(B3240,Categorias!$A:$B,2,FALSE)","v":{"$error":"#N/A"}}]
[{"$f":"VLOOKUP(B3241,Categorias!$A:$B,2,FALSE)","v":{"$error":"#N/A"}}]
[{"$f":"VLOOKUP(B3242,Categorias!$A:$B,2,FALSE)","v":{"$error":"#N/A"}}]
[{"$f":"VLOOKUP(B3243,Categorias!$A:$B,2,FALSE)","v":{"$error":"#N/A"}}]
[{"$f":"VLOOKUP(B3244,Categorias!$A:$B,2,FALSE)","v":{"$error":"#N/A"}}]
[{"$f":"VLOOKUP(B3245,Categorias!$A:$B,2,FALSE)","v":{"$error":"#N/A"}}]
[{"$f":"VLOOKUP(B3246,Categorias!$A:$B,2,FALSE)","v":{"$error":"#N/A"}}]
[{"$f":"VLOOKUP(B3247,Categorias!$A:$B,2,FALSE)","v":{"$error":"#N/A"}}]
[{"$f":"VLOOKUP(B3248,Categorias!$A:$B,2,FALSE)","v":{"$error":"#N/A"}}]
[{"$f":"VLOOKUP(B3249,Categorias!$A:$B,2,FALSE)","v":{"$error":"#N/A"}}]
[{"$f":"VLOOKUP(B3250,Categorias!$A:$B,2,FALSE)","v":{"$error":"#N/A"}}]
[{"$f":"VLOOKUP(B3251,Categorias!$A:$B,2,FALSE)","v":{"$error":"#N/A"}}]
[{"$f":"VLOOKUP(B3252,Categorias!$A:$B,2,FALSE)","v":{"$error":"#N/A"}}]
[{"$f":"VLOOKUP(B3253,Categorias!$A:$B,2,FALSE)","v":{"$error":"#N/A"}}]
[{"$f":"VLOOKUP(B3254,Categorias!$A:$B,2,FALSE)","v":{"$error":"#N/A"}}]
[{"$f":"VLOOKUP(B3255,Categorias!$A:$B,2,FALSE)","v":{"$error":"#N/A"}}]
[{"$f":"VLOOKUP(B3256,Categorias!$A:$B,2,FALSE)","v":{"$error":"#N/A"}}]
[{"$f":"VLOOKUP(B3257,Categorias!$A:$B,2,FALSE)","v":{"$error":"#N/A"}}]
[{"$f":"VLOOKUP(B3258,Categorias!$A:$B,2,FALSE)","v":{"$error":"#N/A"}}]
[{"$f":"VLOOKUP(B3259,Categorias!$A:$B,2,FALSE)","v":{"$error":"#N/A"}}]
[{"$f":"VLOOKUP(B3260,Categorias!$A:$B,2,FALSE)","v":{"$error":"#N/A"}}]
[{"$f":"VLOOKUP(B3261,Categorias!$A:$B,2,FALSE)","v":{"$error":"#N/A"}}]
[{"$f":"VLOOKUP(B3262,Categorias!$A:$B,2,FALSE)","v":{"$error":"#N/A"}}]
[{"$f":"VLOOKUP(B3263,Categorias!$A:$B,2,FALSE)","v":{"$error":"#N/A"}}]
[{"$f":"VLOOKUP(B3264,Categorias!$A:$B,2,FALSE)","v":{"$error":"#N/A"}}]
[{"$f":"VLOOKUP(B3265,Categorias!$A:$B,2,FALSE)","v":{"$error":"#N/A"}}]
[{"$f":"VLOOKUP(B3266,Categorias!$A:$B,2,FALSE)","v":{"$error":"#N/A"}}]
[{"$f":"VLOOKUP(B3267,Categorias!$A:$B,2,FALSE)","v":{"$error":"#N/A"}}]
[{"$f":"VLOOKUP(B3268,Categorias!$A:$B,2,FALSE)","v":{"$error":"#N/A"}}]
[{"$f":"VLOOKUP(B3269,Categorias!$A:$B,2,FALSE)","v":{"$error":"#N/A"}}]
[{"$f":"VLOOKUP(B3270,Categorias!$A:$B,2,FALSE)","v":{"$error":"#N/A"}}]
[{"$f":"VLOOKUP(B3271,Categorias!$A:$B,2,FALSE)","v":{"$error":"#N/A"}}]
[{"$f":"VLOOKUP(B3272,Categorias!$A:$B,2,FALSE)","v":{"$error":"#N/A"}}]
[{"$f":"VLOOKUP(B3273,Categorias!$A:$B,2,FALSE)","v":{"$error":"#N/A"}}]
[{"$f":"VLOOKUP(B3274,Categorias!$A:$B,2,FALSE)","v":{"$error":"#N/A"}}]
[{"$f":"VLOOKUP(B3275,Categorias!$A:$B,2,FALSE)","v":{"$error":"#N/A"}}]
[{"$f":"VLOOKUP(B3276,Categorias!$A:$B,2,FALSE)","v":{"$error":"#N/A"}}]
[{"$f":"VLOOKUP(B3277,Categorias!$A:$B,2,FALSE)","v":{"$error":"#N/A"}}]
[{"$f":"VLOOKUP(B3278,Categorias!$A:$B,2,FALSE)","v":{"$error":"#N/A"}}]
[{"$f":"VLOOKUP(B3279,Categorias!$A:$B,2,FALSE)","v":{"$error":"#N/A"}}]
[{"$f":"VLOOKUP(B3280,Categorias!$A:$B,2,FALSE)","v":{"$error":"#N/A"}}]
[{"$f":"VLOOKUP(B3281,Categorias!$A:$B,2,FALSE)","v":{"$error":"#N/A"}}]
[{"$f":"VLOOKUP(B3282,Categorias!$A:$B,2,FALSE)","v":{"$error":"#N/A"}}]
[{"$f":"VLOOKUP(B3283,Categorias!$A:$B,2,FALSE)","v":{"$error":"#N/A"}}]
[{"$f":"VLOOKUP(B3284,Categorias!$A:$B,2,FALSE)","v":{"$error":"#N/A"}}]
[{"$f":"VLOOKUP(B3285,Categorias!$A:$B,2,FALSE)","v":{"$error":"#N/A"}}]
[{"$f":"VLOOKUP(B3286,Categorias!$A:$B,2,FALSE)","v":{"$error":"#N/A"}}]
[{"$f":"VLOOKUP(B3287,Categorias!$A:$B,2,FALSE)","v":{"$error":"#N/A"}}]
[{"$f":"VLOOKUP(B3288,Categorias!$A:$B,2,FALSE)","v":{"$error":"#N/A"}}]
[{"$f":"VLOOKUP(B3289,Categorias!$A:$B,2,FALSE)","v":{"$error":"#N/A"}}]
[{"$f":"VLOOKUP(B3290,Categorias!$A:$B,2,FALSE)","v":{"$error":"#N/A"}}]
[{"$f":"VLOOKUP(B3291,Categorias!$A:$B,2,FALSE)","v":{"$error":"#N/A"}}]
[{"$f":"VLOOKUP(B3292,Categorias!$A:$B,2,FALSE)","v":{"$error":"#N/A"}}]
[{"$f":"VLOOKUP(B3293,Categorias!$A:$B,2,FALSE)","v":{"$error":"#N/A"}}]
[{"$f":"VLOOKUP(B3294,Categorias!$A:$B,2,FALSE)","v":{"$error":"#N/A"}}]
[{"$f":"VLOOKUP(B3295,Categorias!$A:$B,2,FALSE)","v":{"$error":"#N/A"}}]
[{"$f":"VLOOKUP(B3296,Categorias!$A:$B,2,FALSE)","v":{"$error":"#N/A"}}]
[{"$f":"VLOOKUP(B3297,Categorias!$A:$B,2,FALSE)","v":{"$error":"#N/A"}}]
[{"$f":"VLOOKUP(B3298,Categorias!$A:$B,2,FALSE)","v":{"$error":"#N/A"}}]
[{"$f":"VLOOKUP(B3299,Categorias!$A:$B,2,FALSE)","v":{"$error":"#N/A"}}]
[{"$f":"VLOOKUP(B3300,Categorias!$A:$B,2,FALSE)","v":{"$error":"#N/A"}}]
[{"$f":"VLOOKUP(B3301,Categorias!$A:$B,2,FALSE)","v":{"$error":"#N/A"}}]
[{"$f":"VLOOKUP(B3302,Categorias!$A:$B,2,FALSE)","v":{"$error":"#N/A"}}]
[{"$f":"VLOOKUP(B3303,Categorias!$A:$B,2,FALSE)","v":{"$error":"#N/A"}}]
[{"$f":"VLOOKUP(B3304,Categorias!$A:$B,2,FALSE)","v":{"$error":"#N/A"}}]
[{"$f":"VLOOKUP(B3305,Categorias!$A:$B,2,FALSE)","v":{"$error":"#N/A"}}]
[{"$f":"VLOOKUP(B3306,Categorias!$A:$B,2,FALSE)","v":{"$error":"#N/A"}}]
[{"$f":"VLOOKUP(B3307,Categorias!$A:$B,2,FALSE)","v":{"$error":"#N/A"}}]
[{"$f":"VLOOKUP(B3308,Categorias!$A:$B,2,FALSE)","v":{"$error":"#N/A"}}]
[{"$f":"VLOOKUP(B3309,Categorias!$A:$B,2,FALSE)","v":{"$error":"#N/A"}}]
[{"$f":"VLOOKUP(B3310,Categorias!$A:$B,2,FALSE)","v":{"$error":"#N/A"}}]
[{"$f":"VLOOKUP(B3311,Categorias!$A:$B,2,FALSE)","v":{"$error":"#N/A"}}]
[{"$f":"VLOOKUP(B3312,Categorias!$A:$B,2,FALSE)","v":{"$error":"#N/A"}}]
[{"$f":"VLOOKUP(B3313,Categorias!$A:$B,2,FALSE)","v":{"$error":"#N/A"}}]
[{"$f":"VLOOKUP(B3314,Categorias!$A:$B,2,FALSE)","v":{"$error":"#N/A"}}]
[{"$f":"VLOOKUP(B3315,Categorias!$A:$B,2,FALSE)","v":{"$error":"#N/A"}}]
[{"$f":"VLOOKUP(B3316,Categorias!$A:$B,2,FALSE)","v":{"$error":"#N/A"}}]
[{"$f":"VLOOKUP(B3317,Categorias!$A:$B,2,FALSE)","v":{"$error":"#N/A"}}]
[{"$f":"VLOOKUP(B3318,Categorias!$A:$B,2,FALSE)","v":{"$error":"#N/A"}}]
[{"$f":"VLOOKUP(B3319,Categorias!$A:$B,2,FALSE)","v":{"$error":"#N/A"}}]
[{"$f":"VLOOKUP(B3320,Categorias!$A:$B,2,FALSE)","v":{"$error":"#N/A"}}]
[{"$f":"VLOOKUP(B3321,Categorias!$A:$B,2,FALSE)","v":{"$error":"#N/A"}}]
[{"$f":"VLOOKUP(B3322,Categorias!$A:$B,2,FALSE)","v":{"$error":"#N/A"}}]
[{"$f":"VLOOKUP(B3323,Categorias!$A:$B,2,FALSE)","v":{"$error":"#N/A"}}]
[{"$f":"VLOOKUP(B3324,Categorias!$A:$B,2,FALSE)","v":{"$error":"#N/A"}}]
[{"$f":"VLOOKUP(B3325,Categorias!$A:$B,2,FALSE)","v":{"$error":"#N/A"}}]
[{"$f":"VLOOKUP(B3326,Categorias!$A:$B,2,FALSE)","v":{"$error":"#N/A"}}]
[{"$f":"VLOOKUP(B3327,Categorias!$A:$B,2,FALSE)","v":{"$error":"#N/A"}}]
[{"$f":"VLOOKUP(B3328,Categorias!$A:$B,2,FALSE)","v":{"$error":"#N/A"}}]
[{"$f":"VLOOKUP(B3329,Categorias!$A:$B,2,FALSE)","v":{"$error":"#N/A"}}]
[{"$f":"VLOOKUP(B3330,Categorias!$A:$B,2,FALSE)","v":{"$error":"#N/A"}}]
[{"$f":"VLOOKUP(B3331,Categorias!$A:$B,2,FALSE)","v":{"$error":"#N/A"}}]
[{"$f":"VLOOKUP(B3332,Categorias!$A:$B,2,FALSE)","v":{"$error":"#N/A"}}]
[{"$f":"VLOOKUP(B3333,Categorias!$A:$B,2,FALSE)","v":{"$error":"#N/A"}}]
[{"$f":"VLOOKUP(B3334,Categorias!$A:$B,2,FALSE)","v":{"$error":"#N/A"}}]
[{"$f":"VLOOKUP(B3335,Categorias!$A:$B,2,FALSE)","v":{"$error":"#N/A"}}]
[{"$f":"VLOOKUP(B3336,Categorias!$A:$B,2,FALSE)","v":{"$error":"#N/A"}}]
[{"$f":"VLOOKUP(B3337,Categorias!$A:$B,2,FALSE)","v":{"$error":"#N/A"}}]
[{"$f":"VLOOKUP(B3338,Categorias!$A:$B,2,FALSE)","v":{"$error":"#N/A"}}]
[{"$f":"VLOOKUP(B3339,Categorias!$A:$B,2,FALSE)","v":{"$error":"#N/A"}}]
[{"$f":"VLOOKUP(B3340,Categorias!$A:$B,2,FALSE)","v":{"$error":"#N/A"}}]
[{"$f":"VLOOKUP(B3341,Categorias!$A:$B,2,FALSE)","v":{"$error":"#N/A"}}]
[{"$f":"VLOOKUP(B3342,Categorias!$A:$B,2,FALSE)","v":{"$error":"#N/A"}}]
[{"$f":"VLOOKUP(B3343,Categorias!$A:$B,2,FALSE)","v":{"$error":"#N/A"}}]
[{"$f":"VLOOKUP(B3344,Categorias!$A:$B,2,FALSE)","v":{"$error":"#N/A"}}]
[{"$f":"VLOOKUP(B3345,Categorias!$A:$B,2,FALSE)","v":{"$error":"#N/A"}}]
[{"$f":"VLOOKUP(B3346,Categorias!$A:$B,2,FALSE)","v":{"$error":"#N/A"}}]
[{"$f":"VLOOKUP(B3347,Categorias!$A:$B,2,FALSE)","v":{"$error":"#N/A"}}]
[{"$f":"VLOOKUP(B3348,Categorias!$A:$B,2,FALSE)","v":{"$error":"#N/A"}}]
[{"$f":"VLOOKUP(B3349,Categorias!$A:$B,2,FALSE)","v":{"$error":"#N/A"}}]
[{"$f":"VLOOKUP(B3350,Categorias!$A:$B,2,FALSE)","v":{"$error":"#N/A"}}]
[{"$f":"VLOOKUP(B3351,Categorias!$A:$B,2,FALSE)","v":{"$error":"#N/A"}}]
[{"$f":"VLOOKUP(B3352,Categorias!$A:$B,2,FALSE)","v":{"$error":"#N/A"}}]
[{"$f":"VLOOKUP(B3353,Categorias!$A:$B,2,FALSE)","v":{"$error":"#N/A"}}]
[{"$f":"VLOOKUP(B3354,Categorias!$A:$B,2,FALSE)","v":{"$error":"#N/A"}}]
[{"$f":"VLOOKUP(B3355,Categorias!$A:$B,2,FALSE)","v":{"$error":"#N/A"}}]
[{"$f":"VLOOKUP(B3356,Categorias!$A:$B,2,FALSE)","v":{"$error":"#N/A"}}]
[{"$f":"VLOOKUP(B3357,Categorias!$A:$B,2,FALSE)","v":{"$error":"#N/A"}}]
[{"$f":"VLOOKUP(B3358,Categorias!$A:$B,2,FALSE)","v":{"$error":"#N/A"}}]
[{"$f":"VLOOKUP(B3359,Categorias!$A:$B,2,FALSE)","v":{"$error":"#N/A"}}]
[{"$f":"VLOOKUP(B3360,Categorias!$A:$B,2,FALSE)","v":{"$error":"#N/A"}}]
[{"$f":"VLOOKUP(B3361,Categorias!$A:$B,2,FALSE)","v":{"$error":"#N/A"}}]
[{"$f":"VLOOKUP(B3362,Categorias!$A:$B,2,FALSE)","v":{"$error":"#N/A"}}]
[{"$f":"VLOOKUP(B3363,Categorias!$A:$B,2,FALSE)","v":{"$error":"#N/A"}}]
[{"$f":"VLOOKUP(B3364,Categorias!$A:$B,2,FALSE)","v":{"$error":"#N/A"}}]
[{"$f":"VLOOKUP(B3365,Categorias!$A:$B,2,FALSE)","v":{"$error":"#N/A"}}]
[{"$f":"VLOOKUP(B3366,Categorias!$A:$B,2,FALSE)","v":{"$error":"#N/A"}}]
[{"$f":"VLOOKUP(B3367,Categorias!$A:$B,2,FALSE)","v":{"$error":"#N/A"}}]
[{"$f":"VLOOKUP(B3368,Categorias!$A:$B,2,FALSE)","v":{"$error":"#N/A"}}]
[{"$f":"VLOOKUP(B3369,Categorias!$A:$B,2,FALSE)","v":{"$error":"#N/A"}}]
[{"$f":"VLOOKUP(B3370,Categorias!$A:$B,2,FALSE)","v":{"$error":"#N/A"}}]
[{"$f":"VLOOKUP(B3371,Categorias!$A:$B,2,FALSE)","v":{"$error":"#N/A"}}]
[{"$f":"VLOOKUP(B3372,Categorias!$A:$B,2,FALSE)","v":{"$error":"#N/A"}}]
[{"$f":"VLOOKUP(B3373,Categorias!$A:$B,2,FALSE)","v":{"$error":"#N/A"}}]
[{"$f":"VLOOKUP(B3374,Categorias!$A:$B,2,FALSE)","v":{"$error":"#N/A"}}]
[{"$f":"VLOOKUP(B3375,Categorias!$A:$B,2,FALSE)","v":{"$error":"#N/A"}}]
[{"$f":"VLOOKUP(B3376,Categorias!$A:$B,2,FALSE)","v":{"$error":"#N/A"}}]
[{"$f":"VLOOKUP(B3377,Categorias!$A:$B,2,FALSE)","v":{"$error":"#N/A"}}]
[{"$f":"VLOOKUP(B3378,Categorias!$A:$B,2,FALSE)","v":{"$error":"#N/A"}}]
[{"$f":"VLOOKUP(B3379,Categorias!$A:$B,2,FALSE)","v":{"$error":"#N/A"}}]
[{"$f":"VLOOKUP(B3380,Categorias!$A:$B,2,FALSE)","v":{"$error":"#N/A"}}]
[{"$f":"VLOOKUP(B3381,Categorias!$A:$B,2,FALSE)","v":{"$error":"#N/A"}}]
[{"$f":"VLOOKUP(B3382,Categorias!$A:$B,2,FALSE)","v":{"$error":"#N/A"}}]
[{"$f":"VLOOKUP(B3383,Categorias!$A:$B,2,FALSE)","v":{"$error":"#N/A"}}]
[{"$f":"VLOOKUP(B3384,Categorias!$A:$B,2,FALSE)","v":{"$error":"#N/A"}}]
[{"$f":"VLOOKUP(B3385,Categorias!$A:$B,2,FALSE)","v":{"$error":"#N/A"}}]
[{"$f":"VLOOKUP(B3386,Categorias!$A:$B,2,FALSE)","v":{"$error":"#N/A"}}]
[{"$f":"VLOOKUP(B3387,Categorias!$A:$B,2,FALSE)","v":{"$error":"#N/A"}}]
[{"$f":"VLOOKUP(B3388,Categorias!$A:$B,2,FALSE)","v":{"$error":"#N/A"}}]
[{"$f":"VLOOKUP(B3389,Categorias!$A:$B,2,FALSE)","v":{"$error":"#N/A"}}]
[{"$f":"VLOOKUP(B3390,Categorias!$A:$B,2,FALSE)","v":{"$error":"#N/A"}}]
[{"$f":"VLOOKUP(B3391,Categorias!$A:$B,2,FALSE)","v":{"$error":"#N/A"}}]
[{"$f":"VLOOKUP(B3392,Categorias!$A:$B,2,FALSE)","v":{"$error":"#N/A"}}]
[{"$f":"VLOOKUP(B3393,Categorias!$A:$B,2,FALSE)","v":{"$error":"#N/A"}}]
[{"$f":"VLOOKUP(B3394,Categorias!$A:$B,2,FALSE)","v":{"$error":"#N/A"}}]
[{"$f":"VLOOKUP(B3395,Categorias!$A:$B,2,FALSE)","v":{"$error":"#N/A"}}]
[{"$f":"VLOOKUP(B3396,Categorias!$A:$B,2,FALSE)","v":{"$error":"#N/A"}}]
[{"$f":"VLOOKUP(B3397,Categorias!$A:$B,2,FALSE)","v":{"$error":"#N/A"}}]
[{"$f":"VLOOKUP(B3398,Categorias!$A:$B,2,FALSE)","v":{"$error":"#N/A"}}]
[{"$f":"VLOOKUP(B3399,Categorias!$A:$B,2,FALSE)","v":{"$error":"#N/A"}}]
[{"$f":"VLOOKUP(B3400,Categorias!$A:$B,2,FALSE)","v":{"$error":"#N/A"}}]
[{"$f":"VLOOKUP(B3401,Categorias!$A:$B,2,FALSE)","v":{"$error":"#N/A"}}]
[{"$f":"VLOOKUP(B3402,Categorias!$A:$B,2,FALSE)","v":{"$error":"#N/A"}}]
[{"$f":"VLOOKUP(B3403,Categorias!$A:$B,2,FALSE)","v":{"$error":"#N/A"}}]
[{"$f":"VLOOKUP(B3404,Categorias!$A:$B,2,FALSE)","v":{"$error":"#N/A"}}]
[{"$f":"VLOOKUP(B3405,Categorias!$A:$B,2,FALSE)","v":{"$error":"#N/A"}}]
[{"$f":"VLOOKUP(B3406,Categorias!$A:$B,2,FALSE)","v":{"$error":"#N/A"}}]
[{"$f":"VLOOKUP(B3407,Categorias!$A:$B,2,FALSE)","v":{"$error":"#N/A"}}]
[{"$f":"VLOOKUP(B3408,Categorias!$A:$B,2,FALSE)","v":{"$error":"#N/A"}}]
[{"$f":"VLOOKUP(B3409,Categorias!$A:$B,2,FALSE)","v":{"$error":"#N/A"}}]
[{"$f":"VLOOKUP(B3410,Categorias!$A:$B,2,FALSE)","v":{"$error":"#N/A"}}]
[{"$f":"VLOOKUP(B3411,Categorias!$A:$B,2,FALSE)","v":{"$error":"#N/A"}}]
[{"$f":"VLOOKUP(B3412,Categorias!$A:$B,2,FALSE)","v":{"$error":"#N/A"}}]
[{"$f":"VLOOKUP(B3413,Categorias!$A:$B,2,FALSE)","v":{"$error":"#N/A"}}]
[{"$f":"VLOOKUP(B3414,Categorias!$A:$B,2,FALSE)","v":{"$error":"#N/A"}}]
[{"$f":"VLOOKUP(B3415,Categorias!$A:$B,2,FALSE)","v":{"$error":"#N/A"}}]
[{"$f":"VLOOKUP(B3416,Categorias!$A:$B,2,FALSE)","v":{"$error":"#N/A"}}]
[{"$f":"VLOOKUP(B3417,Categorias!$A:$B,2,FALSE)","v":{"$error":"#N/A"}}]
[{"$f":"VLOOKUP(B3418,Categorias!$A:$B,2,FALSE)","v":{"$error":"#N/A"}}]
[{"$f":"VLOOKUP(B3419,Categorias!$A:$B,2,FALSE)","v":{"$error":"#N/A"}}]
[{"$f":"VLOOKUP(B3420,Categorias!$A:$B,2,FALSE)","v":{"$error":"#N/A"}}]
[{"$f":"VLOOKUP(B3421,Categorias!$A:$B,2,FALSE)","v":{"$error":"#N/A"}}]
[{"$f":"VLOOKUP(B3422,Categorias!$A:$B,2,FALSE)","v":{"$error":"#N/A"}}]
[{"$f":"VLOOKUP(B3423,Categorias!$A:$B,2,FALSE)","v":{"$error":"#N/A"}}]
[{"$f":"VLOOKUP(B3424,Categorias!$A:$B,2,FALSE)","v":{"$error":"#N/A"}}]
[{"$f":"VLOOKUP(B3425,Categorias!$A:$B,2,FALSE)","v":{"$error":"#N/A"}}]
[{"$f":"VLOOKUP(B3426,Categorias!$A:$B,2,FALSE)","v":{"$error":"#N/A"}}]
[{"$f":"VLOOKUP(B3427,Categorias!$A:$B,2,FALSE)","v":{"$error":"#N/A"}}]
[{"$f":"VLOOKUP(B3428,Categorias!$A:$B,2,FALSE)","v":{"$error":"#N/A"}}]
[{"$f":"VLOOKUP(B3429,Categorias!$A:$B,2,FALSE)","v":{"$error":"#N/A"}}]
[{"$f":"VLOOKUP(B3430,Categorias!$A:$B,2,FALSE)","v":{"$error":"#N/A"}}]
[{"$f":"VLOOKUP(B3431,Categorias!$A:$B,2,FALSE)","v":{"$error":"#N/A"}}]
[{"$f":"VLOOKUP(B3432,Categorias!$A:$B,2,FALSE)","v":{"$error":"#N/A"}}]
[{"$f":"VLOOKUP(B3433,Categorias!$A:$B,2,FALSE)","v":{"$error":"#N/A"}}]
[{"$f":"VLOOKUP(B3434,Categorias!$A:$B,2,FALSE)","v":{"$error":"#N/A"}}]
[{"$f":"VLOOKUP(B3435,Categorias!$A:$B,2,FALSE)","v":{"$error":"#N/A"}}]
[{"$f":"VLOOKUP(B3436,Categorias!$A:$B,2,FALSE)","v":{"$error":"#N/A"}}]
[{"$f":"VLOOKUP(B3437,Categorias!$A:$B,2,FALSE)","v":{"$error":"#N/A"}}]
[{"$f":"VLOOKUP(B3438,Categorias!$A:$B,2,FALSE)","v":{"$error":"#N/A"}}]
[{"$f":"VLOOKUP(B3439,Categorias!$A:$B,2,FALSE)","v":{"$error":"#N/A"}}]
[{"$f":"VLOOKUP(B3440,Categorias!$A:$B,2,FALSE)","v":{"$error":"#N/A"}}]
[{"$f":"VLOOKUP(B3441,Categorias!$A:$B,2,FALSE)","v":{"$error":"#N/A"}}]
[{"$f":"VLOOKUP(B3442,Categorias!$A:$B,2,FALSE)","v":{"$error":"#N/A"}}]
[{"$f":"VLOOKUP(B3443,Categorias!$A:$B,2,FALSE)","v":{"$error":"#N/A"}}]
[{"$f":"VLOOKUP(B3444,Categorias!$A:$B,2,FALSE)","v":{"$error":"#N/A"}}]
[{"$f":"VLOOKUP(B3445,Categorias!$A:$B,2,FALSE)","v":{"$error":"#N/A"}}]
[{"$f":"VLOOKUP(B3446,Categorias!$A:$B,2,FALSE)","v":{"$error":"#N/A"}}]
[{"$f":"VLOOKUP(B3447,Categorias!$A:$B,2,FALSE)","v":{"$error":"#N/A"}}]
[{"$f":"VLOOKUP(B3448,Categorias!$A:$B,2,FALSE)","v":{"$error":"#N/A"}}]
[{"$f":"VLOOKUP(B3449,Categorias!$A:$B,2,FALSE)","v":{"$error":"#N/A"}}]
[{"$f":"VLOOKUP(B3450,Categorias!$A:$B,2,FALSE)","v":{"$error":"#N/A"}}]
[{"$f":"VLOOKUP(B3451,Categorias!$A:$B,2,FALSE)","v":{"$error":"#N/A"}}]
[{"$f":"VLOOKUP(B3452,Categorias!$A:$B,2,FALSE)","v":{"$error":"#N/A"}}]
[{"$f":"VLOOKUP(B3453,Categorias!$A:$B,2,FALSE)","v":{"$error":"#N/A"}}]
[{"$f":"VLOOKUP(B3454,Categorias!$A:$B,2,FALSE)","v":{"$error":"#N/A"}}]
[{"$f":"VLOOKUP(B3455,Categorias!$A:$B,2,FALSE)","v":{"$error":"#N/A"}}]
[{"$f":"VLOOKUP(B3456,Categorias!$A:$B,2,FALSE)","v":{"$error":"#N/A"}}]
[{"$f":"VLOOKUP(B3457,Categorias!$A:$B,2,FALSE)","v":{"$error":"#N/A"}}]
[{"$f":"VLOOKUP(B3458,Categorias!$A:$B,2,FALSE)","v":{"$error":"#N/A"}}]
[{"$f":"VLOOKUP(B3459,Categorias!$A:$B,2,FALSE)","v":{"$error":"#N/A"}}]
[{"$f":"VLOOKUP(B3460,Categorias!$A:$B,2,FALSE)","v":{"$error":"#N/A"}}]
[{"$f":"VLOOKUP(B3461,Categorias!$A:$B,2,FALSE)","v":{"$error":"#N/A"}}]
[{"$f":"VLOOKUP(B3462,Categorias!$A:$B,2,FALSE)","v":{"$error":"#N/A"}}]
[{"$f":"VLOOKUP(B3463,Categorias!$A:$B,2,FALSE)","v":{"$error":"#N/A"}}]
[{"$f":"VLOOKUP(B3464,Categorias!$A:$B,2,FALSE)","v":{"$error":"#N/A"}}]
[{"$f":"VLOOKUP(B3465,Categorias!$A:$B,2,FALSE)","v":{"$error":"#N/A"}}]
[{"$f":"VLOOKUP(B3466,Categorias!$A:$B,2,FALSE)","v":{"$error":"#N/A"}}]
[{"$f":"VLOOKUP(B3467,Categorias!$A:$B,2,FALSE)","v":{"$error":"#N/A"}}]
[{"$f":"VLOOKUP(B3468,Categorias!$A:$B,2,FALSE)","v":{"$error":"#N/A"}}]
[{"$f":"VLOOKUP(B3469,Categorias!$A:$B,2,FALSE)","v":{"$error":"#N/A"}}]
[{"$f":"VLOOKUP(B3470,Categorias!$A:$B,2,FALSE)","v":{"$error":"#N/A"}}]
[{"$f":"VLOOKUP(B3471,Categorias!$A:$B,2,FALSE)","v":{"$error":"#N/A"}}]
[{"$f":"VLOOKUP(B3472,Categorias!$A:$B,2,FALSE)","v":{"$error":"#N/A"}}]
[{"$f":"VLOOKUP(B3473,Categorias!$A:$B,2,FALSE)","v":{"$error":"#N/A"}}]
[{"$f":"VLOOKUP(B3474,Categorias!$A:$B,2,FALSE)","v":{"$error":"#N/A"}}]
[{"$f":"VLOOKUP(B3475,Categorias!$A:$B,2,FALSE)","v":{"$error":"#N/A"}}]
[{"$f":"VLOOKUP(B3476,Categorias!$A:$B,2,FALSE)","v":{"$error":"#N/A"}}]
[{"$f":"VLOOKUP(B3477,Categorias!$A:$B,2,FALSE)","v":{"$error":"#N/A"}}]
[{"$f":"VLOOKUP(B3478,Categorias!$A:$B,2,FALSE)","v":{"$error":"#N/A"}}]
[{"$f":"VLOOKUP(B3479,Categorias!$A:$B,2,FALSE)","v":{"$error":"#N/A"}}]
[{"$f":"VLOOKUP(B3480,Categorias!$A:$B,2,FALSE)","v":{"$error":"#N/A"}}]
[{"$f":"VLOOKUP(B3481,Categorias!$A:$B,2,FALSE)","v":{"$error":"#N/A"}}]
[{"$f":"VLOOKUP(B3482,Categorias!$A:$B,2,FALSE)","v":{"$error":"#N/A"}}]
[{"$f":"VLOOKUP(B3483,Categorias!$A:$B,2,FALSE)","v":{"$error":"#N/A"}}]
[{"$f":"VLOOKUP(B3484,Categorias!$A:$B,2,FALSE)","v":{"$error":"#N/A"}}]
[{"$f":"VLOOKUP(B3485,Categorias!$A:$B,2,FALSE)","v":{"$error":"#N/A"}}]
[{"$f":"VLOOKUP(B3486,Categorias!$A:$B,2,FALSE)","v":{"$error":"#N/A"}}]
[{"$f":"VLOOKUP(B3487,Categorias!$A:$B,2,FALSE)","v":{"$error":"#N/A"}}]
[{"$f":"VLOOKUP(B3488,Categorias!$A:$B,2,FALSE)","v":{"$error":"#N/A"}}]
[{"$f":"VLOOKUP(B3489,Categorias!$A:$B,2,FALSE)","v":{"$error":"#N/A"}}]
[{"$f":"VLOOKUP(B3490,Categorias!$A:$B,2,FALSE)","v":{"$error":"#N/A"}}]
[{"$f":"VLOOKUP(B3491,Categorias!$A:$B,2,FALSE)","v":{"$error":"#N/A"}}]
[{"$f":"VLOOKUP(B3492,Categorias!$A:$B,2,FALSE)","v":{"$error":"#N/A"}}]
[{"$f":"VLOOKUP(B3493,Categorias!$A:$B,2,FALSE)","v":{"$error":"#N/A"}}]
[{"$f":"VLOOKUP(B3494,Categorias!$A:$B,2,FALSE)","v":{"$error":"#N/A"}}]
[{"$f":"VLOOKUP(B3495,Categorias!$A:$B,2,FALSE)","v":{"$error":"#N/A"}}]
[{"$f":"VLOOKUP(B3496,Categorias!$A:$B,2,FALSE)","v":{"$error":"#N/A"}}]
[{"$f":"VLOOKUP(B3497,Categorias!$A:$B,2,FALSE)","v":{"$error":"#N/A"}}]
[{"$f":"VLOOKUP(B3498,Categorias!$A:$B,2,FALSE)","v":{"$error":"#N/A"}}]
[{"$f":"VLOOKUP(B3499,Categorias!$A:$B,2,FALSE)","v":{"$error":"#N/A"}}]
[{"$f":"VLOOKUP(B3500,Categorias!$A:$B,2,FALSE)","v":{"$error":"#N/A"}}]
[{"$f":"VLOOKUP(B3501,Categorias!$A:$B,2,FALSE)","v":{"$error":"#N/A"}}]
[{"$f":"VLOOKUP(B3502,Categorias!$A:$B,2,FALSE)","v":{"$error":"#N/A"}}]
[{"$f":"VLOOKUP(B3503,Categorias!$A:$B,2,FALSE)","v":{"$error":"#N/A"}}]
[{"$f":"VLOOKUP(B3504,Categorias!$A:$B,2,FALSE)","v":{"$error":"#N/A"}}]
[{"$f":"VLOOKUP(B3505,Categorias!$A:$B,2,FALSE)","v":{"$error":"#N/A"}}]
[{"$f":"VLOOKUP(B3506,Categorias!$A:$B,2,FALSE)","v":{"$error":"#N/A"}}]
[{"$f":"VLOOKUP(B3507,Categorias!$A:$B,2,FALSE)","v":{"$error":"#N/A"}}]
[{"$f":"VLOOKUP(B3508,Categorias!$A:$B,2,FALSE)","v":{"$error":"#N/A"}}]
[{"$f":"VLOOKUP(B3509,Categorias!$A:$B,2,FALSE)","v":{"$error":"#N/A"}}]
[{"$f":"VLOOKUP(B3510,Categorias!$A:$B,2,FALSE)","v":{"$error":"#N/A"}}]
[{"$f":"VLOOKUP(B3511,Categorias!$A:$B,2,FALSE)","v":{"$error":"#N/A"}}]
[{"$f":"VLOOKUP(B3512,Categorias!$A:$B,2,FALSE)","v":{"$error":"#N/A"}}]
[{"$f":"VLOOKUP(B3513,Categorias!$A:$B,2,FALSE)","v":{"$error":"#N/A"}}]
[{"$f":"VLOOKUP(B3514,Categorias!$A:$B,2,FALSE)","v":{"$error":"#N/A"}}]
[{"$f":"VLOOKUP(B3515,Categorias!$A:$B,2,FALSE)","v":{"$error":"#N/A"}}]
[{"$f":"VLOOKUP(B3516,Categorias!$A:$B,2,FALSE)","v":{"$error":"#N/A"}}]
[{"$f":"VLOOKUP(B3517,Categorias!$A:$B,2,FALSE)","v":{"$error":"#N/A"}}]
[{"$f":"VLOOKUP(B3518,Categorias!$A:$B,2,FALSE)","v":{"$error":"#N/A"}}]
[{"$f":"VLOOKUP(B3519,Categorias!$A:$B,2,FALSE)","v":{"$error":"#N/A"}}]
[{"$f":"VLOOKUP(B3520,Categorias!$A:$B,2,FALSE)","v":{"$error":"#N/A"}}]
[{"$f":"VLOOKUP(B3521,Categorias!$A:$B,2,FALSE)","v":{"$error":"#N/A"}}]
[{"$f":"VLOOKUP(B3522,Categorias!$A:$B,2,FALSE)","v":{"$error":"#N/A"}}]
[{"$f":"VLOOKUP(B3523,Categorias!$A:$B,2,FALSE)","v":{"$error":"#N/A"}}]
[{"$f":"VLOOKUP(B3524,Categorias!$A:$B,2,FALSE)","v":{"$error":"#N/A"}}]
[{"$f":"VLOOKUP(B3525,Categorias!$A:$B,2,FALSE)","v":{"$error":"#N/A"}}]
[{"$f":"VLOOKUP(B3526,Categorias!$A:$B,2,FALSE)","v":{"$error":"#N/A"}}]
[{"$f":"VLOOKUP(B3527,Categorias!$A:$B,2,FALSE)","v":{"$error":"#N/A"}}]
[{"$f":"VLOOKUP(B3528,Categorias!$A:$B,2,FALSE)","v":{"$error":"#N/A"}}]
[{"$f":"VLOOKUP(B3529,Categorias!$A:$B,2,FALSE)","v":{"$error":"#N/A"}}]
[{"$f":"VLOOKUP(B3530,Categorias!$A:$B,2,FALSE)","v":{"$error":"#N/A"}}]
[{"$f":"VLOOKUP(B3531,Categorias!$A:$B,2,FALSE)","v":{"$error":"#N/A"}}]
[{"$f":"VLOOKUP(B3532,Categorias!$A:$B,2,FALSE)","v":{"$error":"#N/A"}}]
[{"$f":"VLOOKUP(B3533,Categorias!$A:$B,2,FALSE)","v":{"$error":"#N/A"}}]
[{"$f":"VLOOKUP(B3534,Categorias!$A:$B,2,FALSE)","v":{"$error":"#N/A"}}]
[{"$f":"VLOOKUP(B3535,Categorias!$A:$B,2,FALSE)","v":{"$error":"#N/A"}}]
[{"$f":"VLOOKUP(B3536,Categorias!$A:$B,2,FALSE)","v":{"$error":"#N/A"}}]
[{"$f":"VLOOKUP(B3537,Categorias!$A:$B,2,FALSE)","v":{"$error":"#N/A"}}]
[{"$f":"VLOOKUP(B3538,Categorias!$A:$B,2,FALSE)","v":{"$error":"#N/A"}}]
[{"$f":"VLOOKUP(B3539,Categorias!$A:$B,2,FALSE)","v":{"$error":"#N/A"}}]
[{"$f":"VLOOKUP(B3540,Categorias!$A:$B,2,FALSE)","v":{"$error":"#N/A"}}]
[{"$f":"VLOOKUP(B3541,Categorias!$A:$B,2,FALSE)","v":{"$error":"#N/A"}}]
[{"$f":"VLOOKUP(B3542,Categorias!$A:$B,2,FALSE)","v":{"$error":"#N/A"}}]
[{"$f":"VLOOKUP(B3543,Categorias!$A:$B,2,FALSE)","v":{"$error":"#N/A"}}]
[{"$f":"VLOOKUP(B3544,Categorias!$A:$B,2,FALSE)","v":{"$error":"#N/A"}}]
[{"$f":"VLOOKUP(B3545,Categorias!$A:$B,2,FALSE)","v":{"$error":"#N/A"}}]
[{"$f":"VLOOKUP(B3546,Categorias!$A:$B,2,FALSE)","v":{"$error":"#N/A"}}]
[{"$f":"VLOOKUP(B3547,Categorias!$A:$B,2,FALSE)","v":{"$error":"#N/A"}}]
[{"$f":"VLOOKUP(B3548,Categorias!$A:$B,2,FALSE)","v":{"$error":"#N/A"}}]
[{"$f":"VLOOKUP(B3549,Categorias!$A:$B,2,FALSE)","v":{"$error":"#N/A"}}]
[{"$f":"VLOOKUP(B3550,Categorias!$A:$B,2,FALSE)","v":{"$error":"#N/A"}}]
[{"$f":"VLOOKUP(B3551,Categorias!$A:$B,2,FALSE)","v":{"$error":"#N/A"}}]
[{"$f":"VLOOKUP(B3552,Categorias!$A:$B,2,FALSE)","v":{"$error":"#N/A"}}]
[{"$f":"VLOOKUP(B3553,Categorias!$A:$B,2,FALSE)","v":{"$error":"#N/A"}}]
[{"$f":"VLOOKUP(B3554,Categorias!$A:$B,2,FALSE)","v":{"$error":"#N/A"}}]
[{"$f":"VLOOKUP(B3555,Categorias!$A:$B,2,FALSE)","v":{"$error":"#N/A"}}]
[{"$f":"VLOOKUP(B3556,Categorias!$A:$B,2,FALSE)","v":{"$error":"#N/A"}}]
[{"$f":"VLOOKUP(B3557,Categorias!$A:$B,2,FALSE)","v":{"$error":"#N/A"}}]
[{"$f":"VLOOKUP(B3558,Categorias!$A:$B,2,FALSE)","v":{"$error":"#N/A"}}]
[{"$f":"VLOOKUP(B3559,Categorias!$A:$B,2,FALSE)","v":{"$error":"#N/A"}}]
[{"$f":"VLOOKUP(B3560,Categorias!$A:$B,2,FALSE)","v":{"$error":"#N/A"}}]
[{"$f":"VLOOKUP(B3561,Categorias!$A:$B,2,FALSE)","v":{"$error":"#N/A"}}]
[{"$f":"VLOOKUP(B3562,Categorias!$A:$B,2,FALSE)","v":{"$error":"#N/A"}}]
[{"$f":"VLOOKUP(B3563,Categorias!$A:$B,2,FALSE)","v":{"$error":"#N/A"}}]
[{"$f":"VLOOKUP(B3564,Categorias!$A:$B,2,FALSE)","v":{"$error":"#N/A"}}]
[{"$f":"VLOOKUP(B3565,Categorias!$A:$B,2,FALSE)","v":{"$error":"#N/A"}}]
[{"$f":"VLOOKUP(B3566,Categorias!$A:$B,2,FALSE)","v":{"$error":"#N/A"}}]
[{"$f":"VLOOKUP(B3567,Categorias!$A:$B,2,FALSE)","v":{"$error":"#N/A"}}]
[{"$f":"VLOOKUP(B3568,Categorias!$A:$B,2,FALSE)","v":{"$error":"#N/A"}}]
[{"$f":"VLOOKUP(B3569,Categorias!$A:$B,2,FALSE)","v":{"$error":"#N/A"}}]
[{"$f":"VLOOKUP(B3570,Categorias!$A:$B,2,FALSE)","v":{"$error":"#N/A"}}]
[{"$f":"VLOOKUP(B3571,Categorias!$A:$B,2,FALSE)","v":{"$error":"#N/A"}}]
[{"$f":"VLOOKUP(B3572,Categorias!$A:$B,2,FALSE)","v":{"$error":"#N/A"}}]
[{"$f":"VLOOKUP(B3573,Categorias!$A:$B,2,FALSE)","v":{"$error":"#N/A"}}]
[{"$f":"VLOOKUP(B3574,Categorias!$A:$B,2,FALSE)","v":{"$error":"#N/A"}}]
[{"$f":"VLOOKUP(B3575,Categorias!$A:$B,2,FALSE)","v":{"$error":"#N/A"}}]
[{"$f":"VLOOKUP(B3576,Categorias!$A:$B,2,FALSE)","v":{"$error":"#N/A"}}]
[{"$f":"VLOOKUP(B3577,Categorias!$A:$B,2,FALSE)","v":{"$error":"#N/A"}}]
[{"$f":"VLOOKUP(B3578,Categorias!$A:$B,2,FALSE)","v":{"$error":"#N/A"}}]
[{"$f":"VLOOKUP(B3579,Categorias!$A:$B,2,FALSE)","v":{"$error":"#N/A"}}]
[{"$f":"VLOOKUP(B3580,Categorias!$A:$B,2,FALSE)","v":{"$error":"#N/A"}}]
[{"$f":"VLOOKUP(B3581,Categorias!$A:$B,2,FALSE)","v":{"$error":"#N/A"}}]
[{"$f":"VLOOKUP(B3582,Categorias!$A:$B,2,FALSE)","v":{"$error":"#N/A"}}]
[{"$f":"VLOOKUP(B3583,Categorias!$A:$B,2,FALSE)","v":{"$error":"#N/A"}}]
[{"$f":"VLOOKUP(B3584,Categorias!$A:$B,2,FALSE)","v":{"$error":"#N/A"}}]
[{"$f":"VLOOKUP(B3585,Categorias!$A:$B,2,FALSE)","v":{"$error":"#N/A"}}]
[{"$f":"VLOOKUP(B3586,Categorias!$A:$B,2,FALSE)","v":{"$error":"#N/A"}}]
[{"$f":"VLOOKUP(B3587,Categorias!$A:$B,2,FALSE)","v":{"$error":"#N/A"}}]
[{"$f":"VLOOKUP(B3588,Categorias!$A:$B,2,FALSE)","v":{"$error":"#N/A"}}]
[{"$f":"VLOOKUP(B3589,Categorias!$A:$B,2,FALSE)","v":{"$error":"#N/A"}}]
[{"$f":"VLOOKUP(B3590,Categorias!$A:$B,2,FALSE)","v":{"$error":"#N/A"}}]
[{"$f":"VLOOKUP(B3591,Categorias!$A:$B,2,FALSE)","v":{"$error":"#N/A"}}]
[{"$f":"VLOOKUP(B3592,Categorias!$A:$B,2,FALSE)","v":{"$error":"#N/A"}}]
[{"$f":"VLOOKUP(B3593,Categorias!$A:$B,2,FALSE)","v":{"$error":"#N/A"}}]
[{"$f":"VLOOKUP(B3594,Categorias!$A:$B,2,FALSE)","v":{"$error":"#N/A"}}]
[{"$f":"VLOOKUP(B3595,Categorias!$A:$B,2,FALSE)","v":{"$error":"#N/A"}}]
[{"$f":"VLOOKUP(B3596,Categorias!$A:$B,2,FALSE)","v":{"$error":"#N/A"}}]
[{"$f":"VLOOKUP(B3597,Categorias!$A:$B,2,FALSE)","v":{"$error":"#N/A"}}]
[{"$f":"VLOOKUP(B3598,Categorias!$A:$B,2,FALSE)","v":{"$error":"#N/A"}}]
[{"$f":"VLOOKUP(B3599,Categorias!$A:$B,2,FALSE)","v":{"$error":"#N/A"}}]
[{"$f":"VLOOKUP(B3600,Categorias!$A:$B,2,FALSE)","v":{"$error":"#N/A"}}]
[{"$f":"VLOOKUP(B3601,Categorias!$A:$B,2,FALSE)","v":{"$error":"#N/A"}}]
[{"$f":"VLOOKUP(B3602,Categorias!$A:$B,2,FALSE)","v":{"$error":"#N/A"}}]
[{"$f":"VLOOKUP(B3603,Categorias!$A:$B,2,FALSE)","v":{"$error":"#N/A"}}]
[{"$f":"VLOOKUP(B3604,Categorias!$A:$B,2,FALSE)","v":{"$error":"#N/A"}}]
[{"$f":"VLOOKUP(B3605,Categorias!$A:$B,2,FALSE)","v":{"$error":"#N/A"}}]
[{"$f":"VLOOKUP(B3606,Categorias!$A:$B,2,FALSE)","v":{"$error":"#N/A"}}]
[{"$f":"VLOOKUP(B3607,Categorias!$A:$B,2,FALSE)","v":{"$error":"#N/A"}}]
[{"$f":"VLOOKUP(B3608,Categorias!$A:$B,2,FALSE)","v":{"$error":"#N/A"}}]
[{"$f":"VLOOKUP(B3609,Categorias!$A:$B,2,FALSE)","v":{"$error":"#N/A"}}]
[{"$f":"VLOOKUP(B3610,Categorias!$A:$B,2,FALSE)","v":{"$error":"#N/A"}}]
[{"$f":"VLOOKUP(B3611,Categorias!$A:$B,2,FALSE)","v":{"$error":"#N/A"}}]
[{"$f":"VLOOKUP(B3612,Categorias!$A:$B,2,FALSE)","v":{"$error":"#N/A"}}]
[{"$f":"VLOOKUP(B3613,Categorias!$A:$B,2,FALSE)","v":{"$error":"#N/A"}}]
[{"$f":"VLOOKUP(B3614,Categorias!$A:$B,2,FALSE)","v":{"$error":"#N/A"}}]
[{"$f":"VLOOKUP(B3615,Categorias!$A:$B,2,FALSE)","v":{"$error":"#N/A"}}]
[{"$f":"VLOOKUP(B3616,Categorias!$A:$B,2,FALSE)","v":{"$error":"#N/A"}}]
[{"$f":"VLOOKUP(B3617,Categorias!$A:$B,2,FALSE)","v":{"$error":"#N/A"}}]
[{"$f":"VLOOKUP(B3618,Categorias!$A:$B,2,FALSE)","v":{"$error":"#N/A"}}]
[{"$f":"VLOOKUP(B3619,Categorias!$A:$B,2,FALSE)","v":{"$error":"#N/A"}}]
[{"$f":"VLOOKUP(B3620,Categorias!$A:$B,2,FALSE)","v":{"$error":"#N/A"}}]
[{"$f":"VLOOKUP(B3621,Categorias!$A:$B,2,FALSE)","v":{"$error":"#N/A"}}]
[{"$f":"VLOOKUP(B3622,Categorias!$A:$B,2,FALSE)","v":{"$error":"#N/A"}}]
[{"$f":"VLOOKUP(B3623,Categorias!$A:$B,2,FALSE)","v":{"$error":"#N/A"}}]
[{"$f":"VLOOKUP(B3624,Categorias!$A:$B,2,FALSE)","v":{"$error":"#N/A"}}]
[{"$f":"VLOOKUP(B3625,Categorias!$A:$B,2,FALSE)","v":{"$error":"#N/A"}}]
[{"$f":"VLOOKUP(B3626,Categorias!$A:$B,2,FALSE)","v":{"$error":"#N/A"}}]
[{"$f":"VLOOKUP(B3627,Categorias!$A:$B,2,FALSE)","v":{"$error":"#N/A"}}]
[{"$f":"VLOOKUP(B3628,Categorias!$A:$B,2,FALSE)","v":{"$error":"#N/A"}}]
[{"$f":"VLOOKUP(B3629,Categorias!$A:$B,2,FALSE)","v":{"$error":"#N/A"}}]
[{"$f":"VLOOKUP(B3630,Categorias!$A:$B,2,FALSE)","v":{"$error":"#N/A"}}]
[{"$f":"VLOOKUP(B3631,Categorias!$A:$B,2,FALSE)","v":{"$error":"#N/A"}}]
[{"$f":"VLOOKUP(B3632,Categorias!$A:$B,2,FALSE)","v":{"$error":"#N/A"}}]
[{"$f":"VLOOKUP(B3633,Categorias!$A:$B,2,FALSE)","v":{"$error":"#N/A"}}]
[{"$f":"VLOOKUP(B3634,Categorias!$A:$B,2,FALSE)","v":{"$error":"#N/A"}}]
[{"$f":"VLOOKUP(B3635,Categorias!$A:$B,2,FALSE)","v":{"$error":"#N/A"}}]
[{"$f":"VLOOKUP(B3636,Categorias!$A:$B,2,FALSE)","v":{"$error":"#N/A"}}]
[{"$f":"VLOOKUP(B3637,Categorias!$A:$B,2,FALSE)","v":{"$error":"#N/A"}}]
[{"$f":"VLOOKUP(B3638,Categorias!$A:$B,2,FALSE)","v":{"$error":"#N/A"}}]
[{"$f":"VLOOKUP(B3639,Categorias!$A:$B,2,FALSE)","v":{"$error":"#N/A"}}]
[{"$f":"VLOOKUP(B3640,Categorias!$A:$B,2,FALSE)","v":{"$error":"#N/A"}}]
[{"$f":"VLOOKUP(B3641,Categorias!$A:$B,2,FALSE)","v":{"$error":"#N/A"}}]
[{"$f":"VLOOKUP(B3642,Categorias!$A:$B,2,FALSE)","v":{"$error":"#N/A"}}]
[{"$f":"VLOOKUP(B3643,Categorias!$A:$B,2,FALSE)","v":{"$error":"#N/A"}}]
[{"$f":"VLOOKUP(B3644,Categorias!$A:$B,2,FALSE)","v":{"$error":"#N/A"}}]
[{"$f":"VLOOKUP(B3645,Categorias!$A:$B,2,FALSE)","v":{"$error":"#N/A"}}]
[{"$f":"VLOOKUP(B3646,Categorias!$A:$B,2,FALSE)","v":{"$error":"#N/A"}}]
[{"$f":"VLOOKUP(B3647,Categorias!$A:$B,2,FALSE)","v":{"$error":"#N/A"}}]
[{"$f":"VLOOKUP(B3648,Categorias!$A:$B,2,FALSE)","v":{"$error":"#N/A"}}]
[{"$f":"VLOOKUP(B3649,Categorias!$A:$B,2,FALSE)","v":{"$error":"#N/A"}}]
[{"$f":"VLOOKUP(B3650,Categorias!$A:$B,2,FALSE)","v":{"$error":"#N/A"}}]
[{"$f":"VLOOKUP(B3651,Categorias!$A:$B,2,FALSE)","v":{"$error":"#N/A"}}]
[{"$f":"VLOOKUP(B3652,Categorias!$A:$B,2,FALSE)","v":{"$error":"#N/A"}}]
[{"$f":"VLOOKUP(B3653,Categorias!$A:$B,2,FALSE)","v":{"$error":"#N/A"}}]
[{"$f":"VLOOKUP(B3654,Categorias!$A:$B,2,FALSE)","v":{"$error":"#N/A"}}]
[{"$f":"VLOOKUP(B3655,Categorias!$A:$B,2,FALSE)","v":{"$error":"#N/A"}}]
[{"$f":"VLOOKUP(B3656,Categorias!$A:$B,2,FALSE)","v":{"$error":"#N/A"}}]
[{"$f":"VLOOKUP(B3657,Categorias!$A:$B,2,FALSE)","v":{"$error":"#N/A"}}]
[{"$f":"VLOOKUP(B3658,Categorias!$A:$B,2,FALSE)","v":{"$error":"#N/A"}}]
[{"$f":"VLOOKUP(B3659,Categorias!$A:$B,2,FALSE)","v":{"$error":"#N/A"}}]
[{"$f":"VLOOKUP(B3660,Categorias!$A:$B,2,FALSE)","v":{"$error":"#N/A"}}]
[{"$f":"VLOOKUP(B3661,Categorias!$A:$B,2,FALSE)","v":{"$error":"#N/A"}}]
[{"$f":"VLOOKUP(B3662,Categorias!$A:$B,2,FALSE)","v":{"$error":"#N/A"}}]
[{"$f":"VLOOKUP(B3663,Categorias!$A:$B,2,FALSE)","v":{"$error":"#N/A"}}]
[{"$f":"VLOOKUP(B3664,Categorias!$A:$B,2,FALSE)","v":{"$error":"#N/A"}}]
[{"$f":"VLOOKUP(B3665,Categorias!$A:$B,2,FALSE)","v":{"$error":"#N/A"}}]
[{"$f":"VLOOKUP(B3666,Categorias!$A:$B,2,FALSE)","v":{"$error":"#N/A"}}]
[{"$f":"VLOOKUP(B3667,Categorias!$A:$B,2,FALSE)","v":{"$error":"#N/A"}}]
[{"$f":"VLOOKUP(B3668,Categorias!$A:$B,2,FALSE)","v":{"$error":"#N/A"}}]
[{"$f":"VLOOKUP(B3669,Categorias!$A:$B,2,FALSE)","v":{"$error":"#N/A"}}]
[{"$f":"VLOOKUP(B3670,Categorias!$A:$B,2,FALSE)","v":{"$error":"#N/A"}}]
[{"$f":"VLOOKUP(B3671,Categorias!$A:$B,2,FALSE)","v":{"$error":"#N/A"}}]
[{"$f":"VLOOKUP(B3672,Categorias!$A:$B,2,FALSE)","v":{"$error":"#N/A"}}]
[{"$f":"VLOOKUP(B3673,Categorias!$A:$B,2,FALSE)","v":{"$error":"#N/A"}}]
[{"$f":"VLOOKUP(B3674,Categorias!$A:$B,2,FALSE)","v":{"$error":"#N/A"}}]
[{"$f":"VLOOKUP(B3675,Categorias!$A:$B,2,FALSE)","v":{"$error":"#N/A"}}]
[{"$f":"VLOOKUP(B3676,Categorias!$A:$B,2,FALSE)","v":{"$error":"#N/A"}}]
[{"$f":"VLOOKUP(B3677,Categorias!$A:$B,2,FALSE)","v":{"$error":"#N/A"}}]
[{"$f":"VLOOKUP(B3678,Categorias!$A:$B,2,FALSE)","v":{"$error":"#N/A"}}]
[{"$f":"VLOOKUP(B3679,Categorias!$A:$B,2,FALSE)","v":{"$error":"#N/A"}}]
[{"$f":"VLOOKUP(B3680,Categorias!$A:$B,2,FALSE)","v":{"$error":"#N/A"}}]
[{"$f":"VLOOKUP(B3681,Categorias!$A:$B,2,FALSE)","v":{"$error":"#N/A"}}]
[{"$f":"VLOOKUP(B3682,Categorias!$A:$B,2,FALSE)","v":{"$error":"#N/A"}}]
[{"$f":"VLOOKUP(B3683,Categorias!$A:$B,2,FALSE)","v":{"$error":"#N/A"}}]
[{"$f":"VLOOKUP(B3684,Categorias!$A:$B,2,FALSE)","v":{"$error":"#N/A"}}]
[{"$f":"VLOOKUP(B3685,Categorias!$A:$B,2,FALSE)","v":{"$error":"#N/A"}}]
[{"$f":"VLOOKUP(B3686,Categorias!$A:$B,2,FALSE)","v":{"$error":"#N/A"}}]
[{"$f":"VLOOKUP(B3687,Categorias!$A:$B,2,FALSE)","v":{"$error":"#N/A"}}]
[{"$f":"VLOOKUP(B3688,Categorias!$A:$B,2,FALSE)","v":{"$error":"#N/A"}}]
[{"$f":"VLOOKUP(B3689,Categorias!$A:$B,2,FALSE)","v":{"$error":"#N/A"}}]
[{"$f":"VLOOKUP(B3690,Categorias!$A:$B,2,FALSE)","v":{"$error":"#N/A"}}]
[{"$f":"VLOOKUP(B3691,Categorias!$A:$B,2,FALSE)","v":{"$error":"#N/A"}}]
[{"$f":"VLOOKUP(B3692,Categorias!$A:$B,2,FALSE)","v":{"$error":"#N/A"}}]
[{"$f":"VLOOKUP(B3693,Categorias!$A:$B,2,FALSE)","v":{"$error":"#N/A"}}]
[{"$f":"VLOOKUP(B3694,Categorias!$A:$B,2,FALSE)","v":{"$error":"#N/A"}}]
[{"$f":"VLOOKUP(B3695,Categorias!$A:$B,2,FALSE)","v":{"$error":"#N/A"}}]
[{"$f":"VLOOKUP(B3696,Categorias!$A:$B,2,FALSE)","v":{"$error":"#N/A"}}]
[{"$f":"VLOOKUP(B3697,Categorias!$A:$B,2,FALSE)","v":{"$error":"#N/A"}}]
[{"$f":"VLOOKUP(B3698,Categorias!$A:$B,2,FALSE)","v":{"$error":"#N/A"}}]
[{"$f":"VLOOKUP(B3699,Categorias!$A:$B,2,FALSE)","v":{"$error":"#N/A"}}]
[{"$f":"VLOOKUP(B3700,Categorias!$A:$B,2,FALSE)","v":{"$error":"#N/A"}}]
[{"$f":"VLOOKUP(B3701,Categorias!$A:$B,2,FALSE)","v":{"$error":"#N/A"}}]
[{"$f":"VLOOKUP(B3702,Categorias!$A:$B,2,FALSE)","v":{"$error":"#N/A"}}]
[{"$f":"VLOOKUP(B3703,Categorias!$A:$B,2,FALSE)","v":{"$error":"#N/A"}}]
[{"$f":"VLOOKUP(B3704,Categorias!$A:$B,2,FALSE)","v":{"$error":"#N/A"}}]
[{"$f":"VLOOKUP(B3705,Categorias!$A:$B,2,FALSE)","v":{"$error":"#N/A"}}]
[{"$f":"VLOOKUP(B3706,Categorias!$A:$B,2,FALSE)","v":{"$error":"#N/A"}}]
[{"$f":"VLOOKUP(B3707,Categorias!$A:$B,2,FALSE)","v":{"$error":"#N/A"}}]
[{"$f":"VLOOKUP(B3708,Categorias!$A:$B,2,FALSE)","v":{"$error":"#N/A"}}]
[{"$f":"VLOOKUP(B3709,Categorias!$A:$B,2,FALSE)","v":{"$error":"#N/A"}}]
[{"$f":"VLOOKUP(B3710,Categorias!$A:$B,2,FALSE)","v":{"$error":"#N/A"}}]
[{"$f":"VLOOKUP(B3711,Categorias!$A:$B,2,FALSE)","v":{"$error":"#N/A"}}]
[{"$f":"VLOOKUP(B3712,Categorias!$A:$B,2,FALSE)","v":{"$error":"#N/A"}}]
[{"$f":"VLOOKUP(B3713,Categorias!$A:$B,2,FALSE)","v":{"$error":"#N/A"}}]
[{"$f":"VLOOKUP(B3714,Categorias!$A:$B,2,FALSE)","v":{"$error":"#N/A"}}]
[{"$f":"VLOOKUP(B3715,Categorias!$A:$B,2,FALSE)","v":{"$error":"#N/A"}}]
[{"$f":"VLOOKUP(B3716,Categorias!$A:$B,2,FALSE)","v":{"$error":"#N/A"}}]
[{"$f":"VLOOKUP(B3717,Categorias!$A:$B,2,FALSE)","v":{"$error":"#N/A"}}]
[{"$f":"VLOOKUP(B3718,Categorias!$A:$B,2,FALSE)","v":{"$error":"#N/A"}}]
[{"$f":"VLOOKUP(B3719,Categorias!$A:$B,2,FALSE)","v":{"$error":"#N/A"}}]
[{"$f":"VLOOKUP(B3720,Categorias!$A:$B,2,FALSE)","v":{"$error":"#N/A"}}]
[{"$f":"VLOOKUP(B3721,Categorias!$A:$B,2,FALSE)","v":{"$error":"#N/A"}}]
[{"$f":"VLOOKUP(B3722,Categorias!$A:$B,2,FALSE)","v":{"$error":"#N/A"}}]
[{"$f":"VLOOKUP(B3723,Categorias!$A:$B,2,FALSE)","v":{"$error":"#N/A"}}]
[{"$f":"VLOOKUP(B3724,Categorias!$A:$B,2,FALSE)","v":{"$error":"#N/A"}}]
[{"$f":"VLOOKUP(B3725,Categorias!$A:$B,2,FALSE)","v":{"$error":"#N/A"}}]
[{"$f":"VLOOKUP(B3726,Categorias!$A:$B,2,FALSE)","v":{"$error":"#N/A"}}]
[{"$f":"VLOOKUP(B3727,Categorias!$A:$B,2,FALSE)","v":{"$error":"#N/A"}}]
[{"$f":"VLOOKUP(B3728,Categorias!$A:$B,2,FALSE)","v":{"$error":"#N/A"}}]
[{"$f":"VLOOKUP(B3729,Categorias!$A:$B,2,FALSE)","v":{"$error":"#N/A"}}]
[{"$f":"VLOOKUP(B3730,Categorias!$A:$B,2,FALSE)","v":{"$error":"#N/A"}}]
[{"$f":"VLOOKUP(B3731,Categorias!$A:$B,2,FALSE)","v":{"$error":"#N/A"}}]
[{"$f":"VLOOKUP(B3732,Categorias!$A:$B,2,FALSE)","v":{"$error":"#N/A"}}]
[{"$f":"VLOOKUP(B3733,Categorias!$A:$B,2,FALSE)","v":{"$error":"#N/A"}}]
[{"$f":"VLOOKUP(B3734,Categorias!$A:$B,2,FALSE)","v":{"$error":"#N/A"}}]
[{"$f":"VLOOKUP(B3735,Categorias!$A:$B,2,FALSE)","v":{"$error":"#N/A"}}]
[{"$f":"VLOOKUP(B3736,Categorias!$A:$B,2,FALSE)","v":{"$error":"#N/A"}}]
[{"$f":"VLOOKUP(B3737,Categorias!$A:$B,2,FALSE)","v":{"$error":"#N/A"}}]
[{"$f":"VLOOKUP(B3738,Categorias!$A:$B,2,FALSE)","v":{"$error":"#N/A"}}]
[{"$f":"VLOOKUP(B3739,Categorias!$A:$B,2,FALSE)","v":{"$error":"#N/A"}}]
[{"$f":"VLOOKUP(B3740,Categorias!$A:$B,2,FALSE)","v":{"$error":"#N/A"}}]
[{"$f":"VLOOKUP(B3741,Categorias!$A:$B,2,FALSE)","v":{"$error":"#N/A"}}]
[{"$f":"VLOOKUP(B3742,Categorias!$A:$B,2,FALSE)","v":{"$error":"#N/A"}}]
[{"$f":"VLOOKUP(B3743,Categorias!$A:$B,2,FALSE)","v":{"$error":"#N/A"}}]
[{"$f":"VLOOKUP(B3744,Categorias!$A:$B,2,FALSE)","v":{"$error":"#N/A"}}]
[{"$f":"VLOOKUP(B3745,Categorias!$A:$B,2,FALSE)","v":{"$error":"#N/A"}}]
[{"$f":"VLOOKUP(B3746,Categorias!$A:$B,2,FALSE)","v":{"$error":"#N/A"}}]
[{"$f":"VLOOKUP(B3747,Categorias!$A:$B,2,FALSE)","v":{"$error":"#N/A"}}]
[{"$f":"VLOOKUP(B3748,Categorias!$A:$B,2,FALSE)","v":{"$error":"#N/A"}}]
[{"$f":"VLOOKUP(B3749,Categorias!$A:$B,2,FALSE)","v":{"$error":"#N/A"}}]
[{"$f":"VLOOKUP(B3750,Categorias!$A:$B,2,FALSE)","v":{"$error":"#N/A"}}]
[{"$f":"VLOOKUP(B3751,Categorias!$A:$B,2,FALSE)","v":{"$error":"#N/A"}}]
[{"$f":"VLOOKUP(B3752,Categorias!$A:$B,2,FALSE)","v":{"$error":"#N/A"}}]
[{"$f":"VLOOKUP(B3753,Categorias!$A:$B,2,FALSE)","v":{"$error":"#N/A"}}]
[{"$f":"VLOOKUP(B3754,Categorias!$A:$B,2,FALSE)","v":{"$error":"#N/A"}}]
[{"$f":"VLOOKUP(B3755,Categorias!$A:$B,2,FALSE)","v":{"$error":"#N/A"}}]
[{"$f":"VLOOKUP(B3756,Categorias!$A:$B,2,FALSE)","v":{"$error":"#N/A"}}]
[{"$f":"VLOOKUP(B3757,Categorias!$A:$B,2,FALSE)","v":{"$error":"#N/A"}}]
[{"$f":"VLOOKUP(B3758,Categorias!$A:$B,2,FALSE)","v":{"$error":"#N/A"}}]
[{"$f":"VLOOKUP(B3759,Categorias!$A:$B,2,FALSE)","v":{"$error":"#N/A"}}]
[{"$f":"VLOOKUP(B3760,Categorias!$A:$B,2,FALSE)","v":{"$error":"#N/A"}}]
[{"$f":"VLOOKUP(B3761,Categorias!$A:$B,2,FALSE)","v":{"$error":"#N/A"}}]
[{"$f":"VLOOKUP(B3762,Categorias!$A:$B,2,FALSE)","v":{"$error":"#N/A"}}]
[{"$f":"VLOOKUP(B3763,Categorias!$A:$B,2,FALSE)","v":{"$error":"#N/A"}}]
[{"$f":"VLOOKUP(B3764,Categorias!$A:$B,2,FALSE)","v":{"$error":"#N/A"}}]
[{"$f":"VLOOKUP(B3765,Categorias!$A:$B,2,FALSE)","v":{"$error":"#N/A"}}]
[{"$f":"VLOOKUP(B3766,Categorias!$A:$B,2,FALSE)","v":{"$error":"#N/A"}}]
[{"$f":"VLOOKUP(B3767,Categorias!$A:$B,2,FALSE)","v":{"$error":"#N/A"}}]
[{"$f":"VLOOKUP(B3768,Categorias!$A:$B,2,FALSE)","v":{"$error":"#N/A"}}]
[{"$f":"VLOOKUP(B3769,Categorias!$A:$B,2,FALSE)","v":{"$error":"#N/A"}}]
[{"$f":"VLOOKUP(B3770,Categorias!$A:$B,2,FALSE)","v":{"$error":"#N/A"}}]
[{"$f":"VLOOKUP(B3771,Categorias!$A:$B,2,FALSE)","v":{"$error":"#N/A"}}]
[{"$f":"VLOOKUP(B3772,Categorias!$A:$B,2,FALSE)","v":{"$error":"#N/A"}}]
[{"$f":"VLOOKUP(B3773,Categorias!$A:$B,2,FALSE)","v":{"$error":"#N/A"}}]
[{"$f":"VLOOKUP(B3774,Categorias!$A:$B,2,FALSE)","v":{"$error":"#N/A"}}]
[{"$f":"VLOOKUP(B3775,Categorias!$A:$B,2,FALSE)","v":{"$error":"#N/A"}}]
[{"$f":"VLOOKUP(B3776,Categorias!$A:$B,2,FALSE)","v":{"$error":"#N/A"}}]
[{"$f":"VLOOKUP(B3777,Categorias!$A:$B,2,FALSE)","v":{"$error":"#N/A"}}]
[{"$f":"VLOOKUP(B3778,Categorias!$A:$B,2,FALSE)","v":{"$error":"#N/A"}}]
[{"$f":"VLOOKUP(B3779,Categorias!$A:$B,2,FALSE)","v":{"$error":"#N/A"}}]
[{"$f":"VLOOKUP(B3780,Categorias!$A:$B,2,FALSE)","v":{"$error":"#N/A"}}]
[{"$f":"VLOOKUP(B3781,Categorias!$A:$B,2,FALSE)","v":{"$error":"#N/A"}}]
[{"$f":"VLOOKUP(B3782,Categorias!$A:$B,2,FALSE)","v":{"$error":"#N/A"}}]
[{"$f":"VLOOKUP(B3783,Categorias!$A:$B,2,FALSE)","v":{"$error":"#N/A"}}]
[{"$f":"VLOOKUP(B3784,Categorias!$A:$B,2,FALSE)","v":{"$error":"#N/A"}}]
[{"$f":"VLOOKUP(B3785,Categorias!$A:$B,2,FALSE)","v":{"$error":"#N/A"}}]
[{"$f":"VLOOKUP(B3786,Categorias!$A:$B,2,FALSE)","v":{"$error":"#N/A"}}]
[{"$f":"VLOOKUP(B3787,Categorias!$A:$B,2,FALSE)","v":{"$error":"#N/A"}}]
[{"$f":"VLOOKUP(B3788,Categorias!$A:$B,2,FALSE)","v":{"$error":"#N/A"}}]
[{"$f":"VLOOKUP(B3789,Categorias!$A:$B,2,FALSE)","v":{"$error":"#N/A"}}]
[{"$f":"VLOOKUP(B3790,Categorias!$A:$B,2,FALSE)","v":{"$error":"#N/A"}}]
[{"$f":"VLOOKUP(B3791,Categorias!$A:$B,2,FALSE)","v":{"$error":"#N/A"}}]
[{"$f":"VLOOKUP(B3792,Categorias!$A:$B,2,FALSE)","v":{"$error":"#N/A"}}]
[{"$f":"VLOOKUP(B3793,Categorias!$A:$B,2,FALSE)","v":{"$error":"#N/A"}}]
[{"$f":"VLOOKUP(B3794,Categorias!$A:$B,2,FALSE)","v":{"$error":"#N/A"}}]
[{"$f":"VLOOKUP(B3795,Categorias!$A:$B,2,FALSE)","v":{"$error":"#N/A"}}]
[{"$f":"VLOOKUP(B3796,Categorias!$A:$B,2,FALSE)","v":{"$error":"#N/A"}}]
[{"$f":"VLOOKUP(B3797,Categorias!$A:$B,2,FALSE)","v":{"$error":"#N/A"}}]
[{"$f":"VLOOKUP(B3798,Categorias!$A:$B,2,FALSE)","v":{"$error":"#N/A"}}]
[{"$f":"VLOOKUP(B3799,Categorias!$A:$B,2,FALSE)","v":{"$error":"#N/A"}}]
[{"$f":"VLOOKUP(B3800,Categorias!$A:$B,2,FALSE)","v":{"$error":"#N/A"}}]
[{"$f":"VLOOKUP(B3801,Categorias!$A:$B,2,FALSE)","v":{"$error":"#N/A"}}]
[{"$f":"VLOOKUP(B3802,Categorias!$A:$B,2,FALSE)","v":{"$error":"#N/A"}}]
[{"$f":"VLOOKUP(B3803,Categorias!$A:$B,2,FALSE)","v":{"$error":"#N/A"}}]
[{"$f":"VLOOKUP(B3804,Categorias!$A:$B,2,FALSE)","v":{"$error":"#N/A"}}]
[{"$f":"VLOOKUP(B3805,Categorias!$A:$B,2,FALSE)","v":{"$error":"#N/A"}}]
[{"$f":"VLOOKUP(B3806,Categorias!$A:$B,2,FALSE)","v":{"$error":"#N/A"}}]
[{"$f":"VLOOKUP(B3807,Categorias!$A:$B,2,FALSE)","v":{"$error":"#N/A"}}]
[{"$f":"VLOOKUP(B3808,Categorias!$A:$B,2,FALSE)","v":{"$error":"#N/A"}}]
[{"$f":"VLOOKUP(B3809,Categorias!$A:$B,2,FALSE)","v":{"$error":"#N/A"}}]
[{"$f":"VLOOKUP(B3810,Categorias!$A:$B,2,FALSE)","v":{"$error":"#N/A"}}]
[{"$f":"VLOOKUP(B3811,Categorias!$A:$B,2,FALSE)","v":{"$error":"#N/A"}}]
[{"$f":"VLOOKUP(B3812,Categorias!$A:$B,2,FALSE)","v":{"$error":"#N/A"}}]
[{"$f":"VLOOKUP(B3813,Categorias!$A:$B,2,FALSE)","v":{"$error":"#N/A"}}]
[{"$f":"VLOOKUP(B3814,Categorias!$A:$B,2,FALSE)","v":{"$error":"#N/A"}}]
[{"$f":"VLOOKUP(B3815,Categorias!$A:$B,2,FALSE)","v":{"$error":"#N/A"}}]
[{"$f":"VLOOKUP(B3816,Categorias!$A:$B,2,FALSE)","v":{"$error":"#N/A"}}]
[{"$f":"VLOOKUP(B3817,Categorias!$A:$B,2,FALSE)","v":{"$error":"#N/A"}}]
[{"$f":"VLOOKUP(B3818,Categorias!$A:$B,2,FALSE)","v":{"$error":"#N/A"}}]
[{"$f":"VLOOKUP(B3819,Categorias!$A:$B,2,FALSE)","v":{"$error":"#N/A"}}]
[{"$f":"VLOOKUP(B3820,Categorias!$A:$B,2,FALSE)","v":{"$error":"#N/A"}}]
[{"$f":"VLOOKUP(B3821,Categorias!$A:$B,2,FALSE)","v":{"$error":"#N/A"}}]
[{"$f":"VLOOKUP(B3822,Categorias!$A:$B,2,FALSE)","v":{"$error":"#N/A"}}]
[{"$f":"VLOOKUP(B3823,Categorias!$A:$B,2,FALSE)","v":{"$error":"#N/A"}}]
[{"$f":"VLOOKUP(B3824,Categorias!$A:$B,2,FALSE)","v":{"$error":"#N/A"}}]
[{"$f":"VLOOKUP(B3825,Categorias!$A:$B,2,FALSE)","v":{"$error":"#N/A"}}]
[{"$f":"VLOOKUP(B3826,Categorias!$A:$B,2,FALSE)","v":{"$error":"#N/A"}}]
[{"$f":"VLOOKUP(B3827,Categorias!$A:$B,2,FALSE)","v":{"$error":"#N/A"}}]
[{"$f":"VLOOKUP(B3828,Categorias!$A:$B,2,FALSE)","v":{"$error":"#N/A"}}]
[{"$f":"VLOOKUP(B3829,Categorias!$A:$B,2,FALSE)","v":{"$error":"#N/A"}}]
[{"$f":"VLOOKUP(B3830,Categorias!$A:$B,2,FALSE)","v":{"$error":"#N/A"}}]
[{"$f":"VLOOKUP(B3831,Categorias!$A:$B,2,FALSE)","v":{"$error":"#N/A"}}]
[{"$f":"VLOOKUP(B3832,Categorias!$A:$B,2,FALSE)","v":{"$error":"#N/A"}}]
[{"$f":"VLOOKUP(B3833,Categorias!$A:$B,2,FALSE)","v":{"$error":"#N/A"}}]
[{"$f":"VLOOKUP(B3834,Categorias!$A:$B,2,FALSE)","v":{"$error":"#N/A"}}]
[{"$f":"VLOOKUP(B3835,Categorias!$A:$B,2,FALSE)","v":{"$error":"#N/A"}}]
[{"$f":"VLOOKUP(B3836,Categorias!$A:$B,2,FALSE)","v":{"$error":"#N/A"}}]
[{"$f":"VLOOKUP(B3837,Categorias!$A:$B,2,FALSE)","v":{"$error":"#N/A"}}]
[{"$f":"VLOOKUP(B3838,Categorias!$A:$B,2,FALSE)","v":{"$error":"#N/A"}}]
[{"$f":"VLOOKUP(B3839,Categorias!$A:$B,2,FALSE)","v":{"$error":"#N/A"}}]
[{"$f":"VLOOKUP(B3840,Categorias!$A:$B,2,FALSE)","v":{"$error":"#N/A"}}]
[{"$f":"VLOOKUP(B3841,Categorias!$A:$B,2,FALSE)","v":{"$error":"#N/A"}}]
[{"$f":"VLOOKUP(B3842,Categorias!$A:$B,2,FALSE)","v":{"$error":"#N/A"}}]
[{"$f":"VLOOKUP(B3843,Categorias!$A:$B,2,FALSE)","v":{"$error":"#N/A"}}]
[{"$f":"VLOOKUP(B3844,Categorias!$A:$B,2,FALSE)","v":{"$error":"#N/A"}}]
[{"$f":"VLOOKUP(B3845,Categorias!$A:$B,2,FALSE)","v":{"$error":"#N/A"}}]
[{"$f":"VLOOKUP(B3846,Categorias!$A:$B,2,FALSE)","v":{"$error":"#N/A"}}]
[{"$f":"VLOOKUP(B3847,Categorias!$A:$B,2,FALSE)","v":{"$error":"#N/A"}}]
[{"$f":"VLOOKUP(B3848,Categorias!$A:$B,2,FALSE)","v":{"$error":"#N/A"}}]
[{"$f":"VLOOKUP(B3849,Categorias!$A:$B,2,FALSE)","v":{"$error":"#N/A"}}]
[{"$f":"VLOOKUP(B3850,Categorias!$A:$B,2,FALSE)","v":{"$error":"#N/A"}}]
[{"$f":"VLOOKUP(B3851,Categorias!$A:$B,2,FALSE)","v":{"$error":"#N/A"}}]
[{"$f":"VLOOKUP(B3852,Categorias!$A:$B,2,FALSE)","v":{"$error":"#N/A"}}]
[{"$f":"VLOOKUP(B3853,Categorias!$A:$B,2,FALSE)","v":{"$error":"#N/A"}}]
[{"$f":"VLOOKUP(B3854,Categorias!$A:$B,2,FALSE)","v":{"$error":"#N/A"}}]
[{"$f":"VLOOKUP(B3855,Categorias!$A:$B,2,FALSE)","v":{"$error":"#N/A"}}]
[{"$f":"VLOOKUP(B3856,Categorias!$A:$B,2,FALSE)","v":{"$error":"#N/A"}}]
[{"$f":"VLOOKUP(B3857,Categorias!$A:$B,2,FALSE)","v":{"$error":"#N/A"}}]
[{"$f":"VLOOKUP(B3858,Categorias!$A:$B,2,FALSE)","v":{"$error":"#N/A"}}]
[{"$f":"VLOOKUP(B3859,Categorias!$A:$B,2,FALSE)","v":{"$error":"#N/A"}}]
[{"$f":"VLOOKUP(B3860,Categorias!$A:$B,2,FALSE)","v":{"$error":"#N/A"}}]
[{"$f":"VLOOKUP(B3861,Categorias!$A:$B,2,FALSE)","v":{"$error":"#N/A"}}]
[{"$f":"VLOOKUP(B3862,Categorias!$A:$B,2,FALSE)","v":{"$error":"#N/A"}}]
[{"$f":"VLOOKUP(B3863,Categorias!$A:$B,2,FALSE)","v":{"$error":"#N/A"}}]
[{"$f":"VLOOKUP(B3864,Categorias!$A:$B,2,FALSE)","v":{"$error":"#N/A"}}]
[{"$f":"VLOOKUP(B3865,Categorias!$A:$B,2,FALSE)","v":{"$error":"#N/A"}}]
[{"$f":"VLOOKUP(B3866,Categorias!$A:$B,2,FALSE)","v":{"$error":"#N/A"}}]
[{"$f":"VLOOKUP(B3867,Categorias!$A:$B,2,FALSE)","v":{"$error":"#N/A"}}]
[{"$f":"VLOOKUP(B3868,Categorias!$A:$B,2,FALSE)","v":{"$error":"#N/A"}}]
[{"$f":"VLOOKUP(B3869,Categorias!$A:$B,2,FALSE)","v":{"$error":"#N/A"}}]
[{"$f":"VLOOKUP(B3870,Categorias!$A:$B,2,FALSE)","v":{"$error":"#N/A"}}]
[{"$f":"VLOOKUP(B3871,Categorias!$A:$B,2,FALSE)","v":{"$error":"#N/A"}}]
[{"$f":"VLOOKUP(B3872,Categorias!$A:$B,2,FALSE)","v":{"$error":"#N/A"}}]
[{"$f":"VLOOKUP(B3873,Categorias!$A:$B,2,FALSE)","v":{"$error":"#N/A"}}]
[{"$f":"VLOOKUP(B3874,Categorias!$A:$B,2,FALSE)","v":{"$error":"#N/A"}}]
[{"$f":"VLOOKUP(B3875,Categorias!$A:$B,2,FALSE)","v":{"$error":"#N/A"}}]
[{"$f":"VLOOKUP(B3876,Categorias!$A:$B,2,FALSE)","v":{"$error":"#N/A"}}]
[{"$f":"VLOOKUP(B3877,Categorias!$A:$B,2,FALSE)","v":{"$error":"#N/A"}}]
[{"$f":"VLOOKUP(B3878,Categorias!$A:$B,2,FALSE)","v":{"$error":"#N/A"}}]
[{"$f":"VLOOKUP(B3879,Categorias!$A:$B,2,FALSE)","v":{"$error":"#N/A"}}]
[{"$f":"VLOOKUP(B3880,Categorias!$A:$B,2,FALSE)","v":{"$error":"#N/A"}}]
[{"$f":"VLOOKUP(B3881,Categorias!$A:$B,2,FALSE)","v":{"$error":"#N/A"}}]
[{"$f":"VLOOKUP(B3882,Categorias!$A:$B,2,FALSE)","v":{"$error":"#N/A"}}]
[{"$f":"VLOOKUP(B3883,Categorias!$A:$B,2,FALSE)","v":{"$error":"#N/A"}}]
[{"$f":"VLOOKUP(B3884,Categorias!$A:$B,2,FALSE)","v":{"$error":"#N/A"}}]
[{"$f":"VLOOKUP(B3885,Categorias!$A:$B,2,FALSE)","v":{"$error":"#N/A"}}]
[{"$f":"VLOOKUP(B3886,Categorias!$A:$B,2,FALSE)","v":{"$error":"#N/A"}}]
[{"$f":"VLOOKUP(B3887,Categorias!$A:$B,2,FALSE)","v":{"$error":"#N/A"}}]
[{"$f":"VLOOKUP(B3888,Categorias!$A:$B,2,FALSE)","v":{"$error":"#N/A"}}]
[{"$f":"VLOOKUP(B3889,Categorias!$A:$B,2,FALSE)","v":{"$error":"#N/A"}}]
[{"$f":"VLOOKUP(B3890,Categorias!$A:$B,2,FALSE)","v":{"$error":"#N/A"}}]
[{"$f":"VLOOKUP(B3891,Categorias!$A:$B,2,FALSE)","v":{"$error":"#N/A"}}]
[{"$f":"VLOOKUP(B3892,Categorias!$A:$B,2,FALSE)","v":{"$error":"#N/A"}}]
[{"$f":"VLOOKUP(B3893,Categorias!$A:$B,2,FALSE)","v":{"$error":"#N/A"}}]
[{"$f":"VLOOKUP(B3894,Categorias!$A:$B,2,FALSE)","v":{"$error":"#N/A"}}]
[{"$f":"VLOOKUP(B3895,Categorias!$A:$B,2,FALSE)","v":{"$error":"#N/A"}}]
[{"$f":"VLOOKUP(B3896,Categorias!$A:$B,2,FALSE)","v":{"$error":"#N/A"}}]
[{"$f":"VLOOKUP(B3897,Categorias!$A:$B,2,FALSE)","v":{"$error":"#N/A"}}]
[{"$f":"VLOOKUP(B3898,Categorias!$A:$B,2,FALSE)","v":{"$error":"#N/A"}}]
[{"$f":"VLOOKUP(B3899,Categorias!$A:$B,2,FALSE)","v":{"$error":"#N/A"}}]
[{"$f":"VLOOKUP(B3900,Categorias!$A:$B,2,FALSE)","v":{"$error":"#N/A"}}]
[{"$f":"VLOOKUP(B3901,Categorias!$A:$B,2,FALSE)","v":{"$error":"#N/A"}}]
[{"$f":"VLOOKUP(B3902,Categorias!$A:$B,2,FALSE)","v":{"$error":"#N/A"}}]
[{"$f":"VLOOKUP(B3903,Categorias!$A:$B,2,FALSE)","v":{"$error":"#N/A"}}]
[{"$f":"VLOOKUP(B3904,Categorias!$A:$B,2,FALSE)","v":{"$error":"#N/A"}}]
[{"$f":"VLOOKUP(B3905,Categorias!$A:$B,2,FALSE)","v":{"$error":"#N/A"}}]
[{"$f":"VLOOKUP(B3906,Categorias!$A:$B,2,FALSE)","v":{"$error":"#N/A"}}]
[{"$f":"VLOOKUP(B3907,Categorias!$A:$B,2,FALSE)","v":{"$error":"#N/A"}}]
[{"$f":"VLOOKUP(B3908,Categorias!$A:$B,2,FALSE)","v":{"$error":"#N/A"}}]
[{"$f":"VLOOKUP(B3909,Categorias!$A:$B,2,FALSE)","v":{"$error":"#N/A"}}]
[{"$f":"VLOOKUP(B3910,Categorias!$A:$B,2,FALSE)","v":{"$error":"#N/A"}}]
[{"$f":"VLOOKUP(B3911,Categorias!$A:$B,2,FALSE)","v":{"$error":"#N/A"}}]
[{"$f":"VLOOKUP(B3912,Categorias!$A:$B,2,FALSE)","v":{"$error":"#N/A"}}]
[{"$f":"VLOOKUP(B3913,Categorias!$A:$B,2,FALSE)","v":{"$error":"#N/A"}}]
[{"$f":"VLOOKUP(B3914,Categorias!$A:$B,2,FALSE)","v":{"$error":"#N/A"}}]
[{"$f":"VLOOKUP(B3915,Categorias!$A:$B,2,FALSE)","v":{"$error":"#N/A"}}]
[{"$f":"VLOOKUP(B3916,Categorias!$A:$B,2,FALSE)","v":{"$error":"#N/A"}}]
[{"$f":"VLOOKUP(B3917,Categorias!$A:$B,2,FALSE)","v":{"$error":"#N/A"}}]
[{"$f":"VLOOKUP(B3918,Categorias!$A:$B,2,FALSE)","v":{"$error":"#N/A"}}]
[{"$f":"VLOOKUP(B3919,Categorias!$A:$B,2,FALSE)","v":{"$error":"#N/A"}}]
[{"$f":"VLOOKUP(B3920,Categorias!$A:$B,2,FALSE)","v":{"$error":"#N/A"}}]
[{"$f":"VLOOKUP(B3921,Categorias!$A:$B,2,FALSE)","v":{"$error":"#N/A"}}]
[{"$f":"VLOOKUP(B3922,Categorias!$A:$B,2,FALSE)","v":{"$error":"#N/A"}}]
[{"$f":"VLOOKUP(B3923,Categorias!$A:$B,2,FALSE)","v":{"$error":"#N/A"}}]
[{"$f":"VLOOKUP(B3924,Categorias!$A:$B,2,FALSE)","v":{"$error":"#N/A"}}]
[{"$f":"VLOOKUP(B3925,Categorias!$A:$B,2,FALSE)","v":{"$error":"#N/A"}}]
[{"$f":"VLOOKUP(B3926,Categorias!$A:$B,2,FALSE)","v":{"$error":"#N/A"}}]
[{"$f":"VLOOKUP(B3927,Categorias!$A:$B,2,FALSE)","v":{"$error":"#N/A"}}]
[{"$f":"VLOOKUP(B3928,Categorias!$A:$B,2,FALSE)","v":{"$error":"#N/A"}}]
[{"$f":"VLOOKUP(B3929,Categorias!$A:$B,2,FALSE)","v":{"$error":"#N/A"}}]
[{"$f":"VLOOKUP(B3930,Categorias!$A:$B,2,FALSE)","v":{"$error":"#N/A"}}]
[{"$f":"VLOOKUP(B3931,Categorias!$A:$B,2,FALSE)","v":{"$error":"#N/A"}}]
[{"$f":"VLOOKUP(B3932,Categorias!$A:$B,2,FALSE)","v":{"$error":"#N/A"}}]
[{"$f":"VLOOKUP(B3933,Categorias!$A:$B,2,FALSE)","v":{"$error":"#N/A"}}]
[{"$f":"VLOOKUP(B3934,Categorias!$A:$B,2,FALSE)","v":{"$error":"#N/A"}}]
[{"$f":"VLOOKUP(B3935,Categorias!$A:$B,2,FALSE)","v":{"$error":"#N/A"}}]
[{"$f":"VLOOKUP(B3936,Categorias!$A:$B,2,FALSE)","v":{"$error":"#N/A"}}]
[{"$f":"VLOOKUP(B3937,Categorias!$A:$B,2,FALSE)","v":{"$error":"#N/A"}}]
[{"$f":"VLOOKUP(B3938,Categorias!$A:$B,2,FALSE)","v":{"$error":"#N/A"}}]
[{"$f":"VLOOKUP(B3939,Categorias!$A:$B,2,FALSE)","v":{"$error":"#N/A"}}]
[{"$f":"VLOOKUP(B3940,Categorias!$A:$B,2,FALSE)","v":{"$error":"#N/A"}}]
[{"$f":"VLOOKUP(B3941,Categorias!$A:$B,2,FALSE)","v":{"$error":"#N/A"}}]
[{"$f":"VLOOKUP(B3942,Categorias!$A:$B,2,FALSE)","v":{"$error":"#N/A"}}]
[{"$f":"VLOOKUP(B3943,Categorias!$A:$B,2,FALSE)","v":{"$error":"#N/A"}}]
[{"$f":"VLOOKUP(B3944,Categorias!$A:$B,2,FALSE)","v":{"$error":"#N/A"}}]
[{"$f":"VLOOKUP(B3945,Categorias!$A:$B,2,FALSE)","v":{"$error":"#N/A"}}]
[{"$f":"VLOOKUP(B3946,Categorias!$A:$B,2,FALSE)","v":{"$error":"#N/A"}}]
[{"$f":"VLOOKUP(B3947,Categorias!$A:$B,2,FALSE)","v":{"$error":"#N/A"}}]
[{"$f":"VLOOKUP(B3948,Categorias!$A:$B,2,FALSE)","v":{"$error":"#N/A"}}]
[{"$f":"VLOOKUP(B3949,Categorias!$A:$B,2,FALSE)","v":{"$error":"#N/A"}}]
[{"$f":"VLOOKUP(B3950,Categorias!$A:$B,2,FALSE)","v":{"$error":"#N/A"}}]
[{"$f":"VLOOKUP(B3951,Categorias!$A:$B,2,FALSE)","v":{"$error":"#N/A"}}]
[{"$f":"VLOOKUP(B3952,Categorias!$A:$B,2,FALSE)","v":{"$error":"#N/A"}}]
[{"$f":"VLOOKUP(B3953,Categorias!$A:$B,2,FALSE)","v":{"$error":"#N/A"}}]
[{"$f":"VLOOKUP(B3954,Categorias!$A:$B,2,FALSE)","v":{"$error":"#N/A"}}]
[{"$f":"VLOOKUP(B3955,Categorias!$A:$B,2,FALSE)","v":{"$error":"#N/A"}}]
[{"$f":"VLOOKUP(B3956,Categorias!$A:$B,2,FALSE)","v":{"$error":"#N/A"}}]
[{"$f":"VLOOKUP(B3957,Categorias!$A:$B,2,FALSE)","v":{"$error":"#N/A"}}]
[{"$f":"VLOOKUP(B3958,Categorias!$A:$B,2,FALSE)","v":{"$error":"#N/A"}}]
[{"$f":"VLOOKUP(B3959,Categorias!$A:$B,2,FALSE)","v":{"$error":"#N/A"}}]
[{"$f":"VLOOKUP(B3960,Categorias!$A:$B,2,FALSE)","v":{"$error":"#N/A"}}]
[{"$f":"VLOOKUP(B3961,Categorias!$A:$B,2,FALSE)","v":{"$error":"#N/A"}}]
[{"$f":"VLOOKUP(B3962,Categorias!$A:$B,2,FALSE)","v":{"$error":"#N/A"}}]
[{"$f":"VLOOKUP(B3963,Categorias!$A:$B,2,FALSE)","v":{"$error":"#N/A"}}]
[{"$f":"VLOOKUP(B3964,Categorias!$A:$B,2,FALSE)","v":{"$error":"#N/A"}}]
[{"$f":"VLOOKUP(B3965,Categorias!$A:$B,2,FALSE)","v":{"$error":"#N/A"}}]
[{"$f":"VLOOKUP(B3966,Categorias!$A:$B,2,FALSE)","v":{"$error":"#N/A"}}]
[{"$f":"VLOOKUP(B3967,Categorias!$A:$B,2,FALSE)","v":{"$error":"#N/A"}}]
[{"$f":"VLOOKUP(B3968,Categorias!$A:$B,2,FALSE)","v":{"$error":"#N/A"}}]
[{"$f":"VLOOKUP(B3969,Categorias!$A:$B,2,FALSE)","v":{"$error":"#N/A"}}]
[{"$f":"VLOOKUP(B3970,Categorias!$A:$B,2,FALSE)","v":{"$error":"#N/A"}}]
[{"$f":"VLOOKUP(B3971,Categorias!$A:$B,2,FALSE)","v":{"$error":"#N/A"}}]
[{"$f":"VLOOKUP(B3972,Categorias!$A:$B,2,FALSE)","v":{"$error":"#N/A"}}]
[{"$f":"VLOOKUP(B3973,Categorias!$A:$B,2,FALSE)","v":{"$error":"#N/A"}}]
[{"$f":"VLOOKUP(B3974,Categorias!$A:$B,2,FALSE)","v":{"$error":"#N/A"}}]
[{"$f":"VLOOKUP(B3975,Categorias!$A:$B,2,FALSE)","v":{"$error":"#N/A"}}]
[{"$f":"VLOOKUP(B3976,Categorias!$A:$B,2,FALSE)","v":{"$error":"#N/A"}}]
[{"$f":"VLOOKUP(B3977,Categorias!$A:$B,2,FALSE)","v":{"$error":"#N/A"}}]
[{"$f":"VLOOKUP(B3978,Categorias!$A:$B,2,FALSE)","v":{"$error":"#N/A"}}]
[{"$f":"VLOOKUP(B3979,Categorias!$A:$B,2,FALSE)","v":{"$error":"#N/A"}}]
[{"$f":"VLOOKUP(B3980,Categorias!$A:$B,2,FALSE)","v":{"$error":"#N/A"}}]
[{"$f":"VLOOKUP(B3981,Categorias!$A:$B,2,FALSE)","v":{"$error":"#N/A"}}]
[{"$f":"VLOOKUP(B3982,Categorias!$A:$B,2,FALSE)","v":{"$error":"#N/A"}}]
[{"$f":"VLOOKUP(B3983,Categorias!$A:$B,2,FALSE)","v":{"$error":"#N/A"}}]
[{"$f":"VLOOKUP(B3984,Categorias!$A:$B,2,FALSE)","v":{"$error":"#N/A"}}]
[{"$f":"VLOOKUP(B3985,Categorias!$A:$B,2,FALSE)","v":{"$error":"#N/A"}}]
[{"$f":"VLOOKUP(B3986,Categorias!$A:$B,2,FALSE)","v":{"$error":"#N/A"}}]
[{"$f":"VLOOKUP(B3987,Categorias!$A:$B,2,FALSE)","v":{"$error":"#N/A"}}]
[{"$f":"VLOOKUP(B3988,Categorias!$A:$B,2,FALSE)","v":{"$error":"#N/A"}}]
[{"$f":"VLOOKUP(B3989,Categorias!$A:$B,2,FALSE)","v":{"$error":"#N/A"}}]
[{"$f":"VLOOKUP(B3990,Categorias!$A:$B,2,FALSE)","v":{"$error":"#N/A"}}]
[{"$f":"VLOOKUP(B3991,Categorias!$A:$B,2,FALSE)","v":{"$error":"#N/A"}}]
[{"$f":"VLOOKUP(B3992,Categorias!$A:$B,2,FALSE)","v":{"$error":"#N/A"}}]
[{"$f":"VLOOKUP(B3993,Categorias!$A:$B,2,FALSE)","v":{"$error":"#N/A"}}]
[{"$f":"VLOOKUP(B3994,Categorias!$A:$B,2,FALSE)","v":{"$error":"#N/A"}}]
[{"$f":"VLOOKUP(B3995,Categorias!$A:$B,2,FALSE)","v":{"$error":"#N/A"}}]
[{"$f":"VLOOKUP(B3996,Categorias!$A:$B,2,FALSE)","v":{"$error":"#N/A"}}]
[{"$f":"VLOOKUP(B3997,Categorias!$A:$B,2,FALSE)","v":{"$error":"#N/A"}}]
[{"$f":"VLOOKUP(B3998,Categorias!$A:$B,2,FALSE)","v":{"$error":"#N/A"}}]
[{"$f":"VLOOKUP(B3999,Categorias!$A:$B,2,FALSE)","v":{"$error":"#N/A"}}]
[{"$f":"VLOOKUP(B4000,Categorias!$A:$B,2,FALSE)","v":{"$error":"#N/A"}}]
[{"$f":"VLOOKUP(B4001,Categorias!$A:$B,2,FALSE)","v":{"$error":"#N/A"}}]
[{"$f":"VLOOKUP(B4002,Categorias!$A:$B,2,FALSE)","v":{"$error":"#N/A"}}]
[{"$f":"VLOOKUP(B4003,Categorias!$A:$B,2,FALSE)","v":{"$error":"#N/A"}}]
[{"$f":"VLOOKUP(B4004,Categorias!$A:$B,2,FALSE)","v":{"$error":"#N/A"}}]
[{"$f":"VLOOKUP(B4005,Categorias!$A:$B,2,FALSE)","v":{"$error":"#N/A"}}]
[{"$f":"VLOOKUP(B4006,Categorias!$A:$B,2,FALSE)","v":{"$error":"#N/A"}}]
[{"$f":"VLOOKUP(B4007,Categorias!$A:$B,2,FALSE)","v":{"$error":"#N/A"}}]
[{"$f":"VLOOKUP(B4008,Categorias!$A:$B,2,FALSE)","v":{"$error":"#N/A"}}]
[{"$f":"VLOOKUP(B4009,Categorias!$A:$B,2,FALSE)","v":{"$error":"#N/A"}}]
[{"$f":"VLOOKUP(B4010,Categorias!$A:$B,2,FALSE)","v":{"$error":"#N/A"}}]
[{"$f":"VLOOKUP(B4011,Categorias!$A:$B,2,FALSE)","v":{"$error":"#N/A"}}]
[{"$f":"VLOOKUP(B4012,Categorias!$A:$B,2,FALSE)","v":{"$error":"#N/A"}}]
[{"$f":"VLOOKUP(B4013,Categorias!$A:$B,2,FALSE)","v":{"$error":"#N/A"}}]
[{"$f":"VLOOKUP(B4014,Categorias!$A:$B,2,FALSE)","v":{"$error":"#N/A"}}]
[{"$f":"VLOOKUP(B4015,Categorias!$A:$B,2,FALSE)","v":{"$error":"#N/A"}}]
[{"$f":"VLOOKUP(B4016,Categorias!$A:$B,2,FALSE)","v":{"$error":"#N/A"}}]
[{"$f":"VLOOKUP(B4017,Categorias!$A:$B,2,FALSE)","v":{"$error":"#N/A"}}]
[{"$f":"VLOOKUP(B4018,Categorias!$A:$B,2,FALSE)","v":{"$error":"#N/A"}}]
[{"$f":"VLOOKUP(B4019,Categorias!$A:$B,2,FALSE)","v":{"$error":"#N/A"}}]
[{"$f":"VLOOKUP(B4020,Categorias!$A:$B,2,FALSE)","v":{"$error":"#N/A"}}]
[{"$f":"VLOOKUP(B4021,Categorias!$A:$B,2,FALSE)","v":{"$error":"#N/A"}}]
[{"$f":"VLOOKUP(B4022,Categorias!$A:$B,2,FALSE)","v":{"$error":"#N/A"}}]
[{"$f":"VLOOKUP(B4023,Categorias!$A:$B,2,FALSE)","v":{"$error":"#N/A"}}]
[{"$f":"VLOOKUP(B4024,Categorias!$A:$B,2,FALSE)","v":{"$error":"#N/A"}}]
[{"$f":"VLOOKUP(B4025,Categorias!$A:$B,2,FALSE)","v":{"$error":"#N/A"}}]
[{"$f":"VLOOKUP(B4026,Categorias!$A:$B,2,FALSE)","v":{"$error":"#N/A"}}]
[{"$f":"VLOOKUP(B4027,Categorias!$A:$B,2,FALSE)","v":{"$error":"#N/A"}}]
[{"$f":"VLOOKUP(B4028,Categorias!$A:$B,2,FALSE)","v":{"$error":"#N/A"}}]
[{"$f":"VLOOKUP(B4029,Categorias!$A:$B,2,FALSE)","v":{"$error":"#N/A"}}]
[{"$f":"VLOOKUP(B4030,Categorias!$A:$B,2,FALSE)","v":{"$error":"#N/A"}}]
[{"$f":"VLOOKUP(B4031,Categorias!$A:$B,2,FALSE)","v":{"$error":"#N/A"}}]
[{"$f":"VLOOKUP(B4032,Categorias!$A:$B,2,FALSE)","v":{"$error":"#N/A"}}]
[{"$f":"VLOOKUP(B4033,Categorias!$A:$B,2,FALSE)","v":{"$error":"#N/A"}}]
[{"$f":"VLOOKUP(B4034,Categorias!$A:$B,2,FALSE)","v":{"$error":"#N/A"}}]
[{"$f":"VLOOKUP(B4035,Categorias!$A:$B,2,FALSE)","v":{"$error":"#N/A"}}]
[{"$f":"VLOOKUP(B4036,Categorias!$A:$B,2,FALSE)","v":{"$error":"#N/A"}}]
[{"$f":"VLOOKUP(B4037,Categorias!$A:$B,2,FALSE)","v":{"$error":"#N/A"}}]
[{"$f":"VLOOKUP(B4038,Categorias!$A:$B,2,FALSE)","v":{"$error":"#N/A"}}]
[{"$f":"VLOOKUP(B4039,Categorias!$A:$B,2,FALSE)","v":{"$error":"#N/A"}}]
[{"$f":"VLOOKUP(B4040,Categorias!$A:$B,2,FALSE)","v":{"$error":"#N/A"}}]
[{"$f":"VLOOKUP(B4041,Categorias!$A:$B,2,FALSE)","v":{"$error":"#N/A"}}]
[{"$f":"VLOOKUP(B4042,Categorias!$A:$B,2,FALSE)","v":{"$error":"#N/A"}}]
[{"$f":"VLOOKUP(B4043,Categorias!$A:$B,2,FALSE)","v":{"$error":"#N/A"}}]
[{"$f":"VLOOKUP(B4044,Categorias!$A:$B,2,FALSE)","v":{"$error":"#N/A"}}]
[{"$f":"VLOOKUP(B4045,Categorias!$A:$B,2,FALSE)","v":{"$error":"#N/A"}}]
[{"$f":"VLOOKUP(B4046,Categorias!$A:$B,2,FALSE)","v":{"$error":"#N/A"}}]
[{"$f":"VLOOKUP(B4047,Categorias!$A:$B,2,FALSE)","v":{"$error":"#N/A"}}]
[{"$f":"VLOOKUP(B4048,Categorias!$A:$B,2,FALSE)","v":{"$error":"#N/A"}}]
[{"$f":"VLOOKUP(B4049,Categorias!$A:$B,2,FALSE)","v":{"$error":"#N/A"}}]
[{"$f":"VLOOKUP(B4050,Categorias!$A:$B,2,FALSE)","v":{"$error":"#N/A"}}]
[{"$f":"VLOOKUP(B4051,Categorias!$A:$B,2,FALSE)","v":{"$error":"#N/A"}}]
[{"$f":"VLOOKUP(B4052,Categorias!$A:$B,2,FALSE)","v":{"$error":"#N/A"}}]
[{"$f":"VLOOKUP(B4053,Categorias!$A:$B,2,FALSE)","v":{"$error":"#N/A"}}]
[{"$f":"VLOOKUP(B4054,Categorias!$A:$B,2,FALSE)","v":{"$error":"#N/A"}}]
[{"$f":"VLOOKUP(B4055,Categorias!$A:$B,2,FALSE)","v":{"$error":"#N/A"}}]
[{"$f":"VLOOKUP(B4056,Categorias!$A:$B,2,FALSE)","v":{"$error":"#N/A"}}]
[{"$f":"VLOOKUP(B4057,Categorias!$A:$B,2,FALSE)","v":{"$error":"#N/A"}}]
[{"$f":"VLOOKUP(B4058,Categorias!$A:$B,2,FALSE)","v":{"$error":"#N/A"}}]
[{"$f":"VLOOKUP(B4059,Categorias!$A:$B,2,FALSE)","v":{"$error":"#N/A"}}]
[{"$f":"VLOOKUP(B4060,Categorias!$A:$B,2,FALSE)","v":{"$error":"#N/A"}}]
[{"$f":"VLOOKUP(B4061,Categorias!$A:$B,2,FALSE)","v":{"$error":"#N/A"}}]
[{"$f":"VLOOKUP(B4062,Categorias!$A:$B,2,FALSE)","v":{"$error":"#N/A"}}]
[{"$f":"VLOOKUP(B4063,Categorias!$A:$B,2,FALSE)","v":{"$error":"#N/A"}}]
[{"$f":"VLOOKUP(B4064,Categorias!$A:$B,2,FALSE)","v":{"$error":"#N/A"}}]
[{"$f":"VLOOKUP(B4065,Categorias!$A:$B,2,FALSE)","v":{"$error":"#N/A"}}]
[{"$f":"VLOOKUP(B4066,Categorias!$A:$B,2,FALSE)","v":{"$error":"#N/A"}}]
[{"$f":"VLOOKUP(B4067,Categorias!$A:$B,2,FALSE)","v":{"$error":"#N/A"}}]
[{"$f":"VLOOKUP(B4068,Categorias!$A:$B,2,FALSE)","v":{"$error":"#N/A"}}]
[{"$f":"VLOOKUP(B4069,Categorias!$A:$B,2,FALSE)","v":{"$error":"#N/A"}}]
[{"$f":"VLOOKUP(B4070,Categorias!$A:$B,2,FALSE)","v":{"$error":"#N/A"}}]
[{"$f":"VLOOKUP(B4071,Categorias!$A:$B,2,FALSE)","v":{"$error":"#N/A"}}]
[{"$f":"VLOOKUP(B4072,Categorias!$A:$B,2,FALSE)","v":{"$error":"#N/A"}}]
[{"$f":"VLOOKUP(B4073,Categorias!$A:$B,2,FALSE)","v":{"$error":"#N/A"}}]
[{"$f":"VLOOKUP(B4074,Categorias!$A:$B,2,FALSE)","v":{"$error":"#N/A"}}]
[{"$f":"VLOOKUP(B4075,Categorias!$A:$B,2,FALSE)","v":{"$error":"#N/A"}}]
[{"$f":"VLOOKUP(B4076,Categorias!$A:$B,2,FALSE)","v":{"$error":"#N/A"}}]
[{"$f":"VLOOKUP(B4077,Categorias!$A:$B,2,FALSE)","v":{"$error":"#N/A"}}]
[{"$f":"VLOOKUP(B4078,Categorias!$A:$B,2,FALSE)","v":{"$error":"#N/A"}}]
[{"$f":"VLOOKUP(B4079,Categorias!$A:$B,2,FALSE)","v":{"$error":"#N/A"}}]
[{"$f":"VLOOKUP(B4080,Categorias!$A:$B,2,FALSE)","v":{"$error":"#N/A"}}]
[{"$f":"VLOOKUP(B4081,Categorias!$A:$B,2,FALSE)","v":{"$error":"#N/A"}}]
[{"$f":"VLOOKUP(B4082,Categorias!$A:$B,2,FALSE)","v":{"$error":"#N/A"}}]
[{"$f":"VLOOKUP(B4083,Categorias!$A:$B,2,FALSE)","v":{"$error":"#N/A"}}]
[{"$f":"VLOOKUP(B4084,Categorias!$A:$B,2,FALSE)","v":{"$error":"#N/A"}}]
[{"$f":"VLOOKUP(B4085,Categorias!$A:$B,2,FALSE)","v":{"$error":"#N/A"}}]
[{"$f":"VLOOKUP(B4086,Categorias!$A:$B,2,FALSE)","v":{"$error":"#N/A"}}]
[{"$f":"VLOOKUP(B4087,Categorias!$A:$B,2,FALSE)","v":{"$error":"#N/A"}}]
[{"$f":"VLOOKUP(B4088,Categorias!$A:$B,2,FALSE)","v":{"$error":"#N/A"}}]
[{"$f":"VLOOKUP(B4089,Categorias!$A:$B,2,FALSE)","v":{"$error":"#N/A"}}]
[{"$f":"VLOOKUP(B4090,Categorias!$A:$B,2,FALSE)","v":{"$error":"#N/A"}}]
[{"$f":"VLOOKUP(B4091,Categorias!$A:$B,2,FALSE)","v":{"$error":"#N/A"}}]
[{"$f":"VLOOKUP(B4092,Categorias!$A:$B,2,FALSE)","v":{"$error":"#N/A"}}]
[{"$f":"VLOOKUP(B4093,Categorias!$A:$B,2,FALSE)","v":{"$error":"#N/A"}}]
[{"$f":"VLOOKUP(B4094,Categorias!$A:$B,2,FALSE)","v":{"$error":"#N/A"}}]
[{"$f":"VLOOKUP(B4095,Categorias!$A:$B,2,FALSE)","v":{"$error":"#N/A"}}]
[{"$f":"VLOOKUP(B4096,Categorias!$A:$B,2,FALSE)","v":{"$error":"#N/A"}}]
[{"$f":"VLOOKUP(B4097,Categorias!$A:$B,2,FALSE)","v":{"$error":"#N/A"}}]
[{"$f":"VLOOKUP(B4098,Categorias!$A:$B,2,FALSE)","v":{"$error":"#N/A"}}]
[{"$f":"VLOOKUP(B4099,Categorias!$A:$B,2,FALSE)","v":{"$error":"#N/A"}}]
[{"$f":"VLOOKUP(B4100,Categorias!$A:$B,2,FALSE)","v":{"$error":"#N/A"}}]
[{"$f":"VLOOKUP(B4101,Categorias!$A:$B,2,FALSE)","v":{"$error":"#N/A"}}]
[{"$f":"VLOOKUP(B4102,Categorias!$A:$B,2,FALSE)","v":{"$error":"#N/A"}}]
[{"$f":"VLOOKUP(B4103,Categorias!$A:$B,2,FALSE)","v":{"$error":"#N/A"}}]
[{"$f":"VLOOKUP(B4104,Categorias!$A:$B,2,FALSE)","v":{"$error":"#N/A"}}]
[{"$f":"VLOOKUP(B4105,Categorias!$A:$B,2,FALSE)","v":{"$error":"#N/A"}}]
[{"$f":"VLOOKUP(B4106,Categorias!$A:$B,2,FALSE)","v":{"$error":"#N/A"}}]
[{"$f":"VLOOKUP(B4107,Categorias!$A:$B,2,FALSE)","v":{"$error":"#N/A"}}]
[{"$f":"VLOOKUP(B4108,Categorias!$A:$B,2,FALSE)","v":{"$error":"#N/A"}}]
[{"$f":"VLOOKUP(B4109,Categorias!$A:$B,2,FALSE)","v":{"$error":"#N/A"}}]
[{"$f":"VLOOKUP(B4110,Categorias!$A:$B,2,FALSE)","v":{"$error":"#N/A"}}]
[{"$f":"VLOOKUP(B4111,Categorias!$A:$B,2,FALSE)","v":{"$error":"#N/A"}}]
[{"$f":"VLOOKUP(B4112,Categorias!$A:$B,2,FALSE)","v":{"$error":"#N/A"}}]
[{"$f":"VLOOKUP(B4113,Categorias!$A:$B,2,FALSE)","v":{"$error":"#N/A"}}]
[{"$f":"VLOOKUP(B4114,Categorias!$A:$B,2,FALSE)","v":{"$error":"#N/A"}}]
[{"$f":"VLOOKUP(B4115,Categorias!$A:$B,2,FALSE)","v":{"$error":"#N/A"}}]
[{"$f":"VLOOKUP(B4116,Categorias!$A:$B,2,FALSE)","v":{"$error":"#N/A"}}]
[{"$f":"VLOOKUP(B4117,Categorias!$A:$B,2,FALSE)","v":{"$error":"#N/A"}}]
[{"$f":"VLOOKUP(B4118,Categorias!$A:$B,2,FALSE)","v":{"$error":"#N/A"}}]
[{"$f":"VLOOKUP(B4119,Categorias!$A:$B,2,FALSE)","v":{"$error":"#N/A"}}]
[{"$f":"VLOOKUP(B4120,Categorias!$A:$B,2,FALSE)","v":{"$error":"#N/A"}}]
[{"$f":"VLOOKUP(B4121,Categorias!$A:$B,2,FALSE)","v":{"$error":"#N/A"}}]
[{"$f":"VLOOKUP(B4122,Categorias!$A:$B,2,FALSE)","v":{"$error":"#N/A"}}]
[{"$f":"VLOOKUP(B4123,Categorias!$A:$B,2,FALSE)","v":{"$error":"#N/A"}}]
[{"$f":"VLOOKUP(B4124,Categorias!$A:$B,2,FALSE)","v":{"$error":"#N/A"}}]
[{"$f":"VLOOKUP(B4125,Categorias!$A:$B,2,FALSE)","v":{"$error":"#N/A"}}]
[{"$f":"VLOOKUP(B4126,Categorias!$A:$B,2,FALSE)","v":{"$error":"#N/A"}}]
[{"$f":"VLOOKUP(B4127,Categorias!$A:$B,2,FALSE)","v":{"$error":"#N/A"}}]
[{"$f":"VLOOKUP(B4128,Categorias!$A:$B,2,FALSE)","v":{"$error":"#N/A"}}]
[{"$f":"VLOOKUP(B4129,Categorias!$A:$B,2,FALSE)","v":{"$error":"#N/A"}}]
[{"$f":"VLOOKUP(B4130,Categorias!$A:$B,2,FALSE)","v":{"$error":"#N/A"}}]
[{"$f":"VLOOKUP(B4131,Categorias!$A:$B,2,FALSE)","v":{"$error":"#N/A"}}]
[{"$f":"VLOOKUP(B4132,Categorias!$A:$B,2,FALSE)","v":{"$error":"#N/A"}}]
[{"$f":"VLOOKUP(B4133,Categorias!$A:$B,2,FALSE)","v":{"$error":"#N/A"}}]
[{"$f":"VLOOKUP(B4134,Categorias!$A:$B,2,FALSE)","v":{"$error":"#N/A"}}]
[{"$f":"VLOOKUP(B4135,Categorias!$A:$B,2,FALSE)","v":{"$error":"#N/A"}}]
[{"$f":"VLOOKUP(B4136,Categorias!$A:$B,2,FALSE)","v":{"$error":"#N/A"}}]
[{"$f":"VLOOKUP(B4137,Categorias!$A:$B,2,FALSE)","v":{"$error":"#N/A"}}]
[{"$f":"VLOOKUP(B4138,Categorias!$A:$B,2,FALSE)","v":{"$error":"#N/A"}}]
[{"$f":"VLOOKUP(B4139,Categorias!$A:$B,2,FALSE)","v":{"$error":"#N/A"}}]
[{"$f":"VLOOKUP(B4140,Categorias!$A:$B,2,FALSE)","v":{"$error":"#N/A"}}]
[{"$f":"VLOOKUP(B4141,Categorias!$A:$B,2,FALSE)","v":{"$error":"#N/A"}}]
[{"$f":"VLOOKUP(B4142,Categorias!$A:$B,2,FALSE)","v":{"$error":"#N/A"}}]
[{"$f":"VLOOKUP(B4143,Categorias!$A:$B,2,FALSE)","v":{"$error":"#N/A"}}]
[{"$f":"VLOOKUP(B4144,Categorias!$A:$B,2,FALSE)","v":{"$error":"#N/A"}}]
[{"$f":"VLOOKUP(B4145,Categorias!$A:$B,2,FALSE)","v":{"$error":"#N/A"}}]
[{"$f":"VLOOKUP(B4146,Categorias!$A:$B,2,FALSE)","v":{"$error":"#N/A"}}]
[{"$f":"VLOOKUP(B4147,Categorias!$A:$B,2,FALSE)","v":{"$error":"#N/A"}}]
[{"$f":"VLOOKUP(B4148,Categorias!$A:$B,2,FALSE)","v":{"$error":"#N/A"}}]
[{"$f":"VLOOKUP(B4149,Categorias!$A:$B,2,FALSE)","v":{"$error":"#N/A"}}]
[{"$f":"VLOOKUP(B4150,Categorias!$A:$B,2,FALSE)","v":{"$error":"#N/A"}}]
[{"$f":"VLOOKUP(B4151,Categorias!$A:$B,2,FALSE)","v":{"$error":"#N/A"}}]
[{"$f":"VLOOKUP(B4152,Categorias!$A:$B,2,FALSE)","v":{"$error":"#N/A"}}]
[{"$f":"VLOOKUP(B4153,Categorias!$A:$B,2,FALSE)","v":{"$error":"#N/A"}}]
[{"$f":"VLOOKUP(B4154,Categorias!$A:$B,2,FALSE)","v":{"$error":"#N/A"}}]
[{"$f":"VLOOKUP(B4155,Categorias!$A:$B,2,FALSE)","v":{"$error":"#N/A"}}]
[{"$f":"VLOOKUP(B4156,Categorias!$A:$B,2,FALSE)","v":{"$error":"#N/A"}}]
[{"$f":"VLOOKUP(B4157,Categorias!$A:$B,2,FALSE)","v":{"$error":"#N/A"}}]
[{"$f":"VLOOKUP(B4158,Categorias!$A:$B,2,FALSE)","v":{"$error":"#N/A"}}]
[{"$f":"VLOOKUP(B4159,Categorias!$A:$B,2,FALSE)","v":{"$error":"#N/A"}}]
[{"$f":"VLOOKUP(B4160,Categorias!$A:$B,2,FALSE)","v":{"$error":"#N/A"}}]
[{"$f":"VLOOKUP(B4161,Categorias!$A:$B,2,FALSE)","v":{"$error":"#N/A"}}]
[{"$f":"VLOOKUP(B4162,Categorias!$A:$B,2,FALSE)","v":{"$error":"#N/A"}}]
[{"$f":"VLOOKUP(B4163,Categorias!$A:$B,2,FALSE)","v":{"$error":"#N/A"}}]
[{"$f":"VLOOKUP(B4164,Categorias!$A:$B,2,FALSE)","v":{"$error":"#N/A"}}]
[{"$f":"VLOOKUP(B4165,Categorias!$A:$B,2,FALSE)","v":{"$error":"#N/A"}}]
[{"$f":"VLOOKUP(B4166,Categorias!$A:$B,2,FALSE)","v":{"$error":"#N/A"}}]
[{"$f":"VLOOKUP(B4167,Categorias!$A:$B,2,FALSE)","v":{"$error":"#N/A"}}]
[{"$f":"VLOOKUP(B4168,Categorias!$A:$B,2,FALSE)","v":{"$error":"#N/A"}}]
[{"$f":"VLOOKUP(B4169,Categorias!$A:$B,2,FALSE)","v":{"$error":"#N/A"}}]
[{"$f":"VLOOKUP(B4170,Categorias!$A:$B,2,FALSE)","v":{"$error":"#N/A"}}]
[{"$f":"VLOOKUP(B4171,Categorias!$A:$B,2,FALSE)","v":{"$error":"#N/A"}}]
[{"$f":"VLOOKUP(B4172,Categorias!$A:$B,2,FALSE)","v":{"$error":"#N/A"}}]
[{"$f":"VLOOKUP(B4173,Categorias!$A:$B,2,FALSE)","v":{"$error":"#N/A"}}]
[{"$f":"VLOOKUP(B4174,Categorias!$A:$B,2,FALSE)","v":{"$error":"#N/A"}}]
[{"$f":"VLOOKUP(B4175,Categorias!$A:$B,2,FALSE)","v":{"$error":"#N/A"}}]
[{"$f":"VLOOKUP(B4176,Categorias!$A:$B,2,FALSE)","v":{"$error":"#N/A"}}]
[{"$f":"VLOOKUP(B4177,Categorias!$A:$B,2,FALSE)","v":{"$error":"#N/A"}}]
[{"$f":"VLOOKUP(B4178,Categorias!$A:$B,2,FALSE)","v":{"$error":"#N/A"}}]
[{"$f":"VLOOKUP(B4179,Categorias!$A:$B,2,FALSE)","v":{"$error":"#N/A"}}]
[{"$f":"VLOOKUP(B4180,Categorias!$A:$B,2,FALSE)","v":{"$error":"#N/A"}}]
[{"$f":"VLOOKUP(B4181,Categorias!$A:$B,2,FALSE)","v":{"$error":"#N/A"}}]
[{"$f":"VLOOKUP(B4182,Categorias!$A:$B,2,FALSE)","v":{"$error":"#N/A"}}]
[{"$f":"VLOOKUP(B4183,Categorias!$A:$B,2,FALSE)","v":{"$error":"#N/A"}}]
[{"$f":"VLOOKUP(B4184,Categorias!$A:$B,2,FALSE)","v":{"$error":"#N/A"}}]
[{"$f":"VLOOKUP(B4185,Categorias!$A:$B,2,FALSE)","v":{"$error":"#N/A"}}]
[{"$f":"VLOOKUP(B4186,Categorias!$A:$B,2,FALSE)","v":{"$error":"#N/A"}}]
[{"$f":"VLOOKUP(B4187,Categorias!$A:$B,2,FALSE)","v":{"$error":"#N/A"}}]
[{"$f":"VLOOKUP(B4188,Categorias!$A:$B,2,FALSE)","v":{"$error":"#N/A"}}]
[{"$f":"VLOOKUP(B4189,Categorias!$A:$B,2,FALSE)","v":{"$error":"#N/A"}}]
[{"$f":"VLOOKUP(B4190,Categorias!$A:$B,2,FALSE)","v":{"$error":"#N/A"}}]
[{"$f":"VLOOKUP(B4191,Categorias!$A:$B,2,FALSE)","v":{"$error":"#N/A"}}]
[{"$f":"VLOOKUP(B4192,Categorias!$A:$B,2,FALSE)","v":{"$error":"#N/A"}}]
[{"$f":"VLOOKUP(B4193,Categorias!$A:$B,2,FALSE)","v":{"$error":"#N/A"}}]
[{"$f":"VLOOKUP(B4194,Categorias!$A:$B,2,FALSE)","v":{"$error":"#N/A"}}]
[{"$f":"VLOOKUP(B4195,Categorias!$A:$B,2,FALSE)","v":{"$error":"#N/A"}}]
[{"$f":"VLOOKUP(B4196,Categorias!$A:$B,2,FALSE)","v":{"$error":"#N/A"}}]
[{"$f":"VLOOKUP(B4197,Categorias!$A:$B,2,FALSE)","v":{"$error":"#N/A"}}]
[{"$f":"VLOOKUP(B4198,Categorias!$A:$B,2,FALSE)","v":{"$error":"#N/A"}}]
[{"$f":"VLOOKUP(B4199,Categorias!$A:$B,2,FALSE)","v":{"$error":"#N/A"}}]
[{"$f":"VLOOKUP(B4200,Categorias!$A:$B,2,FALSE)","v":{"$error":"#N/A"}}]
[{"$f":"VLOOKUP(B4201,Categorias!$A:$B,2,FALSE)","v":{"$error":"#N/A"}}]
[{"$f":"VLOOKUP(B4202,Categorias!$A:$B,2,FALSE)","v":{"$error":"#N/A"}}]
[{"$f":"VLOOKUP(B4203,Categorias!$A:$B,2,FALSE)","v":{"$error":"#N/A"}}]
[{"$f":"VLOOKUP(B4204,Categorias!$A:$B,2,FALSE)","v":{"$error":"#N/A"}}]
[{"$f":"VLOOKUP(B4205,Categorias!$A:$B,2,FALSE)","v":{"$error":"#N/A"}}]
[{"$f":"VLOOKUP(B4206,Categorias!$A:$B,2,FALSE)","v":{"$error":"#N/A"}}]
[{"$f":"VLOOKUP(B4207,Categorias!$A:$B,2,FALSE)","v":{"$error":"#N/A"}}]
[{"$f":"VLOOKUP(B4208,Categorias!$A:$B,2,FALSE)","v":{"$error":"#N/A"}}]
[{"$f":"VLOOKUP(B4209,Categorias!$A:$B,2,FALSE)","v":{"$error":"#N/A"}}]
[{"$f":"VLOOKUP(B4210,Categorias!$A:$B,2,FALSE)","v":{"$error":"#N/A"}}]
[{"$f":"VLOOKUP(B4211,Categorias!$A:$B,2,FALSE)","v":{"$error":"#N/A"}}]
[{"$f":"VLOOKUP(B4212,Categorias!$A:$B,2,FALSE)","v":{"$error":"#N/A"}}]
[{"$f":"VLOOKUP(B4213,Categorias!$A:$B,2,FALSE)","v":{"$error":"#N/A"}}]
[{"$f":"VLOOKUP(B4214,Categorias!$A:$B,2,FALSE)","v":{"$error":"#N/A"}}]
[{"$f":"VLOOKUP(B4215,Categorias!$A:$B,2,FALSE)","v":{"$error":"#N/A"}}]
[{"$f":"VLOOKUP(B4216,Categorias!$A:$B,2,FALSE)","v":{"$error":"#N/A"}}]
[{"$f":"VLOOKUP(B4217,Categorias!$A:$B,2,FALSE)","v":{"$error":"#N/A"}}]
[{"$f":"VLOOKUP(B4218,Categorias!$A:$B,2,FALSE)","v":{"$error":"#N/A"}}]
[{"$f":"VLOOKUP(B4219,Categorias!$A:$B,2,FALSE)","v":{"$error":"#N/A"}}]
[{"$f":"VLOOKUP(B4220,Categorias!$A:$B,2,FALSE)","v":{"$error":"#N/A"}}]
[{"$f":"VLOOKUP(B4221,Categorias!$A:$B,2,FALSE)","v":{"$error":"#N/A"}}]
[{"$f":"VLOOKUP(B4222,Categorias!$A:$B,2,FALSE)","v":{"$error":"#N/A"}}]
[{"$f":"VLOOKUP(B4223,Categorias!$A:$B,2,FALSE)","v":{"$error":"#N/A"}}]
[{"$f":"VLOOKUP(B4224,Categorias!$A:$B,2,FALSE)","v":{"$error":"#N/A"}}]
[{"$f":"VLOOKUP(B4225,Categorias!$A:$B,2,FALSE)","v":{"$error":"#N/A"}}]
[{"$f":"VLOOKUP(B4226,Categorias!$A:$B,2,FALSE)","v":{"$error":"#N/A"}}]
[{"$f":"VLOOKUP(B4227,Categorias!$A:$B,2,FALSE)","v":{"$error":"#N/A"}}]
[{"$f":"VLOOKUP(B4228,Categorias!$A:$B,2,FALSE)","v":{"$error":"#N/A"}}]
[{"$f":"VLOOKUP(B4229,Categorias!$A:$B,2,FALSE)","v":{"$error":"#N/A"}}]
[{"$f":"VLOOKUP(B4230,Categorias!$A:$B,2,FALSE)","v":{"$error":"#N/A"}}]
[{"$f":"VLOOKUP(B4231,Categorias!$A:$B,2,FALSE)","v":{"$error":"#N/A"}}]
[{"$f":"VLOOKUP(B4232,Categorias!$A:$B,2,FALSE)","v":{"$error":"#N/A"}}]
[{"$f":"VLOOKUP(B4233,Categorias!$A:$B,2,FALSE)","v":{"$error":"#N/A"}}]
[{"$f":"VLOOKUP(B4234,Categorias!$A:$B,2,FALSE)","v":{"$error":"#N/A"}}]
[{"$f":"VLOOKUP(B4235,Categorias!$A:$B,2,FALSE)","v":{"$error":"#N/A"}}]
[{"$f":"VLOOKUP(B4236,Categorias!$A:$B,2,FALSE)","v":{"$error":"#N/A"}}]
[{"$f":"VLOOKUP(B4237,Categorias!$A:$B,2,FALSE)","v":{"$error":"#N/A"}}]
[{"$f":"VLOOKUP(B4238,Categorias!$A:$B,2,FALSE)","v":{"$error":"#N/A"}}]
[{"$f":"VLOOKUP(B4239,Categorias!$A:$B,2,FALSE)","v":{"$error":"#N/A"}}]
[{"$f":"VLOOKUP(B4240,Categorias!$A:$B,2,FALSE)","v":{"$error":"#N/A"}}]
[{"$f":"VLOOKUP(B4241,Categorias!$A:$B,2,FALSE)","v":{"$error":"#N/A"}}]
[{"$f":"VLOOKUP(B4242,Categorias!$A:$B,2,FALSE)","v":{"$error":"#N/A"}}]
[{"$f":"VLOOKUP(B4243,Categorias!$A:$B,2,FALSE)","v":{"$error":"#N/A"}}]
[{"$f":"VLOOKUP(B4244,Categorias!$A:$B,2,FALSE)","v":{"$error":"#N/A"}}]
[{"$f":"VLOOKUP(B4245,Categorias!$A:$B,2,FALSE)","v":{"$error":"#N/A"}}]
[{"$f":"VLOOKUP(B4246,Categorias!$A:$B,2,FALSE)","v":{"$error":"#N/A"}}]
[{"$f":"VLOOKUP(B4247,Categorias!$A:$B,2,FALSE)","v":{"$error":"#N/A"}}]
[{"$f":"VLOOKUP(B4248,Categorias!$A:$B,2,FALSE)","v":{"$error":"#N/A"}}]
[{"$f":"VLOOKUP(B4249,Categorias!$A:$B,2,FALSE)","v":{"$error":"#N/A"}}]
[{"$f":"VLOOKUP(B4250,Categorias!$A:$B,2,FALSE)","v":{"$error":"#N/A"}}]
[{"$f":"VLOOKUP(B4251,Categorias!$A:$B,2,FALSE)","v":{"$error":"#N/A"}}]
[{"$f":"VLOOKUP(B4252,Categorias!$A:$B,2,FALSE)","v":{"$error":"#N/A"}}]
[{"$f":"VLOOKUP(B4253,Categorias!$A:$B,2,FALSE)","v":{"$error":"#N/A"}}]
[{"$f":"VLOOKUP(B4254,Categorias!$A:$B,2,FALSE)","v":{"$error":"#N/A"}}]
[{"$f":"VLOOKUP(B4255,Categorias!$A:$B,2,FALSE)","v":{"$error":"#N/A"}}]
[{"$f":"VLOOKUP(B4256,Categorias!$A:$B,2,FALSE)","v":{"$error":"#N/A"}}]
[{"$f":"VLOOKUP(B4257,Categorias!$A:$B,2,FALSE)","v":{"$error":"#N/A"}}]
[{"$f":"VLOOKUP(B4258,Categorias!$A:$B,2,FALSE)","v":{"$error":"#N/A"}}]
[{"$f":"VLOOKUP(B4259,Categorias!$A:$B,2,FALSE)","v":{"$error":"#N/A"}}]
[{"$f":"VLOOKUP(B4260,Categorias!$A:$B,2,FALSE)","v":{"$error":"#N/A"}}]
[{"$f":"VLOOKUP(B4261,Categorias!$A:$B,2,FALSE)","v":{"$error":"#N/A"}}]
[{"$f":"VLOOKUP(B4262,Categorias!$A:$B,2,FALSE)","v":{"$error":"#N/A"}}]
[{"$f":"VLOOKUP(B4263,Categorias!$A:$B,2,FALSE)","v":{"$error":"#N/A"}}]
[{"$f":"VLOOKUP(B4264,Categorias!$A:$B,2,FALSE)","v":{"$error":"#N/A"}}]
[{"$f":"VLOOKUP(B4265,Categorias!$A:$B,2,FALSE)","v":{"$error":"#N/A"}}]
[{"$f":"VLOOKUP(B4266,Categorias!$A:$B,2,FALSE)","v":{"$error":"#N/A"}}]
[{"$f":"VLOOKUP(B4267,Categorias!$A:$B,2,FALSE)","v":{"$error":"#N/A"}}]
[{"$f":"VLOOKUP(B4268,Categorias!$A:$B,2,FALSE)","v":{"$error":"#N/A"}}]
[{"$f":"VLOOKUP(B4269,Categorias!$A:$B,2,FALSE)","v":{"$error":"#N/A"}}]
[{"$f":"VLOOKUP(B4270,Categorias!$A:$B,2,FALSE)","v":{"$error":"#N/A"}}]
[{"$f":"VLOOKUP(B4271,Categorias!$A:$B,2,FALSE)","v":{"$error":"#N/A"}}]
[{"$f":"VLOOKUP(B4272,Categorias!$A:$B,2,FALSE)","v":{"$error":"#N/A"}}]
[{"$f":"VLOOKUP(B4273,Categorias!$A:$B,2,FALSE)","v":{"$error":"#N/A"}}]
[{"$f":"VLOOKUP(B4274,Categorias!$A:$B,2,FALSE)","v":{"$error":"#N/A"}}]
[{"$f":"VLOOKUP(B4275,Categorias!$A:$B,2,FALSE)","v":{"$error":"#N/A"}}]
[{"$f":"VLOOKUP(B4276,Categorias!$A:$B,2,FALSE)","v":{"$error":"#N/A"}}]
[{"$f":"VLOOKUP(B4277,Categorias!$A:$B,2,FALSE)","v":{"$error":"#N/A"}}]
[{"$f":"VLOOKUP(B4278,Categorias!$A:$B,2,FALSE)","v":{"$error":"#N/A"}}]
[{"$f":"VLOOKUP(B4279,Categorias!$A:$B,2,FALSE)","v":{"$error":"#N/A"}}]
[{"$f":"VLOOKUP(B4280,Categorias!$A:$B,2,FALSE)","v":{"$error":"#N/A"}}]
[{"$f":"VLOOKUP(B4281,Categorias!$A:$B,2,FALSE)","v":{"$error":"#N/A"}}]
[{"$f":"VLOOKUP(B4282,Categorias!$A:$B,2,FALSE)","v":{"$error":"#N/A"}}]
[{"$f":"VLOOKUP(B4283,Categorias!$A:$B,2,FALSE)","v":{"$error":"#N/A"}}]
[{"$f":"VLOOKUP(B4284,Categorias!$A:$B,2,FALSE)","v":{"$error":"#N/A"}}]
[{"$f":"VLOOKUP(B4285,Categorias!$A:$B,2,FALSE)","v":{"$error":"#N/A"}}]
[{"$f":"VLOOKUP(B4286,Categorias!$A:$B,2,FALSE)","v":{"$error":"#N/A"}}]
[{"$f":"VLOOKUP(B4287,Categorias!$A:$B,2,FALSE)","v":{"$error":"#N/A"}}]
[{"$f":"VLOOKUP(B4288,Categorias!$A:$B,2,FALSE)","v":{"$error":"#N/A"}}]
[{"$f":"VLOOKUP(B4289,Categorias!$A:$B,2,FALSE)","v":{"$error":"#N/A"}}]
[{"$f":"VLOOKUP(B4290,Categorias!$A:$B,2,FALSE)","v":{"$error":"#N/A"}}]
[{"$f":"VLOOKUP(B4291,Categorias!$A:$B,2,FALSE)","v":{"$error":"#N/A"}}]
[{"$f":"VLOOKUP(B4292,Categorias!$A:$B,2,FALSE)","v":{"$error":"#N/A"}}]
[{"$f":"VLOOKUP(B4293,Categorias!$A:$B,2,FALSE)","v":{"$error":"#N/A"}}]
[{"$f":"VLOOKUP(B4294,Categorias!$A:$B,2,FALSE)","v":{"$error":"#N/A"}}]
[{"$f":"VLOOKUP(B4295,Categorias!$A:$B,2,FALSE)","v":{"$error":"#N/A"}}]
[{"$f":"VLOOKUP(B4296,Categorias!$A:$B,2,FALSE)","v":{"$error":"#N/A"}}]
[{"$f":"VLOOKUP(B4297,Categorias!$A:$B,2,FALSE)","v":{"$error":"#N/A"}}]
[{"$f":"VLOOKUP(B4298,Categorias!$A:$B,2,FALSE)","v":{"$error":"#N/A"}}]
[{"$f":"VLOOKUP(B4299,Categorias!$A:$B,2,FALSE)","v":{"$error":"#N/A"}}]
[{"$f":"VLOOKUP(B4300,Categorias!$A:$B,2,FALSE)","v":{"$error":"#N/A"}}]
[{"$f":"VLOOKUP(B4301,Categorias!$A:$B,2,FALSE)","v":{"$error":"#N/A"}}]
[{"$f":"VLOOKUP(B4302,Categorias!$A:$B,2,FALSE)","v":{"$error":"#N/A"}}]
[{"$f":"VLOOKUP(B4303,Categorias!$A:$B,2,FALSE)","v":{"$error":"#N/A"}}]
[{"$f":"VLOOKUP(B4304,Categorias!$A:$B,2,FALSE)","v":{"$error":"#N/A"}}]
[{"$f":"VLOOKUP(B4305,Categorias!$A:$B,2,FALSE)","v":{"$error":"#N/A"}}]
[{"$f":"VLOOKUP(B4306,Categorias!$A:$B,2,FALSE)","v":{"$error":"#N/A"}}]
[{"$f":"VLOOKUP(B4307,Categorias!$A:$B,2,FALSE)","v":{"$error":"#N/A"}}]
[{"$f":"VLOOKUP(B4308,Categorias!$A:$B,2,FALSE)","v":{"$error":"#N/A"}}]
[{"$f":"VLOOKUP(B4309,Categorias!$A:$B,2,FALSE)","v":{"$error":"#N/A"}}]
[{"$f":"VLOOKUP(B4310,Categorias!$A:$B,2,FALSE)","v":{"$error":"#N/A"}}]
[{"$f":"VLOOKUP(B4311,Categorias!$A:$B,2,FALSE)","v":{"$error":"#N/A"}}]
[{"$f":"VLOOKUP(B4312,Categorias!$A:$B,2,FALSE)","v":{"$error":"#N/A"}}]
[{"$f":"VLOOKUP(B4313,Categorias!$A:$B,2,FALSE)","v":{"$error":"#N/A"}}]
[{"$f":"VLOOKUP(B4314,Categorias!$A:$B,2,FALSE)","v":{"$error":"#N/A"}}]
[{"$f":"VLOOKUP(B4315,Categorias!$A:$B,2,FALSE)","v":{"$error":"#N/A"}}]
[{"$f":"VLOOKUP(B4316,Categorias!$A:$B,2,FALSE)","v":{"$error":"#N/A"}}]
[{"$f":"VLOOKUP(B4317,Categorias!$A:$B,2,FALSE)","v":{"$error":"#N/A"}}]
[{"$f":"VLOOKUP(B4318,Categorias!$A:$B,2,FALSE)","v":{"$error":"#N/A"}}]
[{"$f":"VLOOKUP(B4319,Categorias!$A:$B,2,FALSE)","v":{"$error":"#N/A"}}]
[{"$f":"VLOOKUP(B4320,Categorias!$A:$B,2,FALSE)","v":{"$error":"#N/A"}}]
[{"$f":"VLOOKUP(B4321,Categorias!$A:$B,2,FALSE)","v":{"$error":"#N/A"}}]
[{"$f":"VLOOKUP(B4322,Categorias!$A:$B,2,FALSE)","v":{"$error":"#N/A"}}]
[{"$f":"VLOOKUP(B4323,Categorias!$A:$B,2,FALSE)","v":{"$error":"#N/A"}}]
[{"$f":"VLOOKUP(B4324,Categorias!$A:$B,2,FALSE)","v":{"$error":"#N/A"}}]
[{"$f":"VLOOKUP(B4325,Categorias!$A:$B,2,FALSE)","v":{"$error":"#N/A"}}]
[{"$f":"VLOOKUP(B4326,Categorias!$A:$B,2,FALSE)","v":{"$error":"#N/A"}}]
[{"$f":"VLOOKUP(B4327,Categorias!$A:$B,2,FALSE)","v":{"$error":"#N/A"}}]
[{"$f":"VLOOKUP(B4328,Categorias!$A:$B,2,FALSE)","v":{"$error":"#N/A"}}]
[{"$f":"VLOOKUP(B4329,Categorias!$A:$B,2,FALSE)","v":{"$error":"#N/A"}}]
[{"$f":"VLOOKUP(B4330,Categorias!$A:$B,2,FALSE)","v":{"$error":"#N/A"}}]
[{"$f":"VLOOKUP(B4331,Categorias!$A:$B,2,FALSE)","v":{"$error":"#N/A"}}]
[{"$f":"VLOOKUP(B4332,Categorias!$A:$B,2,FALSE)","v":{"$error":"#N/A"}}]
[{"$f":"VLOOKUP(B4333,Categorias!$A:$B,2,FALSE)","v":{"$error":"#N/A"}}]
[{"$f":"VLOOKUP(B4334,Categorias!$A:$B,2,FALSE)","v":{"$error":"#N/A"}}]
[{"$f":"VLOOKUP(B4335,Categorias!$A:$B,2,FALSE)","v":{"$error":"#N/A"}}]
[{"$f":"VLOOKUP(B4336,Categorias!$A:$B,2,FALSE)","v":{"$error":"#N/A"}}]
[{"$f":"VLOOKUP(B4337,Categorias!$A:$B,2,FALSE)","v":{"$error":"#N/A"}}]
[{"$f":"VLOOKUP(B4338,Categorias!$A:$B,2,FALSE)","v":{"$error":"#N/A"}}]
[{"$f":"VLOOKUP(B4339,Categorias!$A:$B,2,FALSE)","v":{"$error":"#N/A"}}]
[{"$f":"VLOOKUP(B4340,Categorias!$A:$B,2,FALSE)","v":{"$error":"#N/A"}}]
[{"$f":"VLOOKUP(B4341,Categorias!$A:$B,2,FALSE)","v":{"$error":"#N/A"}}]
[{"$f":"VLOOKUP(B4342,Categorias!$A:$B,2,FALSE)","v":{"$error":"#N/A"}}]
[{"$f":"VLOOKUP(B4343,Categorias!$A:$B,2,FALSE)","v":{"$error":"#N/A"}}]
[{"$f":"VLOOKUP(B4344,Categorias!$A:$B,2,FALSE)","v":{"$error":"#N/A"}}]
[{"$f":"VLOOKUP(B4345,Categorias!$A:$B,2,FALSE)","v":{"$error":"#N/A"}}]
[{"$f":"VLOOKUP(B4346,Categorias!$A:$B,2,FALSE)","v":{"$error":"#N/A"}}]
[{"$f":"VLOOKUP(B4347,Categorias!$A:$B,2,FALSE)","v":{"$error":"#N/A"}}]
[{"$f":"VLOOKUP(B4348,Categorias!$A:$B,2,FALSE)","v":{"$error":"#N/A"}}]
[{"$f":"VLOOKUP(B4349,Categorias!$A:$B,2,FALSE)","v":{"$error":"#N/A"}}]
[{"$f":"VLOOKUP(B4350,Categorias!$A:$B,2,FALSE)","v":{"$error":"#N/A"}}]
[{"$f":"VLOOKUP(B4351,Categorias!$A:$B,2,FALSE)","v":{"$error":"#N/A"}}]
[{"$f":"VLOOKUP(B4352,Categorias!$A:$B,2,FALSE)","v":{"$error":"#N/A"}}]
[{"$f":"VLOOKUP(B4353,Categorias!$A:$B,2,FALSE)","v":{"$error":"#N/A"}}]
[{"$f":"VLOOKUP(B4354,Categorias!$A:$B,2,FALSE)","v":{"$error":"#N/A"}}]
[{"$f":"VLOOKUP(B4355,Categorias!$A:$B,2,FALSE)","v":{"$error":"#N/A"}}]
[{"$f":"VLOOKUP(B4356,Categorias!$A:$B,2,FALSE)","v":{"$error":"#N/A"}}]
[{"$f":"VLOOKUP(B4357,Categorias!$A:$B,2,FALSE)","v":{"$error":"#N/A"}}]
[{"$f":"VLOOKUP(B4358,Categorias!$A:$B,2,FALSE)","v":{"$error":"#N/A"}}]
[{"$f":"VLOOKUP(B4359,Categorias!$A:$B,2,FALSE)","v":{"$error":"#N/A"}}]
[{"$f":"VLOOKUP(B4360,Categorias!$A:$B,2,FALSE)","v":{"$error":"#N/A"}}]
[{"$f":"VLOOKUP(B4361,Categorias!$A:$B,2,FALSE)","v":{"$error":"#N/A"}}]
[{"$f":"VLOOKUP(B4362,Categorias!$A:$B,2,FALSE)","v":{"$error":"#N/A"}}]
[{"$f":"VLOOKUP(B4363,Categorias!$A:$B,2,FALSE)","v":{"$error":"#N/A"}}]
[{"$f":"VLOOKUP(B4364,Categorias!$A:$B,2,FALSE)","v":{"$error":"#N/A"}}]
[{"$f":"VLOOKUP(B4365,Categorias!$A:$B,2,FALSE)","v":{"$error":"#N/A"}}]
[{"$f":"VLOOKUP(B4366,Categorias!$A:$B,2,FALSE)","v":{"$error":"#N/A"}}]
[{"$f":"VLOOKUP(B4367,Categorias!$A:$B,2,FALSE)","v":{"$error":"#N/A"}}]
[{"$f":"VLOOKUP(B4368,Categorias!$A:$B,2,FALSE)","v":{"$error":"#N/A"}}]
[{"$f":"VLOOKUP(B4369,Categorias!$A:$B,2,FALSE)","v":{"$error":"#N/A"}}]
[{"$f":"VLOOKUP(B4370,Categorias!$A:$B,2,FALSE)","v":{"$error":"#N/A"}}]
[{"$f":"VLOOKUP(B4371,Categorias!$A:$B,2,FALSE)","v":{"$error":"#N/A"}}]
[{"$f":"VLOOKUP(B4372,Categorias!$A:$B,2,FALSE)","v":{"$error":"#N/A"}}]
[{"$f":"VLOOKUP(B4373,Categorias!$A:$B,2,FALSE)","v":{"$error":"#N/A"}}]
[{"$f":"VLOOKUP(B4374,Categorias!$A:$B,2,FALSE)","v":{"$error":"#N/A"}}]
[{"$f":"VLOOKUP(B4375,Categorias!$A:$B,2,FALSE)","v":{"$error":"#N/A"}}]
[{"$f":"VLOOKUP(B4376,Categorias!$A:$B,2,FALSE)","v":{"$error":"#N/A"}}]
[{"$f":"VLOOKUP(B4377,Categorias!$A:$B,2,FALSE)","v":{"$error":"#N/A"}}]
[{"$f":"VLOOKUP(B4378,Categorias!$A:$B,2,FALSE)","v":{"$error":"#N/A"}}]
[{"$f":"VLOOKUP(B4379,Categorias!$A:$B,2,FALSE)","v":{"$error":"#N/A"}}]
[{"$f":"VLOOKUP(B4380,Categorias!$A:$B,2,FALSE)","v":{"$error":"#N/A"}}]
[{"$f":"VLOOKUP(B4381,Categorias!$A:$B,2,FALSE)","v":{"$error":"#N/A"}}]
[{"$f":"VLOOKUP(B4382,Categorias!$A:$B,2,FALSE)","v":{"$error":"#N/A"}}]
[{"$f":"VLOOKUP(B4383,Categorias!$A:$B,2,FALSE)","v":{"$error":"#N/A"}}]
[{"$f":"VLOOKUP(B4384,Categorias!$A:$B,2,FALSE)","v":{"$error":"#N/A"}}]
[{"$f":"VLOOKUP(B4385,Categorias!$A:$B,2,FALSE)","v":{"$error":"#N/A"}}]
[{"$f":"VLOOKUP(B4386,Categorias!$A:$B,2,FALSE)","v":{"$error":"#N/A"}}]
[{"$f":"VLOOKUP(B4387,Categorias!$A:$B,2,FALSE)","v":{"$error":"#N/A"}}]
[{"$f":"VLOOKUP(B4388,Categorias!$A:$B,2,FALSE)","v":{"$error":"#N/A"}}]
[{"$f":"VLOOKUP(B4389,Categorias!$A:$B,2,FALSE)","v":{"$error":"#N/A"}}]
[{"$f":"VLOOKUP(B4390,Categorias!$A:$B,2,FALSE)","v":{"$error":"#N/A"}}]
[{"$f":"VLOOKUP(B4391,Categorias!$A:$B,2,FALSE)","v":{"$error":"#N/A"}}]
[{"$f":"VLOOKUP(B4392,Categorias!$A:$B,2,FALSE)","v":{"$error":"#N/A"}}]
[{"$f":"VLOOKUP(B4393,Categorias!$A:$B,2,FALSE)","v":{"$error":"#N/A"}}]
[{"$f":"VLOOKUP(B4394,Categorias!$A:$B,2,FALSE)","v":{"$error":"#N/A"}}]
[{"$f":"VLOOKUP(B4395,Categorias!$A:$B,2,FALSE)","v":{"$error":"#N/A"}}]
[{"$f":"VLOOKUP(B4396,Categorias!$A:$B,2,FALSE)","v":{"$error":"#N/A"}}]
[{"$f":"VLOOKUP(B4397,Categorias!$A:$B,2,FALSE)","v":{"$error":"#N/A"}}]
[{"$f":"VLOOKUP(B4398,Categorias!$A:$B,2,FALSE)","v":{"$error":"#N/A"}}]
[{"$f":"VLOOKUP(B4399,Categorias!$A:$B,2,FALSE)","v":{"$error":"#N/A"}}]
[{"$f":"VLOOKUP(B4400,Categorias!$A:$B,2,FALSE)","v":{"$error":"#N/A"}}]
[{"$f":"VLOOKUP(B4401,Categorias!$A:$B,2,FALSE)","v":{"$error":"#N/A"}}]
[{"$f":"VLOOKUP(B4402,Categorias!$A:$B,2,FALSE)","v":{"$error":"#N/A"}}]
[{"$f":"VLOOKUP(B4403,Categorias!$A:$B,2,FALSE)","v":{"$error":"#N/A"}}]
[{"$f":"VLOOKUP(B4404,Categorias!$A:$B,2,FALSE)","v":{"$error":"#N/A"}}]
[{"$f":"VLOOKUP(B4405,Categorias!$A:$B,2,FALSE)","v":{"$error":"#N/A"}}]
[{"$f":"VLOOKUP(B4406,Categorias!$A:$B,2,FALSE)","v":{"$error":"#N/A"}}]
[{"$f":"VLOOKUP(B4407,Categorias!$A:$B,2,FALSE)","v":{"$error":"#N/A"}}]
[{"$f":"VLOOKUP(B4408,Categorias!$A:$B,2,FALSE)","v":{"$error":"#N/A"}}]
[{"$f":"VLOOKUP(B4409,Categorias!$A:$B,2,FALSE)","v":{"$error":"#N/A"}}]
[{"$f":"VLOOKUP(B4410,Categorias!$A:$B,2,FALSE)","v":{"$error":"#N/A"}}]
[{"$f":"VLOOKUP(B4411,Categorias!$A:$B,2,FALSE)","v":{"$error":"#N/A"}}]
[{"$f":"VLOOKUP(B4412,Categorias!$A:$B,2,FALSE)","v":{"$error":"#N/A"}}]
[{"$f":"VLOOKUP(B4413,Categorias!$A:$B,2,FALSE)","v":{"$error":"#N/A"}}]
[{"$f":"VLOOKUP(B4414,Categorias!$A:$B,2,FALSE)","v":{"$error":"#N/A"}}]
[{"$f":"VLOOKUP(B4415,Categorias!$A:$B,2,FALSE)","v":{"$error":"#N/A"}}]
[{"$f":"VLOOKUP(B4416,Categorias!$A:$B,2,FALSE)","v":{"$error":"#N/A"}}]
[{"$f":"VLOOKUP(B4417,Categorias!$A:$B,2,FALSE)","v":{"$error":"#N/A"}}]
[{"$f":"VLOOKUP(B4418,Categorias!$A:$B,2,FALSE)","v":{"$error":"#N/A"}}]
[{"$f":"VLOOKUP(B4419,Categorias!$A:$B,2,FALSE)","v":{"$error":"#N/A"}}]
[{"$f":"VLOOKUP(B4420,Categorias!$A:$B,2,FALSE)","v":{"$error":"#N/A"}}]
[{"$f":"VLOOKUP(B4421,Categorias!$A:$B,2,FALSE)","v":{"$error":"#N/A"}}]
[{"$f":"VLOOKUP(B4422,Categorias!$A:$B,2,FALSE)","v":{"$error":"#N/A"}}]
[{"$f":"VLOOKUP(B4423,Categorias!$A:$B,2,FALSE)","v":{"$error":"#N/A"}}]
[{"$f":"VLOOKUP(B4424,Categorias!$A:$B,2,FALSE)","v":{"$error":"#N/A"}}]
[{"$f":"VLOOKUP(B4425,Categorias!$A:$B,2,FALSE)","v":{"$error":"#N/A"}}]
[{"$f":"VLOOKUP(B4426,Categorias!$A:$B,2,FALSE)","v":{"$error":"#N/A"}}]
[{"$f":"VLOOKUP(B4427,Categorias!$A:$B,2,FALSE)","v":{"$error":"#N/A"}}]
[{"$f":"VLOOKUP(B4428,Categorias!$A:$B,2,FALSE)","v":{"$error":"#N/A"}}]
[{"$f":"VLOOKUP(B4429,Categorias!$A:$B,2,FALSE)","v":{"$error":"#N/A"}}]
[{"$f":"VLOOKUP(B4430,Categorias!$A:$B,2,FALSE)","v":{"$error":"#N/A"}}]
[{"$f":"VLOOKUP(B4431,Categorias!$A:$B,2,FALSE)","v":{"$error":"#N/A"}}]
[{"$f":"VLOOKUP(B4432,Categorias!$A:$B,2,FALSE)","v":{"$error":"#N/A"}}]
[{"$f":"VLOOKUP(B4433,Categorias!$A:$B,2,FALSE)","v":{"$error":"#N/A"}}]
[{"$f":"VLOOKUP(B4434,Categorias!$A:$B,2,FALSE)","v":{"$error":"#N/A"}}]
[{"$f":"VLOOKUP(B4435,Categorias!$A:$B,2,FALSE)","v":{"$error":"#N/A"}}]
[{"$f":"VLOOKUP(B4436,Categorias!$A:$B,2,FALSE)","v":{"$error":"#N/A"}}]
[{"$f":"VLOOKUP(B4437,Categorias!$A:$B,2,FALSE)","v":{"$error":"#N/A"}}]
[{"$f":"VLOOKUP(B4438,Categorias!$A:$B,2,FALSE)","v":{"$error":"#N/A"}}]
[{"$f":"VLOOKUP(B4439,Categorias!$A:$B,2,FALSE)","v":{"$error":"#N/A"}}]
[{"$f":"VLOOKUP(B4440,Categorias!$A:$B,2,FALSE)","v":{"$error":"#N/A"}}]
[{"$f":"VLOOKUP(B4441,Categorias!$A:$B,2,FALSE)","v":{"$error":"#N/A"}}]
[{"$f":"VLOOKUP(B4442,Categorias!$A:$B,2,FALSE)","v":{"$error":"#N/A"}}]
[{"$f":"VLOOKUP(B4443,Categorias!$A:$B,2,FALSE)","v":{"$error":"#N/A"}}]
[{"$f":"VLOOKUP(B4444,Categorias!$A:$B,2,FALSE)","v":{"$error":"#N/A"}}]
[{"$f":"VLOOKUP(B4445,Categorias!$A:$B,2,FALSE)","v":{"$error":"#N/A"}}]
[{"$f":"VLOOKUP(B4446,Categorias!$A:$B,2,FALSE)","v":{"$error":"#N/A"}}]
[{"$f":"VLOOKUP(B4447,Categorias!$A:$B,2,FALSE)","v":{"$error":"#N/A"}}]
[{"$f":"VLOOKUP(B4448,Categorias!$A:$B,2,FALSE)","v":{"$error":"#N/A"}}]
[{"$f":"VLOOKUP(B4449,Categorias!$A:$B,2,FALSE)","v":{"$error":"#N/A"}}]
[{"$f":"VLOOKUP(B4450,Categorias!$A:$B,2,FALSE)","v":{"$error":"#N/A"}}]
[{"$f":"VLOOKUP(B4451,Categorias!$A:$B,2,FALSE)","v":{"$error":"#N/A"}}]
[{"$f":"VLOOKUP(B4452,Categorias!$A:$B,2,FALSE)","v":{"$error":"#N/A"}}]
[{"$f":"VLOOKUP(B4453,Categorias!$A:$B,2,FALSE)","v":{"$error":"#N/A"}}]
[{"$f":"VLOOKUP(B4454,Categorias!$A:$B,2,FALSE)","v":{"$error":"#N/A"}}]
[{"$f":"VLOOKUP(B4455,Categorias!$A:$B,2,FALSE)","v":{"$error":"#N/A"}}]
[{"$f":"VLOOKUP(B4456,Categorias!$A:$B,2,FALSE)","v":{"$error":"#N/A"}}]
[{"$f":"VLOOKUP(B4457,Categorias!$A:$B,2,FALSE)","v":{"$error":"#N/A"}}]
[{"$f":"VLOOKUP(B4458,Categorias!$A:$B,2,FALSE)","v":{"$error":"#N/A"}}]
[{"$f":"VLOOKUP(B4459,Categorias!$A:$B,2,FALSE)","v":{"$error":"#N/A"}}]
[{"$f":"VLOOKUP(B4460,Categorias!$A:$B,2,FALSE)","v":{"$error":"#N/A"}}]
[{"$f":"VLOOKUP(B4461,Categorias!$A:$B,2,FALSE)","v":{"$error":"#N/A"}}]
[{"$f":"VLOOKUP(B4462,Categorias!$A:$B,2,FALSE)","v":{"$error":"#N/A"}}]
[{"$f":"VLOOKUP(B4463,Categorias!$A:$B,2,FALSE)","v":{"$error":"#N/A"}}]
[{"$f":"VLOOKUP(B4464,Categorias!$A:$B,2,FALSE)","v":{"$error":"#N/A"}}]
[{"$f":"VLOOKUP(B4465,Categorias!$A:$B,2,FALSE)","v":{"$error":"#N/A"}}]
[{"$f":"VLOOKUP(B4466,Categorias!$A:$B,2,FALSE)","v":{"$error":"#N/A"}}]
[{"$f":"VLOOKUP(B4467,Categorias!$A:$B,2,FALSE)","v":{"$error":"#N/A"}}]
[{"$f":"VLOOKUP(B4468,Categorias!$A:$B,2,FALSE)","v":{"$error":"#N/A"}}]
[{"$f":"VLOOKUP(B4469,Categorias!$A:$B,2,FALSE)","v":{"$error":"#N/A"}}]
[{"$f":"VLOOKUP(B4470,Categorias!$A:$B,2,FALSE)","v":{"$error":"#N/A"}}]
[{"$f":"VLOOKUP(B4471,Categorias!$A:$B,2,FALSE)","v":{"$error":"#N/A"}}]
[{"$f":"VLOOKUP(B4472,Categorias!$A:$B,2,FALSE)","v":{"$error":"#N/A"}}]
[{"$f":"VLOOKUP(B4473,Categorias!$A:$B,2,FALSE)","v":{"$error":"#N/A"}}]
[{"$f":"VLOOKUP(B4474,Categorias!$A:$B,2,FALSE)","v":{"$error":"#N/A"}}]
[{"$f":"VLOOKUP(B4475,Categorias!$A:$B,2,FALSE)","v":{"$error":"#N/A"}}]
[{"$f":"VLOOKUP(B4476,Categorias!$A:$B,2,FALSE)","v":{"$error":"#N/A"}}]
[{"$f":"VLOOKUP(B4477,Categorias!$A:$B,2,FALSE)","v":{"$error":"#N/A"}}]
[{"$f":"VLOOKUP(B4478,Categorias!$A:$B,2,FALSE)","v":{"$error":"#N/A"}}]
[{"$f":"VLOOKUP(B4479,Categorias!$A:$B,2,FALSE)","v":{"$error":"#N/A"}}]
[{"$f":"VLOOKUP(B4480,Categorias!$A:$B,2,FALSE)","v":{"$error":"#N/A"}}]
[{"$f":"VLOOKUP(B4481,Categorias!$A:$B,2,FALSE)","v":{"$error":"#N/A"}}]
[{"$f":"VLOOKUP(B4482,Categorias!$A:$B,2,FALSE)","v":{"$error":"#N/A"}}]
[{"$f":"VLOOKUP(B4483,Categorias!$A:$B,2,FALSE)","v":{"$error":"#N/A"}}]
[{"$f":"VLOOKUP(B4484,Categorias!$A:$B,2,FALSE)","v":{"$error":"#N/A"}}]
[{"$f":"VLOOKUP(B4485,Categorias!$A:$B,2,FALSE)","v":{"$error":"#N/A"}}]
[{"$f":"VLOOKUP(B4486,Categorias!$A:$B,2,FALSE)","v":{"$error":"#N/A"}}]
[{"$f":"VLOOKUP(B4487,Categorias!$A:$B,2,FALSE)","v":{"$error":"#N/A"}}]
[{"$f":"VLOOKUP(B4488,Categorias!$A:$B,2,FALSE)","v":{"$error":"#N/A"}}]
[{"$f":"VLOOKUP(B4489,Categorias!$A:$B,2,FALSE)","v":{"$error":"#N/A"}}]
[{"$f":"VLOOKUP(B4490,Categorias!$A:$B,2,FALSE)","v":{"$error":"#N/A"}}]
[{"$f":"VLOOKUP(B4491,Categorias!$A:$B,2,FALSE)","v":{"$error":"#N/A"}}]
[{"$f":"VLOOKUP(B4492,Categorias!$A:$B,2,FALSE)","v":{"$error":"#N/A"}}]
[{"$f":"VLOOKUP(B4493,Categorias!$A:$B,2,FALSE)","v":{"$error":"#N/A"}}]
[{"$f":"VLOOKUP(B4494,Categorias!$A:$B,2,FALSE)","v":{"$error":"#N/A"}}]
[{"$f":"VLOOKUP(B4495,Categorias!$A:$B,2,FALSE)","v":{"$error":"#N/A"}}]
[{"$f":"VLOOKUP(B4496,Categorias!$A:$B,2,FALSE)","v":{"$error":"#N/A"}}]
[{"$f":"VLOOKUP(B4497,Categorias!$A:$B,2,FALSE)","v":{"$error":"#N/A"}}]
[{"$f":"VLOOKUP(B4498,Categorias!$A:$B,2,FALSE)","v":{"$error":"#N/A"}}]
[{"$f":"VLOOKUP(B4499,Categorias!$A:$B,2,FALSE)","v":{"$error":"#N/A"}}]
[{"$f":"VLOOKUP(B4500,Categorias!$A:$B,2,FALSE)","v":{"$error":"#N/A"}}]
[{"$f":"VLOOKUP(B4501,Categorias!$A:$B,2,FALSE)","v":{"$error":"#N/A"}}]
[{"$f":"VLOOKUP(B4502,Categorias!$A:$B,2,FALSE)","v":{"$error":"#N/A"}}]
[{"$f":"VLOOKUP(B4503,Categorias!$A:$B,2,FALSE)","v":{"$error":"#N/A"}}]
[{"$f":"VLOOKUP(B4504,Categorias!$A:$B,2,FALSE)","v":{"$error":"#N/A"}}]
[{"$f":"VLOOKUP(B4505,Categorias!$A:$B,2,FALSE)","v":{"$error":"#N/A"}}]
[{"$f":"VLOOKUP(B4506,Categorias!$A:$B,2,FALSE)","v":{"$error":"#N/A"}}]
[{"$f":"VLOOKUP(B4507,Categorias!$A:$B,2,FALSE)","v":{"$error":"#N/A"}}]
[{"$f":"VLOOKUP(B4508,Categorias!$A:$B,2,FALSE)","v":{"$error":"#N/A"}}]
[{"$f":"VLOOKUP(B4509,Categorias!$A:$B,2,FALSE)","v":{"$error":"#N/A"}}]
[{"$f":"VLOOKUP(B4510,Categorias!$A:$B,2,FALSE)","v":{"$error":"#N/A"}}]
[{"$f":"VLOOKUP(B4511,Categorias!$A:$B,2,FALSE)","v":{"$error":"#N/A"}}]
[{"$f":"VLOOKUP(B4512,Categorias!$A:$B,2,FALSE)","v":{"$error":"#N/A"}}]
[{"$f":"VLOOKUP(B4513,Categorias!$A:$B,2,FALSE)","v":{"$error":"#N/A"}}]
[{"$f":"VLOOKUP(B4514,Categorias!$A:$B,2,FALSE)","v":{"$error":"#N/A"}}]
[{"$f":"VLOOKUP(B4515,Categorias!$A:$B,2,FALSE)","v":{"$error":"#N/A"}}]
[{"$f":"VLOOKUP(B4516,Categorias!$A:$B,2,FALSE)","v":{"$error":"#N/A"}}]
[{"$f":"VLOOKUP(B4517,Categorias!$A:$B,2,FALSE)","v":{"$error":"#N/A"}}]
[{"$f":"VLOOKUP(B4518,Categorias!$A:$B,2,FALSE)","v":{"$error":"#N/A"}}]
[{"$f":"VLOOKUP(B4519,Categorias!$A:$B,2,FALSE)","v":{"$error":"#N/A"}}]
[{"$f":"VLOOKUP(B4520,Categorias!$A:$B,2,FALSE)","v":{"$error":"#N/A"}}]
[{"$f":"VLOOKUP(B4521,Categorias!$A:$B,2,FALSE)","v":{"$error":"#N/A"}}]
[{"$f":"VLOOKUP(B4522,Categorias!$A:$B,2,FALSE)","v":{"$error":"#N/A"}}]
[{"$f":"VLOOKUP(B4523,Categorias!$A:$B,2,FALSE)","v":{"$error":"#N/A"}}]
[{"$f":"VLOOKUP(B4524,Categorias!$A:$B,2,FALSE)","v":{"$error":"#N/A"}}]
[{"$f":"VLOOKUP(B4525,Categorias!$A:$B,2,FALSE)","v":{"$error":"#N/A"}}]
[{"$f":"VLOOKUP(B4526,Categorias!$A:$B,2,FALSE)","v":{"$error":"#N/A"}}]
[{"$f":"VLOOKUP(B4527,Categorias!$A:$B,2,FALSE)","v":{"$error":"#N/A"}}]
[{"$f":"VLOOKUP(B4528,Categorias!$A:$B,2,FALSE)","v":{"$error":"#N/A"}}]
[{"$f":"VLOOKUP(B4529,Categorias!$A:$B,2,FALSE)","v":{"$error":"#N/A"}}]
[{"$f":"VLOOKUP(B4530,Categorias!$A:$B,2,FALSE)","v":{"$error":"#N/A"}}]
[{"$f":"VLOOKUP(B4531,Categorias!$A:$B,2,FALSE)","v":{"$error":"#N/A"}}]
[{"$f":"VLOOKUP(B4532,Categorias!$A:$B,2,FALSE)","v":{"$error":"#N/A"}}]
[{"$f":"VLOOKUP(B4533,Categorias!$A:$B,2,FALSE)","v":{"$error":"#N/A"}}]
[{"$f":"VLOOKUP(B4534,Categorias!$A:$B,2,FALSE)","v":{"$error":"#N/A"}}]
[{"$f":"VLOOKUP(B4535,Categorias!$A:$B,2,FALSE)","v":{"$error":"#N/A"}}]
[{"$f":"VLOOKUP(B4536,Categorias!$A:$B,2,FALSE)","v":{"$error":"#N/A"}}]
[{"$f":"VLOOKUP(B4537,Categorias!$A:$B,2,FALSE)","v":{"$error":"#N/A"}}]
[{"$f":"VLOOKUP(B4538,Categorias!$A:$B,2,FALSE)","v":{"$error":"#N/A"}}]
[{"$f":"VLOOKUP(B4539,Categorias!$A:$B,2,FALSE)","v":{"$error":"#N/A"}}]
[{"$f":"VLOOKUP(B4540,Categorias!$A:$B,2,FALSE)","v":{"$error":"#N/A"}}]
[{"$f":"VLOOKUP(B4541,Categorias!$A:$B,2,FALSE)","v":{"$error":"#N/A"}}]
[{"$f":"VLOOKUP(B4542,Categorias!$A:$B,2,FALSE)","v":{"$error":"#N/A"}}]
[{"$f":"VLOOKUP(B4543,Categorias!$A:$B,2,FALSE)","v":{"$error":"#N/A"}}]
[{"$f":"VLOOKUP(B4544,Categorias!$A:$B,2,FALSE)","v":{"$error":"#N/A"}}]
[{"$f":"VLOOKUP(B4545,Categorias!$A:$B,2,FALSE)","v":{"$error":"#N/A"}}]
[{"$f":"VLOOKUP(B4546,Categorias!$A:$B,2,FALSE)","v":{"$error":"#N/A"}}]
[{"$f":"VLOOKUP(B4547,Categorias!$A:$B,2,FALSE)","v":{"$error":"#N/A"}}]
[{"$f":"VLOOKUP(B4548,Categorias!$A:$B,2,FALSE)","v":{"$error":"#N/A"}}]
[{"$f":"VLOOKUP(B4549,Categorias!$A:$B,2,FALSE)","v":{"$error":"#N/A"}}]
[{"$f":"VLOOKUP(B4550,Categorias!$A:$B,2,FALSE)","v":{"$error":"#N/A"}}]
[{"$f":"VLOOKUP(B4551,Categorias!$A:$B,2,FALSE)","v":{"$error":"#N/A"}}]
[{"$f":"VLOOKUP(B4552,Categorias!$A:$B,2,FALSE)","v":{"$error":"#N/A"}}]
[{"$f":"VLOOKUP(B4553,Categorias!$A:$B,2,FALSE)","v":{"$error":"#N/A"}}]
[{"$f":"VLOOKUP(B4554,Categorias!$A:$B,2,FALSE)","v":{"$error":"#N/A"}}]
[{"$f":"VLOOKUP(B4555,Categorias!$A:$B,2,FALSE)","v":{"$error":"#N/A"}}]
[{"$f":"VLOOKUP(B4556,Categorias!$A:$B,2,FALSE)","v":{"$error":"#N/A"}}]
[{"$f":"VLOOKUP(B4557,Categorias!$A:$B,2,FALSE)","v":{"$error":"#N/A"}}]
[{"$f":"VLOOKUP(B4558,Categorias!$A:$B,2,FALSE)","v":{"$error":"#N/A"}}]
[{"$f":"VLOOKUP(B4559,Categorias!$A:$B,2,FALSE)","v":{"$error":"#N/A"}}]
[{"$f":"VLOOKUP(B4560,Categorias!$A:$B,2,FALSE)","v":{"$error":"#N/A"}}]
[{"$f":"VLOOKUP(B4561,Categorias!$A:$B,2,FALSE)","v":{"$error":"#N/A"}}]
[{"$f":"VLOOKUP(B4562,Categorias!$A:$B,2,FALSE)","v":{"$error":"#N/A"}}]
[{"$f":"VLOOKUP(B4563,Categorias!$A:$B,2,FALSE)","v":{"$error":"#N/A"}}]
[{"$f":"VLOOKUP(B4564,Categorias!$A:$B,2,FALSE)","v":{"$error":"#N/A"}}]
[{"$f":"VLOOKUP(B4565,Categorias!$A:$B,2,FALSE)","v":{"$error":"#N/A"}}]
[{"$f":"VLOOKUP(B4566,Categorias!$A:$B,2,FALSE)","v":{"$error":"#N/A"}}]
[{"$f":"VLOOKUP(B4567,Categorias!$A:$B,2,FALSE)","v":{"$error":"#N/A"}}]
[{"$f":"VLOOKUP(B4568,Categorias!$A:$B,2,FALSE)","v":{"$error":"#N/A"}}]
[{"$f":"VLOOKUP(B4569,Categorias!$A:$B,2,FALSE)","v":{"$error":"#N/A"}}]
[{"$f":"VLOOKUP(B4570,Categorias!$A:$B,2,FALSE)","v":{"$error":"#N/A"}}]
[{"$f":"VLOOKUP(B4571,Categorias!$A:$B,2,FALSE)","v":{"$error":"#N/A"}}]
[{"$f":"VLOOKUP(B4572,Categorias!$A:$B,2,FALSE)","v":{"$error":"#N/A"}}]
[{"$f":"VLOOKUP(B4573,Categorias!$A:$B,2,FALSE)","v":{"$error":"#N/A"}}]
[{"$f":"VLOOKUP(B4574,Categorias!$A:$B,2,FALSE)","v":{"$error":"#N/A"}}]
[{"$f":"VLOOKUP(B4575,Categorias!$A:$B,2,FALSE)","v":{"$error":"#N/A"}}]
[{"$f":"VLOOKUP(B4576,Categorias!$A:$B,2,FALSE)","v":{"$error":"#N/A"}}]
[{"$f":"VLOOKUP(B4577,Categorias!$A:$B,2,FALSE)","v":{"$error":"#N/A"}}]
[{"$f":"VLOOKUP(B4578,Categorias!$A:$B,2,FALSE)","v":{"$error":"#N/A"}}]
[{"$f":"VLOOKUP(B4579,Categorias!$A:$B,2,FALSE)","v":{"$error":"#N/A"}}]
[{"$f":"VLOOKUP(B4580,Categorias!$A:$B,2,FALSE)","v":{"$error":"#N/A"}}]
[{"$f":"VLOOKUP(B4581,Categorias!$A:$B,2,FALSE)","v":{"$error":"#N/A"}}]
[{"$f":"VLOOKUP(B4582,Categorias!$A:$B,2,FALSE)","v":{"$error":"#N/A"}}]
[{"$f":"VLOOKUP(B4583,Categorias!$A:$B,2,FALSE)","v":{"$error":"#N/A"}}]
[{"$f":"VLOOKUP(B4584,Categorias!$A:$B,2,FALSE)","v":{"$error":"#N/A"}}]
[{"$f":"VLOOKUP(B4585,Categorias!$A:$B,2,FALSE)","v":{"$error":"#N/A"}}]
[{"$f":"VLOOKUP(B4586,Categorias!$A:$B,2,FALSE)","v":{"$error":"#N/A"}}]
[{"$f":"VLOOKUP(B4587,Categorias!$A:$B,2,FALSE)","v":{"$error":"#N/A"}}]
[{"$f":"VLOOKUP(B4588,Categorias!$A:$B,2,FALSE)","v":{"$error":"#N/A"}}]
[{"$f":"VLOOKUP(B4589,Categorias!$A:$B,2,FALSE)","v":{"$error":"#N/A"}}]
[{"$f":"VLOOKUP(B4590,Categorias!$A:$B,2,FALSE)","v":{"$error":"#N/A"}}]
[{"$f":"VLOOKUP(B4591,Categorias!$A:$B,2,FALSE)","v":{"$error":"#N/A"}}]
[{"$f":"VLOOKUP(B4592,Categorias!$A:$B,2,FALSE)","v":{"$error":"#N/A"}}]
[{"$f":"VLOOKUP(B4593,Categorias!$A:$B,2,FALSE)","v":{"$error":"#N/A"}}]
[{"$f":"VLOOKUP(B4594,Categorias!$A:$B,2,FALSE)","v":{"$error":"#N/A"}}]
[{"$f":"VLOOKUP(B4595,Categorias!$A:$B,2,FALSE)","v":{"$error":"#N/A"}}]
[{"$f":"VLOOKUP(B4596,Categorias!$A:$B,2,FALSE)","v":{"$error":"#N/A"}}]
[{"$f":"VLOOKUP(B4597,Categorias!$A:$B,2,FALSE)","v":{"$error":"#N/A"}}]
[{"$f":"VLOOKUP(B4598,Categorias!$A:$B,2,FALSE)","v":{"$error":"#N/A"}}]
[{"$f":"VLOOKUP(B4599,Categorias!$A:$B,2,FALSE)","v":{"$error":"#N/A"}}]
[{"$f":"VLOOKUP(B4600,Categorias!$A:$B,2,FALSE)","v":{"$error":"#N/A"}}]
[{"$f":"VLOOKUP(B4601,Categorias!$A:$B,2,FALSE)","v":{"$error":"#N/A"}}]
[{"$f":"VLOOKUP(B4602,Categorias!$A:$B,2,FALSE)","v":{"$error":"#N/A"}}]
[{"$f":"VLOOKUP(B4603,Categorias!$A:$B,2,FALSE)","v":{"$error":"#N/A"}}]
[{"$f":"VLOOKUP(B4604,Categorias!$A:$B,2,FALSE)","v":{"$error":"#N/A"}}]
[{"$f":"VLOOKUP(B4605,Categorias!$A:$B,2,FALSE)","v":{"$error":"#N/A"}}]
[{"$f":"VLOOKUP(B4606,Categorias!$A:$B,2,FALSE)","v":{"$error":"#N/A"}}]
[{"$f":"VLOOKUP(B4607,Categorias!$A:$B,2,FALSE)","v":{"$error":"#N/A"}}]
[{"$f":"VLOOKUP(B4608,Categorias!$A:$B,2,FALSE)","v":{"$error":"#N/A"}}]
[{"$f":"VLOOKUP(B4609,Categorias!$A:$B,2,FALSE)","v":{"$error":"#N/A"}}]
[{"$f":"VLOOKUP(B4610,Categorias!$A:$B,2,FALSE)","v":{"$error":"#N/A"}}]
[{"$f":"VLOOKUP(B4611,Categorias!$A:$B,2,FALSE)","v":{"$error":"#N/A"}}]
[{"$f":"VLOOKUP(B4612,Categorias!$A:$B,2,FALSE)","v":{"$error":"#N/A"}}]
[{"$f":"VLOOKUP(B4613,Categorias!$A:$B,2,FALSE)","v":{"$error":"#N/A"}}]
[{"$f":"VLOOKUP(B4614,Categorias!$A:$B,2,FALSE)","v":{"$error":"#N/A"}}]
[{"$f":"VLOOKUP(B4615,Categorias!$A:$B,2,FALSE)","v":{"$error":"#N/A"}}]
[{"$f":"VLOOKUP(B4616,Categorias!$A:$B,2,FALSE)","v":{"$error":"#N/A"}}]
[{"$f":"VLOOKUP(B4617,Categorias!$A:$B,2,FALSE)","v":{"$error":"#N/A"}}]
[{"$f":"VLOOKUP(B4618,Categorias!$A:$B,2,FALSE)","v":{"$error":"#N/A"}}]
[{"$f":"VLOOKUP(B4619,Categorias!$A:$B,2,FALSE)","v":{"$error":"#N/A"}}]
[{"$f":"VLOOKUP(B4620,Categorias!$A:$B,2,FALSE)","v":{"$error":"#N/A"}}]
[{"$f":"VLOOKUP(B4621,Categorias!$A:$B,2,FALSE)","v":{"$error":"#N/A"}}]
[{"$f":"VLOOKUP(B4622,Categorias!$A:$B,2,FALSE)","v":{"$error":"#N/A"}}]
[{"$f":"VLOOKUP(B4623,Categorias!$A:$B,2,FALSE)","v":{"$error":"#N/A"}}]
[{"$f":"VLOOKUP(B4624,Categorias!$A:$B,2,FALSE)","v":{"$error":"#N/A"}}]
[{"$f":"VLOOKUP(B4625,Categorias!$A:$B,2,FALSE)","v":{"$error":"#N/A"}}]
[{"$f":"VLOOKUP(B4626,Categorias!$A:$B,2,FALSE)","v":{"$error":"#N/A"}}]
[{"$f":"VLOOKUP(B4627,Categorias!$A:$B,2,FALSE)","v":{"$error":"#N/A"}}]
[{"$f":"VLOOKUP(B4628,Categorias!$A:$B,2,FALSE)","v":{"$error":"#N/A"}}]
[{"$f":"VLOOKUP(B4629,Categorias!$A:$B,2,FALSE)","v":{"$error":"#N/A"}}]
[{"$f":"VLOOKUP(B4630,Categorias!$A:$B,2,FALSE)","v":{"$error":"#N/A"}}]
[{"$f":"VLOOKUP(B4631,Categorias!$A:$B,2,FALSE)","v":{"$error":"#N/A"}}]
[{"$f":"VLOOKUP(B4632,Categorias!$A:$B,2,FALSE)","v":{"$error":"#N/A"}}]
[{"$f":"VLOOKUP(B4633,Categorias!$A:$B,2,FALSE)","v":{"$error":"#N/A"}}]
[{"$f":"VLOOKUP(B4634,Categorias!$A:$B,2,FALSE)","v":{"$error":"#N/A"}}]
[{"$f":"VLOOKUP(B4635,Categorias!$A:$B,2,FALSE)","v":{"$error":"#N/A"}}]
[{"$f":"VLOOKUP(B4636,Categorias!$A:$B,2,FALSE)","v":{"$error":"#N/A"}}]
[{"$f":"VLOOKUP(B4637,Categorias!$A:$B,2,FALSE)","v":{"$error":"#N/A"}}]
[{"$f":"VLOOKUP(B4638,Categorias!$A:$B,2,FALSE)","v":{"$error":"#N/A"}}]
[{"$f":"VLOOKUP(B4639,Categorias!$A:$B,2,FALSE)","v":{"$error":"#N/A"}}]
[{"$f":"VLOOKUP(B4640,Categorias!$A:$B,2,FALSE)","v":{"$error":"#N/A"}}]
[{"$f":"VLOOKUP(B4641,Categorias!$A:$B,2,FALSE)","v":{"$error":"#N/A"}}]
[{"$f":"VLOOKUP(B4642,Categorias!$A:$B,2,FALSE)","v":{"$error":"#N/A"}}]
[{"$f":"VLOOKUP(B4643,Categorias!$A:$B,2,FALSE)","v":{"$error":"#N/A"}}]
[{"$f":"VLOOKUP(B4644,Categorias!$A:$B,2,FALSE)","v":{"$error":"#N/A"}}]
[{"$f":"VLOOKUP(B4645,Categorias!$A:$B,2,FALSE)","v":{"$error":"#N/A"}}]
[{"$f":"VLOOKUP(B4646,Categorias!$A:$B,2,FALSE)","v":{"$error":"#N/A"}}]
[{"$f":"VLOOKUP(B4647,Categorias!$A:$B,2,FALSE)","v":{"$error":"#N/A"}}]
[{"$f":"VLOOKUP(B4648,Categorias!$A:$B,2,FALSE)","v":{"$error":"#N/A"}}]
[{"$f":"VLOOKUP(B4649,Categorias!$A:$B,2,FALSE)","v":{"$error":"#N/A"}}]
[{"$f":"VLOOKUP(B4650,Categorias!$A:$B,2,FALSE)","v":{"$error":"#N/A"}}]
[{"$f":"VLOOKUP(B4651,Categorias!$A:$B,2,FALSE)","v":{"$error":"#N/A"}}]
[{"$f":"VLOOKUP(B4652,Categorias!$A:$B,2,FALSE)","v":{"$error":"#N/A"}}]
[{"$f":"VLOOKUP(B4653,Categorias!$A:$B,2,FALSE)","v":{"$error":"#N/A"}}]
[{"$f":"VLOOKUP(B4654,Categorias!$A:$B,2,FALSE)","v":{"$error":"#N/A"}}]
[{"$f":"VLOOKUP(B4655,Categorias!$A:$B,2,FALSE)","v":{"$error":"#N/A"}}]
[{"$f":"VLOOKUP(B4656,Categorias!$A:$B,2,FALSE)","v":{"$error":"#N/A"}}]
[{"$f":"VLOOKUP(B4657,Categorias!$A:$B,2,FALSE)","v":{"$error":"#N/A"}}]
[{"$f":"VLOOKUP(B4658,Categorias!$A:$B,2,FALSE)","v":{"$error":"#N/A"}}]
[{"$f":"VLOOKUP(B4659,Categorias!$A:$B,2,FALSE)","v":{"$error":"#N/A"}}]
[{"$f":"VLOOKUP(B4660,Categorias!$A:$B,2,FALSE)","v":{"$error":"#N/A"}}]
[{"$f":"VLOOKUP(B4661,Categorias!$A:$B,2,FALSE)","v":{"$error":"#N/A"}}]
[{"$f":"VLOOKUP(B4662,Categorias!$A:$B,2,FALSE)","v":{"$error":"#N/A"}}]
[{"$f":"VLOOKUP(B4663,Categorias!$A:$B,2,FALSE)","v":{"$error":"#N/A"}}]
[{"$f":"VLOOKUP(B4664,Categorias!$A:$B,2,FALSE)","v":{"$error":"#N/A"}}]
[{"$f":"VLOOKUP(B4665,Categorias!$A:$B,2,FALSE)","v":{"$error":"#N/A"}}]
[{"$f":"VLOOKUP(B4666,Categorias!$A:$B,2,FALSE)","v":{"$error":"#N/A"}}]
[{"$f":"VLOOKUP(B4667,Categorias!$A:$B,2,FALSE)","v":{"$error":"#N/A"}}]
[{"$f":"VLOOKUP(B4668,Categorias!$A:$B,2,FALSE)","v":{"$error":"#N/A"}}]
[{"$f":"VLOOKUP(B4669,Categorias!$A:$B,2,FALSE)","v":{"$error":"#N/A"}}]
[{"$f":"VLOOKUP(B4670,Categorias!$A:$B,2,FALSE)","v":{"$error":"#N/A"}}]
[{"$f":"VLOOKUP(B4671,Categorias!$A:$B,2,FALSE)","v":{"$error":"#N/A"}}]
[{"$f":"VLOOKUP(B4672,Categorias!$A:$B,2,FALSE)","v":{"$error":"#N/A"}}]
[{"$f":"VLOOKUP(B4673,Categorias!$A:$B,2,FALSE)","v":{"$error":"#N/A"}}]
[{"$f":"VLOOKUP(B4674,Categorias!$A:$B,2,FALSE)","v":{"$error":"#N/A"}}]
[{"$f":"VLOOKUP(B4675,Categorias!$A:$B,2,FALSE)","v":{"$error":"#N/A"}}]
[{"$f":"VLOOKUP(B4676,Categorias!$A:$B,2,FALSE)","v":{"$error":"#N/A"}}]
[{"$f":"VLOOKUP(B4677,Categorias!$A:$B,2,FALSE)","v":{"$error":"#N/A"}}]
[{"$f":"VLOOKUP(B4678,Categorias!$A:$B,2,FALSE)","v":{"$error":"#N/A"}}]
[{"$f":"VLOOKUP(B4679,Categorias!$A:$B,2,FALSE)","v":{"$error":"#N/A"}}]
[{"$f":"VLOOKUP(B4680,Categorias!$A:$B,2,FALSE)","v":{"$error":"#N/A"}}]
[{"$f":"VLOOKUP(B4681,Categorias!$A:$B,2,FALSE)","v":{"$error":"#N/A"}}]
[{"$f":"VLOOKUP(B4682,Categorias!$A:$B,2,FALSE)","v":{"$error":"#N/A"}}]
[{"$f":"VLOOKUP(B4683,Categorias!$A:$B,2,FALSE)","v":{"$error":"#N/A"}}]
[{"$f":"VLOOKUP(B4684,Categorias!$A:$B,2,FALSE)","v":{"$error":"#N/A"}}]
[{"$f":"VLOOKUP(B4685,Categorias!$A:$B,2,FALSE)","v":{"$error":"#N/A"}}]
[{"$f":"VLOOKUP(B4686,Categorias!$A:$B,2,FALSE)","v":{"$error":"#N/A"}}]
[{"$f":"VLOOKUP(B4687,Categorias!$A:$B,2,FALSE)","v":{"$error":"#N/A"}}]
[{"$f":"VLOOKUP(B4688,Categorias!$A:$B,2,FALSE)","v":{"$error":"#N/A"}}]
[{"$f":"VLOOKUP(B4689,Categorias!$A:$B,2,FALSE)","v":{"$error":"#N/A"}}]
[{"$f":"VLOOKUP(B4690,Categorias!$A:$B,2,FALSE)","v":{"$error":"#N/A"}}]
[{"$f":"VLOOKUP(B4691,Categorias!$A:$B,2,FALSE)","v":{"$error":"#N/A"}}]
[{"$f":"VLOOKUP(B4692,Categorias!$A:$B,2,FALSE)","v":{"$error":"#N/A"}}]
[{"$f":"VLOOKUP(B4693,Categorias!$A:$B,2,FALSE)","v":{"$error":"#N/A"}}]
[{"$f":"VLOOKUP(B4694,Categorias!$A:$B,2,FALSE)","v":{"$error":"#N/A"}}]
[{"$f":"VLOOKUP(B4695,Categorias!$A:$B,2,FALSE)","v":{"$error":"#N/A"}}]
[{"$f":"VLOOKUP(B4696,Categorias!$A:$B,2,FALSE)","v":{"$error":"#N/A"}}]
[{"$f":"VLOOKUP(B4697,Categorias!$A:$B,2,FALSE)","v":{"$error":"#N/A"}}]
[{"$f":"VLOOKUP(B4698,Categorias!$A:$B,2,FALSE)","v":{"$error":"#N/A"}}]
[{"$f":"VLOOKUP(B4699,Categorias!$A:$B,2,FALSE)","v":{"$error":"#N/A"}}]
[{"$f":"VLOOKUP(B4700,Categorias!$A:$B,2,FALSE)","v":{"$error":"#N/A"}}]
[{"$f":"VLOOKUP(B4701,Categorias!$A:$B,2,FALSE)","v":{"$error":"#N/A"}}]
[{"$f":"VLOOKUP(B4702,Categorias!$A:$B,2,FALSE)","v":{"$error":"#N/A"}}]
[{"$f":"VLOOKUP(B4703,Categorias!$A:$B,2,FALSE)","v":{"$error":"#N/A"}}]
[{"$f":"VLOOKUP(B4704,Categorias!$A:$B,2,FALSE)","v":{"$error":"#N/A"}}]
[{"$f":"VLOOKUP(B4705,Categorias!$A:$B,2,FALSE)","v":{"$error":"#N/A"}}]
[{"$f":"VLOOKUP(B4706,Categorias!$A:$B,2,FALSE)","v":{"$error":"#N/A"}}]
[{"$f":"VLOOKUP(B4707,Categorias!$A:$B,2,FALSE)","v":{"$error":"#N/A"}}]
[{"$f":"VLOOKUP(B4708,Categorias!$A:$B,2,FALSE)","v":{"$error":"#N/A"}}]
[{"$f":"VLOOKUP(B4709,Categorias!$A:$B,2,FALSE)","v":{"$error":"#N/A"}}]
[{"$f":"VLOOKUP(B4710,Categorias!$A:$B,2,FALSE)","v":{"$error":"#N/A"}}]
[{"$f":"VLOOKUP(B4711,Categorias!$A:$B,2,FALSE)","v":{"$error":"#N/A"}}]
[{"$f":"VLOOKUP(B4712,Categorias!$A:$B,2,FALSE)","v":{"$error":"#N/A"}}]
[{"$f":"VLOOKUP(B4713,Categorias!$A:$B,2,FALSE)","v":{"$error":"#N/A"}}]
[{"$f":"VLOOKUP(B4714,Categorias!$A:$B,2,FALSE)","v":{"$error":"#N/A"}}]
[{"$f":"VLOOKUP(B4715,Categorias!$A:$B,2,FALSE)","v":{"$error":"#N/A"}}]
[{"$f":"VLOOKUP(B4716,Categorias!$A:$B,2,FALSE)","v":{"$error":"#N/A"}}]
[{"$f":"VLOOKUP(B4717,Categorias!$A:$B,2,FALSE)","v":{"$error":"#N/A"}}]
[{"$f":"VLOOKUP(B4718,Categorias!$A:$B,2,FALSE)","v":{"$error":"#N/A"}}]
[{"$f":"VLOOKUP(B4719,Categorias!$A:$B,2,FALSE)","v":{"$error":"#N/A"}}]
[{"$f":"VLOOKUP(B4720,Categorias!$A:$B,2,FALSE)","v":{"$error":"#N/A"}}]
[{"$f":"VLOOKUP(B4721,Categorias!$A:$B,2,FALSE)","v":{"$error":"#N/A"}}]
[{"$f":"VLOOKUP(B4722,Categorias!$A:$B,2,FALSE)","v":{"$error":"#N/A"}}]
[{"$f":"VLOOKUP(B4723,Categorias!$A:$B,2,FALSE)","v":{"$error":"#N/A"}}]
[{"$f":"VLOOKUP(B4724,Categorias!$A:$B,2,FALSE)","v":{"$error":"#N/A"}}]
[{"$f":"VLOOKUP(B4725,Categorias!$A:$B,2,FALSE)","v":{"$error":"#N/A"}}]
[{"$f":"VLOOKUP(B4726,Categorias!$A:$B,2,FALSE)","v":{"$error":"#N/A"}}]
[{"$f":"VLOOKUP(B4727,Categorias!$A:$B,2,FALSE)","v":{"$error":"#N/A"}}]
[{"$f":"VLOOKUP(B4728,Categorias!$A:$B,2,FALSE)","v":{"$error":"#N/A"}}]
[{"$f":"VLOOKUP(B4729,Categorias!$A:$B,2,FALSE)","v":{"$error":"#N/A"}}]
[{"$f":"VLOOKUP(B4730,Categorias!$A:$B,2,FALSE)","v":{"$error":"#N/A"}}]
[{"$f":"VLOOKUP(B4731,Categorias!$A:$B,2,FALSE)","v":{"$error":"#N/A"}}]
[{"$f":"VLOOKUP(B4732,Categorias!$A:$B,2,FALSE)","v":{"$error":"#N/A"}}]
[{"$f":"VLOOKUP(B4733,Categorias!$A:$B,2,FALSE)","v":{"$error":"#N/A"}}]
[{"$f":"VLOOKUP(B4734,Categorias!$A:$B,2,FALSE)","v":{"$error":"#N/A"}}]
[{"$f":"VLOOKUP(B4735,Categorias!$A:$B,2,FALSE)","v":{"$error":"#N/A"}}]
[{"$f":"VLOOKUP(B4736,Categorias!$A:$B,2,FALSE)","v":{"$error":"#N/A"}}]
[{"$f":"VLOOKUP(B4737,Categorias!$A:$B,2,FALSE)","v":{"$error":"#N/A"}}]
[{"$f":"VLOOKUP(B4738,Categorias!$A:$B,2,FALSE)","v":{"$error":"#N/A"}}]
[{"$f":"VLOOKUP(B4739,Categorias!$A:$B,2,FALSE)","v":{"$error":"#N/A"}}]
[{"$f":"VLOOKUP(B4740,Categorias!$A:$B,2,FALSE)","v":{"$error":"#N/A"}}]
[{"$f":"VLOOKUP(B4741,Categorias!$A:$B,2,FALSE)","v":{"$error":"#N/A"}}]
[{"$f":"VLOOKUP(B4742,Categorias!$A:$B,2,FALSE)","v":{"$error":"#N/A"}}]
[{"$f":"VLOOKUP(B4743,Categorias!$A:$B,2,FALSE)","v":{"$error":"#N/A"}}]
[{"$f":"VLOOKUP(B4744,Categorias!$A:$B,2,FALSE)","v":{"$error":"#N/A"}}]
[{"$f":"VLOOKUP(B4745,Categorias!$A:$B,2,FALSE)","v":{"$error":"#N/A"}}]
[{"$f":"VLOOKUP(B4746,Categorias!$A:$B,2,FALSE)","v":{"$error":"#N/A"}}]
[{"$f":"VLOOKUP(B4747,Categorias!$A:$B,2,FALSE)","v":{"$error":"#N/A"}}]
[{"$f":"VLOOKUP(B4748,Categorias!$A:$B,2,FALSE)","v":{"$error":"#N/A"}}]
[{"$f":"VLOOKUP(B4749,Categorias!$A:$B,2,FALSE)","v":{"$error":"#N/A"}}]
[{"$f":"VLOOKUP(B4750,Categorias!$A:$B,2,FALSE)","v":{"$error":"#N/A"}}]
[{"$f":"VLOOKUP(B4751,Categorias!$A:$B,2,FALSE)","v":{"$error":"#N/A"}}]
[{"$f":"VLOOKUP(B4752,Categorias!$A:$B,2,FALSE)","v":{"$error":"#N/A"}}]
[{"$f":"VLOOKUP(B4753,Categorias!$A:$B,2,FALSE)","v":{"$error":"#N/A"}}]
[{"$f":"VLOOKUP(B4754,Categorias!$A:$B,2,FALSE)","v":{"$error":"#N/A"}}]
[{"$f":"VLOOKUP(B4755,Categorias!$A:$B,2,FALSE)","v":{"$error":"#N/A"}}]
[{"$f":"VLOOKUP(B4756,Categorias!$A:$B,2,FALSE)","v":{"$error":"#N/A"}}]
[{"$f":"VLOOKUP(B4757,Categorias!$A:$B,2,FALSE)","v":{"$error":"#N/A"}}]
[{"$f":"VLOOKUP(B4758,Categorias!$A:$B,2,FALSE)","v":{"$error":"#N/A"}}]
[{"$f":"VLOOKUP(B4759,Categorias!$A:$B,2,FALSE)","v":{"$error":"#N/A"}}]
[{"$f":"VLOOKUP(B4760,Categorias!$A:$B,2,FALSE)","v":{"$error":"#N/A"}}]
[{"$f":"VLOOKUP(B4761,Categorias!$A:$B,2,FALSE)","v":{"$error":"#N/A"}}]
[{"$f":"VLOOKUP(B4762,Categorias!$A:$B,2,FALSE)","v":{"$error":"#N/A"}}]
[{"$f":"VLOOKUP(B4763,Categorias!$A:$B,2,FALSE)","v":{"$error":"#N/A"}}]
[{"$f":"VLOOKUP(B4764,Categorias!$A:$B,2,FALSE)","v":{"$error":"#N/A"}}]
[{"$f":"VLOOKUP(B4765,Categorias!$A:$B,2,FALSE)","v":{"$error":"#N/A"}}]
[{"$f":"VLOOKUP(B4766,Categorias!$A:$B,2,FALSE)","v":{"$error":"#N/A"}}]
[{"$f":"VLOOKUP(B4767,Categorias!$A:$B,2,FALSE)","v":{"$error":"#N/A"}}]
[{"$f":"VLOOKUP(B4768,Categorias!$A:$B,2,FALSE)","v":{"$error":"#N/A"}}]
[{"$f":"VLOOKUP(B4769,Categorias!$A:$B,2,FALSE)","v":{"$error":"#N/A"}}]
[{"$f":"VLOOKUP(B4770,Categorias!$A:$B,2,FALSE)","v":{"$error":"#N/A"}}]
[{"$f":"VLOOKUP(B4771,Categorias!$A:$B,2,FALSE)","v":{"$error":"#N/A"}}]
[{"$f":"VLOOKUP(B4772,Categorias!$A:$B,2,FALSE)","v":{"$error":"#N/A"}}]
[{"$f":"VLOOKUP(B4773,Categorias!$A:$B,2,FALSE)","v":{"$error":"#N/A"}}]
[{"$f":"VLOOKUP(B4774,Categorias!$A:$B,2,FALSE)","v":{"$error":"#N/A"}}]
[{"$f":"VLOOKUP(B4775,Categorias!$A:$B,2,FALSE)","v":{"$error":"#N/A"}}]
[{"$f":"VLOOKUP(B4776,Categorias!$A:$B,2,FALSE)","v":{"$error":"#N/A"}}]
[{"$f":"VLOOKUP(B4777,Categorias!$A:$B,2,FALSE)","v":{"$error":"#N/A"}}]
[{"$f":"VLOOKUP(B4778,Categorias!$A:$B,2,FALSE)","v":{"$error":"#N/A"}}]
[{"$f":"VLOOKUP(B4779,Categorias!$A:$B,2,FALSE)","v":{"$error":"#N/A"}}]
[{"$f":"VLOOKUP(B4780,Categorias!$A:$B,2,FALSE)","v":{"$error":"#N/A"}}]
[{"$f":"VLOOKUP(B4781,Categorias!$A:$B,2,FALSE)","v":{"$error":"#N/A"}}]
[{"$f":"VLOOKUP(B4782,Categorias!$A:$B,2,FALSE)","v":{"$error":"#N/A"}}]
[{"$f":"VLOOKUP(B4783,Categorias!$A:$B,2,FALSE)","v":{"$error":"#N/A"}}]
[{"$f":"VLOOKUP(B4784,Categorias!$A:$B,2,FALSE)","v":{"$error":"#N/A"}}]
[{"$f":"VLOOKUP(B4785,Categorias!$A:$B,2,FALSE)","v":{"$error":"#N/A"}}]
[{"$f":"VLOOKUP(B4786,Categorias!$A:$B,2,FALSE)","v":{"$error":"#N/A"}}]
[{"$f":"VLOOKUP(B4787,Categorias!$A:$B,2,FALSE)","v":{"$error":"#N/A"}}]
[{"$f":"VLOOKUP(B4788,Categorias!$A:$B,2,FALSE)","v":{"$error":"#N/A"}}]
[{"$f":"VLOOKUP(B4789,Categorias!$A:$B,2,FALSE)","v":{"$error":"#N/A"}}]
[{"$f":"VLOOKUP(B4790,Categorias!$A:$B,2,FALSE)","v":{"$error":"#N/A"}}]
[{"$f":"VLOOKUP(B4791,Categorias!$A:$B,2,FALSE)","v":{"$error":"#N/A"}}]
[{"$f":"VLOOKUP(B4792,Categorias!$A:$B,2,FALSE)","v":{"$error":"#N/A"}}]
[{"$f":"VLOOKUP(B4793,Categorias!$A:$B,2,FALSE)","v":{"$error":"#N/A"}}]
[{"$f":"VLOOKUP(B4794,Categorias!$A:$B,2,FALSE)","v":{"$error":"#N/A"}}]
[{"$f":"VLOOKUP(B4795,Categorias!$A:$B,2,FALSE)","v":{"$error":"#N/A"}}]
[{"$f":"VLOOKUP(B4796,Categorias!$A:$B,2,FALSE)","v":{"$error":"#N/A"}}]
[{"$f":"VLOOKUP(B4797,Categorias!$A:$B,2,FALSE)","v":{"$error":"#N/A"}}]
[{"$f":"VLOOKUP(B4798,Categorias!$A:$B,2,FALSE)","v":{"$error":"#N/A"}}]
[{"$f":"VLOOKUP(B4799,Categorias!$A:$B,2,FALSE)","v":{"$error":"#N/A"}}]
[{"$f":"VLOOKUP(B4800,Categorias!$A:$B,2,FALSE)","v":{"$error":"#N/A"}}]
[{"$f":"VLOOKUP(B4801,Categorias!$A:$B,2,FALSE)","v":{"$error":"#N/A"}}]
[{"$f":"VLOOKUP(B4802,Categorias!$A:$B,2,FALSE)","v":{"$error":"#N/A"}}]
[{"$f":"VLOOKUP(B4803,Categorias!$A:$B,2,FALSE)","v":{"$error":"#N/A"}}]
[{"$f":"VLOOKUP(B4804,Categorias!$A:$B,2,FALSE)","v":{"$error":"#N/A"}}]
[{"$f":"VLOOKUP(B4805,Categorias!$A:$B,2,FALSE)","v":{"$error":"#N/A"}}]
[{"$f":"VLOOKUP(B4806,Categorias!$A:$B,2,FALSE)","v":{"$error":"#N/A"}}]
[{"$f":"VLOOKUP(B4807,Categorias!$A:$B,2,FALSE)","v":{"$error":"#N/A"}}]
[{"$f":"VLOOKUP(B4808,Categorias!$A:$B,2,FALSE)","v":{"$error":"#N/A"}}]
[{"$f":"VLOOKUP(B4809,Categorias!$A:$B,2,FALSE)","v":{"$error":"#N/A"}}]
[{"$f":"VLOOKUP(B4810,Categorias!$A:$B,2,FALSE)","v":{"$error":"#N/A"}}]
[{"$f":"VLOOKUP(B4811,Categorias!$A:$B,2,FALSE)","v":{"$error":"#N/A"}}]
[{"$f":"VLOOKUP(B4812,Categorias!$A:$B,2,FALSE)","v":{"$error":"#N/A"}}]
[{"$f":"VLOOKUP(B4813,Categorias!$A:$B,2,FALSE)","v":{"$error":"#N/A"}}]
[{"$f":"VLOOKUP(B4814,Categorias!$A:$B,2,FALSE)","v":{"$error":"#N/A"}}]
[{"$f":"VLOOKUP(B4815,Categorias!$A:$B,2,FALSE)","v":{"$error":"#N/A"}}]
[{"$f":"VLOOKUP(B4816,Categorias!$A:$B,2,FALSE)","v":{"$error":"#N/A"}}]
[{"$f":"VLOOKUP(B4817,Categorias!$A:$B,2,FALSE)","v":{"$error":"#N/A"}}]
[{"$f":"VLOOKUP(B4818,Categorias!$A:$B,2,FALSE)","v":{"$error":"#N/A"}}]
[{"$f":"VLOOKUP(B4819,Categorias!$A:$B,2,FALSE)","v":{"$error":"#N/A"}}]
[{"$f":"VLOOKUP(B4820,Categorias!$A:$B,2,FALSE)","v":{"$error":"#N/A"}}]
[{"$f":"VLOOKUP(B4821,Categorias!$A:$B,2,FALSE)","v":{"$error":"#N/A"}}]
[{"$f":"VLOOKUP(B4822,Categorias!$A:$B,2,FALSE)","v":{"$error":"#N/A"}}]
[{"$f":"VLOOKUP(B4823,Categorias!$A:$B,2,FALSE)","v":{"$error":"#N/A"}}]
[{"$f":"VLOOKUP(B4824,Categorias!$A:$B,2,FALSE)","v":{"$error":"#N/A"}}]
[{"$f":"VLOOKUP(B4825,Categorias!$A:$B,2,FALSE)","v":{"$error":"#N/A"}}]
[{"$f":"VLOOKUP(B4826,Categorias!$A:$B,2,FALSE)","v":{"$error":"#N/A"}}]
[{"$f":"VLOOKUP(B4827,Categorias!$A:$B,2,FALSE)","v":{"$error":"#N/A"}}]
[{"$f":"VLOOKUP(B4828,Categorias!$A:$B,2,FALSE)","v":{"$error":"#N/A"}}]
[{"$f":"VLOOKUP(B4829,Categorias!$A:$B,2,FALSE)","v":{"$error":"#N/A"}}]
[{"$f":"VLOOKUP(B4830,Categorias!$A:$B,2,FALSE)","v":{"$error":"#N/A"}}]
[{"$f":"VLOOKUP(B4831,Categorias!$A:$B,2,FALSE)","v":{"$error":"#N/A"}}]
[{"$f":"VLOOKUP(B4832,Categorias!$A:$B,2,FALSE)","v":{"$error":"#N/A"}}]
[{"$f":"VLOOKUP(B4833,Categorias!$A:$B,2,FALSE)","v":{"$error":"#N/A"}}]
[{"$f":"VLOOKUP(B4834,Categorias!$A:$B,2,FALSE)","v":{"$error":"#N/A"}}]
[{"$f":"VLOOKUP(B4835,Categorias!$A:$B,2,FALSE)","v":{"$error":"#N/A"}}]
[{"$f":"VLOOKUP(B4836,Categorias!$A:$B,2,FALSE)","v":{"$error":"#N/A"}}]
[{"$f":"VLOOKUP(B4837,Categorias!$A:$B,2,FALSE)","v":{"$error":"#N/A"}}]
[{"$f":"VLOOKUP(B4838,Categorias!$A:$B,2,FALSE)","v":{"$error":"#N/A"}}]
[{"$f":"VLOOKUP(B4839,Categorias!$A:$B,2,FALSE)","v":{"$error":"#N/A"}}]
[{"$f":"VLOOKUP(B4840,Categorias!$A:$B,2,FALSE)","v":{"$error":"#N/A"}}]
[{"$f":"VLOOKUP(B4841,Categorias!$A:$B,2,FALSE)","v":{"$error":"#N/A"}}]
[{"$f":"VLOOKUP(B4842,Categorias!$A:$B,2,FALSE)","v":{"$error":"#N/A"}}]
[{"$f":"VLOOKUP(B4843,Categorias!$A:$B,2,FALSE)","v":{"$error":"#N/A"}}]
[{"$f":"VLOOKUP(B4844,Categorias!$A:$B,2,FALSE)","v":{"$error":"#N/A"}}]
[{"$f":"VLOOKUP(B4845,Categorias!$A:$B,2,FALSE)","v":{"$error":"#N/A"}}]
[{"$f":"VLOOKUP(B4846,Categorias!$A:$B,2,FALSE)","v":{"$error":"#N/A"}}]
[{"$f":"VLOOKUP(B4847,Categorias!$A:$B,2,FALSE)","v":{"$error":"#N/A"}}]
[{"$f":"VLOOKUP(B4848,Categorias!$A:$B,2,FALSE)","v":{"$error":"#N/A"}}]
[{"$f":"VLOOKUP(B4849,Categorias!$A:$B,2,FALSE)","v":{"$error":"#N/A"}}]
[{"$f":"VLOOKUP(B4850,Categorias!$A:$B,2,FALSE)","v":{"$error":"#N/A"}}]
[{"$f":"VLOOKUP(B4851,Categorias!$A:$B,2,FALSE)","v":{"$error":"#N/A"}}]
[{"$f":"VLOOKUP(B4852,Categorias!$A:$B,2,FALSE)","v":{"$error":"#N/A"}}]
[{"$f":"VLOOKUP(B4853,Categorias!$A:$B,2,FALSE)","v":{"$error":"#N/A"}}]
[{"$f":"VLOOKUP(B4854,Categorias!$A:$B,2,FALSE)","v":{"$error":"#N/A"}}]
[{"$f":"VLOOKUP(B4855,Categorias!$A:$B,2,FALSE)","v":{"$error":"#N/A"}}]
[{"$f":"VLOOKUP(B4856,Categorias!$A:$B,2,FALSE)","v":{"$error":"#N/A"}}]
[{"$f":"VLOOKUP(B4857,Categorias!$A:$B,2,FALSE)","v":{"$error":"#N/A"}}]
[{"$f":"VLOOKUP(B4858,Categorias!$A:$B,2,FALSE)","v":{"$error":"#N/A"}}]
[{"$f":"VLOOKUP(B4859,Categorias!$A:$B,2,FALSE)","v":{"$error":"#N/A"}}]
[{"$f":"VLOOKUP(B4860,Categorias!$A:$B,2,FALSE)","v":{"$error":"#N/A"}}]
[{"$f":"VLOOKUP(B4861,Categorias!$A:$B,2,FALSE)","v":{"$error":"#N/A"}}]
[{"$f":"VLOOKUP(B4862,Categorias!$A:$B,2,FALSE)","v":{"$error":"#N/A"}}]
[{"$f":"VLOOKUP(B4863,Categorias!$A:$B,2,FALSE)","v":{"$error":"#N/A"}}]
[{"$f":"VLOOKUP(B4864,Categorias!$A:$B,2,FALSE)","v":{"$error":"#N/A"}}]
[{"$f":"VLOOKUP(B4865,Categorias!$A:$B,2,FALSE)","v":{"$error":"#N/A"}}]
[{"$f":"VLOOKUP(B4866,Categorias!$A:$B,2,FALSE)","v":{"$error":"#N/A"}}]
[{"$f":"VLOOKUP(B4867,Categorias!$A:$B,2,FALSE)","v":{"$error":"#N/A"}}]
[{"$f":"VLOOKUP(B4868,Categorias!$A:$B,2,FALSE)","v":{"$error":"#N/A"}}]
[{"$f":"VLOOKUP(B4869,Categorias!$A:$B,2,FALSE)","v":{"$error":"#N/A"}}]
[{"$f":"VLOOKUP(B4870,Categorias!$A:$B,2,FALSE)","v":{"$error":"#N/A"}}]
[{"$f":"VLOOKUP(B4871,Categorias!$A:$B,2,FALSE)","v":{"$error":"#N/A"}}]
[{"$f":"VLOOKUP(B4872,Categorias!$A:$B,2,FALSE)","v":{"$error":"#N/A"}}]
[{"$f":"VLOOKUP(B4873,Categorias!$A:$B,2,FALSE)","v":{"$error":"#N/A"}}]
[{"$f":"VLOOKUP(B4874,Categorias!$A:$B,2,FALSE)","v":{"$error":"#N/A"}}]
[{"$f":"VLOOKUP(B4875,Categorias!$A:$B,2,FALSE)","v":{"$error":"#N/A"}}]
[{"$f":"VLOOKUP(B4876,Categorias!$A:$B,2,FALSE)","v":{"$error":"#N/A"}}]
[{"$f":"VLOOKUP(B4877,Categorias!$A:$B,2,FALSE)","v":{"$error":"#N/A"}}]
[{"$f":"VLOOKUP(B4878,Categorias!$A:$B,2,FALSE)","v":{"$error":"#N/A"}}]
[{"$f":"VLOOKUP(B4879,Categorias!$A:$B,2,FALSE)","v":{"$error":"#N/A"}}]
[{"$f":"VLOOKUP(B4880,Categorias!$A:$B,2,FALSE)","v":{"$error":"#N/A"}}]
[{"$f":"VLOOKUP(B4881,Categorias!$A:$B,2,FALSE)","v":{"$error":"#N/A"}}]
[{"$f":"VLOOKUP(B4882,Categorias!$A:$B,2,FALSE)","v":{"$error":"#N/A"}}]
[{"$f":"VLOOKUP(B4883,Categorias!$A:$B,2,FALSE)","v":{"$error":"#N/A"}}]
[{"$f":"VLOOKUP(B4884,Categorias!$A:$B,2,FALSE)","v":{"$error":"#N/A"}}]
[{"$f":"VLOOKUP(B4885,Categorias!$A:$B,2,FALSE)","v":{"$error":"#N/A"}}]
[{"$f":"VLOOKUP(B4886,Categorias!$A:$B,2,FALSE)","v":{"$error":"#N/A"}}]
[{"$f":"VLOOKUP(B4887,Categorias!$A:$B,2,FALSE)","v":{"$error":"#N/A"}}]
[{"$f":"VLOOKUP(B4888,Categorias!$A:$B,2,FALSE)","v":{"$error":"#N/A"}}]
[{"$f":"VLOOKUP(B4889,Categorias!$A:$B,2,FALSE)","v":{"$error":"#N/A"}}]
[{"$f":"VLOOKUP(B4890,Categorias!$A:$B,2,FALSE)","v":{"$error":"#N/A"}}]
[{"$f":"VLOOKUP(B4891,Categorias!$A:$B,2,FALSE)","v":{"$error":"#N/A"}}]
[{"$f":"VLOOKUP(B4892,Categorias!$A:$B,2,FALSE)","v":{"$error":"#N/A"}}]
[{"$f":"VLOOKUP(B4893,Categorias!$A:$B,2,FALSE)","v":{"$error":"#N/A"}}]
[{"$f":"VLOOKUP(B4894,Categorias!$A:$B,2,FALSE)","v":{"$error":"#N/A"}}]
[{"$f":"VLOOKUP(B4895,Categorias!$A:$B,2,FALSE)","v":{"$error":"#N/A"}}]
[{"$f":"VLOOKUP(B4896,Categorias!$A:$B,2,FALSE)","v":{"$error":"#N/A"}}]
[{"$f":"VLOOKUP(B4897,Categorias!$A:$B,2,FALSE)","v":{"$error":"#N/A"}}]
[{"$f":"VLOOKUP(B4898,Categorias!$A:$B,2,FALSE)","v":{"$error":"#N/A"}}]
[{"$f":"VLOOKUP(B4899,Categorias!$A:$B,2,FALSE)","v":{"$error":"#N/A"}}]
[{"$f":"VLOOKUP(B4900,Categorias!$A:$B,2,FALSE)","v":{"$error":"#N/A"}}]
[{"$f":"VLOOKUP(B4901,Categorias!$A:$B,2,FALSE)","v":{"$error":"#N/A"}}]
[{"$f":"VLOOKUP(B4902,Categorias!$A:$B,2,FALSE)","v":{"$error":"#N/A"}}]
[{"$f":"VLOOKUP(B4903,Categorias!$A:$B,2,FALSE)","v":{"$error":"#N/A"}}]
[{"$f":"VLOOKUP(B4904,Categorias!$A:$B,2,FALSE)","v":{"$error":"#N/A"}}]
[{"$f":"VLOOKUP(B4905,Categorias!$A:$B,2,FALSE)","v":{"$error":"#N/A"}}]
[{"$f":"VLOOKUP(B4906,Categorias!$A:$B,2,FALSE)","v":{"$error":"#N/A"}}]
[{"$f":"VLOOKUP(B4907,Categorias!$A:$B,2,FALSE)","v":{"$error":"#N/A"}}]
[{"$f":"VLOOKUP(B4908,Categorias!$A:$B,2,FALSE)","v":{"$error":"#N/A"}}]
[{"$f":"VLOOKUP(B4909,Categorias!$A:$B,2,FALSE)","v":{"$error":"#N/A"}}]
[{"$f":"VLOOKUP(B4910,Categorias!$A:$B,2,FALSE)","v":{"$error":"#N/A"}}]
[{"$f":"VLOOKUP(B4911,Categorias!$A:$B,2,FALSE)","v":{"$error":"#N/A"}}]
[{"$f":"VLOOKUP(B4912,Categorias!$A:$B,2,FALSE)","v":{"$error":"#N/A"}}]
[{"$f":"VLOOKUP(B4913,Categorias!$A:$B,2,FALSE)","v":{"$error":"#N/A"}}]
[{"$f":"VLOOKUP(B4914,Categorias!$A:$B,2,FALSE)","v":{"$error":"#N/A"}}]
[{"$f":"VLOOKUP(B4915,Categorias!$A:$B,2,FALSE)","v":{"$error":"#N/A"}}]
[{"$f":"VLOOKUP(B4916,Categorias!$A:$B,2,FALSE)","v":{"$error":"#N/A"}}]
[{"$f":"VLOOKUP(B4917,Categorias!$A:$B,2,FALSE)","v":{"$error":"#N/A"}}]
[{"$f":"VLOOKUP(B4918,Categorias!$A:$B,2,FALSE)","v":{"$error":"#N/A"}}]
[{"$f":"VLOOKUP(B4919,Categorias!$A:$B,2,FALSE)","v":{"$error":"#N/A"}}]
[{"$f":"VLOOKUP(B4920,Categorias!$A:$B,2,FALSE)","v":{"$error":"#N/A"}}]
[{"$f":"VLOOKUP(B4921,Categorias!$A:$B,2,FALSE)","v":{"$error":"#N/A"}}]
[{"$f":"VLOOKUP(B4922,Categorias!$A:$B,2,FALSE)","v":{"$error":"#N/A"}}]
[{"$f":"VLOOKUP(B4923,Categorias!$A:$B,2,FALSE)","v":{"$error":"#N/A"}}]
[{"$f":"VLOOKUP(B4924,Categorias!$A:$B,2,FALSE)","v":{"$error":"#N/A"}}]
[{"$f":"VLOOKUP(B4925,Categorias!$A:$B,2,FALSE)","v":{"$error":"#N/A"}}]
[{"$f":"VLOOKUP(B4926,Categorias!$A:$B,2,FALSE)","v":{"$error":"#N/A"}}]
[{"$f":"VLOOKUP(B4927,Categorias!$A:$B,2,FALSE)","v":{"$error":"#N/A"}}]
[{"$f":"VLOOKUP(B4928,Categorias!$A:$B,2,FALSE)","v":{"$error":"#N/A"}}]
[{"$f":"VLOOKUP(B4929,Categorias!$A:$B,2,FALSE)","v":{"$error":"#N/A"}}]
[{"$f":"VLOOKUP(B4930,Categorias!$A:$B,2,FALSE)","v":{"$error":"#N/A"}}]
[{"$f":"VLOOKUP(B4931,Categorias!$A:$B,2,FALSE)","v":{"$error":"#N/A"}}]
[{"$f":"VLOOKUP(B4932,Categorias!$A:$B,2,FALSE)","v":{"$error":"#N/A"}}]
[{"$f":"VLOOKUP(B4933,Categorias!$A:$B,2,FALSE)","v":{"$error":"#N/A"}}]
[{"$f":"VLOOKUP(B4934,Categorias!$A:$B,2,FALSE)","v":{"$error":"#N/A"}}]
[{"$f":"VLOOKUP(B4935,Categorias!$A:$B,2,FALSE)","v":{"$error":"#N/A"}}]
[{"$f":"VLOOKUP(B4936,Categorias!$A:$B,2,FALSE)","v":{"$error":"#N/A"}}]
[{"$f":"VLOOKUP(B4937,Categorias!$A:$B,2,FALSE)","v":{"$error":"#N/A"}}]
[{"$f":"VLOOKUP(B4938,Categorias!$A:$B,2,FALSE)","v":{"$error":"#N/A"}}]
[{"$f":"VLOOKUP(B4939,Categorias!$A:$B,2,FALSE)","v":{"$error":"#N/A"}}]
[{"$f":"VLOOKUP(B4940,Categorias!$A:$B,2,FALSE)","v":{"$error":"#N/A"}}]
[{"$f":"VLOOKUP(B4941,Categorias!$A:$B,2,FALSE)","v":{"$error":"#N/A"}}]
[{"$f":"VLOOKUP(B4942,Categorias!$A:$B,2,FALSE)","v":{"$error":"#N/A"}}]
[{"$f":"VLOOKUP(B4943,Categorias!$A:$B,2,FALSE)","v":{"$error":"#N/A"}}]
[{"$f":"VLOOKUP(B4944,Categorias!$A:$B,2,FALSE)","v":{"$error":"#N/A"}}]
[{"$f":"VLOOKUP(B4945,Categorias!$A:$B,2,FALSE)","v":{"$error":"#N/A"}}]
[{"$f":"VLOOKUP(B4946,Categorias!$A:$B,2,FALSE)","v":{"$error":"#N/A"}}]
[{"$f":"VLOOKUP(B4947,Categorias!$A:$B,2,FALSE)","v":{"$error":"#N/A"}}]
[{"$f":"VLOOKUP(B4948,Categorias!$A:$B,2,FALSE)","v":{"$error":"#N/A"}}]
[{"$f":"VLOOKUP(B4949,Categorias!$A:$B,2,FALSE)","v":{"$error":"#N/A"}}]
[{"$f":"VLOOKUP(B4950,Categorias!$A:$B,2,FALSE)","v":{"$error":"#N/A"}}]
[{"$f":"VLOOKUP(B4951,Categorias!$A:$B,2,FALSE)","v":{"$error":"#N/A"}}]
[{"$f":"VLOOKUP(B4952,Categorias!$A:$B,2,FALSE)","v":{"$error":"#N/A"}}]
[{"$f":"VLOOKUP(B4953,Categorias!$A:$B,2,FALSE)","v":{"$error":"#N/A"}}]
[{"$f":"VLOOKUP(B4954,Categorias!$A:$B,2,FALSE)","v":{"$error":"#N/A"}}]
[{"$f":"VLOOKUP(B4955,Categorias!$A:$B,2,FALSE)","v":{"$error":"#N/A"}}]
[{"$f":"VLOOKUP(B4956,Categorias!$A:$B,2,FALSE)","v":{"$error":"#N/A"}}]
[{"$f":"VLOOKUP(B4957,Categorias!$A:$B,2,FALSE)","v":{"$error":"#N/A"}}]
[{"$f":"VLOOKUP(B4958,Categorias!$A:$B,2,FALSE)","v":{"$error":"#N/A"}}]
[{"$f":"VLOOKUP(B4959,Categorias!$A:$B,2,FALSE)","v":{"$error":"#N/A"}}]
[{"$f":"VLOOKUP(B4960,Categorias!$A:$B,2,FALSE)","v":{"$error":"#N/A"}}]
[{"$f":"VLOOKUP(B4961,Categorias!$A:$B,2,FALSE)","v":{"$error":"#N/A"}}]
[{"$f":"VLOOKUP(B4962,Categorias!$A:$B,2,FALSE)","v":{"$error":"#N/A"}}]
[{"$f":"VLOOKUP(B4963,Categorias!$A:$B,2,FALSE)","v":{"$error":"#N/A"}}]
[{"$f":"VLOOKUP(B4964,Categorias!$A:$B,2,FALSE)","v":{"$error":"#N/A"}}]
[{"$f":"VLOOKUP(B4965,Categorias!$A:$B,2,FALSE)","v":{"$error":"#N/A"}}]
[{"$f":"VLOOKUP(B4966,Categorias!$A:$B,2,FALSE)","v":{"$error":"#N/A"}}]
[{"$f":"VLOOKUP(B4967,Categorias!$A:$B,2,FALSE)","v":{"$error":"#N/A"}}]
[{"$f":"VLOOKUP(B4968,Categorias!$A:$B,2,FALSE)","v":{"$error":"#N/A"}}]
[{"$f":"VLOOKUP(B4969,Categorias!$A:$B,2,FALSE)","v":{"$error":"#N/A"}}]
[{"$f":"VLOOKUP(B4970,Categorias!$A:$B,2,FALSE)","v":{"$error":"#N/A"}}]
[{"$f":"VLOOKUP(B4971,Categorias!$A:$B,2,FALSE)","v":{"$error":"#N/A"}}]
[{"$f":"VLOOKUP(B4972,Categorias!$A:$B,2,FALSE)","v":{"$error":"#N/A"}}]
[{"$f":"VLOOKUP(B4973,Categorias!$A:$B,2,FALSE)","v":{"$error":"#N/A"}}]
[{"$f":"VLOOKUP(B4974,Categorias!$A:$B,2,FALSE)","v":{"$error":"#N/A"}}]
[{"$f":"VLOOKUP(B4975,Categorias!$A:$B,2,FALSE)","v":{"$error":"#N/A"}}]
[{"$f":"VLOOKUP(B4976,Categorias!$A:$B,2,FALSE)","v":{"$error":"#N/A"}}]
[{"$f":"VLOOKUP(B4977,Categorias!$A:$B,2,FALSE)","v":{"$error":"#N/A"}}]
[{"$f":"VLOOKUP(B4978,Categorias!$A:$B,2,FALSE)","v":{"$error":"#N/A"}}]
[{"$f":"VLOOKUP(B4979,Categorias!$A:$B,2,FALSE)","v":{"$error":"#N/A"}}]
[{"$f":"VLOOKUP(B4980,Categorias!$A:$B,2,FALSE)","v":{"$error":"#N/A"}}]
[{"$f":"VLOOKUP(B4981,Categorias!$A:$B,2,FALSE)","v":{"$error":"#N/A"}}]
[{"$f":"VLOOKUP(B4982,Categorias!$A:$B,2,FALSE)","v":{"$error":"#N/A"}}]
[{"$f":"VLOOKUP(B4983,Categorias!$A:$B,2,FALSE)","v":{"$error":"#N/A"}}]
[{"$f":"VLOOKUP(B4984,Categorias!$A:$B,2,FALSE)","v":{"$error":"#N/A"}}]
[{"$f":"VLOOKUP(B4985,Categorias!$A:$B,2,FALSE)","v":{"$error":"#N/A"}}]
[{"$f":"VLOOKUP(B4986,Categorias!$A:$B,2,FALSE)","v":{"$error":"#N/A"}}]
[{"$f":"VLOOKUP(B4987,Categorias!$A:$B,2,FALSE)","v":{"$error":"#N/A"}}]
[{"$f":"VLOOKUP(B4988,Categorias!$A:$B,2,FALSE)","v":{"$error":"#N/A"}}]
[{"$f":"VLOOKUP(B4989,Categorias!$A:$B,2,FALSE)","v":{"$error":"#N/A"}}]
[{"$f":"VLOOKUP(B4990,Categorias!$A:$B,2,FALSE)","v":{"$error":"#N/A"}}]
[{"$f":"VLOOKUP(B4991,Categorias!$A:$B,2,FALSE)","v":{"$error":"#N/A"}}]
[{"$f":"VLOOKUP(B4992,Categorias!$A:$B,2,FALSE)","v":{"$error":"#N/A"}}]
[{"$f":"VLOOKUP(B4993,Categorias!$A:$B,2,FALSE)","v":{"$error":"#N/A"}}]
[{"$f":"VLOOKUP(B4994,Categorias!$A:$B,2,FALSE)","v":{"$error":"#N/A"}}]
[{"$f":"VLOOKUP(B4995,Categorias!$A:$B,2,FALSE)","v":{"$error":"#N/A"}}]
[{"$f":"VLOOKUP(B4996,Categorias!$A:$B,2,FALSE)","v":{"$error":"#N/A"}}]
[{"$f":"VLOOKUP(B4997,Categorias!$A:$B,2,FALSE)","v":{"$error":"#N/A"}}]
[{"$f":"VLOOKUP(B4998,Categorias!$A:$B,2,FALSE)","v":{"$error":"#N/A"}}]
[{"$f":"VLOOKUP(B4999,Categorias!$A:$B,2,FALSE)","v":{"$error":"#N/A"}}]
[{"$f":"VLOOKUP(B5000,Categorias!$A:$B,2,FALSE)","v":{"$error":"#N/A"}}]
[{"$f":"VLOOKUP(B5001,Categorias!$A:$B,2,FALSE)","v":{"$error":"#N/A"}}]
[{"$f":"VLOOKUP(B5002,Categorias!$A:$B,2,FALSE)","v":{"$error":"#N/A"}}]
[{"$f":"VLOOKUP(B5003,Categorias!$A:$B,2,FALSE)","v":{"$error":"#N/A"}}]
[{"$f":"VLOOKUP(B5004,Categorias!$A:$B,2,FALSE)","v":{"$error":"#N/A"}}]
[{"$f":"VLOOKUP(B5005,Categorias!$A:$B,2,FALSE)","v":{"$error":"#N/A"}}]
[{"$f":"VLOOKUP(B5006,Categorias!$A:$B,2,FALSE)","v":{"$error":"#N/A"}}]
[{"$f":"VLOOKUP(B5007,Categorias!$A:$B,2,FALSE)","v":{"$error":"#N/A"}}]
[{"$f":"VLOOKUP(B5008,Categorias!$A:$B,2,FALSE)","v":{"$error":"#N/A"}}]
[{"$f":"VLOOKUP(B5009,Categorias!$A:$B,2,FALSE)","v":{"$error":"#N/A"}}]
[{"$f":"VLOOKUP(B5010,Categorias!$A:$B,2,FALSE)","v":{"$error":"#N/A"}}]
[{"$f":"VLOOKUP(B5011,Categorias!$A:$B,2,FALSE)","v":{"$error":"#N/A"}}]
[{"$f":"VLOOKUP(B5012,Categorias!$A:$B,2,FALSE)","v":{"$error":"#N/A"}}]
[{"$f":"VLOOKUP(B5013,Categorias!$A:$B,2,FALSE)","v":{"$error":"#N/A"}}]
[{"$f":"VLOOKUP(B5014,Categorias!$A:$B,2,FALSE)","v":{"$error":"#N/A"}}]
[{"$f":"VLOOKUP(B5015,Categorias!$A:$B,2,FALSE)","v":{"$error":"#N/A"}}]
[{"$f":"VLOOKUP(B5016,Categorias!$A:$B,2,FALSE)","v":{"$error":"#N/A"}}]
[{"$f":"VLOOKUP(B5017,Categorias!$A:$B,2,FALSE)","v":{"$error":"#N/A"}}]
[{"$f":"VLOOKUP(B5018,Categorias!$A:$B,2,FALSE)","v":{"$error":"#N/A"}}]
[{"$f":"VLOOKUP(B5019,Categorias!$A:$B,2,FALSE)","v":{"$error":"#N/A"}}]
[{"$f":"VLOOKUP(B5020,Categorias!$A:$B,2,FALSE)","v":{"$error":"#N/A"}}]
[{"$f":"VLOOKUP(B5021,Categorias!$A:$B,2,FALSE)","v":{"$error":"#N/A"}}]
[{"$f":"VLOOKUP(B5022,Categorias!$A:$B,2,FALSE)","v":{"$error":"#N/A"}}]
[{"$f":"VLOOKUP(B5023,Categorias!$A:$B,2,FALSE)","v":{"$error":"#N/A"}}]
[{"$f":"VLOOKUP(B5024,Categorias!$A:$B,2,FALSE)","v":{"$error":"#N/A"}}]
[{"$f":"VLOOKUP(B5025,Categorias!$A:$B,2,FALSE)","v":{"$error":"#N/A"}}]
[{"$f":"VLOOKUP(B5026,Categorias!$A:$B,2,FALSE)","v":{"$error":"#N/A"}}]
[{"$f":"VLOOKUP(B5027,Categorias!$A:$B,2,FALSE)","v":{"$error":"#N/A"}}]
[{"$f":"VLOOKUP(B5028,Categorias!$A:$B,2,FALSE)","v":{"$error":"#N/A"}}]
[{"$f":"VLOOKUP(B5029,Categorias!$A:$B,2,FALSE)","v":{"$error":"#N/A"}}]
[{"$f":"VLOOKUP(B5030,Categorias!$A:$B,2,FALSE)","v":{"$error":"#N/A"}}]
[{"$f":"VLOOKUP(B5031,Categorias!$A:$B,2,FALSE)","v":{"$error":"#N/A"}}]
[{"$f":"VLOOKUP(B5032,Categorias!$A:$B,2,FALSE)","v":{"$error":"#N/A"}}]
[{"$f":"VLOOKUP(B5033,Categorias!$A:$B,2,FALSE)","v":{"$error":"#N/A"}}]
[{"$f":"VLOOKUP(B5034,Categorias!$A:$B,2,FALSE)","v":{"$error":"#N/A"}}]
[{"$f":"VLOOKUP(B5035,Categorias!$A:$B,2,FALSE)","v":{"$error":"#N/A"}}]
[{"$f":"VLOOKUP(B5036,Categorias!$A:$B,2,FALSE)","v":{"$error":"#N/A"}}]
[{"$f":"VLOOKUP(B5037,Categorias!$A:$B,2,FALSE)","v":{"$error":"#N/A"}}]
[{"$f":"VLOOKUP(B5038,Categorias!$A:$B,2,FALSE)","v":{"$error":"#N/A"}}]
[{"$f":"VLOOKUP(B5039,Categorias!$A:$B,2,FALSE)","v":{"$error":"#N/A"}}]
[{"$f":"VLOOKUP(B5040,Categorias!$A:$B,2,FALSE)","v":{"$error":"#N/A"}}]
[{"$f":"VLOOKUP(B5041,Categorias!$A:$B,2,FALSE)","v":{"$error":"#N/A"}}]
[{"$f":"VLOOKUP(B5042,Categorias!$A:$B,2,FALSE)","v":{"$error":"#N/A"}}]
[{"$f":"VLOOKUP(B5043,Categorias!$A:$B,2,FALSE)","v":{"$error":"#N/A"}}]
[{"$f":"VLOOKUP(B5044,Categorias!$A:$B,2,FALSE)","v":{"$error":"#N/A"}}]
[{"$f":"VLOOKUP(B5045,Categorias!$A:$B,2,FALSE)","v":{"$error":"#N/A"}}]
[{"$f":"VLOOKUP(B5046,Categorias!$A:$B,2,FALSE)","v":{"$error":"#N/A"}}]
[{"$f":"VLOOKUP(B5047,Categorias!$A:$B,2,FALSE)","v":{"$error":"#N/A"}}]
[{"$f":"VLOOKUP(B5048,Categorias!$A:$B,2,FALSE)","v":{"$error":"#N/A"}}]
[{"$f":"VLOOKUP(B5049,Categorias!$A:$B,2,FALSE)","v":{"$error":"#N/A"}}]
[{"$f":"VLOOKUP(B5050,Categorias!$A:$B,2,FALSE)","v":{"$error":"#N/A"}}]
[{"$f":"VLOOKUP(B5051,Categorias!$A:$B,2,FALSE)","v":{"$error":"#N/A"}}]
[{"$f":"VLOOKUP(B5052,Categorias!$A:$B,2,FALSE)","v":{"$error":"#N/A"}}]
[{"$f":"VLOOKUP(B5053,Categorias!$A:$B,2,FALSE)","v":{"$error":"#N/A"}}]
[{"$f":"VLOOKUP(B5054,Categorias!$A:$B,2,FALSE)","v":{"$error":"#N/A"}}]
[{"$f":"VLOOKUP(B5055,Categorias!$A:$B,2,FALSE)","v":{"$error":"#N/A"}}]
[{"$f":"VLOOKUP(B5056,Categorias!$A:$B,2,FALSE)","v":{"$error":"#N/A"}}]
[{"$f":"VLOOKUP(B5057,Categorias!$A:$B,2,FALSE)","v":{"$error":"#N/A"}}]
[{"$f":"VLOOKUP(B5058,Categorias!$A:$B,2,FALSE)","v":{"$error":"#N/A"}}]
[{"$f":"VLOOKUP(B5059,Categorias!$A:$B,2,FALSE)","v":{"$error":"#N/A"}}]
[{"$f":"VLOOKUP(B5060,Categorias!$A:$B,2,FALSE)","v":{"$error":"#N/A"}}]
[{"$f":"VLOOKUP(B5061,Categorias!$A:$B,2,FALSE)","v":{"$error":"#N/A"}}]
[{"$f":"VLOOKUP(B5062,Categorias!$A:$B,2,FALSE)","v":{"$error":"#N/A"}}]
[{"$f":"VLOOKUP(B5063,Categorias!$A:$B,2,FALSE)","v":{"$error":"#N/A"}}]
[{"$f":"VLOOKUP(B5064,Categorias!$A:$B,2,FALSE)","v":{"$error":"#N/A"}}]
[{"$f":"VLOOKUP(B5065,Categorias!$A:$B,2,FALSE)","v":{"$error":"#N/A"}}]
[{"$f":"VLOOKUP(B5066,Categorias!$A:$B,2,FALSE)","v":{"$error":"#N/A"}}]
[{"$f":"VLOOKUP(B5067,Categorias!$A:$B,2,FALSE)","v":{"$error":"#N/A"}}]
[{"$f":"VLOOKUP(B5068,Categorias!$A:$B,2,FALSE)","v":{"$error":"#N/A"}}]
[{"$f":"VLOOKUP(B5069,Categorias!$A:$B,2,FALSE)","v":{"$error":"#N/A"}}]
[{"$f":"VLOOKUP(B5070,Categorias!$A:$B,2,FALSE)","v":{"$error":"#N/A"}}]
[{"$f":"VLOOKUP(B5071,Categorias!$A:$B,2,FALSE)","v":{"$error":"#N/A"}}]
[{"$f":"VLOOKUP(B5072,Categorias!$A:$B,2,FALSE)","v":{"$error":"#N/A"}}]
[{"$f":"VLOOKUP(B5073,Categorias!$A:$B,2,FALSE)","v":{"$error":"#N/A"}}]
[{"$f":"VLOOKUP(B5074,Categorias!$A:$B,2,FALSE)","v":{"$error":"#N/A"}}]
[{"$f":"VLOOKUP(B5075,Categorias!$A:$B,2,FALSE)","v":{"$error":"#N/A"}}]
[{"$f":"VLOOKUP(B5076,Categorias!$A:$B,2,FALSE)","v":{"$error":"#N/A"}}]
[{"$f":"VLOOKUP(B5077,Categorias!$A:$B,2,FALSE)","v":{"$error":"#N/A"}}]
[{"$f":"VLOOKUP(B5078,Categorias!$A:$B,2,FALSE)","v":{"$error":"#N/A"}}]
[{"$f":"VLOOKUP(B5079,Categorias!$A:$B,2,FALSE)","v":{"$error":"#N/A"}}]
[{"$f":"VLOOKUP(B5080,Categorias!$A:$B,2,FALSE)","v":{"$error":"#N/A"}}]
[{"$f":"VLOOKUP(B5081,Categorias!$A:$B,2,FALSE)","v":{"$error":"#N/A"}}]
[{"$f":"VLOOKUP(B5082,Categorias!$A:$B,2,FALSE)","v":{"$error":"#N/A"}}]
[{"$f":"VLOOKUP(B5083,Categorias!$A:$B,2,FALSE)","v":{"$error":"#N/A"}}]
[{"$f":"VLOOKUP(B5084,Categorias!$A:$B,2,FALSE)","v":{"$error":"#N/A"}}]
[{"$f":"VLOOKUP(B5085,Categorias!$A:$B,2,FALSE)","v":{"$error":"#N/A"}}]
[{"$f":"VLOOKUP(B5086,Categorias!$A:$B,2,FALSE)","v":{"$error":"#N/A"}}]
[{"$f":"VLOOKUP(B5087,Categorias!$A:$B,2,FALSE)","v":{"$error":"#N/A"}}]
[{"$f":"VLOOKUP(B5088,Categorias!$A:$B,2,FALSE)","v":{"$error":"#N/A"}}]
[{"$f":"VLOOKUP(B5089,Categorias!$A:$B,2,FALSE)","v":{"$error":"#N/A"}}]
[{"$f":"VLOOKUP(B5090,Categorias!$A:$B,2,FALSE)","v":{"$error":"#N/A"}}]
[{"$f":"VLOOKUP(B5091,Categorias!$A:$B,2,FALSE)","v":{"$error":"#N/A"}}]
[{"$f":"VLOOKUP(B5092,Categorias!$A:$B,2,FALSE)","v":{"$error":"#N/A"}}]
[{"$f":"VLOOKUP(B5093,Categorias!$A:$B,2,FALSE)","v":{"$error":"#N/A"}}]
[{"$f":"VLOOKUP(B5094,Categorias!$A:$B,2,FALSE)","v":{"$error":"#N/A"}}]
[{"$f":"VLOOKUP(B5095,Categorias!$A:$B,2,FALSE)","v":{"$error":"#N/A"}}]
[{"$f":"VLOOKUP(B5096,Categorias!$A:$B,2,FALSE)","v":{"$error":"#N/A"}}]
[{"$f":"VLOOKUP(B5097,Categorias!$A:$B,2,FALSE)","v":{"$error":"#N/A"}}]
[{"$f":"VLOOKUP(B5098,Categorias!$A:$B,2,FALSE)","v":{"$error":"#N/A"}}]
[{"$f":"VLOOKUP(B5099,Categorias!$A:$B,2,FALSE)","v":{"$error":"#N/A"}}]
[{"$f":"VLOOKUP(B5100,Categorias!$A:$B,2,FALSE)","v":{"$error":"#N/A"}}]
[{"$f":"VLOOKUP(B5101,Categorias!$A:$B,2,FALSE)","v":{"$error":"#N/A"}}]
[{"$f":"VLOOKUP(B5102,Categorias!$A:$B,2,FALSE)","v":{"$error":"#N/A"}}]
[{"$f":"VLOOKUP(B5103,Categorias!$A:$B,2,FALSE)","v":{"$error":"#N/A"}}]
[{"$f":"VLOOKUP(B5104,Categorias!$A:$B,2,FALSE)","v":{"$error":"#N/A"}}]
[{"$f":"VLOOKUP(B5105,Categorias!$A:$B,2,FALSE)","v":{"$error":"#N/A"}}]
[{"$f":"VLOOKUP(B5106,Categorias!$A:$B,2,FALSE)","v":{"$error":"#N/A"}}]
[{"$f":"VLOOKUP(B5107,Categorias!$A:$B,2,FALSE)","v":{"$error":"#N/A"}}]
[{"$f":"VLOOKUP(B5108,Categorias!$A:$B,2,FALSE)","v":{"$error":"#N/A"}}]
[{"$f":"VLOOKUP(B5109,Categorias!$A:$B,2,FALSE)","v":{"$error":"#N/A"}}]
[{"$f":"VLOOKUP(B5110,Categorias!$A:$B,2,FALSE)","v":{"$error":"#N/A"}}]
[{"$f":"VLOOKUP(B5111,Categorias!$A:$B,2,FALSE)","v":{"$error":"#N/A"}}]
[{"$f":"VLOOKUP(B5112,Categorias!$A:$B,2,FALSE)","v":{"$error":"#N/A"}}]
[{"$f":"VLOOKUP(B5113,Categorias!$A:$B,2,FALSE)","v":{"$error":"#N/A"}}]
[{"$f":"VLOOKUP(B5114,Categorias!$A:$B,2,FALSE)","v":{"$error":"#N/A"}}]
[{"$f":"VLOOKUP(B5115,Categorias!$A:$B,2,FALSE)","v":{"$error":"#N/A"}}]
[{"$f":"VLOOKUP(B5116,Categorias!$A:$B,2,FALSE)","v":{"$error":"#N/A"}}]
[{"$f":"VLOOKUP(B5117,Categorias!$A:$B,2,FALSE)","v":{"$error":"#N/A"}}]
[{"$f":"VLOOKUP(B5118,Categorias!$A:$B,2,FALSE)","v":{"$error":"#N/A"}}]
[{"$f":"VLOOKUP(B5119,Categorias!$A:$B,2,FALSE)","v":{"$error":"#N/A"}}]
[{"$f":"VLOOKUP(B5120,Categorias!$A:$B,2,FALSE)","v":{"$error":"#N/A"}}]
[{"$f":"VLOOKUP(B5121,Categorias!$A:$B,2,FALSE)","v":{"$error":"#N/A"}}]
[{"$f":"VLOOKUP(B5122,Categorias!$A:$B,2,FALSE)","v":{"$error":"#N/A"}}]
[{"$f":"VLOOKUP(B5123,Categorias!$A:$B,2,FALSE)","v":{"$error":"#N/A"}}]
[{"$f":"VLOOKUP(B5124,Categorias!$A:$B,2,FALSE)","v":{"$error":"#N/A"}}]
[{"$f":"VLOOKUP(B5125,Categorias!$A:$B,2,FALSE)","v":{"$error":"#N/A"}}]
[{"$f":"VLOOKUP(B5126,Categorias!$A:$B,2,FALSE)","v":{"$error":"#N/A"}}]
[{"$f":"VLOOKUP(B5127,Categorias!$A:$B,2,FALSE)","v":{"$error":"#N/A"}}]
[{"$f":"VLOOKUP(B5128,Categorias!$A:$B,2,FALSE)","v":{"$error":"#N/A"}}]
[{"$f":"VLOOKUP(B5129,Categorias!$A:$B,2,FALSE)","v":{"$error":"#N/A"}}]
[{"$f":"VLOOKUP(B5130,Categorias!$A:$B,2,FALSE)","v":{"$error":"#N/A"}}]
[{"$f":"VLOOKUP(B5131,Categorias!$A:$B,2,FALSE)","v":{"$error":"#N/A"}}]
[{"$f":"VLOOKUP(B5132,Categorias!$A:$B,2,FALSE)","v":{"$error":"#N/A"}}]
[{"$f":"VLOOKUP(B5133,Categorias!$A:$B,2,FALSE)","v":{"$error":"#N/A"}}]
[{"$f":"VLOOKUP(B5134,Categorias!$A:$B,2,FALSE)","v":{"$error":"#N/A"}}]
[{"$f":"VLOOKUP(B5135,Categorias!$A:$B,2,FALSE)","v":{"$error":"#N/A"}}]
[{"$f":"VLOOKUP(B5136,Categorias!$A:$B,2,FALSE)","v":{"$error":"#N/A"}}]
[{"$f":"VLOOKUP(B5137,Categorias!$A:$B,2,FALSE)","v":{"$error":"#N/A"}}]
[{"$f":"VLOOKUP(B5138,Categorias!$A:$B,2,FALSE)","v":{"$error":"#N/A"}}]
[{"$f":"VLOOKUP(B5139,Categorias!$A:$B,2,FALSE)","v":{"$error":"#N/A"}}]
[{"$f":"VLOOKUP(B5140,Categorias!$A:$B,2,FALSE)","v":{"$error":"#N/A"}}]
[{"$f":"VLOOKUP(B5141,Categorias!$A:$B,2,FALSE)","v":{"$error":"#N/A"}}]
[{"$f":"VLOOKUP(B5142,Categorias!$A:$B,2,FALSE)","v":{"$error":"#N/A"}}]
[{"$f":"VLOOKUP(B5143,Categorias!$A:$B,2,FALSE)","v":{"$error":"#N/A"}}]
[{"$f":"VLOOKUP(B5144,Categorias!$A:$B,2,FALSE)","v":{"$error":"#N/A"}}]
[{"$f":"VLOOKUP(B5145,Categorias!$A:$B,2,FALSE)","v":{"$error":"#N/A"}}]
[{"$f":"VLOOKUP(B5146,Categorias!$A:$B,2,FALSE)","v":{"$error":"#N/A"}}]
[{"$f":"VLOOKUP(B5147,Categorias!$A:$B,2,FALSE)","v":{"$error":"#N/A"}}]
[{"$f":"VLOOKUP(B5148,Categorias!$A:$B,2,FALSE)","v":{"$error":"#N/A"}}]
[{"$f":"VLOOKUP(B5149,Categorias!$A:$B,2,FALSE)","v":{"$error":"#N/A"}}]
[{"$f":"VLOOKUP(B5150,Categorias!$A:$B,2,FALSE)","v":{"$error":"#N/A"}}]
[{"$f":"VLOOKUP(B5151,Categorias!$A:$B,2,FALSE)","v":{"$error":"#N/A"}}]
[{"$f":"VLOOKUP(B5152,Categorias!$A:$B,2,FALSE)","v":{"$error":"#N/A"}}]
[{"$f":"VLOOKUP(B5153,Categorias!$A:$B,2,FALSE)","v":{"$error":"#N/A"}}]
[{"$f":"VLOOKUP(B5154,Categorias!$A:$B,2,FALSE)","v":{"$error":"#N/A"}}]
[{"$f":"VLOOKUP(B5155,Categorias!$A:$B,2,FALSE)","v":{"$error":"#N/A"}}]
[{"$f":"VLOOKUP(B5156,Categorias!$A:$B,2,FALSE)","v":{"$error":"#N/A"}}]
[{"$f":"VLOOKUP(B5157,Categorias!$A:$B,2,FALSE)","v":{"$error":"#N/A"}}]
[{"$f":"VLOOKUP(B5158,Categorias!$A:$B,2,FALSE)","v":{"$error":"#N/A"}}]
[{"$f":"VLOOKUP(B5159,Categorias!$A:$B,2,FALSE)","v":{"$error":"#N/A"}}]
[{"$f":"VLOOKUP(B5160,Categorias!$A:$B,2,FALSE)","v":{"$error":"#N/A"}}]
[{"$f":"VLOOKUP(B5161,Categorias!$A:$B,2,FALSE)","v":{"$error":"#N/A"}}]
[{"$f":"VLOOKUP(B5162,Categorias!$A:$B,2,FALSE)","v":{"$error":"#N/A"}}]
[{"$f":"VLOOKUP(B5163,Categorias!$A:$B,2,FALSE)","v":{"$error":"#N/A"}}]
[{"$f":"VLOOKUP(B5164,Categorias!$A:$B,2,FALSE)","v":{"$error":"#N/A"}}]
[{"$f":"VLOOKUP(B5165,Categorias!$A:$B,2,FALSE)","v":{"$error":"#N/A"}}]
[{"$f":"VLOOKUP(B5166,Categorias!$A:$B,2,FALSE)","v":{"$error":"#N/A"}}]
[{"$f":"VLOOKUP(B5167,Categorias!$A:$B,2,FALSE)","v":{"$error":"#N/A"}}]
[{"$f":"VLOOKUP(B5168,Categorias!$A:$B,2,FALSE)","v":{"$error":"#N/A"}}]
[{"$f":"VLOOKUP(B5169,Categorias!$A:$B,2,FALSE)","v":{"$error":"#N/A"}}]
[{"$f":"VLOOKUP(B5170,Categorias!$A:$B,2,FALSE)","v":{"$error":"#N/A"}}]
[{"$f":"VLOOKUP(B5171,Categorias!$A:$B,2,FALSE)","v":{"$error":"#N/A"}}]
[{"$f":"VLOOKUP(B5172,Categorias!$A:$B,2,FALSE)","v":{"$error":"#N/A"}}]
[{"$f":"VLOOKUP(B5173,Categorias!$A:$B,2,FALSE)","v":{"$error":"#N/A"}}]
[{"$f":"VLOOKUP(B5174,Categorias!$A:$B,2,FALSE)","v":{"$error":"#N/A"}}]
[{"$f":"VLOOKUP(B5175,Categorias!$A:$B,2,FALSE)","v":{"$error":"#N/A"}}]
[{"$f":"VLOOKUP(B5176,Categorias!$A:$B,2,FALSE)","v":{"$error":"#N/A"}}]
[{"$f":"VLOOKUP(B5177,Categorias!$A:$B,2,FALSE)","v":{"$error":"#N/A"}}]
[{"$f":"VLOOKUP(B5178,Categorias!$A:$B,2,FALSE)","v":{"$error":"#N/A"}}]
[{"$f":"VLOOKUP(B5179,Categorias!$A:$B,2,FALSE)","v":{"$error":"#N/A"}}]
[{"$f":"VLOOKUP(B5180,Categorias!$A:$B,2,FALSE)","v":{"$error":"#N/A"}}]
[{"$f":"VLOOKUP(B5181,Categorias!$A:$B,2,FALSE)","v":{"$error":"#N/A"}}]
[{"$f":"VLOOKUP(B5182,Categorias!$A:$B,2,FALSE)","v":{"$error":"#N/A"}}]
[{"$f":"VLOOKUP(B5183,Categorias!$A:$B,2,FALSE)","v":{"$error":"#N/A"}}]
[{"$f":"VLOOKUP(B5184,Categorias!$A:$B,2,FALSE)","v":{"$error":"#N/A"}}]
[{"$f":"VLOOKUP(B5185,Categorias!$A:$B,2,FALSE)","v":{"$error":"#N/A"}}]
[{"$f":"VLOOKUP(B5186,Categorias!$A:$B,2,FALSE)","v":{"$error":"#N/A"}}]
[{"$f":"VLOOKUP(B5187,Categorias!$A:$B,2,FALSE)","v":{"$error":"#N/A"}}]
[{"$f":"VLOOKUP(B5188,Categorias!$A:$B,2,FALSE)","v":{"$error":"#N/A"}}]
[{"$f":"VLOOKUP(B5189,Categorias!$A:$B,2,FALSE)","v":{"$error":"#N/A"}}]
[{"$f":"VLOOKUP(B5190,Categorias!$A:$B,2,FALSE)","v":{"$error":"#N/A"}}]
[{"$f":"VLOOKUP(B5191,Categorias!$A:$B,2,FALSE)","v":{"$error":"#N/A"}}]
[{"$f":"VLOOKUP(B5192,Categorias!$A:$B,2,FALSE)","v":{"$error":"#N/A"}}]
[{"$f":"VLOOKUP(B5193,Categorias!$A:$B,2,FALSE)","v":{"$error":"#N/A"}}]
[{"$f":"VLOOKUP(B5194,Categorias!$A:$B,2,FALSE)","v":{"$error":"#N/A"}}]
[{"$f":"VLOOKUP(B5195,Categorias!$A:$B,2,FALSE)","v":{"$error":"#N/A"}}]
[{"$f":"VLOOKUP(B5196,Categorias!$A:$B,2,FALSE)","v":{"$error":"#N/A"}}]
[{"$f":"VLOOKUP(B5197,Categorias!$A:$B,2,FALSE)","v":{"$error":"#N/A"}}]
[{"$f":"VLOOKUP(B5198,Categorias!$A:$B,2,FALSE)","v":{"$error":"#N/A"}}]
[{"$f":"VLOOKUP(B5199,Categorias!$A:$B,2,FALSE)","v":{"$error":"#N/A"}}]
[{"$f":"VLOOKUP(B5200,Categorias!$A:$B,2,FALSE)","v":{"$error":"#N/A"}}]
[{"$f":"VLOOKUP(B5201,Categorias!$A:$B,2,FALSE)","v":{"$error":"#N/A"}}]
[{"$f":"VLOOKUP(B5202,Categorias!$A:$B,2,FALSE)","v":{"$error":"#N/A"}}]
[{"$f":"VLOOKUP(B5203,Categorias!$A:$B,2,FALSE)","v":{"$error":"#N/A"}}]
[{"$f":"VLOOKUP(B5204,Categorias!$A:$B,2,FALSE)","v":{"$error":"#N/A"}}]
[{"$f":"VLOOKUP(B5205,Categorias!$A:$B,2,FALSE)","v":{"$error":"#N/A"}}]
[{"$f":"VLOOKUP(B5206,Categorias!$A:$B,2,FALSE)","v":{"$error":"#N/A"}}]
[{"$f":"VLOOKUP(B5207,Categorias!$A:$B,2,FALSE)","v":{"$error":"#N/A"}}]
[{"$f":"VLOOKUP(B5208,Categorias!$A:$B,2,FALSE)","v":{"$error":"#N/A"}}]
[{"$f":"VLOOKUP(B5209,Categorias!$A:$B,2,FALSE)","v":{"$error":"#N/A"}}]
[{"$f":"VLOOKUP(B5210,Categorias!$A:$B,2,FALSE)","v":{"$error":"#N/A"}}]
[{"$f":"VLOOKUP(B5211,Categorias!$A:$B,2,FALSE)","v":{"$error":"#N/A"}}]
[{"$f":"VLOOKUP(B5212,Categorias!$A:$B,2,FALSE)","v":{"$error":"#N/A"}}]
[{"$f":"VLOOKUP(B5213,Categorias!$A:$B,2,FALSE)","v":{"$error":"#N/A"}}]
[{"$f":"VLOOKUP(B5214,Categorias!$A:$B,2,FALSE)","v":{"$error":"#N/A"}}]
[{"$f":"VLOOKUP(B5215,Categorias!$A:$B,2,FALSE)","v":{"$error":"#N/A"}}]
[{"$f":"VLOOKUP(B5216,Categorias!$A:$B,2,FALSE)","v":{"$error":"#N/A"}}]
[{"$f":"VLOOKUP(B5217,Categorias!$A:$B,2,FALSE)","v":{"$error":"#N/A"}}]
[{"$f":"VLOOKUP(B5218,Categorias!$A:$B,2,FALSE)","v":{"$error":"#N/A"}}]
[{"$f":"VLOOKUP(B5219,Categorias!$A:$B,2,FALSE)","v":{"$error":"#N/A"}}]
[{"$f":"VLOOKUP(B5220,Categorias!$A:$B,2,FALSE)","v":{"$error":"#N/A"}}]
[{"$f":"VLOOKUP(B5221,Categorias!$A:$B,2,FALSE)","v":{"$error":"#N/A"}}]
[{"$f":"VLOOKUP(B5222,Categorias!$A:$B,2,FALSE)","v":{"$error":"#N/A"}}]
[{"$f":"VLOOKUP(B5223,Categorias!$A:$B,2,FALSE)","v":{"$error":"#N/A"}}]
[{"$f":"VLOOKUP(B5224,Categorias!$A:$B,2,FALSE)","v":{"$error":"#N/A"}}]
[{"$f":"VLOOKUP(B5225,Categorias!$A:$B,2,FALSE)","v":{"$error":"#N/A"}}]
[{"$f":"VLOOKUP(B5226,Categorias!$A:$B,2,FALSE)","v":{"$error":"#N/A"}}]
[{"$f":"VLOOKUP(B5227,Categorias!$A:$B,2,FALSE)","v":{"$error":"#N/A"}}]
[{"$f":"VLOOKUP(B5228,Categorias!$A:$B,2,FALSE)","v":{"$error":"#N/A"}}]
[{"$f":"VLOOKUP(B5229,Categorias!$A:$B,2,FALSE)","v":{"$error":"#N/A"}}]
[{"$f":"VLOOKUP(B5230,Categorias!$A:$B,2,FALSE)","v":{"$error":"#N/A"}}]
[{"$f":"VLOOKUP(B5231,Categorias!$A:$B,2,FALSE)","v":{"$error":"#N/A"}}]
[{"$f":"VLOOKUP(B5232,Categorias!$A:$B,2,FALSE)","v":{"$error":"#N/A"}}]
[{"$f":"VLOOKUP(B5233,Categorias!$A:$B,2,FALSE)","v":{"$error":"#N/A"}}]
[{"$f":"VLOOKUP(B5234,Categorias!$A:$B,2,FALSE)","v":{"$error":"#N/A"}}]
[{"$f":"VLOOKUP(B5235,Categorias!$A:$B,2,FALSE)","v":{"$error":"#N/A"}}]
[{"$f":"VLOOKUP(B5236,Categorias!$A:$B,2,FALSE)","v":{"$error":"#N/A"}}]
[{"$f":"VLOOKUP(B5237,Categorias!$A:$B,2,FALSE)","v":{"$error":"#N/A"}}]
[{"$f":"VLOOKUP(B5238,Categorias!$A:$B,2,FALSE)","v":{"$error":"#N/A"}}]
[{"$f":"VLOOKUP(B5239,Categorias!$A:$B,2,FALSE)","v":{"$error":"#N/A"}}]
[{"$f":"VLOOKUP(B5240,Categorias!$A:$B,2,FALSE)","v":{"$error":"#N/A"}}]
[{"$f":"VLOOKUP(B5241,Categorias!$A:$B,2,FALSE)","v":{"$error":"#N/A"}}]
[{"$f":"VLOOKUP(B5242,Categorias!$A:$B,2,FALSE)","v":{"$error":"#N/A"}}]
[{"$f":"VLOOKUP(B5243,Categorias!$A:$B,2,FALSE)","v":{"$error":"#N/A"}}]
[{"$f":"VLOOKUP(B5244,Categorias!$A:$B,2,FALSE)","v":{"$error":"#N/A"}}]
[{"$f":"VLOOKUP(B5245,Categorias!$A:$B,2,FALSE)","v":{"$error":"#N/A"}}]
[{"$f":"VLOOKUP(B5246,Categorias!$A:$B,2,FALSE)","v":{"$error":"#N/A"}}]
[{"$f":"VLOOKUP(B5247,Categorias!$A:$B,2,FALSE)","v":{"$error":"#N/A"}}]
[{"$f":"VLOOKUP(B5248,Categorias!$A:$B,2,FALSE)","v":{"$error":"#N/A"}}]
[{"$f":"VLOOKUP(B5249,Categorias!$A:$B,2,FALSE)","v":{"$error":"#N/A"}}]
[{"$f":"VLOOKUP(B5250,Categorias!$A:$B,2,FALSE)","v":{"$error":"#N/A"}}]
[{"$f":"VLOOKUP(B5251,Categorias!$A:$B,2,FALSE)","v":{"$error":"#N/A"}}]
[{"$f":"VLOOKUP(B5252,Categorias!$A:$B,2,FALSE)","v":{"$error":"#N/A"}}]
[{"$f":"VLOOKUP(B5253,Categorias!$A:$B,2,FALSE)","v":{"$error":"#N/A"}}]
[{"$f":"VLOOKUP(B5254,Categorias!$A:$B,2,FALSE)","v":{"$error":"#N/A"}}]
[{"$f":"VLOOKUP(B5255,Categorias!$A:$B,2,FALSE)","v":{"$error":"#N/A"}}]
[{"$f":"VLOOKUP(B5256,Categorias!$A:$B,2,FALSE)","v":{"$error":"#N/A"}}]
[{"$f":"VLOOKUP(B5257,Categorias!$A:$B,2,FALSE)","v":{"$error":"#N/A"}}]
[{"$f":"VLOOKUP(B5258,Categorias!$A:$B,2,FALSE)","v":{"$error":"#N/A"}}]
[{"$f":"VLOOKUP(B5259,Categorias!$A:$B,2,FALSE)","v":{"$error":"#N/A"}}]
[{"$f":"VLOOKUP(B5260,Categorias!$A:$B,2,FALSE)","v":{"$error":"#N/A"}}]
[{"$f":"VLOOKUP(B5261,Categorias!$A:$B,2,FALSE)","v":{"$error":"#N/A"}}]
[{"$f":"VLOOKUP(B5262,Categorias!$A:$B,2,FALSE)","v":{"$error":"#N/A"}}]
[{"$f":"VLOOKUP(B5263,Categorias!$A:$B,2,FALSE)","v":{"$error":"#N/A"}}]
[{"$f":"VLOOKUP(B5264,Categorias!$A:$B,2,FALSE)","v":{"$error":"#N/A"}}]
[{"$f":"VLOOKUP(B5265,Categorias!$A:$B,2,FALSE)","v":{"$error":"#N/A"}}]
[{"$f":"VLOOKUP(B5266,Categorias!$A:$B,2,FALSE)","v":{"$error":"#N/A"}}]
[{"$f":"VLOOKUP(B5267,Categorias!$A:$B,2,FALSE)","v":{"$error":"#N/A"}}]
[{"$f":"VLOOKUP(B5268,Categorias!$A:$B,2,FALSE)","v":{"$error":"#N/A"}}]
[{"$f":"VLOOKUP(B5269,Categorias!$A:$B,2,FALSE)","v":{"$error":"#N/A"}}]
[{"$f":"VLOOKUP(B5270,Categorias!$A:$B,2,FALSE)","v":{"$error":"#N/A"}}]
[{"$f":"VLOOKUP(B5271,Categorias!$A:$B,2,FALSE)","v":{"$error":"#N/A"}}]
[{"$f":"VLOOKUP(B5272,Categorias!$A:$B,2,FALSE)","v":{"$error":"#N/A"}}]
[{"$f":"VLOOKUP(B5273,Categorias!$A:$B,2,FALSE)","v":{"$error":"#N/A"}}]
[{"$f":"VLOOKUP(B5274,Categorias!$A:$B,2,FALSE)","v":{"$error":"#N/A"}}]
[{"$f":"VLOOKUP(B5275,Categorias!$A:$B,2,FALSE)","v":{"$error":"#N/A"}}]
[{"$f":"VLOOKUP(B5276,Categorias!$A:$B,2,FALSE)","v":{"$error":"#N/A"}}]
[{"$f":"VLOOKUP(B5277,Categorias!$A:$B,2,FALSE)","v":{"$error":"#N/A"}}]
[{"$f":"VLOOKUP(B5278,Categorias!$A:$B,2,FALSE)","v":{"$error":"#N/A"}}]
[{"$f":"VLOOKUP(B5279,Categorias!$A:$B,2,FALSE)","v":{"$error":"#N/A"}}]
[{"$f":"VLOOKUP(B5280,Categorias!$A:$B,2,FALSE)","v":{"$error":"#N/A"}}]
[{"$f":"VLOOKUP(B5281,Categorias!$A:$B,2,FALSE)","v":{"$error":"#N/A"}}]
[{"$f":"VLOOKUP(B5282,Categorias!$A:$B,2,FALSE)","v":{"$error":"#N/A"}}]
[{"$f":"VLOOKUP(B5283,Categorias!$A:$B,2,FALSE)","v":{"$error":"#N/A"}}]
[{"$f":"VLOOKUP(B5284,Categorias!$A:$B,2,FALSE)","v":{"$error":"#N/A"}}]
[{"$f":"VLOOKUP(B5285,Categorias!$A:$B,2,FALSE)","v":{"$error":"#N/A"}}]
[{"$f":"VLOOKUP(B5286,Categorias!$A:$B,2,FALSE)","v":{"$error":"#N/A"}}]
[{"$f":"VLOOKUP(B5287,Categorias!$A:$B,2,FALSE)","v":{"$error":"#N/A"}}]
[{"$f":"VLOOKUP(B5288,Categorias!$A:$B,2,FALSE)","v":{"$error":"#N/A"}}]
[{"$f":"VLOOKUP(B5289,Categorias!$A:$B,2,FALSE)","v":{"$error":"#N/A"}}]
[{"$f":"VLOOKUP(B5290,Categorias!$A:$B,2,FALSE)","v":{"$error":"#N/A"}}]
[{"$f":"VLOOKUP(B5291,Categorias!$A:$B,2,FALSE)","v":{"$error":"#N/A"}}]
[{"$f":"VLOOKUP(B5292,Categorias!$A:$B,2,FALSE)","v":{"$error":"#N/A"}}]
[{"$f":"VLOOKUP(B5293,Categorias!$A:$B,2,FALSE)","v":{"$error":"#N/A"}}]
[{"$f":"VLOOKUP(B5294,Categorias!$A:$B,2,FALSE)","v":{"$error":"#N/A"}}]
[{"$f":"VLOOKUP(B5295,Categorias!$A:$B,2,FALSE)","v":{"$error":"#N/A"}}]
[{"$f":"VLOOKUP(B5296,Categorias!$A:$B,2,FALSE)","v":{"$error":"#N/A"}}]
[{"$f":"VLOOKUP(B5297,Categorias!$A:$B,2,FALSE)","v":{"$error":"#N/A"}}]
[{"$f":"VLOOKUP(B5298,Categorias!$A:$B,2,FALSE)","v":{"$error":"#N/A"}}]
[{"$f":"VLOOKUP(B5299,Categorias!$A:$B,2,FALSE)","v":{"$error":"#N/A"}}]
[{"$f":"VLOOKUP(B5300,Categorias!$A:$B,2,FALSE)","v":{"$error":"#N/A"}}]
[{"$f":"VLOOKUP(B5301,Categorias!$A:$B,2,FALSE)","v":{"$error":"#N/A"}}]
[{"$f":"VLOOKUP(B5302,Categorias!$A:$B,2,FALSE)","v":{"$error":"#N/A"}}]
[{"$f":"VLOOKUP(B5303,Categorias!$A:$B,2,FALSE)","v":{"$error":"#N/A"}}]
[{"$f":"VLOOKUP(B5304,Categorias!$A:$B,2,FALSE)","v":{"$error":"#N/A"}}]
[{"$f":"VLOOKUP(B5305,Categorias!$A:$B,2,FALSE)","v":{"$error":"#N/A"}}]
[{"$f":"VLOOKUP(B5306,Categorias!$A:$B,2,FALSE)","v":{"$error":"#N/A"}}]
[{"$f":"VLOOKUP(B5307,Categorias!$A:$B,2,FALSE)","v":{"$error":"#N/A"}}]
[{"$f":"VLOOKUP(B5308,Categorias!$A:$B,2,FALSE)","v":{"$error":"#N/A"}}]
[{"$f":"VLOOKUP(B5309,Categorias!$A:$B,2,FALSE)","v":{"$error":"#N/A"}}]
[{"$f":"VLOOKUP(B5310,Categorias!$A:$B,2,FALSE)","v":{"$error":"#N/A"}}]
[{"$f":"VLOOKUP(B5311,Categorias!$A:$B,2,FALSE)","v":{"$error":"#N/A"}}]
[{"$f":"VLOOKUP(B5312,Categorias!$A:$B,2,FALSE)","v":{"$error":"#N/A"}}]
[{"$f":"VLOOKUP(B5313,Categorias!$A:$B,2,FALSE)","v":{"$error":"#N/A"}}]
[{"$f":"VLOOKUP(B5314,Categorias!$A:$B,2,FALSE)","v":{"$error":"#N/A"}}]
[{"$f":"VLOOKUP(B5315,Categorias!$A:$B,2,FALSE)","v":{"$error":"#N/A"}}]
[{"$f":"VLOOKUP(B5316,Categorias!$A:$B,2,FALSE)","v":{"$error":"#N/A"}}]
[{"$f":"VLOOKUP(B5317,Categorias!$A:$B,2,FALSE)","v":{"$error":"#N/A"}}]
[{"$f":"VLOOKUP(B5318,Categorias!$A:$B,2,FALSE)","v":{"$error":"#N/A"}}]
[{"$f":"VLOOKUP(B5319,Categorias!$A:$B,2,FALSE)","v":{"$error":"#N/A"}}]
[{"$f":"VLOOKUP(B5320,Categorias!$A:$B,2,FALSE)","v":{"$error":"#N/A"}}]
[{"$f":"VLOOKUP(B5321,Categorias!$A:$B,2,FALSE)","v":{"$error":"#N/A"}}]
[{"$f":"VLOOKUP(B5322,Categorias!$A:$B,2,FALSE)","v":{"$error":"#N/A"}}]
[{"$f":"VLOOKUP(B5323,Categorias!$A:$B,2,FALSE)","v":{"$error":"#N/A"}}]
[{"$f":"VLOOKUP(B5324,Categorias!$A:$B,2,FALSE)","v":{"$error":"#N/A"}}]
[{"$f":"VLOOKUP(B5325,Categorias!$A:$B,2,FALSE)","v":{"$error":"#N/A"}}]
[{"$f":"VLOOKUP(B5326,Categorias!$A:$B,2,FALSE)","v":{"$error":"#N/A"}}]
[{"$f":"VLOOKUP(B5327,Categorias!$A:$B,2,FALSE)","v":{"$error":"#N/A"}}]
[{"$f":"VLOOKUP(B5328,Categorias!$A:$B,2,FALSE)","v":{"$error":"#N/A"}}]
[{"$f":"VLOOKUP(B5329,Categorias!$A:$B,2,FALSE)","v":{"$error":"#N/A"}}]
[{"$f":"VLOOKUP(B5330,Categorias!$A:$B,2,FALSE)","v":{"$error":"#N/A"}}]
[{"$f":"VLOOKUP(B5331,Categorias!$A:$B,2,FALSE)","v":{"$error":"#N/A"}}]
[{"$f":"VLOOKUP(B5332,Categorias!$A:$B,2,FALSE)","v":{"$error":"#N/A"}}]
[{"$f":"VLOOKUP(B5333,Categorias!$A:$B,2,FALSE)","v":{"$error":"#N/A"}}]
[{"$f":"VLOOKUP(B5334,Categorias!$A:$B,2,FALSE)","v":{"$error":"#N/A"}}]
[{"$f":"VLOOKUP(B5335,Categorias!$A:$B,2,FALSE)","v":{"$error":"#N/A"}}]
[{"$f":"VLOOKUP(B5336,Categorias!$A:$B,2,FALSE)","v":{"$error":"#N/A"}}]
[{"$f":"VLOOKUP(B5337,Categorias!$A:$B,2,FALSE)","v":{"$error":"#N/A"}}]
[{"$f":"VLOOKUP(B5338,Categorias!$A:$B,2,FALSE)","v":{"$error":"#N/A"}}]
[{"$f":"VLOOKUP(B5339,Categorias!$A:$B,2,FALSE)","v":{"$error":"#N/A"}}]
[{"$f":"VLOOKUP(B5340,Categorias!$A:$B,2,FALSE)","v":{"$error":"#N/A"}}]
[{"$f":"VLOOKUP(B5341,Categorias!$A:$B,2,FALSE)","v":{"$error":"#N/A"}}]
[{"$f":"VLOOKUP(B5342,Categorias!$A:$B,2,FALSE)","v":{"$error":"#N/A"}}]
[{"$f":"VLOOKUP(B5343,Categorias!$A:$B,2,FALSE)","v":{"$error":"#N/A"}}]
[{"$f":"VLOOKUP(B5344,Categorias!$A:$B,2,FALSE)","v":{"$error":"#N/A"}}]
[{"$f":"VLOOKUP(B5345,Categorias!$A:$B,2,FALSE)","v":{"$error":"#N/A"}}]
[{"$f":"VLOOKUP(B5346,Categorias!$A:$B,2,FALSE)","v":{"$error":"#N/A"}}]
[{"$f":"VLOOKUP(B5347,Categorias!$A:$B,2,FALSE)","v":{"$error":"#N/A"}}]
[{"$f":"VLOOKUP(B5348,Categorias!$A:$B,2,FALSE)","v":{"$error":"#N/A"}}]
[{"$f":"VLOOKUP(B5349,Categorias!$A:$B,2,FALSE)","v":{"$error":"#N/A"}}]
[{"$f":"VLOOKUP(B5350,Categorias!$A:$B,2,FALSE)","v":{"$error":"#N/A"}}]
[{"$f":"VLOOKUP(B5351,Categorias!$A:$B,2,FALSE)","v":{"$error":"#N/A"}}]
[{"$f":"VLOOKUP(B5352,Categorias!$A:$B,2,FALSE)","v":{"$error":"#N/A"}}]
[{"$f":"VLOOKUP(B5353,Categorias!$A:$B,2,FALSE)","v":{"$error":"#N/A"}}]
[{"$f":"VLOOKUP(B5354,Categorias!$A:$B,2,FALSE)","v":{"$error":"#N/A"}}]
[{"$f":"VLOOKUP(B5355,Categorias!$A:$B,2,FALSE)","v":{"$error":"#N/A"}}]
[{"$f":"VLOOKUP(B5356,Categorias!$A:$B,2,FALSE)","v":{"$error":"#N/A"}}]
[{"$f":"VLOOKUP(B5357,Categorias!$A:$B,2,FALSE)","v":{"$error":"#N/A"}}]
[{"$f":"VLOOKUP(B5358,Categorias!$A:$B,2,FALSE)","v":{"$error":"#N/A"}}]
[{"$f":"VLOOKUP(B5359,Categorias!$A:$B,2,FALSE)","v":{"$error":"#N/A"}}]
[{"$f":"VLOOKUP(B5360,Categorias!$A:$B,2,FALSE)","v":{"$error":"#N/A"}}]
[{"$f":"VLOOKUP(B5361,Categorias!$A:$B,2,FALSE)","v":{"$error":"#N/A"}}]
[{"$f":"VLOOKUP(B5362,Categorias!$A:$B,2,FALSE)","v":{"$error":"#N/A"}}]
[{"$f":"VLOOKUP(B5363,Categorias!$A:$B,2,FALSE)","v":{"$error":"#N/A"}}]
[{"$f":"VLOOKUP(B5364,Categorias!$A:$B,2,FALSE)","v":{"$error":"#N/A"}}]
[{"$f":"VLOOKUP(B5365,Categorias!$A:$B,2,FALSE)","v":{"$error":"#N/A"}}]
[{"$f":"VLOOKUP(B5366,Categorias!$A:$B,2,FALSE)","v":{"$error":"#N/A"}}]
[{"$f":"VLOOKUP(B5367,Categorias!$A:$B,2,FALSE)","v":{"$error":"#N/A"}}]
[{"$f":"VLOOKUP(B5368,Categorias!$A:$B,2,FALSE)","v":{"$error":"#N/A"}}]
[{"$f":"VLOOKUP(B5369,Categorias!$A:$B,2,FALSE)","v":{"$error":"#N/A"}}]
[{"$f":"VLOOKUP(B5370,Categorias!$A:$B,2,FALSE)","v":{"$error":"#N/A"}}]
[{"$f":"VLOOKUP(B5371,Categorias!$A:$B,2,FALSE)","v":{"$error":"#N/A"}}]
[{"$f":"VLOOKUP(B5372,Categorias!$A:$B,2,FALSE)","v":{"$error":"#N/A"}}]
[{"$f":"VLOOKUP(B5373,Categorias!$A:$B,2,FALSE)","v":{"$error":"#N/A"}}]
[{"$f":"VLOOKUP(B5374,Categorias!$A:$B,2,FALSE)","v":{"$error":"#N/A"}}]
[{"$f":"VLOOKUP(B5375,Categorias!$A:$B,2,FALSE)","v":{"$error":"#N/A"}}]
[{"$f":"VLOOKUP(B5376,Categorias!$A:$B,2,FALSE)","v":{"$error":"#N/A"}}]
[{"$f":"VLOOKUP(B5377,Categorias!$A:$B,2,FALSE)","v":{"$error":"#N/A"}}]
[{"$f":"VLOOKUP(B5378,Categorias!$A:$B,2,FALSE)","v":{"$error":"#N/A"}}]
[{"$f":"VLOOKUP(B5379,Categorias!$A:$B,2,FALSE)","v":{"$error":"#N/A"}}]
[{"$f":"VLOOKUP(B5380,Categorias!$A:$B,2,FALSE)","v":{"$error":"#N/A"}}]
[{"$f":"VLOOKUP(B5381,Categorias!$A:$B,2,FALSE)","v":{"$error":"#N/A"}}]
[{"$f":"VLOOKUP(B5382,Categorias!$A:$B,2,FALSE)","v":{"$error":"#N/A"}}]
[{"$f":"VLOOKUP(B5383,Categorias!$A:$B,2,FALSE)","v":{"$error":"#N/A"}}]
[{"$f":"VLOOKUP(B5384,Categorias!$A:$B,2,FALSE)","v":{"$error":"#N/A"}}]
[{"$f":"VLOOKUP(B5385,Categorias!$A:$B,2,FALSE)","v":{"$error":"#N/A"}}]
[{"$f":"VLOOKUP(B5386,Categorias!$A:$B,2,FALSE)","v":{"$error":"#N/A"}}]
[{"$f":"VLOOKUP(B5387,Categorias!$A:$B,2,FALSE)","v":{"$error":"#N/A"}}]
[{"$f":"VLOOKUP(B5388,Categorias!$A:$B,2,FALSE)","v":{"$error":"#N/A"}}]
[{"$f":"VLOOKUP(B5389,Categorias!$A:$B,2,FALSE)","v":{"$error":"#N/A"}}]
[{"$f":"VLOOKUP(B5390,Categorias!$A:$B,2,FALSE)","v":{"$error":"#N/A"}}]
[{"$f":"VLOOKUP(B5391,Categorias!$A:$B,2,FALSE)","v":{"$error":"#N/A"}}]
[{"$f":"VLOOKUP(B5392,Categorias!$A:$B,2,FALSE)","v":{"$error":"#N/A"}}]
[{"$f":"VLOOKUP(B5393,Categorias!$A:$B,2,FALSE)","v":{"$error":"#N/A"}}]
[{"$f":"VLOOKUP(B5394,Categorias!$A:$B,2,FALSE)","v":{"$error":"#N/A"}}]
[{"$f":"VLOOKUP(B5395,Categorias!$A:$B,2,FALSE)","v":{"$error":"#N/A"}}]
[{"$f":"VLOOKUP(B5396,Categorias!$A:$B,2,FALSE)","v":{"$error":"#N/A"}}]
[{"$f":"VLOOKUP(B5397,Categorias!$A:$B,2,FALSE)","v":{"$error":"#N/A"}}]
[{"$f":"VLOOKUP(B5398,Categorias!$A:$B,2,FALSE)","v":{"$error":"#N/A"}}]
[{"$f":"VLOOKUP(B5399,Categorias!$A:$B,2,FALSE)","v":{"$error":"#N/A"}}]
[{"$f":"VLOOKUP(B5400,Categorias!$A:$B,2,FALSE)","v":{"$error":"#N/A"}}]
[{"$f":"VLOOKUP(B5401,Categorias!$A:$B,2,FALSE)","v":{"$error":"#N/A"}}]
[{"$f":"VLOOKUP(B5402,Categorias!$A:$B,2,FALSE)","v":{"$error":"#N/A"}}]
[{"$f":"VLOOKUP(B5403,Categorias!$A:$B,2,FALSE)","v":{"$error":"#N/A"}}]
[{"$f":"VLOOKUP(B5404,Categorias!$A:$B,2,FALSE)","v":{"$error":"#N/A"}}]
[{"$f":"VLOOKUP(B5405,Categorias!$A:$B,2,FALSE)","v":{"$error":"#N/A"}}]
[{"$f":"VLOOKUP(B5406,Categorias!$A:$B,2,FALSE)","v":{"$error":"#N/A"}}]
[{"$f":"VLOOKUP(B5407,Categorias!$A:$B,2,FALSE)","v":{"$error":"#N/A"}}]
[{"$f":"VLOOKUP(B5408,Categorias!$A:$B,2,FALSE)","v":{"$error":"#N/A"}}]
[{"$f":"VLOOKUP(B5409,Categorias!$A:$B,2,FALSE)","v":{"$error":"#N/A"}}]
[{"$f":"VLOOKUP(B5410,Categorias!$A:$B,2,FALSE)","v":{"$error":"#N/A"}}]
[{"$f":"VLOOKUP(B5411,Categorias!$A:$B,2,FALSE)","v":{"$error":"#N/A"}}]
[{"$f":"VLOOKUP(B5412,Categorias!$A:$B,2,FALSE)","v":{"$error":"#N/A"}}]
[{"$f":"VLOOKUP(B5413,Categorias!$A:$B,2,FALSE)","v":{"$error":"#N/A"}}]
[{"$f":"VLOOKUP(B5414,Categorias!$A:$B,2,FALSE)","v":{"$error":"#N/A"}}]
[{"$f":"VLOOKUP(B5415,Categorias!$A:$B,2,FALSE)","v":{"$error":"#N/A"}}]
[{"$f":"VLOOKUP(B5416,Categorias!$A:$B,2,FALSE)","v":{"$error":"#N/A"}}]
[{"$f":"VLOOKUP(B5417,Categorias!$A:$B,2,FALSE)","v":{"$error":"#N/A"}}]
[{"$f":"VLOOKUP(B5418,Categorias!$A:$B,2,FALSE)","v":{"$error":"#N/A"}}]
[{"$f":"VLOOKUP(B5419,Categorias!$A:$B,2,FALSE)","v":{"$error":"#N/A"}}]
[{"$f":"VLOOKUP(B5420,Categorias!$A:$B,2,FALSE)","v":{"$error":"#N/A"}}]
[{"$f":"VLOOKUP(B5421,Categorias!$A:$B,2,FALSE)","v":{"$error":"#N/A"}}]
[{"$f":"VLOOKUP(B5422,Categorias!$A:$B,2,FALSE)","v":{"$error":"#N/A"}}]
[{"$f":"VLOOKUP(B5423,Categorias!$A:$B,2,FALSE)","v":{"$error":"#N/A"}}]
[{"$f":"VLOOKUP(B5424,Categorias!$A:$B,2,FALSE)","v":{"$error":"#N/A"}}]
[{"$f":"VLOOKUP(B5425,Categorias!$A:$B,2,FALSE)","v":{"$error":"#N/A"}}]
[{"$f":"VLOOKUP(B5426,Categorias!$A:$B,2,FALSE)","v":{"$error":"#N/A"}}]
[{"$f":"VLOOKUP(B5427,Categorias!$A:$B,2,FALSE)","v":{"$error":"#N/A"}}]
[{"$f":"VLOOKUP(B5428,Categorias!$A:$B,2,FALSE)","v":{"$error":"#N/A"}}]
[{"$f":"VLOOKUP(B5429,Categorias!$A:$B,2,FALSE)","v":{"$error":"#N/A"}}]
[{"$f":"VLOOKUP(B5430,Categorias!$A:$B,2,FALSE)","v":{"$error":"#N/A"}}]
[{"$f":"VLOOKUP(B5431,Categorias!$A:$B,2,FALSE)","v":{"$error":"#N/A"}}]
[{"$f":"VLOOKUP(B5432,Categorias!$A:$B,2,FALSE)","v":{"$error":"#N/A"}}]
[{"$f":"VLOOKUP(B5433,Categorias!$A:$B,2,FALSE)","v":{"$error":"#N/A"}}]
[{"$f":"VLOOKUP(B5434,Categorias!$A:$B,2,FALSE)","v":{"$error":"#N/A"}}]
[{"$f":"VLOOKUP(B5435,Categorias!$A:$B,2,FALSE)","v":{"$error":"#N/A"}}]
[{"$f":"VLOOKUP(B5436,Categorias!$A:$B,2,FALSE)","v":{"$error":"#N/A"}}]
[{"$f":"VLOOKUP(B5437,Categorias!$A:$B,2,FALSE)","v":{"$error":"#N/A"}}]
[{"$f":"VLOOKUP(B5438,Categorias!$A:$B,2,FALSE)","v":{"$error":"#N/A"}}]
[{"$f":"VLOOKUP(B5439,Categorias!$A:$B,2,FALSE)","v":{"$error":"#N/A"}}]
[{"$f":"VLOOKUP(B5440,Categorias!$A:$B,2,FALSE)","v":{"$error":"#N/A"}}]
[{"$f":"VLOOKUP(B5441,Categorias!$A:$B,2,FALSE)","v":{"$error":"#N/A"}}]
[{"$f":"VLOOKUP(B5442,Categorias!$A:$B,2,FALSE)","v":{"$error":"#N/A"}}]
[{"$f":"VLOOKUP(B5443,Categorias!$A:$B,2,FALSE)","v":{"$error":"#N/A"}}]
[{"$f":"VLOOKUP(B5444,Categorias!$A:$B,2,FALSE)","v":{"$error":"#N/A"}}]
[{"$f":"VLOOKUP(B5445,Categorias!$A:$B,2,FALSE)","v":{"$error":"#N/A"}}]
[{"$f":"VLOOKUP(B5446,Categorias!$A:$B,2,FALSE)","v":{"$error":"#N/A"}}]
[{"$f":"VLOOKUP(B5447,Categorias!$A:$B,2,FALSE)","v":{"$error":"#N/A"}}]
[{"$f":"VLOOKUP(B5448,Categorias!$A:$B,2,FALSE)","v":{"$error":"#N/A"}}]
[{"$f":"VLOOKUP(B5449,Categorias!$A:$B,2,FALSE)","v":{"$error":"#N/A"}}]
[{"$f":"VLOOKUP(B5450,Categorias!$A:$B,2,FALSE)","v":{"$error":"#N/A"}}]
[{"$f":"VLOOKUP(B5451,Categorias!$A:$B,2,FALSE)","v":{"$error":"#N/A"}}]
[{"$f":"VLOOKUP(B5452,Categorias!$A:$B,2,FALSE)","v":{"$error":"#N/A"}}]
[{"$f":"VLOOKUP(B5453,Categorias!$A:$B,2,FALSE)","v":{"$error":"#N/A"}}]
[{"$f":"VLOOKUP(B5454,Categorias!$A:$B,2,FALSE)","v":{"$error":"#N/A"}}]
[{"$f":"VLOOKUP(B5455,Categorias!$A:$B,2,FALSE)","v":{"$error":"#N/A"}}]
[{"$f":"VLOOKUP(B5456,Categorias!$A:$B,2,FALSE)","v":{"$error":"#N/A"}}]
[{"$f":"VLOOKUP(B5457,Categorias!$A:$B,2,FALSE)","v":{"$error":"#N/A"}}]
[{"$f":"VLOOKUP(B5458,Categorias!$A:$B,2,FALSE)","v":{"$error":"#N/A"}}]
[{"$f":"VLOOKUP(B5459,Categorias!$A:$B,2,FALSE)","v":{"$error":"#N/A"}}]
[{"$f":"VLOOKUP(B5460,Categorias!$A:$B,2,FALSE)","v":{"$error":"#N/A"}}]
[{"$f":"VLOOKUP(B5461,Categorias!$A:$B,2,FALSE)","v":{"$error":"#N/A"}}]
[{"$f":"VLOOKUP(B5462,Categorias!$A:$B,2,FALSE)","v":{"$error":"#N/A"}}]
[{"$f":"VLOOKUP(B5463,Categorias!$A:$B,2,FALSE)","v":{"$error":"#N/A"}}]
[{"$f":"VLOOKUP(B5464,Categorias!$A:$B,2,FALSE)","v":{"$error":"#N/A"}}]
[{"$f":"VLOOKUP(B5465,Categorias!$A:$B,2,FALSE)","v":{"$error":"#N/A"}}]
[{"$f":"VLOOKUP(B5466,Categorias!$A:$B,2,FALSE)","v":{"$error":"#N/A"}}]
[{"$f":"VLOOKUP(B5467,Categorias!$A:$B,2,FALSE)","v":{"$error":"#N/A"}}]
[{"$f":"VLOOKUP(B5468,Categorias!$A:$B,2,FALSE)","v":{"$error":"#N/A"}}]
[{"$f":"VLOOKUP(B5469,Categorias!$A:$B,2,FALSE)","v":{"$error":"#N/A"}}]
[{"$f":"VLOOKUP(B5470,Categorias!$A:$B,2,FALSE)","v":{"$error":"#N/A"}}]
[{"$f":"VLOOKUP(B5471,Categorias!$A:$B,2,FALSE)","v":{"$error":"#N/A"}}]
[{"$f":"VLOOKUP(B5472,Categorias!$A:$B,2,FALSE)","v":{"$error":"#N/A"}}]
[{"$f":"VLOOKUP(B5473,Categorias!$A:$B,2,FALSE)","v":{"$error":"#N/A"}}]
[{"$f":"VLOOKUP(B5474,Categorias!$A:$B,2,FALSE)","v":{"$error":"#N/A"}}]
[{"$f":"VLOOKUP(B5475,Categorias!$A:$B,2,FALSE)","v":{"$error":"#N/A"}}]
[{"$f":"VLOOKUP(B5476,Categorias!$A:$B,2,FALSE)","v":{"$error":"#N/A"}}]
[{"$f":"VLOOKUP(B5477,Categorias!$A:$B,2,FALSE)","v":{"$error":"#N/A"}}]
[{"$f":"VLOOKUP(B5478,Categorias!$A:$B,2,FALSE)","v":{"$error":"#N/A"}}]
[{"$f":"VLOOKUP(B5479,Categorias!$A:$B,2,FALSE)","v":{"$error":"#N/A"}}]
[{"$f":"VLOOKUP(B5480,Categorias!$A:$B,2,FALSE)","v":{"$error":"#N/A"}}]
[{"$f":"VLOOKUP(B5481,Categorias!$A:$B,2,FALSE)","v":{"$error":"#N/A"}}]
[{"$f":"VLOOKUP(B5482,Categorias!$A:$B,2,FALSE)","v":{"$error":"#N/A"}}]
[{"$f":"VLOOKUP(B5483,Categorias!$A:$B,2,FALSE)","v":{"$error":"#N/A"}}]
[{"$f":"VLOOKUP(B5484,Categorias!$A:$B,2,FALSE)","v":{"$error":"#N/A"}}]
[{"$f":"VLOOKUP(B5485,Categorias!$A:$B,2,FALSE)","v":{"$error":"#N/A"}}]
[{"$f":"VLOOKUP(B5486,Categorias!$A:$B,2,FALSE)","v":{"$error":"#N/A"}}]
[{"$f":"VLOOKUP(B5487,Categorias!$A:$B,2,FALSE)","v":{"$error":"#N/A"}}]
[{"$f":"VLOOKUP(B5488,Categorias!$A:$B,2,FALSE)","v":{"$error":"#N/A"}}]
[{"$f":"VLOOKUP(B5489,Categorias!$A:$B,2,FALSE)","v":{"$error":"#N/A"}}]
[{"$f":"VLOOKUP(B5490,Categorias!$A:$B,2,FALSE)","v":{"$error":"#N/A"}}]
[{"$f":"VLOOKUP(B5491,Categorias!$A:$B,2,FALSE)","v":{"$error":"#N/A"}}]
[{"$f":"VLOOKUP(B5492,Categorias!$A:$B,2,FALSE)","v":{"$error":"#N/A"}}]
[{"$f":"VLOOKUP(B5493,Categorias!$A:$B,2,FALSE)","v":{"$error":"#N/A"}}]
[{"$f":"VLOOKUP(B5494,Categorias!$A:$B,2,FALSE)","v":{"$error":"#N/A"}}]
[{"$f":"VLOOKUP(B5495,Categorias!$A:$B,2,FALSE)","v":{"$error":"#N/A"}}]
[{"$f":"VLOOKUP(B5496,Categorias!$A:$B,2,FALSE)","v":{"$error":"#N/A"}}]
[{"$f":"VLOOKUP(B5497,Categorias!$A:$B,2,FALSE)","v":{"$error":"#N/A"}}]
[{"$f":"VLOOKUP(B5498,Categorias!$A:$B,2,FALSE)","v":{"$error":"#N/A"}}]
[{"$f":"VLOOKUP(B5499,Categorias!$A:$B,2,FALSE)","v":{"$error":"#N/A"}}]
[{"$f":"VLOOKUP(B5500,Categorias!$A:$B,2,FALSE)","v":{"$error":"#N/A"}}]
[{"$f":"VLOOKUP(B5501,Categorias!$A:$B,2,FALSE)","v":{"$error":"#N/A"}}]
[{"$f":"VLOOKUP(B5502,Categorias!$A:$B,2,FALSE)","v":{"$error":"#N/A"}}]
[{"$f":"VLOOKUP(B5503,Categorias!$A:$B,2,FALSE)","v":{"$error":"#N/A"}}]
[{"$f":"VLOOKUP(B5504,Categorias!$A:$B,2,FALSE)","v":{"$error":"#N/A"}}]
[{"$f":"VLOOKUP(B5505,Categorias!$A:$B,2,FALSE)","v":{"$error":"#N/A"}}]
[{"$f":"VLOOKUP(B5506,Categorias!$A:$B,2,FALSE)","v":{"$error":"#N/A"}}]
[{"$f":"VLOOKUP(B5507,Categorias!$A:$B,2,FALSE)","v":{"$error":"#N/A"}}]
[{"$f":"VLOOKUP(B5508,Categorias!$A:$B,2,FALSE)","v":{"$error":"#N/A"}}]
[{"$f":"VLOOKUP(B5509,Categorias!$A:$B,2,FALSE)","v":{"$error":"#N/A"}}]
[{"$f":"VLOOKUP(B5510,Categorias!$A:$B,2,FALSE)","v":{"$error":"#N/A"}}]
[{"$f":"VLOOKUP(B5511,Categorias!$A:$B,2,FALSE)","v":{"$error":"#N/A"}}]
[{"$f":"VLOOKUP(B5512,Categorias!$A:$B,2,FALSE)","v":{"$error":"#N/A"}}]
[{"$f":"VLOOKUP(B5513,Categorias!$A:$B,2,FALSE)","v":{"$error":"#N/A"}}]
[{"$f":"VLOOKUP(B5514,Categorias!$A:$B,2,FALSE)","v":{"$error":"#N/A"}}]
[{"$f":"VLOOKUP(B5515,Categorias!$A:$B,2,FALSE)","v":{"$error":"#N/A"}}]
[{"$f":"VLOOKUP(B5516,Categorias!$A:$B,2,FALSE)","v":{"$error":"#N/A"}}]
[{"$f":"VLOOKUP(B5517,Categorias!$A:$B,2,FALSE)","v":{"$error":"#N/A"}}]
[{"$f":"VLOOKUP(B5518,Categorias!$A:$B,2,FALSE)","v":{"$error":"#N/A"}}]
[{"$f":"VLOOKUP(B5519,Categorias!$A:$B,2,FALSE)","v":{"$error":"#N/A"}}]
[{"$f":"VLOOKUP(B5520,Categorias!$A:$B,2,FALSE)","v":{"$error":"#N/A"}}]
[{"$f":"VLOOKUP(B5521,Categorias!$A:$B,2,FALSE)","v":{"$error":"#N/A"}}]
[{"$f":"VLOOKUP(B5522,Categorias!$A:$B,2,FALSE)","v":{"$error":"#N/A"}}]
[{"$f":"VLOOKUP(B5523,Categorias!$A:$B,2,FALSE)","v":{"$error":"#N/A"}}]
[{"$f":"VLOOKUP(B5524,Categorias!$A:$B,2,FALSE)","v":{"$error":"#N/A"}}]
[{"$f":"VLOOKUP(B5525,Categorias!$A:$B,2,FALSE)","v":{"$error":"#N/A"}}]
[{"$f":"VLOOKUP(B5526,Categorias!$A:$B,2,FALSE)","v":{"$error":"#N/A"}}]
[{"$f":"VLOOKUP(B5527,Categorias!$A:$B,2,FALSE)","v":{"$error":"#N/A"}}]
[{"$f":"VLOOKUP(B5528,Categorias!$A:$B,2,FALSE)","v":{"$error":"#N/A"}}]
[{"$f":"VLOOKUP(B5529,Categorias!$A:$B,2,FALSE)","v":{"$error":"#N/A"}}]
[{"$f":"VLOOKUP(B5530,Categorias!$A:$B,2,FALSE)","v":{"$error":"#N/A"}}]
[{"$f":"VLOOKUP(B5531,Categorias!$A:$B,2,FALSE)","v":{"$error":"#N/A"}}]
[{"$f":"VLOOKUP(B5532,Categorias!$A:$B,2,FALSE)","v":{"$error":"#N/A"}}]
[{"$f":"VLOOKUP(B5533,Categorias!$A:$B,2,FALSE)","v":{"$error":"#N/A"}}]
[{"$f":"VLOOKUP(B5534,Categorias!$A:$B,2,FALSE)","v":{"$error":"#N/A"}}]
[{"$f":"VLOOKUP(B5535,Categorias!$A:$B,2,FALSE)","v":{"$error":"#N/A"}}]
[{"$f":"VLOOKUP(B5536,Categorias!$A:$B,2,FALSE)","v":{"$error":"#N/A"}}]
[{"$f":"VLOOKUP(B5537,Categorias!$A:$B,2,FALSE)","v":{"$error":"#N/A"}}]
[{"$f":"VLOOKUP(B5538,Categorias!$A:$B,2,FALSE)","v":{"$error":"#N/A"}}]
[{"$f":"VLOOKUP(B5539,Categorias!$A:$B,2,FALSE)","v":{"$error":"#N/A"}}]
[{"$f":"VLOOKUP(B5540,Categorias!$A:$B,2,FALSE)","v":{"$error":"#N/A"}}]
[{"$f":"VLOOKUP(B5541,Categorias!$A:$B,2,FALSE)","v":{"$error":"#N/A"}}]
[{"$f":"VLOOKUP(B5542,Categorias!$A:$B,2,FALSE)","v":{"$error":"#N/A"}}]
[{"$f":"VLOOKUP(B5543,Categorias!$A:$B,2,FALSE)","v":{"$error":"#N/A"}}]
[{"$f":"VLOOKUP(B5544,Categorias!$A:$B,2,FALSE)","v":{"$error":"#N/A"}}]
[{"$f":"VLOOKUP(B5545,Categorias!$A:$B,2,FALSE)","v":{"$error":"#N/A"}}]
[{"$f":"VLOOKUP(B5546,Categorias!$A:$B,2,FALSE)","v":{"$error":"#N/A"}}]
[{"$f":"VLOOKUP(B5547,Categorias!$A:$B,2,FALSE)","v":{"$error":"#N/A"}}]
[{"$f":"VLOOKUP(B5548,Categorias!$A:$B,2,FALSE)","v":{"$error":"#N/A"}}]
[{"$f":"VLOOKUP(B5549,Categorias!$A:$B,2,FALSE)","v":{"$error":"#N/A"}}]
[{"$f":"VLOOKUP(B5550,Categorias!$A:$B,2,FALSE)","v":{"$error":"#N/A"}}]
[{"$f":"VLOOKUP(B5551,Categorias!$A:$B,2,FALSE)","v":{"$error":"#N/A"}}]
[{"$f":"VLOOKUP(B5552,Categorias!$A:$B,2,FALSE)","v":{"$error":"#N/A"}}]
[{"$f":"VLOOKUP(B5553,Categorias!$A:$B,2,FALSE)","v":{"$error":"#N/A"}}]
[{"$f":"VLOOKUP(B5554,Categorias!$A:$B,2,FALSE)","v":{"$error":"#N/A"}}]
[{"$f":"VLOOKUP(B5555,Categorias!$A:$B,2,FALSE)","v":{"$error":"#N/A"}}]
[{"$f":"VLOOKUP(B5556,Categorias!$A:$B,2,FALSE)","v":{"$error":"#N/A"}}]
[{"$f":"VLOOKUP(B5557,Categorias!$A:$B,2,FALSE)","v":{"$error":"#N/A"}}]
[{"$f":"VLOOKUP(B5558,Categorias!$A:$B,2,FALSE)","v":{"$error":"#N/A"}}]
[{"$f":"VLOOKUP(B5559,Categorias!$A:$B,2,FALSE)","v":{"$error":"#N/A"}}]
[{"$f":"VLOOKUP(B5560,Categorias!$A:$B,2,FALSE)","v":{"$error":"#N/A"}}]
[{"$f":"VLOOKUP(B5561,Categorias!$A:$B,2,FALSE)","v":{"$error":"#N/A"}}]
[{"$f":"VLOOKUP(B5562,Categorias!$A:$B,2,FALSE)","v":{"$error":"#N/A"}}]
[{"$f":"VLOOKUP(B5563,Categorias!$A:$B,2,FALSE)","v":{"$error":"#N/A"}}]
[{"$f":"VLOOKUP(B5564,Categorias!$A:$B,2,FALSE)","v":{"$error":"#N/A"}}]
[{"$f":"VLOOKUP(B5565,Categorias!$A:$B,2,FALSE)","v":{"$error":"#N/A"}}]
[{"$f":"VLOOKUP(B5566,Categorias!$A:$B,2,FALSE)","v":{"$error":"#N/A"}}]
[{"$f":"VLOOKUP(B5567,Categorias!$A:$B,2,FALSE)","v":{"$error":"#N/A"}}]
[{"$f":"VLOOKUP(B5568,Categorias!$A:$B,2,FALSE)","v":{"$error":"#N/A"}}]
[{"$f":"VLOOKUP(B5569,Categorias!$A:$B,2,FALSE)","v":{"$error":"#N/A"}}]
[{"$f":"VLOOKUP(B5570,Categorias!$A:$B,2,FALSE)","v":{"$error":"#N/A"}}]
[{"$f":"VLOOKUP(B5571,Categorias!$A:$B,2,FALSE)","v":{"$error":"#N/A"}}]
[{"$f":"VLOOKUP(B5572,Categorias!$A:$B,2,FALSE)","v":{"$error":"#N/A"}}]
[{"$f":"VLOOKUP(B5573,Categorias!$A:$B,2,FALSE)","v":{"$error":"#N/A"}}]
[{"$f":"VLOOKUP(B5574,Categorias!$A:$B,2,FALSE)","v":{"$error":"#N/A"}}]
[{"$f":"VLOOKUP(B5575,Categorias!$A:$B,2,FALSE)","v":{"$error":"#N/A"}}]
[{"$f":"VLOOKUP(B5576,Categorias!$A:$B,2,FALSE)","v":{"$error":"#N/A"}}]
[{"$f":"VLOOKUP(B5577,Categorias!$A:$B,2,FALSE)","v":{"$error":"#N/A"}}]
[{"$f":"VLOOKUP(B5578,Categorias!$A:$B,2,FALSE)","v":{"$error":"#N/A"}}]
[{"$f":"VLOOKUP(B5579,Categorias!$A:$B,2,FALSE)","v":{"$error":"#N/A"}}]
[{"$f":"VLOOKUP(B5580,Categorias!$A:$B,2,FALSE)","v":{"$error":"#N/A"}}]
[{"$f":"VLOOKUP(B5581,Categorias!$A:$B,2,FALSE)","v":{"$error":"#N/A"}}]
[{"$f":"VLOOKUP(B5582,Categorias!$A:$B,2,FALSE)","v":{"$error":"#N/A"}}]
[{"$f":"VLOOKUP(B5583,Categorias!$A:$B,2,FALSE)","v":{"$error":"#N/A"}}]
[{"$f":"VLOOKUP(B5584,Categorias!$A:$B,2,FALSE)","v":{"$error":"#N/A"}}]
[{"$f":"VLOOKUP(B5585,Categorias!$A:$B,2,FALSE)","v":{"$error":"#N/A"}}]
[{"$f":"VLOOKUP(B5586,Categorias!$A:$B,2,FALSE)","v":{"$error":"#N/A"}}]
[{"$f":"VLOOKUP(B5587,Categorias!$A:$B,2,FALSE)","v":{"$error":"#N/A"}}]
[{"$f":"VLOOKUP(B5588,Categorias!$A:$B,2,FALSE)","v":{"$error":"#N/A"}}]
[{"$f":"VLOOKUP(B5589,Categorias!$A:$B,2,FALSE)","v":{"$error":"#N/A"}}]
[{"$f":"VLOOKUP(B5590,Categorias!$A:$B,2,FALSE)","v":{"$error":"#N/A"}}]
[{"$f":"VLOOKUP(B5591,Categorias!$A:$B,2,FALSE)","v":{"$error":"#N/A"}}]
[{"$f":"VLOOKUP(B5592,Categorias!$A:$B,2,FALSE)","v":{"$error":"#N/A"}}]
[{"$f":"VLOOKUP(B5593,Categorias!$A:$B,2,FALSE)","v":{"$error":"#N/A"}}]
[{"$f":"VLOOKUP(B5594,Categorias!$A:$B,2,FALSE)","v":{"$error":"#N/A"}}]
[{"$f":"VLOOKUP(B5595,Categorias!$A:$B,2,FALSE)","v":{"$error":"#N/A"}}]
[{"$f":"VLOOKUP(B5596,Categorias!$A:$B,2,FALSE)","v":{"$error":"#N/A"}}]
[{"$f":"VLOOKUP(B5597,Categorias!$A:$B,2,FALSE)","v":{"$error":"#N/A"}}]
[{"$f":"VLOOKUP(B5598,Categorias!$A:$B,2,FALSE)","v":{"$error":"#N/A"}}]
[{"$f":"VLOOKUP(B5599,Categorias!$A:$B,2,FALSE)","v":{"$error":"#N/A"}}]
[{"$f":"VLOOKUP(B5600,Categorias!$A:$B,2,FALSE)","v":{"$error":"#N/A"}}]
[{"$f":"VLOOKUP(B5601,Categorias!$A:$B,2,FALSE)","v":{"$error":"#N/A"}}]
[{"$f":"VLOOKUP(B5602,Categorias!$A:$B,2,FALSE)","v":{"$error":"#N/A"}}]
[{"$f":"VLOOKUP(B5603,Categorias!$A:$B,2,FALSE)","v":{"$error":"#N/A"}}]
[{"$f":"VLOOKUP(B5604,Categorias!$A:$B,2,FALSE)","v":{"$error":"#N/A"}}]
[{"$f":"VLOOKUP(B5605,Categorias!$A:$B,2,FALSE)","v":{"$error":"#N/A"}}]
[{"$f":"VLOOKUP(B5606,Categorias!$A:$B,2,FALSE)","v":{"$error":"#N/A"}}]
[{"$f":"VLOOKUP(B5607,Categorias!$A:$B,2,FALSE)","v":{"$error":"#N/A"}}]
[{"$f":"VLOOKUP(B5608,Categorias!$A:$B,2,FALSE)","v":{"$error":"#N/A"}}]
[{"$f":"VLOOKUP(B5609,Categorias!$A:$B,2,FALSE)","v":{"$error":"#N/A"}}]
[{"$f":"VLOOKUP(B5610,Categorias!$A:$B,2,FALSE)","v":{"$error":"#N/A"}}]
[{"$f":"VLOOKUP(B5611,Categorias!$A:$B,2,FALSE)","v":{"$error":"#N/A"}}]
[{"$f":"VLOOKUP(B5612,Categorias!$A:$B,2,FALSE)","v":{"$error":"#N/A"}}]
[{"$f":"VLOOKUP(B5613,Categorias!$A:$B,2,FALSE)","v":{"$error":"#N/A"}}]
[{"$f":"VLOOKUP(B5614,Categorias!$A:$B,2,FALSE)","v":{"$error":"#N/A"}}]
[{"$f":"VLOOKUP(B5615,Categorias!$A:$B,2,FALSE)","v":{"$error":"#N/A"}}]
[{"$f":"VLOOKUP(B5616,Categorias!$A:$B,2,FALSE)","v":{"$error":"#N/A"}}]
[{"$f":"VLOOKUP(B5617,Categorias!$A:$B,2,FALSE)","v":{"$error":"#N/A"}}]
[{"$f":"VLOOKUP(B5618,Categorias!$A:$B,2,FALSE)","v":{"$error":"#N/A"}}]
[{"$f":"VLOOKUP(B5619,Categorias!$A:$B,2,FALSE)","v":{"$error":"#N/A"}}]
[{"$f":"VLOOKUP(B5620,Categorias!$A:$B,2,FALSE)","v":{"$error":"#N/A"}}]
[{"$f":"VLOOKUP(B5621,Categorias!$A:$B,2,FALSE)","v":{"$error":"#N/A"}}]
[{"$f":"VLOOKUP(B5622,Categorias!$A:$B,2,FALSE)","v":{"$error":"#N/A"}}]
[{"$f":"VLOOKUP(B5623,Categorias!$A:$B,2,FALSE)","v":{"$error":"#N/A"}}]
[{"$f":"VLOOKUP(B5624,Categorias!$A:$B,2,FALSE)","v":{"$error":"#N/A"}}]
[{"$f":"VLOOKUP(B5625,Categorias!$A:$B,2,FALSE)","v":{"$error":"#N/A"}}]
[{"$f":"VLOOKUP(B5626,Categorias!$A:$B,2,FALSE)","v":{"$error":"#N/A"}}]
[{"$f":"VLOOKUP(B5627,Categorias!$A:$B,2,FALSE)","v":{"$error":"#N/A"}}]
[{"$f":"VLOOKUP(B5628,Categorias!$A:$B,2,FALSE)","v":{"$error":"#N/A"}}]
[{"$f":"VLOOKUP(B5629,Categorias!$A:$B,2,FALSE)","v":{"$error":"#N/A"}}]
[{"$f":"VLOOKUP(B5630,Categorias!$A:$B,2,FALSE)","v":{"$error":"#N/A"}}]
[{"$f":"VLOOKUP(B5631,Categorias!$A:$B,2,FALSE)","v":{"$error":"#N/A"}}]
[{"$f":"VLOOKUP(B5632,Categorias!$A:$B,2,FALSE)","v":{"$error":"#N/A"}}]
[{"$f":"VLOOKUP(B5633,Categorias!$A:$B,2,FALSE)","v":{"$error":"#N/A"}}]
[{"$f":"VLOOKUP(B5634,Categorias!$A:$B,2,FALSE)","v":{"$error":"#N/A"}}]
[{"$f":"VLOOKUP(B5635,Categorias!$A:$B,2,FALSE)","v":{"$error":"#N/A"}}]
[{"$f":"VLOOKUP(B5636,Categorias!$A:$B,2,FALSE)","v":{"$error":"#N/A"}}]
[{"$f":"VLOOKUP(B5637,Categorias!$A:$B,2,FALSE)","v":{"$error":"#N/A"}}]
[{"$f":"VLOOKUP(B5638,Categorias!$A:$B,2,FALSE)","v":{"$error":"#N/A"}}]
[{"$f":"VLOOKUP(B5639,Categorias!$A:$B,2,FALSE)","v":{"$error":"#N/A"}}]
[{"$f":"VLOOKUP(B5640,Categorias!$A:$B,2,FALSE)","v":{"$error":"#N/A"}}]
[{"$f":"VLOOKUP(B5641,Categorias!$A:$B,2,FALSE)","v":{"$error":"#N/A"}}]
[{"$f":"VLOOKUP(B5642,Categorias!$A:$B,2,FALSE)","v":{"$error":"#N/A"}}]
[{"$f":"VLOOKUP(B5643,Categorias!$A:$B,2,FALSE)","v":{"$error":"#N/A"}}]
[{"$f":"VLOOKUP(B5644,Categorias!$A:$B,2,FALSE)","v":{"$error":"#N/A"}}]
[{"$f":"VLOOKUP(B5645,Categorias!$A:$B,2,FALSE)","v":{"$error":"#N/A"}}]
[{"$f":"VLOOKUP(B5646,Categorias!$A:$B,2,FALSE)","v":{"$error":"#N/A"}}]
[{"$f":"VLOOKUP(B5647,Categorias!$A:$B,2,FALSE)","v":{"$error":"#N/A"}}]
[{"$f":"VLOOKUP(B5648,Categorias!$A:$B,2,FALSE)","v":{"$error":"#N/A"}}]
[{"$f":"VLOOKUP(B5649,Categorias!$A:$B,2,FALSE)","v":{"$error":"#N/A"}}]
[{"$f":"VLOOKUP(B5650,Categorias!$A:$B,2,FALSE)","v":{"$error":"#N/A"}}]
[{"$f":"VLOOKUP(B5651,Categorias!$A:$B,2,FALSE)","v":{"$error":"#N/A"}}]
[{"$f":"VLOOKUP(B5652,Categorias!$A:$B,2,FALSE)","v":{"$error":"#N/A"}}]
[{"$f":"VLOOKUP(B5653,Categorias!$A:$B,2,FALSE)","v":{"$error":"#N/A"}}]
[{"$f":"VLOOKUP(B5654,Categorias!$A:$B,2,FALSE)","v":{"$error":"#N/A"}}]
[{"$f":"VLOOKUP(B5655,Categorias!$A:$B,2,FALSE)","v":{"$error":"#N/A"}}]
[{"$f":"VLOOKUP(B5656,Categorias!$A:$B,2,FALSE)","v":{"$error":"#N/A"}}]
[{"$f":"VLOOKUP(B5657,Categorias!$A:$B,2,FALSE)","v":{"$error":"#N/A"}}]
[{"$f":"VLOOKUP(B5658,Categorias!$A:$B,2,FALSE)","v":{"$error":"#N/A"}}]
[{"$f":"VLOOKUP(B5659,Categorias!$A:$B,2,FALSE)","v":{"$error":"#N/A"}}]
[{"$f":"VLOOKUP(B5660,Categorias!$A:$B,2,FALSE)","v":{"$error":"#N/A"}}]
[{"$f":"VLOOKUP(B5661,Categorias!$A:$B,2,FALSE)","v":{"$error":"#N/A"}}]
[{"$f":"VLOOKUP(B5662,Categorias!$A:$B,2,FALSE)","v":{"$error":"#N/A"}}]
[{"$f":"VLOOKUP(B5663,Categorias!$A:$B,2,FALSE)","v":{"$error":"#N/A"}}]
[{"$f":"VLOOKUP(B5664,Categorias!$A:$B,2,FALSE)","v":{"$error":"#N/A"}}]
[{"$f":"VLOOKUP(B5665,Categorias!$A:$B,2,FALSE)","v":{"$error":"#N/A"}}]
[{"$f":"VLOOKUP(B5666,Categorias!$A:$B,2,FALSE)","v":{"$error":"#N/A"}}]
[{"$f":"VLOOKUP(B5667,Categorias!$A:$B,2,FALSE)","v":{"$error":"#N/A"}}]
[{"$f":"VLOOKUP(B5668,Categorias!$A:$B,2,FALSE)","v":{"$error":"#N/A"}}]
[{"$f":"VLOOKUP(B5669,Categorias!$A:$B,2,FALSE)","v":{"$error":"#N/A"}}]
[{"$f":"VLOOKUP(B5670,Categorias!$A:$B,2,FALSE)","v":{"$error":"#N/A"}}]
[{"$f":"VLOOKUP(B5671,Categorias!$A:$B,2,FALSE)","v":{"$error":"#N/A"}}]
[{"$f":"VLOOKUP(B5672,Categorias!$A:$B,2,FALSE)","v":{"$error":"#N/A"}}]
[{"$f":"VLOOKUP(B5673,Categorias!$A:$B,2,FALSE)","v":{"$error":"#N/A"}}]
[{"$f":"VLOOKUP(B5674,Categorias!$A:$B,2,FALSE)","v":{"$error":"#N/A"}}]
[{"$f":"VLOOKUP(B5675,Categorias!$A:$B,2,FALSE)","v":{"$error":"#N/A"}}]
[{"$f":"VLOOKUP(B5676,Categorias!$A:$B,2,FALSE)","v":{"$error":"#N/A"}}]
[{"$f":"VLOOKUP(B5677,Categorias!$A:$B,2,FALSE)","v":{"$error":"#N/A"}}]
[{"$f":"VLOOKUP(B5678,Categorias!$A:$B,2,FALSE)","v":{"$error":"#N/A"}}]
[{"$f":"VLOOKUP(B5679,Categorias!$A:$B,2,FALSE)","v":{"$error":"#N/A"}}]
[{"$f":"VLOOKUP(B5680,Categorias!$A:$B,2,FALSE)","v":{"$error":"#N/A"}}]
[{"$f":"VLOOKUP(B5681,Categorias!$A:$B,2,FALSE)","v":{"$error":"#N/A"}}]
[{"$f":"VLOOKUP(B5682,Categorias!$A:$B,2,FALSE)","v":{"$error":"#N/A"}}]
[{"$f":"VLOOKUP(B5683,Categorias!$A:$B,2,FALSE)","v":{"$error":"#N/A"}}]
[{"$f":"VLOOKUP(B5684,Categorias!$A:$B,2,FALSE)","v":{"$error":"#N/A"}}]
[{"$f":"VLOOKUP(B5685,Categorias!$A:$B,2,FALSE)","v":{"$error":"#N/A"}}]
[{"$f":"VLOOKUP(B5686,Categorias!$A:$B,2,FALSE)","v":{"$error":"#N/A"}}]
[{"$f":"VLOOKUP(B5687,Categorias!$A:$B,2,FALSE)","v":{"$error":"#N/A"}}]
[{"$f":"VLOOKUP(B5688,Categorias!$A:$B,2,FALSE)","v":{"$error":"#N/A"}}]
[{"$f":"VLOOKUP(B5689,Categorias!$A:$B,2,FALSE)","v":{"$error":"#N/A"}}]
[{"$f":"VLOOKUP(B5690,Categorias!$A:$B,2,FALSE)","v":{"$error":"#N/A"}}]
[{"$f":"VLOOKUP(B5691,Categorias!$A:$B,2,FALSE)","v":{"$error":"#N/A"}}]
[{"$f":"VLOOKUP(B5692,Categorias!$A:$B,2,FALSE)","v":{"$error":"#N/A"}}]
[{"$f":"VLOOKUP(B5693,Categorias!$A:$B,2,FALSE)","v":{"$error":"#N/A"}}]
[{"$f":"VLOOKUP(B5694,Categorias!$A:$B,2,FALSE)","v":{"$error":"#N/A"}}]
[{"$f":"VLOOKUP(B5695,Categorias!$A:$B,2,FALSE)","v":{"$error":"#N/A"}}]
[{"$f":"VLOOKUP(B5696,Categorias!$A:$B,2,FALSE)","v":{"$error":"#N/A"}}]
[{"$f":"VLOOKUP(B5697,Categorias!$A:$B,2,FALSE)","v":{"$error":"#N/A"}}]
[{"$f":"VLOOKUP(B5698,Categorias!$A:$B,2,FALSE)","v":{"$error":"#N/A"}}]
[{"$f":"VLOOKUP(B5699,Categorias!$A:$B,2,FALSE)","v":{"$error":"#N/A"}}]
[{"$f":"VLOOKUP(B5700,Categorias!$A:$B,2,FALSE)","v":{"$error":"#N/A"}}]
[{"$f":"VLOOKUP(B5701,Categorias!$A:$B,2,FALSE)","v":{"$error":"#N/A"}}]
[{"$f":"VLOOKUP(B5702,Categorias!$A:$B,2,FALSE)","v":{"$error":"#N/A"}}]
[{"$f":"VLOOKUP(B5703,Categorias!$A:$B,2,FALSE)","v":{"$error":"#N/A"}}]
[{"$f":"VLOOKUP(B5704,Categorias!$A:$B,2,FALSE)","v":{"$error":"#N/A"}}]
[{"$f":"VLOOKUP(B5705,Categorias!$A:$B,2,FALSE)","v":{"$error":"#N/A"}}]
[{"$f":"VLOOKUP(B5706,Categorias!$A:$B,2,FALSE)","v":{"$error":"#N/A"}}]
[{"$f":"VLOOKUP(B5707,Categorias!$A:$B,2,FALSE)","v":{"$error":"#N/A"}}]
[{"$f":"VLOOKUP(B5708,Categorias!$A:$B,2,FALSE)","v":{"$error":"#N/A"}}]
[{"$f":"VLOOKUP(B5709,Categorias!$A:$B,2,FALSE)","v":{"$error":"#N/A"}}]
[{"$f":"VLOOKUP(B5710,Categorias!$A:$B,2,FALSE)","v":{"$error":"#N/A"}}]
[{"$f":"VLOOKUP(B5711,Categorias!$A:$B,2,FALSE)","v":{"$error":"#N/A"}}]
[{"$f":"VLOOKUP(B5712,Categorias!$A:$B,2,FALSE)","v":{"$error":"#N/A"}}]
[{"$f":"VLOOKUP(B5713,Categorias!$A:$B,2,FALSE)","v":{"$error":"#N/A"}}]
[{"$f":"VLOOKUP(B5714,Categorias!$A:$B,2,FALSE)","v":{"$error":"#N/A"}}]
[{"$f":"VLOOKUP(B5715,Categorias!$A:$B,2,FALSE)","v":{"$error":"#N/A"}}]
[{"$f":"VLOOKUP(B5716,Categorias!$A:$B,2,FALSE)","v":{"$error":"#N/A"}}]
[{"$f":"VLOOKUP(B5717,Categorias!$A:$B,2,FALSE)","v":{"$error":"#N/A"}}]
[{"$f":"VLOOKUP(B5718,Categorias!$A:$B,2,FALSE)","v":{"$error":"#N/A"}}]
[{"$f":"VLOOKUP(B5719,Categorias!$A:$B,2,FALSE)","v":{"$error":"#N/A"}}]
[{"$f":"VLOOKUP(B5720,Categorias!$A:$B,2,FALSE)","v":{"$error":"#N/A"}}]
[{"$f":"VLOOKUP(B5721,Categorias!$A:$B,2,FALSE)","v":{"$error":"#N/A"}}]
[{"$f":"VLOOKUP(B5722,Categorias!$A:$B,2,FALSE)","v":{"$error":"#N/A"}}]
[{"$f":"VLOOKUP(B5723,Categorias!$A:$B,2,FALSE)","v":{"$error":"#N/A"}}]
[{"$f":"VLOOKUP(B5724,Categorias!$A:$B,2,FALSE)","v":{"$error":"#N/A"}}]
[{"$f":"VLOOKUP(B5725,Categorias!$A:$B,2,FALSE)","v":{"$error":"#N/A"}}]
[{"$f":"VLOOKUP(B5726,Categorias!$A:$B,2,FALSE)","v":{"$error":"#N/A"}}]
[{"$f":"VLOOKUP(B5727,Categorias!$A:$B,2,FALSE)","v":{"$error":"#N/A"}}]
[{"$f":"VLOOKUP(B5728,Categorias!$A:$B,2,FALSE)","v":{"$error":"#N/A"}}]
[{"$f":"VLOOKUP(B5729,Categorias!$A:$B,2,FALSE)","v":{"$error":"#N/A"}}]
[{"$f":"VLOOKUP(B5730,Categorias!$A:$B,2,FALSE)","v":{"$error":"#N/A"}}]
[{"$f":"VLOOKUP(B5731,Categorias!$A:$B,2,FALSE)","v":{"$error":"#N/A"}}]
[{"$f":"VLOOKUP(B5732,Categorias!$A:$B,2,FALSE)","v":{"$error":"#N/A"}}]
[{"$f":"VLOOKUP(B5733,Categorias!$A:$B,2,FALSE)","v":{"$error":"#N/A"}}]
[{"$f":"VLOOKUP(B5734,Categorias!$A:$B,2,FALSE)","v":{"$error":"#N/A"}}]
[{"$f":"VLOOKUP(B5735,Categorias!$A:$B,2,FALSE)","v":{"$error":"#N/A"}}]
[{"$f":"VLOOKUP(B5736,Categorias!$A:$B,2,FALSE)","v":{"$error":"#N/A"}}]
[{"$f":"VLOOKUP(B5737,Categorias!$A:$B,2,FALSE)","v":{"$error":"#N/A"}}]
[{"$f":"VLOOKUP(B5738,Categorias!$A:$B,2,FALSE)","v":{"$error":"#N/A"}}]
[{"$f":"VLOOKUP(B5739,Categorias!$A:$B,2,FALSE)","v":{"$error":"#N/A"}}]
[{"$f":"VLOOKUP(B5740,Categorias!$A:$B,2,FALSE)","v":{"$error":"#N/A"}}]
[{"$f":"VLOOKUP(B5741,Categorias!$A:$B,2,FALSE)","v":{"$error":"#N/A"}}]
[{"$f":"VLOOKUP(B5742,Categorias!$A:$B,2,FALSE)","v":{"$error":"#N/A"}}]
[{"$f":"VLOOKUP(B5743,Categorias!$A:$B,2,FALSE)","v":{"$error":"#N/A"}}]
[{"$f":"VLOOKUP(B5744,Categorias!$A:$B,2,FALSE)","v":{"$error":"#N/A"}}]
[{"$f":"VLOOKUP(B5745,Categorias!$A:$B,2,FALSE)","v":{"$error":"#N/A"}}]
[{"$f":"VLOOKUP(B5746,Categorias!$A:$B,2,FALSE)","v":{"$error":"#N/A"}}]
[{"$f":"VLOOKUP(B5747,Categorias!$A:$B,2,FALSE)","v":{"$error":"#N/A"}}]
[{"$f":"VLOOKUP(B5748,Categorias!$A:$B,2,FALSE)","v":{"$error":"#N/A"}}]
[{"$f":"VLOOKUP(B5749,Categorias!$A:$B,2,FALSE)","v":{"$error":"#N/A"}}]
[{"$f":"VLOOKUP(B5750,Categorias!$A:$B,2,FALSE)","v":{"$error":"#N/A"}}]
[{"$f":"VLOOKUP(B5751,Categorias!$A:$B,2,FALSE)","v":{"$error":"#N/A"}}]
[{"$f":"VLOOKUP(B5752,Categorias!$A:$B,2,FALSE)","v":{"$error":"#N/A"}}]
[{"$f":"VLOOKUP(B5753,Categorias!$A:$B,2,FALSE)","v":{"$error":"#N/A"}}]
[{"$f":"VLOOKUP(B5754,Categorias!$A:$B,2,FALSE)","v":{"$error":"#N/A"}}]
[{"$f":"VLOOKUP(B5755,Categorias!$A:$B,2,FALSE)","v":{"$error":"#N/A"}}]
[{"$f":"VLOOKUP(B5756,Categorias!$A:$B,2,FALSE)","v":{"$error":"#N/A"}}]
[{"$f":"VLOOKUP(B5757,Categorias!$A:$B,2,FALSE)","v":{"$error":"#N/A"}}]
[{"$f":"VLOOKUP(B5758,Categorias!$A:$B,2,FALSE)","v":{"$error":"#N/A"}}]
[{"$f":"VLOOKUP(B5759,Categorias!$A:$B,2,FALSE)","v":{"$error":"#N/A"}}]
[{"$f":"VLOOKUP(B5760,Categorias!$A:$B,2,FALSE)","v":{"$error":"#N/A"}}]
[{"$f":"VLOOKUP(B5761,Categorias!$A:$B,2,FALSE)","v":{"$error":"#N/A"}}]
[{"$f":"VLOOKUP(B5762,Categorias!$A:$B,2,FALSE)","v":{"$error":"#N/A"}}]
[{"$f":"VLOOKUP(B5763,Categorias!$A:$B,2,FALSE)","v":{"$error":"#N/A"}}]
[{"$f":"VLOOKUP(B5764,Categorias!$A:$B,2,FALSE)","v":{"$error":"#N/A"}}]
[{"$f":"VLOOKUP(B5765,Categorias!$A:$B,2,FALSE)","v":{"$error":"#N/A"}}]
[{"$f":"VLOOKUP(B5766,Categorias!$A:$B,2,FALSE)","v":{"$error":"#N/A"}}]
[{"$f":"VLOOKUP(B5767,Categorias!$A:$B,2,FALSE)","v":{"$error":"#N/A"}}]
[{"$f":"VLOOKUP(B5768,Categorias!$A:$B,2,FALSE)","v":{"$error":"#N/A"}}]
[{"$f":"VLOOKUP(B5769,Categorias!$A:$B,2,FALSE)","v":{"$error":"#N/A"}}]
[{"$f":"VLOOKUP(B5770,Categorias!$A:$B,2,FALSE)","v":{"$error":"#N/A"}}]
[{"$f":"VLOOKUP(B5771,Categorias!$A:$B,2,FALSE)","v":{"$error":"#N/A"}}]
[{"$f":"VLOOKUP(B5772,Categorias!$A:$B,2,FALSE)","v":{"$error":"#N/A"}}]
[{"$f":"VLOOKUP(B5773,Categorias!$A:$B,2,FALSE)","v":{"$error":"#N/A"}}]
[{"$f":"VLOOKUP(B5774,Categorias!$A:$B,2,FALSE)","v":{"$error":"#N/A"}}]
[{"$f":"VLOOKUP(B5775,Categorias!$A:$B,2,FALSE)","v":{"$error":"#N/A"}}]
[{"$f":"VLOOKUP(B5776,Categorias!$A:$B,2,FALSE)","v":{"$error":"#N/A"}}]
[{"$f":"VLOOKUP(B5777,Categorias!$A:$B,2,FALSE)","v":{"$error":"#N/A"}}]
[{"$f":"VLOOKUP(B5778,Categorias!$A:$B,2,FALSE)","v":{"$error":"#N/A"}}]
[{"$f":"VLOOKUP(B5779,Categorias!$A:$B,2,FALSE)","v":{"$error":"#N/A"}}]
[{"$f":"VLOOKUP(B5780,Categorias!$A:$B,2,FALSE)","v":{"$error":"#N/A"}}]
[{"$f":"VLOOKUP(B5781,Categorias!$A:$B,2,FALSE)","v":{"$error":"#N/A"}}]
[{"$f":"VLOOKUP(B5782,Categorias!$A:$B,2,FALSE)","v":{"$error":"#N/A"}}]
[{"$f":"VLOOKUP(B5783,Categorias!$A:$B,2,FALSE)","v":{"$error":"#N/A"}}]
[{"$f":"VLOOKUP(B5784,Categorias!$A:$B,2,FALSE)","v":{"$error":"#N/A"}}]
[{"$f":"VLOOKUP(B5785,Categorias!$A:$B,2,FALSE)","v":{"$error":"#N/A"}}]
[{"$f":"VLOOKUP(B5786,Categorias!$A:$B,2,FALSE)","v":{"$error":"#N/A"}}]
[{"$f":"VLOOKUP(B5787,Categorias!$A:$B,2,FALSE)","v":{"$error":"#N/A"}}]
[{"$f":"VLOOKUP(B5788,Categorias!$A:$B,2,FALSE)","v":{"$error":"#N/A"}}]
[{"$f":"VLOOKUP(B5789,Categorias!$A:$B,2,FALSE)","v":{"$error":"#N/A"}}]
[{"$f":"VLOOKUP(B5790,Categorias!$A:$B,2,FALSE)","v":{"$error":"#N/A"}}]
[{"$f":"VLOOKUP(B5791,Categorias!$A:$B,2,FALSE)","v":{"$error":"#N/A"}}]
[{"$f":"VLOOKUP(B5792,Categorias!$A:$B,2,FALSE)","v":{"$error":"#N/A"}}]
[{"$f":"VLOOKUP(B5793,Categorias!$A:$B,2,FALSE)","v":{"$error":"#N/A"}}]
[{"$f":"VLOOKUP(B5794,Categorias!$A:$B,2,FALSE)","v":{"$error":"#N/A"}}]
[{"$f":"VLOOKUP(B5795,Categorias!$A:$B,2,FALSE)","v":{"$error":"#N/A"}}]
[{"$f":"VLOOKUP(B5796,Categorias!$A:$B,2,FALSE)","v":{"$error":"#N/A"}}]
[{"$f":"VLOOKUP(B5797,Categorias!$A:$B,2,FALSE)","v":{"$error":"#N/A"}}]
[{"$f":"VLOOKUP(B5798,Categorias!$A:$B,2,FALSE)","v":{"$error":"#N/A"}}]
[{"$f":"VLOOKUP(B5799,Categorias!$A:$B,2,FALSE)","v":{"$error":"#N/A"}}]
[{"$f":"VLOOKUP(B5800,Categorias!$A:$B,2,FALSE)","v":{"$error":"#N/A"}}]
[{"$f":"VLOOKUP(B5801,Categorias!$A:$B,2,FALSE)","v":{"$error":"#N/A"}}]
[{"$f":"VLOOKUP(B5802,Categorias!$A:$B,2,FALSE)","v":{"$error":"#N/A"}}]
[{"$f":"VLOOKUP(B5803,Categorias!$A:$B,2,FALSE)","v":{"$error":"#N/A"}}]
[{"$f":"VLOOKUP(B5804,Categorias!$A:$B,2,FALSE)","v":{"$error":"#N/A"}}]
[{"$f":"VLOOKUP(B5805,Categorias!$A:$B,2,FALSE)","v":{"$error":"#N/A"}}]
[{"$f":"VLOOKUP(B5806,Categorias!$A:$B,2,FALSE)","v":{"$error":"#N/A"}}]
[{"$f":"VLOOKUP(B5807,Categorias!$A:$B,2,FALSE)","v":{"$error":"#N/A"}}]
[{"$f":"VLOOKUP(B5808,Categorias!$A:$B,2,FALSE)","v":{"$error":"#N/A"}}]
[{"$f":"VLOOKUP(B5809,Categorias!$A:$B,2,FALSE)","v":{"$error":"#N/A"}}]
[{"$f":"VLOOKUP(B5810,Categorias!$A:$B,2,FALSE)","v":{"$error":"#N/A"}}]
[{"$f":"VLOOKUP(B5811,Categorias!$A:$B,2,FALSE)","v":{"$error":"#N/A"}}]
[{"$f":"VLOOKUP(B5812,Categorias!$A:$B,2,FALSE)","v":{"$error":"#N/A"}}]
[{"$f":"VLOOKUP(B5813,Categorias!$A:$B,2,FALSE)","v":{"$error":"#N/A"}}]
[{"$f":"VLOOKUP(B5814,Categorias!$A:$B,2,FALSE)","v":{"$error":"#N/A"}}]
[{"$f":"VLOOKUP(B5815,Categorias!$A:$B,2,FALSE)","v":{"$error":"#N/A"}}]
[{"$f":"VLOOKUP(B5816,Categorias!$A:$B,2,FALSE)","v":{"$error":"#N/A"}}]
[{"$f":"VLOOKUP(B5817,Categorias!$A:$B,2,FALSE)","v":{"$error":"#N/A"}}]
[{"$f":"VLOOKUP(B5818,Categorias!$A:$B,2,FALSE)","v":{"$error":"#N/A"}}]
[{"$f":"VLOOKUP(B5819,Categorias!$A:$B,2,FALSE)","v":{"$error":"#N/A"}}]
[{"$f":"VLOOKUP(B5820,Categorias!$A:$B,2,FALSE)","v":{"$error":"#N/A"}}]
[{"$f":"VLOOKUP(B5821,Categorias!$A:$B,2,FALSE)","v":{"$error":"#N/A"}}]
[{"$f":"VLOOKUP(B5822,Categorias!$A:$B,2,FALSE)","v":{"$error":"#N/A"}}]
[{"$f":"VLOOKUP(B5823,Categorias!$A:$B,2,FALSE)","v":{"$error":"#N/A"}}]
[{"$f":"VLOOKUP(B5824,Categorias!$A:$B,2,FALSE)","v":{"$error":"#N/A"}}]
[{"$f":"VLOOKUP(B5825,Categorias!$A:$B,2,FALSE)","v":{"$error":"#N/A"}}]
[{"$f":"VLOOKUP(B5826,Categorias!$A:$B,2,FALSE)","v":{"$error":"#N/A"}}]
[{"$f":"VLOOKUP(B5827,Categorias!$A:$B,2,FALSE)","v":{"$error":"#N/A"}}]
[{"$f":"VLOOKUP(B5828,Categorias!$A:$B,2,FALSE)","v":{"$error":"#N/A"}}]
[{"$f":"VLOOKUP(B5829,Categorias!$A:$B,2,FALSE)","v":{"$error":"#N/A"}}]
[{"$f":"VLOOKUP(B5830,Categorias!$A:$B,2,FALSE)","v":{"$error":"#N/A"}}]
[{"$f":"VLOOKUP(B5831,Categorias!$A:$B,2,FALSE)","v":{"$error":"#N/A"}}]
[{"$f":"VLOOKUP(B5832,Categorias!$A:$B,2,FALSE)","v":{"$error":"#N/A"}}]
[{"$f":"VLOOKUP(B5833,Categorias!$A:$B,2,FALSE)","v":{"$error":"#N/A"}}]
[{"$f":"VLOOKUP(B5834,Categorias!$A:$B,2,FALSE)","v":{"$error":"#N/A"}}]
[{"$f":"VLOOKUP(B5835,Categorias!$A:$B,2,FALSE)","v":{"$error":"#N/A"}}]
[{"$f":"VLOOKUP(B5836,Categorias!$A:$B,2,FALSE)","v":{"$error":"#N/A"}}]
[{"$f":"VLOOKUP(B5837,Categorias!$A:$B,2,FALSE)","v":{"$error":"#N/A"}}]
[{"$f":"VLOOKUP(B5838,Categorias!$A:$B,2,FALSE)","v":{"$error":"#N/A"}}]
[{"$f":"VLOOKUP(B5839,Categorias!$A:$B,2,FALSE)","v":{"$error":"#N/A"}}]
[{"$f":"VLOOKUP(B5840,Categorias!$A:$B,2,FALSE)","v":{"$error":"#N/A"}}]
[{"$f":"VLOOKUP(B5841,Categorias!$A:$B,2,FALSE)","v":{"$error":"#N/A"}}]
[{"$f":"VLOOKUP(B5842,Categorias!$A:$B,2,FALSE)","v":{"$error":"#N/A"}}]
[{"$f":"VLOOKUP(B5843,Categorias!$A:$B,2,FALSE)","v":{"$error":"#N/A"}}]
[{"$f":"VLOOKUP(B5844,Categorias!$A:$B,2,FALSE)","v":{"$error":"#N/A"}}]
[{"$f":"VLOOKUP(B5845,Categorias!$A:$B,2,FALSE)","v":{"$error":"#N/A"}}]
[{"$f":"VLOOKUP(B5846,Categorias!$A:$B,2,FALSE)","v":{"$error":"#N/A"}}]
[{"$f":"VLOOKUP(B5847,Categorias!$A:$B,2,FALSE)","v":{"$error":"#N/A"}}]
[{"$f":"VLOOKUP(B5848,Categorias!$A:$B,2,FALSE)","v":{"$error":"#N/A"}}]
[{"$f":"VLOOKUP(B5849,Categorias!$A:$B,2,FALSE)","v":{"$error":"#N/A"}}]
[{"$f":"VLOOKUP(B5850,Categorias!$A:$B,2,FALSE)","v":{"$error":"#N/A"}}]
[{"$f":"VLOOKUP(B5851,Categorias!$A:$B,2,FALSE)","v":{"$error":"#N/A"}}]
[{"$f":"VLOOKUP(B5852,Categorias!$A:$B,2,FALSE)","v":{"$error":"#N/A"}}]
[{"$f":"VLOOKUP(B5853,Categorias!$A:$B,2,FALSE)","v":{"$error":"#N/A"}}]
[{"$f":"VLOOKUP(B5854,Categorias!$A:$B,2,FALSE)","v":{"$error":"#N/A"}}]
[{"$f":"VLOOKUP(B5855,Categorias!$A:$B,2,FALSE)","v":{"$error":"#N/A"}}]
[{"$f":"VLOOKUP(B5856,Categorias!$A:$B,2,FALSE)","v":{"$error":"#N/A"}}]
[{"$f":"VLOOKUP(B5857,Categorias!$A:$B,2,FALSE)","v":{"$error":"#N/A"}}]
[{"$f":"VLOOKUP(B5858,Categorias!$A:$B,2,FALSE)","v":{"$error":"#N/A"}}]
[{"$f":"VLOOKUP(B5859,Categorias!$A:$B,2,FALSE)","v":{"$error":"#N/A"}}]
[{"$f":"VLOOKUP(B5860,Categorias!$A:$B,2,FALSE)","v":{"$error":"#N/A"}}]
[{"$f":"VLOOKUP(B5861,Categorias!$A:$B,2,FALSE)","v":{"$error":"#N/A"}}]
[{"$f":"VLOOKUP(B5862,Categorias!$A:$B,2,FALSE)","v":{"$error":"#N/A"}}]
[{"$f":"VLOOKUP(B5863,Categorias!$A:$B,2,FALSE)","v":{"$error":"#N/A"}}]
[{"$f":"VLOOKUP(B5864,Categorias!$A:$B,2,FALSE)","v":{"$error":"#N/A"}}]
[{"$f":"VLOOKUP(B5865,Categorias!$A:$B,2,FALSE)","v":{"$error":"#N/A"}}]
[{"$f":"VLOOKUP(B5866,Categorias!$A:$B,2,FALSE)","v":{"$error":"#N/A"}}]
[{"$f":"VLOOKUP(B5867,Categorias!$A:$B,2,FALSE)","v":{"$error":"#N/A"}}]
[{"$f":"VLOOKUP(B5868,Categorias!$A:$B,2,FALSE)","v":{"$error":"#N/A"}}]
[{"$f":"VLOOKUP(B5869,Categorias!$A:$B,2,FALSE)","v":{"$error":"#N/A"}}]
[{"$f":"VLOOKUP(B5870,Categorias!$A:$B,2,FALSE)","v":{"$error":"#N/A"}}]
[{"$f":"VLOOKUP(B5871,Categorias!$A:$B,2,FALSE)","v":{"$error":"#N/A"}}]
[{"$f":"VLOOKUP(B5872,Categorias!$A:$B,2,FALSE)","v":{"$error":"#N/A"}}]
[{"$f":"VLOOKUP(B5873,Categorias!$A:$B,2,FALSE)","v":{"$error":"#N/A"}}]
[{"$f":"VLOOKUP(B5874,Categorias!$A:$B,2,FALSE)","v":{"$error":"#N/A"}}]
[{"$f":"VLOOKUP(B5875,Categorias!$A:$B,2,FALSE)","v":{"$error":"#N/A"}}]
[{"$f":"VLOOKUP(B5876,Categorias!$A:$B,2,FALSE)","v":{"$error":"#N/A"}}]
[{"$f":"VLOOKUP(B5877,Categorias!$A:$B,2,FALSE)","v":{"$error":"#N/A"}}]
[{"$f":"VLOOKUP(B5878,Categorias!$A:$B,2,FALSE)","v":{"$error":"#N/A"}}]
[{"$f":"VLOOKUP(B5879,Categorias!$A:$B,2,FALSE)","v":{"$error":"#N/A"}}]
[{"$f":"VLOOKUP(B5880,Categorias!$A:$B,2,FALSE)","v":{"$error":"#N/A"}}]
[{"$f":"VLOOKUP(B5881,Categorias!$A:$B,2,FALSE)","v":{"$error":"#N/A"}}]
[{"$f":"VLOOKUP(B5882,Categorias!$A:$B,2,FALSE)","v":{"$error":"#N/A"}}]
[{"$f":"VLOOKUP(B5883,Categorias!$A:$B,2,FALSE)","v":{"$error":"#N/A"}}]
[{"$f":"VLOOKUP(B5884,Categorias!$A:$B,2,FALSE)","v":{"$error":"#N/A"}}]
[{"$f":"VLOOKUP(B5885,Categorias!$A:$B,2,FALSE)","v":{"$error":"#N/A"}}]
[{"$f":"VLOOKUP(B5886,Categorias!$A:$B,2,FALSE)","v":{"$error":"#N/A"}}]
[{"$f":"VLOOKUP(B5887,Categorias!$A:$B,2,FALSE)","v":{"$error":"#N/A"}}]
[{"$f":"VLOOKUP(B5888,Categorias!$A:$B,2,FALSE)","v":{"$error":"#N/A"}}]
[{"$f":"VLOOKUP(B5889,Categorias!$A:$B,2,FALSE)","v":{"$error":"#N/A"}}]
[{"$f":"VLOOKUP(B5890,Categorias!$A:$B,2,FALSE)","v":{"$error":"#N/A"}}]
[{"$f":"VLOOKUP(B5891,Categorias!$A:$B,2,FALSE)","v":{"$error":"#N/A"}}]
[{"$f":"VLOOKUP(B5892,Categorias!$A:$B,2,FALSE)","v":{"$error":"#N/A"}}]
[{"$f":"VLOOKUP(B5893,Categorias!$A:$B,2,FALSE)","v":{"$error":"#N/A"}}]
[{"$f":"VLOOKUP(B5894,Categorias!$A:$B,2,FALSE)","v":{"$error":"#N/A"}}]
[{"$f":"VLOOKUP(B5895,Categorias!$A:$B,2,FALSE)","v":{"$error":"#N/A"}}]
[{"$f":"VLOOKUP(B5896,Categorias!$A:$B,2,FALSE)","v":{"$error":"#N/A"}}]
[{"$f":"VLOOKUP(B5897,Categorias!$A:$B,2,FALSE)","v":{"$error":"#N/A"}}]
[{"$f":"VLOOKUP(B5898,Categorias!$A:$B,2,FALSE)","v":{"$error":"#N/A"}}]
[{"$f":"VLOOKUP(B5899,Categorias!$A:$B,2,FALSE)","v":{"$error":"#N/A"}}]
[{"$f":"VLOOKUP(B5900,Categorias!$A:$B,2,FALSE)","v":{"$error":"#N/A"}}]
[{"$f":"VLOOKUP(B5901,Categorias!$A:$B,2,FALSE)","v":{"$error":"#N/A"}}]
[{"$f":"VLOOKUP(B5902,Categorias!$A:$B,2,FALSE)","v":{"$error":"#N/A"}}]
[{"$f":"VLOOKUP(B5903,Categorias!$A:$B,2,FALSE)","v":{"$error":"#N/A"}}]
[{"$f":"VLOOKUP(B5904,Categorias!$A:$B,2,FALSE)","v":{"$error":"#N/A"}}]
[{"$f":"VLOOKUP(B5905,Categorias!$A:$B,2,FALSE)","v":{"$error":"#N/A"}}]
[{"$f":"VLOOKUP(B5906,Categorias!$A:$B,2,FALSE)","v":{"$error":"#N/A"}}]
[{"$f":"VLOOKUP(B5907,Categorias!$A:$B,2,FALSE)","v":{"$error":"#N/A"}}]
[{"$f":"VLOOKUP(B5908,Categorias!$A:$B,2,FALSE)","v":{"$error":"#N/A"}}]
[{"$f":"VLOOKUP(B5909,Categorias!$A:$B,2,FALSE)","v":{"$error":"#N/A"}}]
[{"$f":"VLOOKUP(B5910,Categorias!$A:$B,2,FALSE)","v":{"$error":"#N/A"}}]
[{"$f":"VLOOKUP(B5911,Categorias!$A:$B,2,FALSE)","v":{"$error":"#N/A"}}]
[{"$f":"VLOOKUP(B5912,Categorias!$A:$B,2,FALSE)","v":{"$error":"#N/A"}}]
[{"$f":"VLOOKUP(B5913,Categorias!$A:$B,2,FALSE)","v":{"$error":"#N/A"}}]
[{"$f":"VLOOKUP(B5914,Categorias!$A:$B,2,FALSE)","v":{"$error":"#N/A"}}]
[{"$f":"VLOOKUP(B5915,Categorias!$A:$B,2,FALSE)","v":{"$error":"#N/A"}}]
[{"$f":"VLOOKUP(B5916,Categorias!$A:$B,2,FALSE)","v":{"$error":"#N/A"}}]
[{"$f":"VLOOKUP(B5917,Categorias!$A:$B,2,FALSE)","v":{"$error":"#N/A"}}]
[{"$f":"VLOOKUP(B5918,Categorias!$A:$B,2,FALSE)","v":{"$error":"#N/A"}}]
[{"$f":"VLOOKUP(B5919,Categorias!$A:$B,2,FALSE)","v":{"$error":"#N/A"}}]
[{"$f":"VLOOKUP(B5920,Categorias!$A:$B,2,FALSE)","v":{"$error":"#N/A"}}]
[{"$f":"VLOOKUP(B5921,Categorias!$A:$B,2,FALSE)","v":{"$error":"#N/A"}}]
[{"$f":"VLOOKUP(B5922,Categorias!$A:$B,2,FALSE)","v":{"$error":"#N/A"}}]
[{"$f":"VLOOKUP(B5923,Categorias!$A:$B,2,FALSE)","v":{"$error":"#N/A"}}]
[{"$f":"VLOOKUP(B5924,Categorias!$A:$B,2,FALSE)","v":{"$error":"#N/A"}}]
[{"$f":"VLOOKUP(B5925,Categorias!$A:$B,2,FALSE)","v":{"$error":"#N/A"}}]
[{"$f":"VLOOKUP(B5926,Categorias!$A:$B,2,FALSE)","v":{"$error":"#N/A"}}]
[{"$f":"VLOOKUP(B5927,Categorias!$A:$B,2,FALSE)","v":{"$error":"#N/A"}}]
[{"$f":"VLOOKUP(B5928,Categorias!$A:$B,2,FALSE)","v":{"$error":"#N/A"}}]
[{"$f":"VLOOKUP(B5929,Categorias!$A:$B,2,FALSE)","v":{"$error":"#N/A"}}]
[{"$f":"VLOOKUP(B5930,Categorias!$A:$B,2,FALSE)","v":{"$error":"#N/A"}}]
[{"$f":"VLOOKUP(B5931,Categorias!$A:$B,2,FALSE)","v":{"$error":"#N/A"}}]
[{"$f":"VLOOKUP(B5932,Categorias!$A:$B,2,FALSE)","v":{"$error":"#N/A"}}]
[{"$f":"VLOOKUP(B5933,Categorias!$A:$B,2,FALSE)","v":{"$error":"#N/A"}}]
[{"$f":"VLOOKUP(B5934,Categorias!$A:$B,2,FALSE)","v":{"$error":"#N/A"}}]
[{"$f":"VLOOKUP(B5935,Categorias!$A:$B,2,FALSE)","v":{"$error":"#N/A"}}]
[{"$f":"VLOOKUP(B5936,Categorias!$A:$B,2,FALSE)","v":{"$error":"#N/A"}}]
[{"$f":"VLOOKUP(B5937,Categorias!$A:$B,2,FALSE)","v":{"$error":"#N/A"}}]
[{"$f":"VLOOKUP(B5938,Categorias!$A:$B,2,FALSE)","v":{"$error":"#N/A"}}]
[{"$f":"VLOOKUP(B5939,Categorias!$A:$B,2,FALSE)","v":{"$error":"#N/A"}}]
[{"$f":"VLOOKUP(B5940,Categorias!$A:$B,2,FALSE)","v":{"$error":"#N/A"}}]
[{"$f":"VLOOKUP(B5941,Categorias!$A:$B,2,FALSE)","v":{"$error":"#N/A"}}]
[{"$f":"VLOOKUP(B5942,Categorias!$A:$B,2,FALSE)","v":{"$error":"#N/A"}}]
[{"$f":"VLOOKUP(B5943,Categorias!$A:$B,2,FALSE)","v":{"$error":"#N/A"}}]
[{"$f":"VLOOKUP(B5944,Categorias!$A:$B,2,FALSE)","v":{"$error":"#N/A"}}]
[{"$f":"VLOOKUP(B5945,Categorias!$A:$B,2,FALSE)","v":{"$error":"#N/A"}}]
[{"$f":"VLOOKUP(B5946,Categorias!$A:$B,2,FALSE)","v":{"$error":"#N/A"}}]
[{"$f":"VLOOKUP(B5947,Categorias!$A:$B,2,FALSE)","v":{"$error":"#N/A"}}]
[{"$f":"VLOOKUP(B5948,Categorias!$A:$B,2,FALSE)","v":{"$error":"#N/A"}}]
[{"$f":"VLOOKUP(B5949,Categorias!$A:$B,2,FALSE)","v":{"$error":"#N/A"}}]
[{"$f":"VLOOKUP(B5950,Categorias!$A:$B,2,FALSE)","v":{"$error":"#N/A"}}]
[{"$f":"VLOOKUP(B5951,Categorias!$A:$B,2,FALSE)","v":{"$error":"#N/A"}}]
[{"$f":"VLOOKUP(B5952,Categorias!$A:$B,2,FALSE)","v":{"$error":"#N/A"}}]
[{"$f":"VLOOKUP(B5953,Categorias!$A:$B,2,FALSE)","v":{"$error":"#N/A"}}]
[{"$f":"VLOOKUP(B5954,Categorias!$A:$B,2,FALSE)","v":{"$error":"#N/A"}}]
[{"$f":"VLOOKUP(B5955,Categorias!$A:$B,2,FALSE)","v":{"$error":"#N/A"}}]
[{"$f":"VLOOKUP(B5956,Categorias!$A:$B,2,FALSE)","v":{"$error":"#N/A"}}]
[{"$f":"VLOOKUP(B5957,Categorias!$A:$B,2,FALSE)","v":{"$error":"#N/A"}}]
[{"$f":"VLOOKUP(B5958,Categorias!$A:$B,2,FALSE)","v":{"$error":"#N/A"}}]
[{"$f":"VLOOKUP(B5959,Categorias!$A:$B,2,FALSE)","v":{"$error":"#N/A"}}]
[{"$f":"VLOOKUP(B5960,Categorias!$A:$B,2,FALSE)","v":{"$error":"#N/A"}}]
[{"$f":"VLOOKUP(B5961,Categorias!$A:$B,2,FALSE)","v":{"$error":"#N/A"}}]
[{"$f":"VLOOKUP(B5962,Categorias!$A:$B,2,FALSE)","v":{"$error":"#N/A"}}]
[{"$f":"VLOOKUP(B5963,Categorias!$A:$B,2,FALSE)","v":{"$error":"#N/A"}}]
[{"$f":"VLOOKUP(B5964,Categorias!$A:$B,2,FALSE)","v":{"$error":"#N/A"}}]
[{"$f":"VLOOKUP(B5965,Categorias!$A:$B,2,FALSE)","v":{"$error":"#N/A"}}]
[{"$f":"VLOOKUP(B5966,Categorias!$A:$B,2,FALSE)","v":{"$error":"#N/A"}}]
[{"$f":"VLOOKUP(B5967,Categorias!$A:$B,2,FALSE)","v":{"$error":"#N/A"}}]
[{"$f":"VLOOKUP(B5968,Categorias!$A:$B,2,FALSE)","v":{"$error":"#N/A"}}]
[{"$f":"VLOOKUP(B5969,Categorias!$A:$B,2,FALSE)","v":{"$error":"#N/A"}}]
[{"$f":"VLOOKUP(B5970,Categorias!$A:$B,2,FALSE)","v":{"$error":"#N/A"}}]
[{"$f":"VLOOKUP(B5971,Categorias!$A:$B,2,FALSE)","v":{"$error":"#N/A"}}]
[{"$f":"VLOOKUP(B5972,Categorias!$A:$B,2,FALSE)","v":{"$error":"#N/A"}}]
[{"$f":"VLOOKUP(B5973,Categorias!$A:$B,2,FALSE)","v":{"$error":"#N/A"}}]
[{"$f":"VLOOKUP(B5974,Categorias!$A:$B,2,FALSE)","v":{"$error":"#N/A"}}]
[{"$f":"VLOOKUP(B5975,Categorias!$A:$B,2,FALSE)","v":{"$error":"#N/A"}}]
[{"$f":"VLOOKUP(B5976,Categorias!$A:$B,2,FALSE)","v":{"$error":"#N/A"}}]
[{"$f":"VLOOKUP(B5977,Categorias!$A:$B,2,FALSE)","v":{"$error":"#N/A"}}]
[{"$f":"VLOOKUP(B5978,Categorias!$A:$B,2,FALSE)","v":{"$error":"#N/A"}}]
[{"$f":"VLOOKUP(B5979,Categorias!$A:$B,2,FALSE)","v":{"$error":"#N/A"}}]
[{"$f":"VLOOKUP(B5980,Categorias!$A:$B,2,FALSE)","v":{"$error":"#N/A"}}]
[{"$f":"VLOOKUP(B5981,Categorias!$A:$B,2,FALSE)","v":{"$error":"#N/A"}}]
[{"$f":"VLOOKUP(B5982,Categorias!$A:$B,2,FALSE)","v":{"$error":"#N/A"}}]
[{"$f":"VLOOKUP(B5983,Categorias!$A:$B,2,FALSE)","v":{"$error":"#N/A"}}]
[{"$f":"VLOOKUP(B5984,Categorias!$A:$B,2,FALSE)","v":{"$error":"#N/A"}}]
[{"$f":"VLOOKUP(B5985,Categorias!$A:$B,2,FALSE)","v":{"$error":"#N/A"}}]
[{"$f":"VLOOKUP(B5986,Categorias!$A:$B,2,FALSE)","v":{"$error":"#N/A"}}]
[{"$f":"VLOOKUP(B5987,Categorias!$A:$B,2,FALSE)","v":{"$error":"#N/A"}}]
[{"$f":"VLOOKUP(B5988,Categorias!$A:$B,2,FALSE)","v":{"$error":"#N/A"}}]
[{"$f":"VLOOKUP(B5989,Categorias!$A:$B,2,FALSE)","v":{"$error":"#N/A"}}]
[{"$f":"VLOOKUP(B5990,Categorias!$A:$B,2,FALSE)","v":{"$error":"#N/A"}}]
[{"$f":"VLOOKUP(B5991,Categorias!$A:$B,2,FALSE)","v":{"$error":"#N/A"}}]
[{"$f":"VLOOKUP(B5992,Categorias!$A:$B,2,FALSE)","v":{"$error":"#N/A"}}]
[{"$f":"VLOOKUP(B5993,Categorias!$A:$B,2,FALSE)","v":{"$error":"#N/A"}}]
[{"$f":"VLOOKUP(B5994,Categorias!$A:$B,2,FALSE)","v":{"$error":"#N/A"}}]
[{"$f":"VLOOKUP(B5995,Categorias!$A:$B,2,FALSE)","v":{"$error":"#N/A"}}]
[{"$f":"VLOOKUP(B5996,Categorias!$A:$B,2,FALSE)","v":{"$error":"#N/A"}}]
[{"$f":"VLOOKUP(B5997,Categorias!$A:$B,2,FALSE)","v":{"$error":"#N/A"}}]
[{"$f":"VLOOKUP(B5998,Categorias!$A:$B,2,FALSE)","v":{"$error":"#N/A"}}]
[{"$f":"VLOOKUP(B5999,Categorias!$A:$B,2,FALSE)","v":{"$error":"#N/A"}}]
[{"$f":"VLOOKUP(B6000,Categorias!$A:$B,2,FALSE)","v":{"$error":"#N/A"}}]
[{"$f":"VLOOKUP(B6001,Categorias!$A:$B,2,FALSE)","v":{"$error":"#N/A"}}]
[{"$f":"VLOOKUP(B6002,Categorias!$A:$B,2,FALSE)","v":{"$error":"#N/A"}}]
[{"$f":"VLOOKUP(B6003,Categorias!$A:$B,2,FALSE)","v":{"$error":"#N/A"}}]
[{"$f":"VLOOKUP(B6004,Categorias!$A:$B,2,FALSE)","v":{"$error":"#N/A"}}]
[{"$f":"VLOOKUP(B6005,Categorias!$A:$B,2,FALSE)","v":{"$error":"#N/A"}}]
[{"$f":"VLOOKUP(B6006,Categorias!$A:$B,2,FALSE)","v":{"$error":"#N/A"}}]
[{"$f":"VLOOKUP(B6007,Categorias!$A:$B,2,FALSE)","v":{"$error":"#N/A"}}]
[{"$f":"VLOOKUP(B6008,Categorias!$A:$B,2,FALSE)","v":{"$error":"#N/A"}}]
[{"$f":"VLOOKUP(B6009,Categorias!$A:$B,2,FALSE)","v":{"$error":"#N/A"}}]
[{"$f":"VLOOKUP(B6010,Categorias!$A:$B,2,FALSE)","v":{"$error":"#N/A"}}]
[{"$f":"VLOOKUP(B6011,Categorias!$A:$B,2,FALSE)","v":{"$error":"#N/A"}}]
[{"$f":"VLOOKUP(B6012,Categorias!$A:$B,2,FALSE)","v":{"$error":"#N/A"}}]
[{"$f":"VLOOKUP(B6013,Categorias!$A:$B,2,FALSE)","v":{"$error":"#N/A"}}]
[{"$f":"VLOOKUP(B6014,Categorias!$A:$B,2,FALSE)","v":{"$error":"#N/A"}}]
[{"$f":"VLOOKUP(B6015,Categorias!$A:$B,2,FALSE)","v":{"$error":"#N/A"}}]
[{"$f":"VLOOKUP(B6016,Categorias!$A:$B,2,FALSE)","v":{"$error":"#N/A"}}]
[{"$f":"VLOOKUP(B6017,Categorias!$A:$B,2,FALSE)","v":{"$error":"#N/A"}}]
[{"$f":"VLOOKUP(B6018,Categorias!$A:$B,2,FALSE)","v":{"$error":"#N/A"}}]
[{"$f":"VLOOKUP(B6019,Categorias!$A:$B,2,FALSE)","v":{"$error":"#N/A"}}]
[{"$f":"VLOOKUP(B6020,Categorias!$A:$B,2,FALSE)","v":{"$error":"#N/A"}}]
[{"$f":"VLOOKUP(B6021,Categorias!$A:$B,2,FALSE)","v":{"$error":"#N/A"}}]
[{"$f":"VLOOKUP(B6022,Categorias!$A:$B,2,FALSE)","v":{"$error":"#N/A"}}]
[{"$f":"VLOOKUP(B6023,Categorias!$A:$B,2,FALSE)","v":{"$error":"#N/A"}}]
[{"$f":"VLOOKUP(B6024,Categorias!$A:$B,2,FALSE)","v":{"$error":"#N/A"}}]
[{"$f":"VLOOKUP(B6025,Categorias!$A:$B,2,FALSE)","v":{"$error":"#N/A"}}]
[{"$f":"VLOOKUP(B6026,Categorias!$A:$B,2,FALSE)","v":{"$error":"#N/A"}}]
[{"$f":"VLOOKUP(B6027,Categorias!$A:$B,2,FALSE)","v":{"$error":"#N/A"}}]
[{"$f":"VLOOKUP(B6028,Categorias!$A:$B,2,FALSE)","v":{"$error":"#N/A"}}]
[{"$f":"VLOOKUP(B6029,Categorias!$A:$B,2,FALSE)","v":{"$error":"#N/A"}}]
[{"$f":"VLOOKUP(B6030,Categorias!$A:$B,2,FALSE)","v":{"$error":"#N/A"}}]
[{"$f":"VLOOKUP(B6031,Categorias!$A:$B,2,FALSE)","v":{"$error":"#N/A"}}]
[{"$f":"VLOOKUP(B6032,Categorias!$A:$B,2,FALSE)","v":{"$error":"#N/A"}}]
[{"$f":"VLOOKUP(B6033,Categorias!$A:$B,2,FALSE)","v":{"$error":"#N/A"}}]
[{"$f":"VLOOKUP(B6034,Categorias!$A:$B,2,FALSE)","v":{"$error":"#N/A"}}]
[{"$f":"VLOOKUP(B6035,Categorias!$A:$B,2,FALSE)","v":{"$error":"#N/A"}}]
[{"$f":"VLOOKUP(B6036,Categorias!$A:$B,2,FALSE)","v":{"$error":"#N/A"}}]
[{"$f":"VLOOKUP(B6037,Categorias!$A:$B,2,FALSE)","v":{"$error":"#N/A"}}]
[{"$f":"VLOOKUP(B6038,Categorias!$A:$B,2,FALSE)","v":{"$error":"#N/A"}}]
[{"$f":"VLOOKUP(B6039,Categorias!$A:$B,2,FALSE)","v":{"$error":"#N/A"}}]
[{"$f":"VLOOKUP(B6040,Categorias!$A:$B,2,FALSE)","v":{"$error":"#N/A"}}]
[{"$f":"VLOOKUP(B6041,Categorias!$A:$B,2,FALSE)","v":{"$error":"#N/A"}}]
[{"$f":"VLOOKUP(B6042,Categorias!$A:$B,2,FALSE)","v":{"$error":"#N/A"}}]
[{"$f":"VLOOKUP(B6043,Categorias!$A:$B,2,FALSE)","v":{"$error":"#N/A"}}]
[{"$f":"VLOOKUP(B6044,Categorias!$A:$B,2,FALSE)","v":{"$error":"#N/A"}}]
[{"$f":"VLOOKUP(B6045,Categorias!$A:$B,2,FALSE)","v":{"$error":"#N/A"}}]
[{"$f":"VLOOKUP(B6046,Categorias!$A:$B,2,FALSE)","v":{"$error":"#N/A"}}]
[{"$f":"VLOOKUP(B6047,Categorias!$A:$B,2,FALSE)","v":{"$error":"#N/A"}}]
[{"$f":"VLOOKUP(B6048,Categorias!$A:$B,2,FALSE)","v":{"$error":"#N/A"}}]
[{"$f":"VLOOKUP(B6049,Categorias!$A:$B,2,FALSE)","v":{"$error":"#N/A"}}]
[{"$f":"VLOOKUP(B6050,Categorias!$A:$B,2,FALSE)","v":{"$error":"#N/A"}}]
[{"$f":"VLOOKUP(B6051,Categorias!$A:$B,2,FALSE)","v":{"$error":"#N/A"}}]
[{"$f":"VLOOKUP(B6052,Categorias!$A:$B,2,FALSE)","v":{"$error":"#N/A"}}]
[{"$f":"VLOOKUP(B6053,Categorias!$A:$B,2,FALSE)","v":{"$error":"#N/A"}}]
[{"$f":"VLOOKUP(B6054,Categorias!$A:$B,2,FALSE)","v":{"$error":"#N/A"}}]
[{"$f":"VLOOKUP(B6055,Categorias!$A:$B,2,FALSE)","v":{"$error":"#N/A"}}]
[{"$f":"VLOOKUP(B6056,Categorias!$A:$B,2,FALSE)","v":{"$error":"#N/A"}}]
[{"$f":"VLOOKUP(B6057,Categorias!$A:$B,2,FALSE)","v":{"$error":"#N/A"}}]
[{"$f":"VLOOKUP(B6058,Categorias!$A:$B,2,FALSE)","v":{"$error":"#N/A"}}]
[{"$f":"VLOOKUP(B6059,Categorias!$A:$B,2,FALSE)","v":{"$error":"#N/A"}}]
[{"$f":"VLOOKUP(B6060,Categorias!$A:$B,2,FALSE)","v":{"$error":"#N/A"}}]
[{"$f":"VLOOKUP(B6061,Categorias!$A:$B,2,FALSE)","v":{"$error":"#N/A"}}]
[{"$f":"VLOOKUP(B6062,Categorias!$A:$B,2,FALSE)","v":{"$error":"#N/A"}}]
[{"$f":"VLOOKUP(B6063,Categorias!$A:$B,2,FALSE)","v":{"$error":"#N/A"}}]
[{"$f":"VLOOKUP(B6064,Categorias!$A:$B,2,FALSE)","v":{"$error":"#N/A"}}]
[{"$f":"VLOOKUP(B6065,Categorias!$A:$B,2,FALSE)","v":{"$error":"#N/A"}}]
[{"$f":"VLOOKUP(B6066,Categorias!$A:$B,2,FALSE)","v":{"$error":"#N/A"}}]
[{"$f":"VLOOKUP(B6067,Categorias!$A:$B,2,FALSE)","v":{"$error":"#N/A"}}]
[{"$f":"VLOOKUP(B6068,Categorias!$A:$B,2,FALSE)","v":{"$error":"#N/A"}}]
[{"$f":"VLOOKUP(B6069,Categorias!$A:$B,2,FALSE)","v":{"$error":"#N/A"}}]
[{"$f":"VLOOKUP(B6070,Categorias!$A:$B,2,FALSE)","v":{"$error":"#N/A"}}]
[{"$f":"VLOOKUP(B6071,Categorias!$A:$B,2,FALSE)","v":{"$error":"#N/A"}}]
[{"$f":"VLOOKUP(B6072,Categorias!$A:$B,2,FALSE)","v":{"$error":"#N/A"}}]
[{"$f":"VLOOKUP(B6073,Categorias!$A:$B,2,FALSE)","v":{"$error":"#N/A"}}]
[{"$f":"VLOOKUP(B6074,Categorias!$A:$B,2,FALSE)","v":{"$error":"#N/A"}}]
[{"$f":"VLOOKUP(B6075,Categorias!$A:$B,2,FALSE)","v":{"$error":"#N/A"}}]
[{"$f":"VLOOKUP(B6076,Categorias!$A:$B,2,FALSE)","v":{"$error":"#N/A"}}]
[{"$f":"VLOOKUP(B6077,Categorias!$A:$B,2,FALSE)","v":{"$error":"#N/A"}}]
[{"$f":"VLOOKUP(B6078,Categorias!$A:$B,2,FALSE)","v":{"$error":"#N/A"}}]
[{"$f":"VLOOKUP(B6079,Categorias!$A:$B,2,FALSE)","v":{"$error":"#N/A"}}]
[{"$f":"VLOOKUP(B6080,Categorias!$A:$B,2,FALSE)","v":{"$error":"#N/A"}}]
[{"$f":"VLOOKUP(B6081,Categorias!$A:$B,2,FALSE)","v":{"$error":"#N/A"}}]
[{"$f":"VLOOKUP(B6082,Categorias!$A:$B,2,FALSE)","v":{"$error":"#N/A"}}]
[{"$f":"VLOOKUP(B6083,Categorias!$A:$B,2,FALSE)","v":{"$error":"#N/A"}}]
[{"$f":"VLOOKUP(B6084,Categorias!$A:$B,2,FALSE)","v":{"$error":"#N/A"}}]
[{"$f":"VLOOKUP(B6085,Categorias!$A:$B,2,FALSE)","v":{"$error":"#N/A"}}]
[{"$f":"VLOOKUP(B6086,Categorias!$A:$B,2,FALSE)","v":{"$error":"#N/A"}}]
[{"$f":"VLOOKUP(B6087,Categorias!$A:$B,2,FALSE)","v":{"$error":"#N/A"}}]
[{"$f":"VLOOKUP(B6088,Categorias!$A:$B,2,FALSE)","v":{"$error":"#N/A"}}]
[{"$f":"VLOOKUP(B6089,Categorias!$A:$B,2,FALSE)","v":{"$error":"#N/A"}}]
[{"$f":"VLOOKUP(B6090,Categorias!$A:$B,2,FALSE)","v":{"$error":"#N/A"}}]
[{"$f":"VLOOKUP(B6091,Categorias!$A:$B,2,FALSE)","v":{"$error":"#N/A"}}]
[{"$f":"VLOOKUP(B6092,Categorias!$A:$B,2,FALSE)","v":{"$error":"#N/A"}}]
[{"$f":"VLOOKUP(B6093,Categorias!$A:$B,2,FALSE)","v":{"$error":"#N/A"}}]
[{"$f":"VLOOKUP(B6094,Categorias!$A:$B,2,FALSE)","v":{"$error":"#N/A"}}]
[{"$f":"VLOOKUP(B6095,Categorias!$A:$B,2,FALSE)","v":{"$error":"#N/A"}}]
[{"$f":"VLOOKUP(B6096,Categorias!$A:$B,2,FALSE)","v":{"$error":"#N/A"}}]
[{"$f":"VLOOKUP(B6097,Categorias!$A:$B,2,FALSE)","v":{"$error":"#N/A"}}]
[{"$f":"VLOOKUP(B6098,Categorias!$A:$B,2,FALSE)","v":{"$error":"#N/A"}}]
[{"$f":"VLOOKUP(B6099,Categorias!$A:$B,2,FALSE)","v":{"$error":"#N/A"}}]
[{"$f":"VLOOKUP(B6100,Categorias!$A:$B,2,FALSE)","v":{"$error":"#N/A"}}]
[{"$f":"VLOOKUP(B6101,Categorias!$A:$B,2,FALSE)","v":{"$error":"#N/A"}}]
[{"$f":"VLOOKUP(B6102,Categorias!$A:$B,2,FALSE)","v":{"$error":"#N/A"}}]
[{"$f":"VLOOKUP(B6103,Categorias!$A:$B,2,FALSE)","v":{"$error":"#N/A"}}]
[{"$f":"VLOOKUP(B6104,Categorias!$A:$B,2,FALSE)","v":{"$error":"#N/A"}}]
[{"$f":"VLOOKUP(B6105,Categorias!$A:$B,2,FALSE)","v":{"$error":"#N/A"}}]
[{"$f":"VLOOKUP(B6106,Categorias!$A:$B,2,FALSE)","v":{"$error":"#N/A"}}]
[{"$f":"VLOOKUP(B6107,Categorias!$A:$B,2,FALSE)","v":{"$error":"#N/A"}}]
[{"$f":"VLOOKUP(B6108,Categorias!$A:$B,2,FALSE)","v":{"$error":"#N/A"}}]
[{"$f":"VLOOKUP(B6109,Categorias!$A:$B,2,FALSE)","v":{"$error":"#N/A"}}]
[{"$f":"VLOOKUP(B6110,Categorias!$A:$B,2,FALSE)","v":{"$error":"#N/A"}}]
[{"$f":"VLOOKUP(B6111,Categorias!$A:$B,2,FALSE)","v":{"$error":"#N/A"}}]
[{"$f":"VLOOKUP(B6112,Categorias!$A:$B,2,FALSE)","v":{"$error":"#N/A"}}]
[{"$f":"VLOOKUP(B6113,Categorias!$A:$B,2,FALSE)","v":{"$error":"#N/A"}}]
[{"$f":"VLOOKUP(B6114,Categorias!$A:$B,2,FALSE)","v":{"$error":"#N/A"}}]
[{"$f":"VLOOKUP(B6115,Categorias!$A:$B,2,FALSE)","v":{"$error":"#N/A"}}]
[{"$f":"VLOOKUP(B6116,Categorias!$A:$B,2,FALSE)","v":{"$error":"#N/A"}}]
[{"$f":"VLOOKUP(B6117,Categorias!$A:$B,2,FALSE)","v":{"$error":"#N/A"}}]
[{"$f":"VLOOKUP(B6118,Categorias!$A:$B,2,FALSE)","v":{"$error":"#N/A"}}]
[{"$f":"VLOOKUP(B6119,Categorias!$A:$B,2,FALSE)","v":{"$error":"#N/A"}}]
[{"$f":"VLOOKUP(B6120,Categorias!$A:$B,2,FALSE)","v":{"$error":"#N/A"}}]
[{"$f":"VLOOKUP(B6121,Categorias!$A:$B,2,FALSE)","v":{"$error":"#N/A"}}]
[{"$f":"VLOOKUP(B6122,Categorias!$A:$B,2,FALSE)","v":{"$error":"#N/A"}}]
[{"$f":"VLOOKUP(B6123,Categorias!$A:$B,2,FALSE)","v":{"$error":"#N/A"}}]
[{"$f":"VLOOKUP(B6124,Categorias!$A:$B,2,FALSE)","v":{"$error":"#N/A"}}]
[{"$f":"VLOOKUP(B6125,Categorias!$A:$B,2,FALSE)","v":{"$error":"#N/A"}}]
[{"$f":"VLOOKUP(B6126,Categorias!$A:$B,2,FALSE)","v":{"$error":"#N/A"}}]
[{"$f":"VLOOKUP(B6127,Categorias!$A:$B,2,FALSE)","v":{"$error":"#N/A"}}]
[{"$f":"VLOOKUP(B6128,Categorias!$A:$B,2,FALSE)","v":{"$error":"#N/A"}}]
[{"$f":"VLOOKUP(B6129,Categorias!$A:$B,2,FALSE)","v":{"$error":"#N/A"}}]
[{"$f":"VLOOKUP(B6130,Categorias!$A:$B,2,FALSE)","v":{"$error":"#N/A"}}]
[{"$f":"VLOOKUP(B6131,Categorias!$A:$B,2,FALSE)","v":{"$error":"#N/A"}}]
[{"$f":"VLOOKUP(B6132,Categorias!$A:$B,2,FALSE)","v":{"$error":"#N/A"}}]
[{"$f":"VLOOKUP(B6133,Categorias!$A:$B,2,FALSE)","v":{"$error":"#N/A"}}]
[{"$f":"VLOOKUP(B6134,Categorias!$A:$B,2,FALSE)","v":{"$error":"#N/A"}}]
[{"$f":"VLOOKUP(B6135,Categorias!$A:$B,2,FALSE)","v":{"$error":"#N/A"}}]
[{"$f":"VLOOKUP(B6136,Categorias!$A:$B,2,FALSE)","v":{"$error":"#N/A"}}]
[{"$f":"VLOOKUP(B6137,Categorias!$A:$B,2,FALSE)","v":{"$error":"#N/A"}}]
[{"$f":"VLOOKUP(B6138,Categorias!$A:$B,2,FALSE)","v":{"$error":"#N/A"}}]
[{"$f":"VLOOKUP(B6139,Categorias!$A:$B,2,FALSE)","v":{"$error":"#N/A"}}]
[{"$f":"VLOOKUP(B6140,Categorias!$A:$B,2,FALSE)","v":{"$error":"#N/A"}}]
[{"$f":"VLOOKUP(B6141,Categorias!$A:$B,2,FALSE)","v":{"$error":"#N/A"}}]
[{"$f":"VLOOKUP(B6142,Categorias!$A:$B,2,FALSE)","v":{"$error":"#N/A"}}]
[{"$f":"VLOOKUP(B6143,Categorias!$A:$B,2,FALSE)","v":{"$error":"#N/A"}}]
[{"$f":"VLOOKUP(B6144,Categorias!$A:$B,2,FALSE)","v":{"$error":"#N/A"}}]
[{"$f":"VLOOKUP(B6145,Categorias!$A:$B,2,FALSE)","v":{"$error":"#N/A"}}]
[{"$f":"VLOOKUP(B6146,Categorias!$A:$B,2,FALSE)","v":{"$error":"#N/A"}}]
[{"$f":"VLOOKUP(B6147,Categorias!$A:$B,2,FALSE)","v":{"$error":"#N/A"}}]
[{"$f":"VLOOKUP(B6148,Categorias!$A:$B,2,FALSE)","v":{"$error":"#N/A"}}]
[{"$f":"VLOOKUP(B6149,Categorias!$A:$B,2,FALSE)","v":{"$error":"#N/A"}}]
[{"$f":"VLOOKUP(B6150,Categorias!$A:$B,2,FALSE)","v":{"$error":"#N/A"}}]
[{"$f":"VLOOKUP(B6151,Categorias!$A:$B,2,FALSE)","v":{"$error":"#N/A"}}]
[{"$f":"VLOOKUP(B6152,Categorias!$A:$B,2,FALSE)","v":{"$error":"#N/A"}}]
[{"$f":"VLOOKUP(B6153,Categorias!$A:$B,2,FALSE)","v":{"$error":"#N/A"}}]
[{"$f":"VLOOKUP(B6154,Categorias!$A:$B,2,FALSE)","v":{"$error":"#N/A"}}]
[{"$f":"VLOOKUP(B6155,Categorias!$A:$B,2,FALSE)","v":{"$error":"#N/A"}}]
[{"$f":"VLOOKUP(B6156,Categorias!$A:$B,2,FALSE)","v":{"$error":"#N/A"}}]
[{"$f":"VLOOKUP(B6157,Categorias!$A:$B,2,FALSE)","v":{"$error":"#N/A"}}]
[{"$f":"VLOOKUP(B6158,Categorias!$A:$B,2,FALSE)","v":{"$error":"#N/A"}}]
[{"$f":"VLOOKUP(B6159,Categorias!$A:$B,2,FALSE)","v":{"$error":"#N/A"}}]
[{"$f":"VLOOKUP(B6160,Categorias!$A:$B,2,FALSE)","v":{"$error":"#N/A"}}]
[{"$f":"VLOOKUP(B6161,Categorias!$A:$B,2,FALSE)","v":{"$error":"#N/A"}}]
[{"$f":"VLOOKUP(B6162,Categorias!$A:$B,2,FALSE)","v":{"$error":"#N/A"}}]
[{"$f":"VLOOKUP(B6163,Categorias!$A:$B,2,FALSE)","v":{"$error":"#N/A"}}]
[{"$f":"VLOOKUP(B6164,Categorias!$A:$B,2,FALSE)","v":{"$error":"#N/A"}}]
[{"$f":"VLOOKUP(B6165,Categorias!$A:$B,2,FALSE)","v":{"$error":"#N/A"}}]
[{"$f":"VLOOKUP(B6166,Categorias!$A:$B,2,FALSE)","v":{"$error":"#N/A"}}]
[{"$f":"VLOOKUP(B6167,Categorias!$A:$B,2,FALSE)","v":{"$error":"#N/A"}}]
[{"$f":"VLOOKUP(B6168,Categorias!$A:$B,2,FALSE)","v":{"$error":"#N/A"}}]
[{"$f":"VLOOKUP(B6169,Categorias!$A:$B,2,FALSE)","v":{"$error":"#N/A"}}]
[{"$f":"VLOOKUP(B6170,Categorias!$A:$B,2,FALSE)","v":{"$error":"#N/A"}}]
[{"$f":"VLOOKUP(B6171,Categorias!$A:$B,2,FALSE)","v":{"$error":"#N/A"}}]
[{"$f":"VLOOKUP(B6172,Categorias!$A:$B,2,FALSE)","v":{"$error":"#N/A"}}]
[{"$f":"VLOOKUP(B6173,Categorias!$A:$B,2,FALSE)","v":{"$error":"#N/A"}}]
[{"$f":"VLOOKUP(B6174,Categorias!$A:$B,2,FALSE)","v":{"$error":"#N/A"}}]
[{"$f":"VLOOKUP(B6175,Categorias!$A:$B,2,FALSE)","v":{"$error":"#N/A"}}]
[{"$f":"VLOOKUP(B6176,Categorias!$A:$B,2,FALSE)","v":{"$error":"#N/A"}}]
[{"$f":"VLOOKUP(B6177,Categorias!$A:$B,2,FALSE)","v":{"$error":"#N/A"}}]
[{"$f":"VLOOKUP(B6178,Categorias!$A:$B,2,FALSE)","v":{"$error":"#N/A"}}]
[{"$f":"VLOOKUP(B6179,Categorias!$A:$B,2,FALSE)","v":{"$error":"#N/A"}}]
[{"$f":"VLOOKUP(B6180,Categorias!$A:$B,2,FALSE)","v":{"$error":"#N/A"}}]
[{"$f":"VLOOKUP(B6181,Categorias!$A:$B,2,FALSE)","v":{"$error":"#N/A"}}]
[{"$f":"VLOOKUP(B6182,Categorias!$A:$B,2,FALSE)","v":{"$error":"#N/A"}}]
[{"$f":"VLOOKUP(B6183,Categorias!$A:$B,2,FALSE)","v":{"$error":"#N/A"}}]
[{"$f":"VLOOKUP(B6184,Categorias!$A:$B,2,FALSE)","v":{"$error":"#N/A"}}]
[{"$f":"VLOOKUP(B6185,Categorias!$A:$B,2,FALSE)","v":{"$error":"#N/A"}}]
[{"$f":"VLOOKUP(B6186,Categorias!$A:$B,2,FALSE)","v":{"$error":"#N/A"}}]
[{"$f":"VLOOKUP(B6187,Categorias!$A:$B,2,FALSE)","v":{"$error":"#N/A"}}]
[{"$f":"VLOOKUP(B6188,Categorias!$A:$B,2,FALSE)","v":{"$error":"#N/A"}}]
[{"$f":"VLOOKUP(B6189,Categorias!$A:$B,2,FALSE)","v":{"$error":"#N/A"}}]
[{"$f":"VLOOKUP(B6190,Categorias!$A:$B,2,FALSE)","v":{"$error":"#N/A"}}]
[{"$f":"VLOOKUP(B6191,Categorias!$A:$B,2,FALSE)","v":{"$error":"#N/A"}}]
[{"$f":"VLOOKUP(B6192,Categorias!$A:$B,2,FALSE)","v":{"$error":"#N/A"}}]
[{"$f":"VLOOKUP(B6193,Categorias!$A:$B,2,FALSE)","v":{"$error":"#N/A"}}]
[{"$f":"VLOOKUP(B6194,Categorias!$A:$B,2,FALSE)","v":{"$error":"#N/A"}}]
[{"$f":"VLOOKUP(B6195,Categorias!$A:$B,2,FALSE)","v":{"$error":"#N/A"}}]
[{"$f":"VLOOKUP(B6196,Categorias!$A:$B,2,FALSE)","v":{"$error":"#N/A"}}]
[{"$f":"VLOOKUP(B6197,Categorias!$A:$B,2,FALSE)","v":{"$error":"#N/A"}}]
[{"$f":"VLOOKUP(B6198,Categorias!$A:$B,2,FALSE)","v":{"$error":"#N/A"}}]
[{"$f":"VLOOKUP(B6199,Categorias!$A:$B,2,FALSE)","v":{"$error":"#N/A"}}]
[{"$f":"VLOOKUP(B6200,Categorias!$A:$B,2,FALSE)","v":{"$error":"#N/A"}}]
[{"$f":"VLOOKUP(B6201,Categorias!$A:$B,2,FALSE)","v":{"$error":"#N/A"}}]
[{"$f":"VLOOKUP(B6202,Categorias!$A:$B,2,FALSE)","v":{"$error":"#N/A"}}]
[{"$f":"VLOOKUP(B6203,Categorias!$A:$B,2,FALSE)","v":{"$error":"#N/A"}}]
[{"$f":"VLOOKUP(B6204,Categorias!$A:$B,2,FALSE)","v":{"$error":"#N/A"}}]
[{"$f":"VLOOKUP(B6205,Categorias!$A:$B,2,FALSE)","v":{"$error":"#N/A"}}]
[{"$f":"VLOOKUP(B6206,Categorias!$A:$B,2,FALSE)","v":{"$error":"#N/A"}}]
[{"$f":"VLOOKUP(B6207,Categorias!$A:$B,2,FALSE)","v":{"$error":"#N/A"}}]
[{"$f":"VLOOKUP(B6208,Categorias!$A:$B,2,FALSE)","v":{"$error":"#N/A"}}]
[{"$f":"VLOOKUP(B6209,Categorias!$A:$B,2,FALSE)","v":{"$error":"#N/A"}}]
[{"$f":"VLOOKUP(B6210,Categorias!$A:$B,2,FALSE)","v":{"$error":"#N/A"}}]
[{"$f":"VLOOKUP(B6211,Categorias!$A:$B,2,FALSE)","v":{"$error":"#N/A"}}]
[{"$f":"VLOOKUP(B6212,Categorias!$A:$B,2,FALSE)","v":{"$error":"#N/A"}}]
[{"$f":"VLOOKUP(B6213,Categorias!$A:$B,2,FALSE)","v":{"$error":"#N/A"}}]
[{"$f":"VLOOKUP(B6214,Categorias!$A:$B,2,FALSE)","v":{"$error":"#N/A"}}]
[{"$f":"VLOOKUP(B6215,Categorias!$A:$B,2,FALSE)","v":{"$error":"#N/A"}}]
[{"$f":"VLOOKUP(B6216,Categorias!$A:$B,2,FALSE)","v":{"$error":"#N/A"}}]
[{"$f":"VLOOKUP(B6217,Categorias!$A:$B,2,FALSE)","v":{"$error":"#N/A"}}]
[{"$f":"VLOOKUP(B6218,Categorias!$A:$B,2,FALSE)","v":{"$error":"#N/A"}}]
[{"$f":"VLOOKUP(B6219,Categorias!$A:$B,2,FALSE)","v":{"$error":"#N/A"}}]
[{"$f":"VLOOKUP(B6220,Categorias!$A:$B,2,FALSE)","v":{"$error":"#N/A"}}]
[{"$f":"VLOOKUP(B6221,Categorias!$A:$B,2,FALSE)","v":{"$error":"#N/A"}}]
[{"$f":"VLOOKUP(B6222,Categorias!$A:$B,2,FALSE)","v":{"$error":"#N/A"}}]
[{"$f":"VLOOKUP(B6223,Categorias!$A:$B,2,FALSE)","v":{"$error":"#N/A"}}]
[{"$f":"VLOOKUP(B6224,Categorias!$A:$B,2,FALSE)","v":{"$error":"#N/A"}}]
[{"$f":"VLOOKUP(B6225,Categorias!$A:$B,2,FALSE)","v":{"$error":"#N/A"}}]
[{"$f":"VLOOKUP(B6226,Categorias!$A:$B,2,FALSE)","v":{"$error":"#N/A"}}]
[{"$f":"VLOOKUP(B6227,Categorias!$A:$B,2,FALSE)","v":{"$error":"#N/A"}}]
[{"$f":"VLOOKUP(B6228,Categorias!$A:$B,2,FALSE)","v":{"$error":"#N/A"}}]
[{"$f":"VLOOKUP(B6229,Categorias!$A:$B,2,FALSE)","v":{"$error":"#N/A"}}]
[{"$f":"VLOOKUP(B6230,Categorias!$A:$B,2,FALSE)","v":{"$error":"#N/A"}}]
[{"$f":"VLOOKUP(B6231,Categorias!$A:$B,2,FALSE)","v":{"$error":"#N/A"}}]
[{"$f":"VLOOKUP(B6232,Categorias!$A:$B,2,FALSE)","v":{"$error":"#N/A"}}]
[{"$f":"VLOOKUP(B6233,Categorias!$A:$B,2,FALSE)","v":{"$error":"#N/A"}}]
[{"$f":"VLOOKUP(B6234,Categorias!$A:$B,2,FALSE)","v":{"$error":"#N/A"}}]
[{"$f":"VLOOKUP(B6235,Categorias!$A:$B,2,FALSE)","v":{"$error":"#N/A"}}]
[{"$f":"VLOOKUP(B6236,Categorias!$A:$B,2,FALSE)","v":{"$error":"#N/A"}}]
[{"$f":"VLOOKUP(B6237,Categorias!$A:$B,2,FALSE)","v":{"$error":"#N/A"}}]
[{"$f":"VLOOKUP(B6238,Categorias!$A:$B,2,FALSE)","v":{"$error":"#N/A"}}]
[{"$f":"VLOOKUP(B6239,Categorias!$A:$B,2,FALSE)","v":{"$error":"#N/A"}}]
[{"$f":"VLOOKUP(B6240,Categorias!$A:$B,2,FALSE)","v":{"$error":"#N/A"}}]
[{"$f":"VLOOKUP(B6241,Categorias!$A:$B,2,FALSE)","v":{"$error":"#N/A"}}]
[{"$f":"VLOOKUP(B6242,Categorias!$A:$B,2,FALSE)","v":{"$error":"#N/A"}}]
[{"$f":"VLOOKUP(B6243,Categorias!$A:$B,2,FALSE)","v":{"$error":"#N/A"}}]
[{"$f":"VLOOKUP(B6244,Categorias!$A:$B,2,FALSE)","v":{"$error":"#N/A"}}]
[{"$f":"VLOOKUP(B6245,Categorias!$A:$B,2,FALSE)","v":{"$error":"#N/A"}}]
[{"$f":"VLOOKUP(B6246,Categorias!$A:$B,2,FALSE)","v":{"$error":"#N/A"}}]
[{"$f":"VLOOKUP(B6247,Categorias!$A:$B,2,FALSE)","v":{"$error":"#N/A"}}]
[{"$f":"VLOOKUP(B6248,Categorias!$A:$B,2,FALSE)","v":{"$error":"#N/A"}}]
[{"$f":"VLOOKUP(B6249,Categorias!$A:$B,2,FALSE)","v":{"$error":"#N/A"}}]
[{"$f":"VLOOKUP(B6250,Categorias!$A:$B,2,FALSE)","v":{"$error":"#N/A"}}]
[{"$f":"VLOOKUP(B6251,Categorias!$A:$B,2,FALSE)","v":{"$error":"#N/A"}}]
[{"$f":"VLOOKUP(B6252,Categorias!$A:$B,2,FALSE)","v":{"$error":"#N/A"}}]
[{"$f":"VLOOKUP(B6253,Categorias!$A:$B,2,FALSE)","v":{"$error":"#N/A"}}]
[{"$f":"VLOOKUP(B6254,Categorias!$A:$B,2,FALSE)","v":{"$error":"#N/A"}}]
[{"$f":"VLOOKUP(B6255,Categorias!$A:$B,2,FALSE)","v":{"$error":"#N/A"}}]
[{"$f":"VLOOKUP(B6256,Categorias!$A:$B,2,FALSE)","v":{"$error":"#N/A"}}]
[{"$f":"VLOOKUP(B6257,Categorias!$A:$B,2,FALSE)","v":{"$error":"#N/A"}}]
[{"$f":"VLOOKUP(B6258,Categorias!$A:$B,2,FALSE)","v":{"$error":"#N/A"}}]
[{"$f":"VLOOKUP(B6259,Categorias!$A:$B,2,FALSE)","v":{"$error":"#N/A"}}]
[{"$f":"VLOOKUP(B6260,Categorias!$A:$B,2,FALSE)","v":{"$error":"#N/A"}}]
[{"$f":"VLOOKUP(B6261,Categorias!$A:$B,2,FALSE)","v":{"$error":"#N/A"}}]
[{"$f":"VLOOKUP(B6262,Categorias!$A:$B,2,FALSE)","v":{"$error":"#N/A"}}]
[{"$f":"VLOOKUP(B6263,Categorias!$A:$B,2,FALSE)","v":{"$error":"#N/A"}}]
[{"$f":"VLOOKUP(B6264,Categorias!$A:$B,2,FALSE)","v":{"$error":"#N/A"}}]
[{"$f":"VLOOKUP(B6265,Categorias!$A:$B,2,FALSE)","v":{"$error":"#N/A"}}]
[{"$f":"VLOOKUP(B6266,Categorias!$A:$B,2,FALSE)","v":{"$error":"#N/A"}}]
[{"$f":"VLOOKUP(B6267,Categorias!$A:$B,2,FALSE)","v":{"$error":"#N/A"}}]
[{"$f":"VLOOKUP(B6268,Categorias!$A:$B,2,FALSE)","v":{"$error":"#N/A"}}]
[{"$f":"VLOOKUP(B6269,Categorias!$A:$B,2,FALSE)","v":{"$error":"#N/A"}}]
[{"$f":"VLOOKUP(B6270,Categorias!$A:$B,2,FALSE)","v":{"$error":"#N/A"}}]
[{"$f":"VLOOKUP(B6271,Categorias!$A:$B,2,FALSE)","v":{"$error":"#N/A"}}]
[{"$f":"VLOOKUP(B6272,Categorias!$A:$B,2,FALSE)","v":{"$error":"#N/A"}}]
[{"$f":"VLOOKUP(B6273,Categorias!$A:$B,2,FALSE)","v":{"$error":"#N/A"}}]
[{"$f":"VLOOKUP(B6274,Categorias!$A:$B,2,FALSE)","v":{"$error":"#N/A"}}]
[{"$f":"VLOOKUP(B6275,Categorias!$A:$B,2,FALSE)","v":{"$error":"#N/A"}}]
[{"$f":"VLOOKUP(B6276,Categorias!$A:$B,2,FALSE)","v":{"$error":"#N/A"}}]
[{"$f":"VLOOKUP(B6277,Categorias!$A:$B,2,FALSE)","v":{"$error":"#N/A"}}]
[{"$f":"VLOOKUP(B6278,Categorias!$A:$B,2,FALSE)","v":{"$error":"#N/A"}}]
[{"$f":"VLOOKUP(B6279,Categorias!$A:$B,2,FALSE)","v":{"$error":"#N/A"}}]
[{"$f":"VLOOKUP(B6280,Categorias!$A:$B,2,FALSE)","v":{"$error":"#N/A"}}]
[{"$f":"VLOOKUP(B6281,Categorias!$A:$B,2,FALSE)","v":{"$error":"#N/A"}}]
[{"$f":"VLOOKUP(B6282,Categorias!$A:$B,2,FALSE)","v":{"$error":"#N/A"}}]
[{"$f":"VLOOKUP(B6283,Categorias!$A:$B,2,FALSE)","v":{"$error":"#N/A"}}]
[{"$f":"VLOOKUP(B6284,Categorias!$A:$B,2,FALSE)","v":{"$error":"#N/A"}}]
[{"$f":"VLOOKUP(B6285,Categorias!$A:$B,2,FALSE)","v":{"$error":"#N/A"}}]
[{"$f":"VLOOKUP(B6286,Categorias!$A:$B,2,FALSE)","v":{"$error":"#N/A"}}]
[{"$f":"VLOOKUP(B6287,Categorias!$A:$B,2,FALSE)","v":{"$error":"#N/A"}}]
[{"$f":"VLOOKUP(B6288,Categorias!$A:$B,2,FALSE)","v":{"$error":"#N/A"}}]
[{"$f":"VLOOKUP(B6289,Categorias!$A:$B,2,FALSE)","v":{"$error":"#N/A"}}]
[{"$f":"VLOOKUP(B6290,Categorias!$A:$B,2,FALSE)","v":{"$error":"#N/A"}}]
[{"$f":"VLOOKUP(B6291,Categorias!$A:$B,2,FALSE)","v":{"$error":"#N/A"}}]
[{"$f":"VLOOKUP(B6292,Categorias!$A:$B,2,FALSE)","v":{"$error":"#N/A"}}]
[{"$f":"VLOOKUP(B6293,Categorias!$A:$B,2,FALSE)","v":{"$error":"#N/A"}}]
[{"$f":"VLOOKUP(B6294,Categorias!$A:$B,2,FALSE)","v":{"$error":"#N/A"}}]
[{"$f":"VLOOKUP(B6295,Categorias!$A:$B,2,FALSE)","v":{"$error":"#N/A"}}]
[{"$f":"VLOOKUP(B6296,Categorias!$A:$B,2,FALSE)","v":{"$error":"#N/A"}}]
[{"$f":"VLOOKUP(B6297,Categorias!$A:$B,2,FALSE)","v":{"$error":"#N/A"}}]
[{"$f":"VLOOKUP(B6298,Categorias!$A:$B,2,FALSE)","v":{"$error":"#N/A"}}]
[{"$f":"VLOOKUP(B6299,Categorias!$A:$B,2,FALSE)","v":{"$error":"#N/A"}}]
[{"$f":"VLOOKUP(B6300,Categorias!$A:$B,2,FALSE)","v":{"$error":"#N/A"}}]
[{"$f":"VLOOKUP(B6301,Categorias!$A:$B,2,FALSE)","v":{"$error":"#N/A"}}]
[{"$f":"VLOOKUP(B6302,Categorias!$A:$B,2,FALSE)","v":{"$error":"#N/A"}}]
[{"$f":"VLOOKUP(B6303,Categorias!$A:$B,2,FALSE)","v":{"$error":"#N/A"}}]
[{"$f":"VLOOKUP(B6304,Categorias!$A:$B,2,FALSE)","v":{"$error":"#N/A"}}]
[{"$f":"VLOOKUP(B6305,Categorias!$A:$B,2,FALSE)","v":{"$error":"#N/A"}}]
[{"$f":"VLOOKUP(B6306,Categorias!$A:$B,2,FALSE)","v":{"$error":"#N/A"}}]
[{"$f":"VLOOKUP(B6307,Categorias!$A:$B,2,FALSE)","v":{"$error":"#N/A"}}]
[{"$f":"VLOOKUP(B6308,Categorias!$A:$B,2,FALSE)","v":{"$error":"#N/A"}}]
[{"$f":"VLOOKUP(B6309,Categorias!$A:$B,2,FALSE)","v":{"$error":"#N/A"}}]
[{"$f":"VLOOKUP(B6310,Categorias!$A:$B,2,FALSE)","v":{"$error":"#N/A"}}]
[{"$f":"VLOOKUP(B6311,Categorias!$A:$B,2,FALSE)","v":{"$error":"#N/A"}}]
[{"$f":"VLOOKUP(B6312,Categorias!$A:$B,2,FALSE)","v":{"$error":"#N/A"}}]
[{"$f":"VLOOKUP(B6313,Categorias!$A:$B,2,FALSE)","v":{"$error":"#N/A"}}]
[{"$f":"VLOOKUP(B6314,Categorias!$A:$B,2,FALSE)","v":{"$error":"#N/A"}}]
[{"$f":"VLOOKUP(B6315,Categorias!$A:$B,2,FALSE)","v":{"$error":"#N/A"}}]
[{"$f":"VLOOKUP(B6316,Categorias!$A:$B,2,FALSE)","v":{"$error":"#N/A"}}]
[{"$f":"VLOOKUP(B6317,Categorias!$A:$B,2,FALSE)","v":{"$error":"#N/A"}}]
[{"$f":"VLOOKUP(B6318,Categorias!$A:$B,2,FALSE)","v":{"$error":"#N/A"}}]
[{"$f":"VLOOKUP(B6319,Categorias!$A:$B,2,FALSE)","v":{"$error":"#N/A"}}]
[{"$f":"VLOOKUP(B6320,Categorias!$A:$B,2,FALSE)","v":{"$error":"#N/A"}}]
[{"$f":"VLOOKUP(B6321,Categorias!$A:$B,2,FALSE)","v":{"$error":"#N/A"}}]
[{"$f":"VLOOKUP(B6322,Categorias!$A:$B,2,FALSE)","v":{"$error":"#N/A"}}]
[{"$f":"VLOOKUP(B6323,Categorias!$A:$B,2,FALSE)","v":{"$error":"#N/A"}}]
[{"$f":"VLOOKUP(B6324,Categorias!$A:$B,2,FALSE)","v":{"$error":"#N/A"}}]
[{"$f":"VLOOKUP(B6325,Categorias!$A:$B,2,FALSE)","v":{"$error":"#N/A"}}]
[{"$f":"VLOOKUP(B6326,Categorias!$A:$B,2,FALSE)","v":{"$error":"#N/A"}}]
[{"$f":"VLOOKUP(B6327,Categorias!$A:$B,2,FALSE)","v":{"$error":"#N/A"}}]
[{"$f":"VLOOKUP(B6328,Categorias!$A:$B,2,FALSE)","v":{"$error":"#N/A"}}]
[{"$f":"VLOOKUP(B6329,Categorias!$A:$B,2,FALSE)","v":{"$error":"#N/A"}}]
[{"$f":"VLOOKUP(B6330,Categorias!$A:$B,2,FALSE)","v":{"$error":"#N/A"}}]
[{"$f":"VLOOKUP(B6331,Categorias!$A:$B,2,FALSE)","v":{"$error":"#N/A"}}]
[{"$f":"VLOOKUP(B6332,Categorias!$A:$B,2,FALSE)","v":{"$error":"#N/A"}}]
[{"$f":"VLOOKUP(B6333,Categorias!$A:$B,2,FALSE)","v":{"$error":"#N/A"}}]
[{"$f":"VLOOKUP(B6334,Categorias!$A:$B,2,FALSE)","v":{"$error":"#N/A"}}]
[{"$f":"VLOOKUP(B6335,Categorias!$A:$B,2,FALSE)","v":{"$error":"#N/A"}}]
[{"$f":"VLOOKUP(B6336,Categorias!$A:$B,2,FALSE)","v":{"$error":"#N/A"}}]
[{"$f":"VLOOKUP(B6337,Categorias!$A:$B,2,FALSE)","v":{"$error":"#N/A"}}]
[{"$f":"VLOOKUP(B6338,Categorias!$A:$B,2,FALSE)","v":{"$error":"#N/A"}}]
[{"$f":"VLOOKUP(B6339,Categorias!$A:$B,2,FALSE)","v":{"$error":"#N/A"}}]
[{"$f":"VLOOKUP(B6340,Categorias!$A:$B,2,FALSE)","v":{"$error":"#N/A"}}]
[{"$f":"VLOOKUP(B6341,Categorias!$A:$B,2,FALSE)","v":{"$error":"#N/A"}}]
[{"$f":"VLOOKUP(B6342,Categorias!$A:$B,2,FALSE)","v":{"$error":"#N/A"}}]
[{"$f":"VLOOKUP(B6343,Categorias!$A:$B,2,FALSE)","v":{"$error":"#N/A"}}]
[{"$f":"VLOOKUP(B6344,Categorias!$A:$B,2,FALSE)","v":{"$error":"#N/A"}}]
[{"$f":"VLOOKUP(B6345,Categorias!$A:$B,2,FALSE)","v":{"$error":"#N/A"}}]
[{"$f":"VLOOKUP(B6346,Categorias!$A:$B,2,FALSE)","v":{"$error":"#N/A"}}]
[{"$f":"VLOOKUP(B6347,Categorias!$A:$B,2,FALSE)","v":{"$error":"#N/A"}}]
[{"$f":"VLOOKUP(B6348,Categorias!$A:$B,2,FALSE)","v":{"$error":"#N/A"}}]
[{"$f":"VLOOKUP(B6349,Categorias!$A:$B,2,FALSE)","v":{"$error":"#N/A"}}]
[{"$f":"VLOOKUP(B6350,Categorias!$A:$B,2,FALSE)","v":{"$error":"#N/A"}}]
[{"$f":"VLOOKUP(B6351,Categorias!$A:$B,2,FALSE)","v":{"$error":"#N/A"}}]
[{"$f":"VLOOKUP(B6352,Categorias!$A:$B,2,FALSE)","v":{"$error":"#N/A"}}]
[{"$f":"VLOOKUP(B6353,Categorias!$A:$B,2,FALSE)","v":{"$error":"#N/A"}}]
[{"$f":"VLOOKUP(B6354,Categorias!$A:$B,2,FALSE)","v":{"$error":"#N/A"}}]
[{"$f":"VLOOKUP(B6355,Categorias!$A:$B,2,FALSE)","v":{"$error":"#N/A"}}]
[{"$f":"VLOOKUP(B6356,Categorias!$A:$B,2,FALSE)","v":{"$error":"#N/A"}}]
[{"$f":"VLOOKUP(B6357,Categorias!$A:$B,2,FALSE)","v":{"$error":"#N/A"}}]
[{"$f":"VLOOKUP(B6358,Categorias!$A:$B,2,FALSE)","v":{"$error":"#N/A"}}]
[{"$f":"VLOOKUP(B6359,Categorias!$A:$B,2,FALSE)","v":{"$error":"#N/A"}}]
[{"$f":"VLOOKUP(B6360,Categorias!$A:$B,2,FALSE)","v":{"$error":"#N/A"}}]
[{"$f":"VLOOKUP(B6361,Categorias!$A:$B,2,FALSE)","v":{"$error":"#N/A"}}]
[{"$f":"VLOOKUP(B6362,Categorias!$A:$B,2,FALSE)","v":{"$error":"#N/A"}}]
[{"$f":"VLOOKUP(B6363,Categorias!$A:$B,2,FALSE)","v":{"$error":"#N/A"}}]
[{"$f":"VLOOKUP(B6364,Categorias!$A:$B,2,FALSE)","v":{"$error":"#N/A"}}]
[{"$f":"VLOOKUP(B6365,Categorias!$A:$B,2,FALSE)","v":{"$error":"#N/A"}}]
[{"$f":"VLOOKUP(B6366,Categorias!$A:$B,2,FALSE)","v":{"$error":"#N/A"}}]
[{"$f":"VLOOKUP(B6367,Categorias!$A:$B,2,FALSE)","v":{"$error":"#N/A"}}]
[{"$f":"VLOOKUP(B6368,Categorias!$A:$B,2,FALSE)","v":{"$error":"#N/A"}}]
[{"$f":"VLOOKUP(B6369,Categorias!$A:$B,2,FALSE)","v":{"$error":"#N/A"}}]
[{"$f":"VLOOKUP(B6370,Categorias!$A:$B,2,FALSE)","v":{"$error":"#N/A"}}]
[{"$f":"VLOOKUP(B6371,Categorias!$A:$B,2,FALSE)","v":{"$error":"#N/A"}}]
[{"$f":"VLOOKUP(B6372,Categorias!$A:$B,2,FALSE)","v":{"$error":"#N/A"}}]
[{"$f":"VLOOKUP(B6373,Categorias!$A:$B,2,FALSE)","v":{"$error":"#N/A"}}]
[{"$f":"VLOOKUP(B6374,Categorias!$A:$B,2,FALSE)","v":{"$error":"#N/A"}}]
[{"$f":"VLOOKUP(B6375,Categorias!$A:$B,2,FALSE)","v":{"$error":"#N/A"}}]
[{"$f":"VLOOKUP(B6376,Categorias!$A:$B,2,FALSE)","v":{"$error":"#N/A"}}]
[{"$f":"VLOOKUP(B6377,Categorias!$A:$B,2,FALSE)","v":{"$error":"#N/A"}}]
[{"$f":"VLOOKUP(B6378,Categorias!$A:$B,2,FALSE)","v":{"$error":"#N/A"}}]
[{"$f":"VLOOKUP(B6379,Categorias!$A:$B,2,FALSE)","v":{"$error":"#N/A"}}]
[{"$f":"VLOOKUP(B6380,Categorias!$A:$B,2,FALSE)","v":{"$error":"#N/A"}}]
[{"$f":"VLOOKUP(B6381,Categorias!$A:$B,2,FALSE)","v":{"$error":"#N/A"}}]
[{"$f":"VLOOKUP(B6382,Categorias!$A:$B,2,FALSE)","v":{"$error":"#N/A"}}]
[{"$f":"VLOOKUP(B6383,Categorias!$A:$B,2,FALSE)","v":{"$error":"#N/A"}}]
[{"$f":"VLOOKUP(B6384,Categorias!$A:$B,2,FALSE)","v":{"$error":"#N/A"}}]
[{"$f":"VLOOKUP(B6385,Categorias!$A:$B,2,FALSE)","v":{"$error":"#N/A"}}]
[{"$f":"VLOOKUP(B6386,Categorias!$A:$B,2,FALSE)","v":{"$error":"#N/A"}}]
[{"$f":"VLOOKUP(B6387,Categorias!$A:$B,2,FALSE)","v":{"$error":"#N/A"}}]
[{"$f":"VLOOKUP(B6388,Categorias!$A:$B,2,FALSE)","v":{"$error":"#N/A"}}]
[{"$f":"VLOOKUP(B6389,Categorias!$A:$B,2,FALSE)","v":{"$error":"#N/A"}}]
[{"$f":"VLOOKUP(B6390,Categorias!$A:$B,2,FALSE)","v":{"$error":"#N/A"}}]
[{"$f":"VLOOKUP(B6391,Categorias!$A:$B,2,FALSE)","v":{"$error":"#N/A"}}]
[{"$f":"VLOOKUP(B6392,Categorias!$A:$B,2,FALSE)","v":{"$error":"#N/A"}}]
[{"$f":"VLOOKUP(B6393,Categorias!$A:$B,2,FALSE)","v":{"$error":"#N/A"}}]
[{"$f":"VLOOKUP(B6394,Categorias!$A:$B,2,FALSE)","v":{"$error":"#N/A"}}]
[{"$f":"VLOOKUP(B6395,Categorias!$A:$B,2,FALSE)","v":{"$error":"#N/A"}}]
[{"$f":"VLOOKUP(B6396,Categorias!$A:$B,2,FALSE)","v":{"$error":"#N/A"}}]
[{"$f":"VLOOKUP(B6397,Categorias!$A:$B,2,FALSE)","v":{"$error":"#N/A"}}]
[{"$f":"VLOOKUP(B6398,Categorias!$A:$B,2,FALSE)","v":{"$error":"#N/A"}}]
[{"$f":"VLOOKUP(B6399,Categorias!$A:$B,2,FALSE)","v":{"$error":"#N/A"}}]
[{"$f":"VLOOKUP(B6400,Categorias!$A:$B,2,FALSE)","v":{"$error":"#N/A"}}]
[{"$f":"VLOOKUP(B6401,Categorias!$A:$B,2,FALSE)","v":{"$error":"#N/A"}}]
[{"$f":"VLOOKUP(B6402,Categorias!$A:$B,2,FALSE)","v":{"$error":"#N/A"}}]
[{"$f":"VLOOKUP(B6403,Categorias!$A:$B,2,FALSE)","v":{"$error":"#N/A"}}]
[{"$f":"VLOOKUP(B6404,Categorias!$A:$B,2,FALSE)","v":{"$error":"#N/A"}}]
[{"$f":"VLOOKUP(B6405,Categorias!$A:$B,2,FALSE)","v":{"$error":"#N/A"}}]
[{"$f":"VLOOKUP(B6406,Categorias!$A:$B,2,FALSE)","v":{"$error":"#N/A"}}]
[{"$f":"VLOOKUP(B6407,Categorias!$A:$B,2,FALSE)","v":{"$error":"#N/A"}}]
[{"$f":"VLOOKUP(B6408,Categorias!$A:$B,2,FALSE)","v":{"$error":"#N/A"}}]
[{"$f":"VLOOKUP(B6409,Categorias!$A:$B,2,FALSE)","v":{"$error":"#N/A"}}]
[{"$f":"VLOOKUP(B6410,Categorias!$A:$B,2,FALSE)","v":{"$error":"#N/A"}}]
[{"$f":"VLOOKUP(B6411,Categorias!$A:$B,2,FALSE)","v":{"$error":"#N/A"}}]
[{"$f":"VLOOKUP(B6412,Categorias!$A:$B,2,FALSE)","v":{"$error":"#N/A"}}]
[{"$f":"VLOOKUP(B6413,Categorias!$A:$B,2,FALSE)","v":{"$error":"#N/A"}}]
[{"$f":"VLOOKUP(B6414,Categorias!$A:$B,2,FALSE)","v":{"$error":"#N/A"}}]
[{"$f":"VLOOKUP(B6415,Categorias!$A:$B,2,FALSE)","v":{"$error":"#N/A"}}]
[{"$f":"VLOOKUP(B6416,Categorias!$A:$B,2,FALSE)","v":{"$error":"#N/A"}}]
[{"$f":"VLOOKUP(B6417,Categorias!$A:$B,2,FALSE)","v":{"$error":"#N/A"}}]
[{"$f":"VLOOKUP(B6418,Categorias!$A:$B,2,FALSE)","v":{"$error":"#N/A"}}]
[{"$f":"VLOOKUP(B6419,Categorias!$A:$B,2,FALSE)","v":{"$error":"#N/A"}}]
[{"$f":"VLOOKUP(B6420,Categorias!$A:$B,2,FALSE)","v":{"$error":"#N/A"}}]
[{"$f":"VLOOKUP(B6421,Categorias!$A:$B,2,FALSE)","v":{"$error":"#N/A"}}]
[{"$f":"VLOOKUP(B6422,Categorias!$A:$B,2,FALSE)","v":{"$error":"#N/A"}}]
[{"$f":"VLOOKUP(B6423,Categorias!$A:$B,2,FALSE)","v":{"$error":"#N/A"}}]
[{"$f":"VLOOKUP(B6424,Categorias!$A:$B,2,FALSE)","v":{"$error":"#N/A"}}]
[{"$f":"VLOOKUP(B6425,Categorias!$A:$B,2,FALSE)","v":{"$error":"#N/A"}}]
[{"$f":"VLOOKUP(B6426,Categorias!$A:$B,2,FALSE)","v":{"$error":"#N/A"}}]
[{"$f":"VLOOKUP(B6427,Categorias!$A:$B,2,FALSE)","v":{"$error":"#N/A"}}]
[{"$f":"VLOOKUP(B6428,Categorias!$A:$B,2,FALSE)","v":{"$error":"#N/A"}}]
[{"$f":"VLOOKUP(B6429,Categorias!$A:$B,2,FALSE)","v":{"$error":"#N/A"}}]
[{"$f":"VLOOKUP(B6430,Categorias!$A:$B,2,FALSE)","v":{"$error":"#N/A"}}]
[{"$f":"VLOOKUP(B6431,Categorias!$A:$B,2,FALSE)","v":{"$error":"#N/A"}}]
[{"$f":"VLOOKUP(B6432,Categorias!$A:$B,2,FALSE)","v":{"$error":"#N/A"}}]
[{"$f":"VLOOKUP(B6433,Categorias!$A:$B,2,FALSE)","v":{"$error":"#N/A"}}]
[{"$f":"VLOOKUP(B6434,Categorias!$A:$B,2,FALSE)","v":{"$error":"#N/A"}}]
[{"$f":"VLOOKUP(B6435,Categorias!$A:$B,2,FALSE)","v":{"$error":"#N/A"}}]
[{"$f":"VLOOKUP(B6436,Categorias!$A:$B,2,FALSE)","v":{"$error":"#N/A"}}]
[{"$f":"VLOOKUP(B6437,Categorias!$A:$B,2,FALSE)","v":{"$error":"#N/A"}}]
[{"$f":"VLOOKUP(B6438,Categorias!$A:$B,2,FALSE)","v":{"$error":"#N/A"}}]
[{"$f":"VLOOKUP(B6439,Categorias!$A:$B,2,FALSE)","v":{"$error":"#N/A"}}]
[{"$f":"VLOOKUP(B6440,Categorias!$A:$B,2,FALSE)","v":{"$error":"#N/A"}}]
[{"$f":"VLOOKUP(B6441,Categorias!$A:$B,2,FALSE)","v":{"$error":"#N/A"}}]
[{"$f":"VLOOKUP(B6442,Categorias!$A:$B,2,FALSE)","v":{"$error":"#N/A"}}]
[{"$f":"VLOOKUP(B6443,Categorias!$A:$B,2,FALSE)","v":{"$error":"#N/A"}}]
[{"$f":"VLOOKUP(B6444,Categorias!$A:$B,2,FALSE)","v":{"$error":"#N/A"}}]
[{"$f":"VLOOKUP(B6445,Categorias!$A:$B,2,FALSE)","v":{"$error":"#N/A"}}]
[{"$f":"VLOOKUP(B6446,Categorias!$A:$B,2,FALSE)","v":{"$error":"#N/A"}}]
[{"$f":"VLOOKUP(B6447,Categorias!$A:$B,2,FALSE)","v":{"$error":"#N/A"}}]
[{"$f":"VLOOKUP(B6448,Categorias!$A:$B,2,FALSE)","v":{"$error":"#N/A"}}]
[{"$f":"VLOOKUP(B6449,Categorias!$A:$B,2,FALSE)","v":{"$error":"#N/A"}}]
[{"$f":"VLOOKUP(B6450,Categorias!$A:$B,2,FALSE)","v":{"$error":"#N/A"}}]
[{"$f":"VLOOKUP(B6451,Categorias!$A:$B,2,FALSE)","v":{"$error":"#N/A"}}]
[{"$f":"VLOOKUP(B6452,Categorias!$A:$B,2,FALSE)","v":{"$error":"#N/A"}}]
[{"$f":"VLOOKUP(B6453,Categorias!$A:$B,2,FALSE)","v":{"$error":"#N/A"}}]
[{"$f":"VLOOKUP(B6454,Categorias!$A:$B,2,FALSE)","v":{"$error":"#N/A"}}]
[{"$f":"VLOOKUP(B6455,Categorias!$A:$B,2,FALSE)","v":{"$error":"#N/A"}}]
[{"$f":"VLOOKUP(B6456,Categorias!$A:$B,2,FALSE)","v":{"$error":"#N/A"}}]
[{"$f":"VLOOKUP(B6457,Categorias!$A:$B,2,FALSE)","v":{"$error":"#N/A"}}]
[{"$f":"VLOOKUP(B6458,Categorias!$A:$B,2,FALSE)","v":{"$error":"#N/A"}}]
[{"$f":"VLOOKUP(B6459,Categorias!$A:$B,2,FALSE)","v":{"$error":"#N/A"}}]
[{"$f":"VLOOKUP(B6460,Categorias!$A:$B,2,FALSE)","v":{"$error":"#N/A"}}]
[{"$f":"VLOOKUP(B6461,Categorias!$A:$B,2,FALSE)","v":{"$error":"#N/A"}}]
[{"$f":"VLOOKUP(B6462,Categorias!$A:$B,2,FALSE)","v":{"$error":"#N/A"}}]
[{"$f":"VLOOKUP(B6463,Categorias!$A:$B,2,FALSE)","v":{"$error":"#N/A"}}]
[{"$f":"VLOOKUP(B6464,Categorias!$A:$B,2,FALSE)","v":{"$error":"#N/A"}}]
[{"$f":"VLOOKUP(B6465,Categorias!$A:$B,2,FALSE)","v":{"$error":"#N/A"}}]
[{"$f":"VLOOKUP(B6466,Categorias!$A:$B,2,FALSE)","v":{"$error":"#N/A"}}]
[{"$f":"VLOOKUP(B6467,Categorias!$A:$B,2,FALSE)","v":{"$error":"#N/A"}}]
[{"$f":"VLOOKUP(B6468,Categorias!$A:$B,2,FALSE)","v":{"$error":"#N/A"}}]
[{"$f":"VLOOKUP(B6469,Categorias!$A:$B,2,FALSE)","v":{"$error":"#N/A"}}]
[{"$f":"VLOOKUP(B6470,Categorias!$A:$B,2,FALSE)","v":{"$error":"#N/A"}}]
[{"$f":"VLOOKUP(B6471,Categorias!$A:$B,2,FALSE)","v":{"$error":"#N/A"}}]
[{"$f":"VLOOKUP(B6472,Categorias!$A:$B,2,FALSE)","v":{"$error":"#N/A"}}]
[{"$f":"VLOOKUP(B6473,Categorias!$A:$B,2,FALSE)","v":{"$error":"#N/A"}}]
[{"$f":"VLOOKUP(B6474,Categorias!$A:$B,2,FALSE)","v":{"$error":"#N/A"}}]
[{"$f":"VLOOKUP(B6475,Categorias!$A:$B,2,FALSE)","v":{"$error":"#N/A"}}]
[{"$f":"VLOOKUP(B6476,Categorias!$A:$B,2,FALSE)","v":{"$error":"#N/A"}}]
[{"$f":"VLOOKUP(B6477,Categorias!$A:$B,2,FALSE)","v":{"$error":"#N/A"}}]
[{"$f":"VLOOKUP(B6478,Categorias!$A:$B,2,FALSE)","v":{"$error":"#N/A"}}]
[{"$f":"VLOOKUP(B6479,Categorias!$A:$B,2,FALSE)","v":{"$error":"#N/A"}}]
[{"$f":"VLOOKUP(B6480,Categorias!$A:$B,2,FALSE)","v":{"$error":"#N/A"}}]
[{"$f":"VLOOKUP(B6481,Categorias!$A:$B,2,FALSE)","v":{"$error":"#N/A"}}]
[{"$f":"VLOOKUP(B6482,Categorias!$A:$B,2,FALSE)","v":{"$error":"#N/A"}}]
[{"$f":"VLOOKUP(B6483,Categorias!$A:$B,2,FALSE)","v":{"$error":"#N/A"}}]
[{"$f":"VLOOKUP(B6484,Categorias!$A:$B,2,FALSE)","v":{"$error":"#N/A"}}]
[{"$f":"VLOOKUP(B6485,Categorias!$A:$B,2,FALSE)","v":{"$error":"#N/A"}}]
[{"$f":"VLOOKUP(B6486,Categorias!$A:$B,2,FALSE)","v":{"$error":"#N/A"}}]
[{"$f":"VLOOKUP(B6487,Categorias!$A:$B,2,FALSE)","v":{"$error":"#N/A"}}]
[{"$f":"VLOOKUP(B6488,Categorias!$A:$B,2,FALSE)","v":{"$error":"#N/A"}}]
[{"$f":"VLOOKUP(B6489,Categorias!$A:$B,2,FALSE)","v":{"$error":"#N/A"}}]
[{"$f":"VLOOKUP(B6490,Categorias!$A:$B,2,FALSE)","v":{"$error":"#N/A"}}]
[{"$f":"VLOOKUP(B6491,Categorias!$A:$B,2,FALSE)","v":{"$error":"#N/A"}}]
[{"$f":"VLOOKUP(B6492,Categorias!$A:$B,2,FALSE)","v":{"$error":"#N/A"}}]
[{"$f":"VLOOKUP(B6493,Categorias!$A:$B,2,FALSE)","v":{"$error":"#N/A"}}]
[{"$f":"VLOOKUP(B6494,Categorias!$A:$B,2,FALSE)","v":{"$error":"#N/A"}}]
[{"$f":"VLOOKUP(B6495,Categorias!$A:$B,2,FALSE)","v":{"$error":"#N/A"}}]
[{"$f":"VLOOKUP(B6496,Categorias!$A:$B,2,FALSE)","v":{"$error":"#N/A"}}]
[{"$f":"VLOOKUP(B6497,Categorias!$A:$B,2,FALSE)","v":{"$error":"#N/A"}}]
[{"$f":"VLOOKUP(B6498,Categorias!$A:$B,2,FALSE)","v":{"$error":"#N/A"}}]
[{"$f":"VLOOKUP(B6499,Categorias!$A:$B,2,FALSE)","v":{"$error":"#N/A"}}]
[{"$f":"VLOOKUP(B6500,Categorias!$A:$B,2,FALSE)","v":{"$error":"#N/A"}}]
[{"$f":"VLOOKUP(B6501,Categorias!$A:$B,2,FALSE)","v":{"$error":"#N/A"}}]
[{"$f":"VLOOKUP(B6502,Categorias!$A:$B,2,FALSE)","v":{"$error":"#N/A"}}]
[{"$f":"VLOOKUP(B6503,Categorias!$A:$B,2,FALSE)","v":{"$error":"#N/A"}}]
[{"$f":"VLOOKUP(B6504,Categorias!$A:$B,2,FALSE)","v":{"$error":"#N/A"}}]
[{"$f":"VLOOKUP(B6505,Categorias!$A:$B,2,FALSE)","v":{"$error":"#N/A"}}]
[{"$f":"VLOOKUP(B6506,Categorias!$A:$B,2,FALSE)","v":{"$error":"#N/A"}}]
[{"$f":"VLOOKUP(B6507,Categorias!$A:$B,2,FALSE)","v":{"$error":"#N/A"}}]
[{"$f":"VLOOKUP(B6508,Categorias!$A:$B,2,FALSE)","v":{"$error":"#N/A"}}]
[{"$f":"VLOOKUP(B6509,Categorias!$A:$B,2,FALSE)","v":{"$error":"#N/A"}}]
[{"$f":"VLOOKUP(B6510,Categorias!$A:$B,2,FALSE)","v":{"$error":"#N/A"}}]
[{"$f":"VLOOKUP(B6511,Categorias!$A:$B,2,FALSE)","v":{"$error":"#N/A"}}]
[{"$f":"VLOOKUP(B6512,Categorias!$A:$B,2,FALSE)","v":{"$error":"#N/A"}}]
[{"$f":"VLOOKUP(B6513,Categorias!$A:$B,2,FALSE)","v":{"$error":"#N/A"}}]
[{"$f":"VLOOKUP(B6514,Categorias!$A:$B,2,FALSE)","v":{"$error":"#N/A"}}]
[{"$f":"VLOOKUP(B6515,Categorias!$A:$B,2,FALSE)","v":{"$error":"#N/A"}}]
[{"$f":"VLOOKUP(B6516,Categorias!$A:$B,2,FALSE)","v":{"$error":"#N/A"}}]
[{"$f":"VLOOKUP(B6517,Categorias!$A:$B,2,FALSE)","v":{"$error":"#N/A"}}]
[{"$f":"VLOOKUP(B6518,Categorias!$A:$B,2,FALSE)","v":{"$error":"#N/A"}}]
[{"$f":"VLOOKUP(B6519,Categorias!$A:$B,2,FALSE)","v":{"$error":"#N/A"}}]
[{"$f":"VLOOKUP(B6520,Categorias!$A:$B,2,FALSE)","v":{"$error":"#N/A"}}]
[{"$f":"VLOOKUP(B6521,Categorias!$A:$B,2,FALSE)","v":{"$error":"#N/A"}}]
[{"$f":"VLOOKUP(B6522,Categorias!$A:$B,2,FALSE)","v":{"$error":"#N/A"}}]
[{"$f":"VLOOKUP(B6523,Categorias!$A:$B,2,FALSE)","v":{"$error":"#N/A"}}]
[{"$f":"VLOOKUP(B6524,Categorias!$A:$B,2,FALSE)","v":{"$error":"#N/A"}}]
[{"$f":"VLOOKUP(B6525,Categorias!$A:$B,2,FALSE)","v":{"$error":"#N/A"}}]
[{"$f":"VLOOKUP(B6526,Categorias!$A:$B,2,FALSE)","v":{"$error":"#N/A"}}]
[{"$f":"VLOOKUP(B6527,Categorias!$A:$B,2,FALSE)","v":{"$error":"#N/A"}}]
[{"$f":"VLOOKUP(B6528,Categorias!$A:$B,2,FALSE)","v":{"$error":"#N/A"}}]
[{"$f":"VLOOKUP(B6529,Categorias!$A:$B,2,FALSE)","v":{"$error":"#N/A"}}]
[{"$f":"VLOOKUP(B6530,Categorias!$A:$B,2,FALSE)","v":{"$error":"#N/A"}}]
[{"$f":"VLOOKUP(B6531,Categorias!$A:$B,2,FALSE)","v":{"$error":"#N/A"}}]
[{"$f":"VLOOKUP(B6532,Categorias!$A:$B,2,FALSE)","v":{"$error":"#N/A"}}]
[{"$f":"VLOOKUP(B6533,Categorias!$A:$B,2,FALSE)","v":{"$error":"#N/A"}}]
[{"$f":"VLOOKUP(B6534,Categorias!$A:$B,2,FALSE)","v":{"$error":"#N/A"}}]
[{"$f":"VLOOKUP(B6535,Categorias!$A:$B,2,FALSE)","v":{"$error":"#N/A"}}]
[{"$f":"VLOOKUP(B6536,Categorias!$A:$B,2,FALSE)","v":{"$error":"#N/A"}}]
[{"$f":"VLOOKUP(B6537,Categorias!$A:$B,2,FALSE)","v":{"$error":"#N/A"}}]
[{"$f":"VLOOKUP(B6538,Categorias!$A:$B,2,FALSE)","v":{"$error":"#N/A"}}]
[{"$f":"VLOOKUP(B6539,Categorias!$A:$B,2,FALSE)","v":{"$error":"#N/A"}}]
[{"$f":"VLOOKUP(B6540,Categorias!$A:$B,2,FALSE)","v":{"$error":"#N/A"}}]
[{"$f":"VLOOKUP(B6541,Categorias!$A:$B,2,FALSE)","v":{"$error":"#N/A"}}]
[{"$f":"VLOOKUP(B6542,Categorias!$A:$B,2,FALSE)","v":{"$error":"#N/A"}}]
[{"$f":"VLOOKUP(B6543,Categorias!$A:$B,2,FALSE)","v":{"$error":"#N/A"}}]
[{"$f":"VLOOKUP(B6544,Categorias!$A:$B,2,FALSE)","v":{"$error":"#N/A"}}]
[{"$f":"VLOOKUP(B6545,Categorias!$A:$B,2,FALSE)","v":{"$error":"#N/A"}}]
[{"$f":"VLOOKUP(B6546,Categorias!$A:$B,2,FALSE)","v":{"$error":"#N/A"}}]
[{"$f":"VLOOKUP(B6547,Categorias!$A:$B,2,FALSE)","v":{"$error":"#N/A"}}]
[{"$f":"VLOOKUP(B6548,Categorias!$A:$B,2,FALSE)","v":{"$error":"#N/A"}}]
[{"$f":"VLOOKUP(B6549,Categorias!$A:$B,2,FALSE)","v":{"$error":"#N/A"}}]
[{"$f":"VLOOKUP(B6550,Categorias!$A:$B,2,FALSE)","v":{"$error":"#N/A"}}]
[{"$f":"VLOOKUP(B6551,Categorias!$A:$B,2,FALSE)","v":{"$error":"#N/A"}}]
[{"$f":"VLOOKUP(B6552,Categorias!$A:$B,2,FALSE)","v":{"$error":"#N/A"}}]
[{"$f":"VLOOKUP(B6553,Categorias!$A:$B,2,FALSE)","v":{"$error":"#N/A"}}]
[{"$f":"VLOOKUP(B6554,Categorias!$A:$B,2,FALSE)","v":{"$error":"#N/A"}}]
[{"$f":"VLOOKUP(B6555,Categorias!$A:$B,2,FALSE)","v":{"$error":"#N/A"}}]
[{"$f":"VLOOKUP(B6556,Categorias!$A:$B,2,FALSE)","v":{"$error":"#N/A"}}]
[{"$f":"VLOOKUP(B6557,Categorias!$A:$B,2,FALSE)","v":{"$error":"#N/A"}}]
[{"$f":"VLOOKUP(B6558,Categorias!$A:$B,2,FALSE)","v":{"$error":"#N/A"}}]
[{"$f":"VLOOKUP(B6559,Categorias!$A:$B,2,FALSE)","v":{"$error":"#N/A"}}]
[{"$f":"VLOOKUP(B6560,Categorias!$A:$B,2,FALSE)","v":{"$error":"#N/A"}}]
[{"$f":"VLOOKUP(B6561,Categorias!$A:$B,2,FALSE)","v":{"$error":"#N/A"}}]
[{"$f":"VLOOKUP(B6562,Categorias!$A:$B,2,FALSE)","v":{"$error":"#N/A"}}]
[{"$f":"VLOOKUP(B6563,Categorias!$A:$B,2,FALSE)","v":{"$error":"#N/A"}}]
[{"$f":"VLOOKUP(B6564,Categorias!$A:$B,2,FALSE)","v":{"$error":"#N/A"}}]
[{"$f":"VLOOKUP(B6565,Categorias!$A:$B,2,FALSE)","v":{"$error":"#N/A"}}]
[{"$f":"VLOOKUP(B6566,Categorias!$A:$B,2,FALSE)","v":{"$error":"#N/A"}}]
[{"$f":"VLOOKUP(B6567,Categorias!$A:$B,2,FALSE)","v":{"$error":"#N/A"}}]
[{"$f":"VLOOKUP(B6568,Categorias!$A:$B,2,FALSE)","v":{"$error":"#N/A"}}]
[{"$f":"VLOOKUP(B6569,Categorias!$A:$B,2,FALSE)","v":{"$error":"#N/A"}}]
[{"$f":"VLOOKUP(B6570,Categorias!$A:$B,2,FALSE)","v":{"$error":"#N/A"}}]
[{"$f":"VLOOKUP(B6571,Categorias!$A:$B,2,FALSE)","v":{"$error":"#N/A"}}]
[{"$f":"VLOOKUP(B6572,Categorias!$A:$B,2,FALSE)","v":{"$error":"#N/A"}}]
[{"$f":"VLOOKUP(B6573,Categorias!$A:$B,2,FALSE)","v":{"$error":"#N/A"}}]
[{"$f":"VLOOKUP(B6574,Categorias!$A:$B,2,FALSE)","v":{"$error":"#N/A"}}]
[{"$f":"VLOOKUP(B6575,Categorias!$A:$B,2,FALSE)","v":{"$error":"#N/A"}}]
[{"$f":"VLOOKUP(B6576,Categorias!$A:$B,2,FALSE)","v":{"$error":"#N/A"}}]
[{"$f":"VLOOKUP(B6577,Categorias!$A:$B,2,FALSE)","v":{"$error":"#N/A"}}]
[{"$f":"VLOOKUP(B6578,Categorias!$A:$B,2,FALSE)","v":{"$error":"#N/A"}}]
[{"$f":"VLOOKUP(B6579,Categorias!$A:$B,2,FALSE)","v":{"$error":"#N/A"}}]
[{"$f":"VLOOKUP(B6580,Categorias!$A:$B,2,FALSE)","v":{"$error":"#N/A"}}]
[{"$f":"VLOOKUP(B6581,Categorias!$A:$B,2,FALSE)","v":{"$error":"#N/A"}}]
[{"$f":"VLOOKUP(B6582,Categorias!$A:$B,2,FALSE)","v":{"$error":"#N/A"}}]
[{"$f":"VLOOKUP(B6583,Categorias!$A:$B,2,FALSE)","v":{"$error":"#N/A"}}]
[{"$f":"VLOOKUP(B6584,Categorias!$A:$B,2,FALSE)","v":{"$error":"#N/A"}}]
[{"$f":"VLOOKUP(B6585,Categorias!$A:$B,2,FALSE)","v":{"$error":"#N/A"}}]
[{"$f":"VLOOKUP(B6586,Categorias!$A:$B,2,FALSE)","v":{"$error":"#N/A"}}]
[{"$f":"VLOOKUP(B6587,Categorias!$A:$B,2,FALSE)","v":{"$error":"#N/A"}}]
[{"$f":"VLOOKUP(B6588,Categorias!$A:$B,2,FALSE)","v":{"$error":"#N/A"}}]
[{"$f":"VLOOKUP(B6589,Categorias!$A:$B,2,FALSE)","v":{"$error":"#N/A"}}]
[{"$f":"VLOOKUP(B6590,Categorias!$A:$B,2,FALSE)","v":{"$error":"#N/A"}}]
[{"$f":"VLOOKUP(B6591,Categorias!$A:$B,2,FALSE)","v":{"$error":"#N/A"}}]
[{"$f":"VLOOKUP(B6592,Categorias!$A:$B,2,FALSE)","v":{"$error":"#N/A"}}]
[{"$f":"VLOOKUP(B6593,Categorias!$A:$B,2,FALSE)","v":{"$error":"#N/A"}}]
[{"$f":"VLOOKUP(B6594,Categorias!$A:$B,2,FALSE)","v":{"$error":"#N/A"}}]
[{"$f":"VLOOKUP(B6595,Categorias!$A:$B,2,FALSE)","v":{"$error":"#N/A"}}]
[{"$f":"VLOOKUP(B6596,Categorias!$A:$B,2,FALSE)","v":{"$error":"#N/A"}}]
[{"$f":"VLOOKUP(B6597,Categorias!$A:$B,2,FALSE)","v":{"$error":"#N/A"}}]
[{"$f":"VLOOKUP(B6598,Categorias!$A:$B,2,FALSE)","v":{"$error":"#N/A"}}]
[{"$f":"VLOOKUP(B6599,Categorias!$A:$B,2,FALSE)","v":{"$error":"#N/A"}}]
[{"$f":"VLOOKUP(B6600,Categorias!$A:$B,2,FALSE)","v":{"$error":"#N/A"}}]
[{"$f":"VLOOKUP(B6601,Categorias!$A:$B,2,FALSE)","v":{"$error":"#N/A"}}]
[{"$f":"VLOOKUP(B6602,Categorias!$A:$B,2,FALSE)","v":{"$error":"#N/A"}}]
[{"$f":"VLOOKUP(B6603,Categorias!$A:$B,2,FALSE)","v":{"$error":"#N/A"}}]
[{"$f":"VLOOKUP(B6604,Categorias!$A:$B,2,FALSE)","v":{"$error":"#N/A"}}]
[{"$f":"VLOOKUP(B6605,Categorias!$A:$B,2,FALSE)","v":{"$error":"#N/A"}}]
[{"$f":"VLOOKUP(B6606,Categorias!$A:$B,2,FALSE)","v":{"$error":"#N/A"}}]
[{"$f":"VLOOKUP(B6607,Categorias!$A:$B,2,FALSE)","v":{"$error":"#N/A"}}]
[{"$f":"VLOOKUP(B6608,Categorias!$A:$B,2,FALSE)","v":{"$error":"#N/A"}}]
[{"$f":"VLOOKUP(B6609,Categorias!$A:$B,2,FALSE)","v":{"$error":"#N/A"}}]
[{"$f":"VLOOKUP(B6610,Categorias!$A:$B,2,FALSE)","v":{"$error":"#N/A"}}]
[{"$f":"VLOOKUP(B6611,Categorias!$A:$B,2,FALSE)","v":{"$error":"#N/A"}}]
[{"$f":"VLOOKUP(B6612,Categorias!$A:$B,2,FALSE)","v":{"$error":"#N/A"}}]
[{"$f":"VLOOKUP(B6613,Categorias!$A:$B,2,FALSE)","v":{"$error":"#N/A"}}]
[{"$f":"VLOOKUP(B6614,Categorias!$A:$B,2,FALSE)","v":{"$error":"#N/A"}}]
[{"$f":"VLOOKUP(B6615,Categorias!$A:$B,2,FALSE)","v":{"$error":"#N/A"}}]
[{"$f":"VLOOKUP(B6616,Categorias!$A:$B,2,FALSE)","v":{"$error":"#N/A"}}]
[{"$f":"VLOOKUP(B6617,Categorias!$A:$B,2,FALSE)","v":{"$error":"#N/A"}}]
[{"$f":"VLOOKUP(B6618,Categorias!$A:$B,2,FALSE)","v":{"$error":"#N/A"}}]
[{"$f":"VLOOKUP(B6619,Categorias!$A:$B,2,FALSE)","v":{"$error":"#N/A"}}]
[{"$f":"VLOOKUP(B6620,Categorias!$A:$B,2,FALSE)","v":{"$error":"#N/A"}}]
[{"$f":"VLOOKUP(B6621,Categorias!$A:$B,2,FALSE)","v":{"$error":"#N/A"}}]
[{"$f":"VLOOKUP(B6622,Categorias!$A:$B,2,FALSE)","v":{"$error":"#N/A"}}]
[{"$f":"VLOOKUP(B6623,Categorias!$A:$B,2,FALSE)","v":{"$error":"#N/A"}}]
[{"$f":"VLOOKUP(B6624,Categorias!$A:$B,2,FALSE)","v":{"$error":"#N/A"}}]
[{"$f":"VLOOKUP(B6625,Categorias!$A:$B,2,FALSE)","v":{"$error":"#N/A"}}]
[{"$f":"VLOOKUP(B6626,Categorias!$A:$B,2,FALSE)","v":{"$error":"#N/A"}}]
[{"$f":"VLOOKUP(B6627,Categorias!$A:$B,2,FALSE)","v":{"$error":"#N/A"}}]
[{"$f":"VLOOKUP(B6628,Categorias!$A:$B,2,FALSE)","v":{"$error":"#N/A"}}]
[{"$f":"VLOOKUP(B6629,Categorias!$A:$B,2,FALSE)","v":{"$error":"#N/A"}}]
[{"$f":"VLOOKUP(B6630,Categorias!$A:$B,2,FALSE)","v":{"$error":"#N/A"}}]
[{"$f":"VLOOKUP(B6631,Categorias!$A:$B,2,FALSE)","v":{"$error":"#N/A"}}]
[{"$f":"VLOOKUP(B6632,Categorias!$A:$B,2,FALSE)","v":{"$error":"#N/A"}}]
[{"$f":"VLOOKUP(B6633,Categorias!$A:$B,2,FALSE)","v":{"$error":"#N/A"}}]
[{"$f":"VLOOKUP(B6634,Categorias!$A:$B,2,FALSE)","v":{"$error":"#N/A"}}]
[{"$f":"VLOOKUP(B6635,Categorias!$A:$B,2,FALSE)","v":{"$error":"#N/A"}}]
[{"$f":"VLOOKUP(B6636,Categorias!$A:$B,2,FALSE)","v":{"$error":"#N/A"}}]
[{"$f":"VLOOKUP(B6637,Categorias!$A:$B,2,FALSE)","v":{"$error":"#N/A"}}]
[{"$f":"VLOOKUP(B6638,Categorias!$A:$B,2,FALSE)","v":{"$error":"#N/A"}}]
[{"$f":"VLOOKUP(B6639,Categorias!$A:$B,2,FALSE)","v":{"$error":"#N/A"}}]
[{"$f":"VLOOKUP(B6640,Categorias!$A:$B,2,FALSE)","v":{"$error":"#N/A"}}]
[{"$f":"VLOOKUP(B6641,Categorias!$A:$B,2,FALSE)","v":{"$error":"#N/A"}}]
[{"$f":"VLOOKUP(B6642,Categorias!$A:$B,2,FALSE)","v":{"$error":"#N/A"}}]
[{"$f":"VLOOKUP(B6643,Categorias!$A:$B,2,FALSE)","v":{"$error":"#N/A"}}]
[{"$f":"VLOOKUP(B6644,Categorias!$A:$B,2,FALSE)","v":{"$error":"#N/A"}}]
[{"$f":"VLOOKUP(B6645,Categorias!$A:$B,2,FALSE)","v":{"$error":"#N/A"}}]
[{"$f":"VLOOKUP(B6646,Categorias!$A:$B,2,FALSE)","v":{"$error":"#N/A"}}]
[{"$f":"VLOOKUP(B6647,Categorias!$A:$B,2,FALSE)","v":{"$error":"#N/A"}}]
[{"$f":"VLOOKUP(B6648,Categorias!$A:$B,2,FALSE)","v":{"$error":"#N/A"}}]
[{"$f":"VLOOKUP(B6649,Categorias!$A:$B,2,FALSE)","v":{"$error":"#N/A"}}]
[{"$f":"VLOOKUP(B6650,Categorias!$A:$B,2,FALSE)","v":{"$error":"#N/A"}}]
[{"$f":"VLOOKUP(B6651,Categorias!$A:$B,2,FALSE)","v":{"$error":"#N/A"}}]
[{"$f":"VLOOKUP(B6652,Categorias!$A:$B,2,FALSE)","v":{"$error":"#N/A"}}]
[{"$f":"VLOOKUP(B6653,Categorias!$A:$B,2,FALSE)","v":{"$error":"#N/A"}}]
[{"$f":"VLOOKUP(B6654,Categorias!$A:$B,2,FALSE)","v":{"$error":"#N/A"}}]
[{"$f":"VLOOKUP(B6655,Categorias!$A:$B,2,FALSE)","v":{"$error":"#N/A"}}]
[{"$f":"VLOOKUP(B6656,Categorias!$A:$B,2,FALSE)","v":{"$error":"#N/A"}}]
[{"$f":"VLOOKUP(B6657,Categorias!$A:$B,2,FALSE)","v":{"$error":"#N/A"}}]
[{"$f":"VLOOKUP(B6658,Categorias!$A:$B,2,FALSE)","v":{"$error":"#N/A"}}]
[{"$f":"VLOOKUP(B6659,Categorias!$A:$B,2,FALSE)","v":{"$error":"#N/A"}}]
[{"$f":"VLOOKUP(B6660,Categorias!$A:$B,2,FALSE)","v":{"$error":"#N/A"}}]
[{"$f":"VLOOKUP(B6661,Categorias!$A:$B,2,FALSE)","v":{"$error":"#N/A"}}]
[{"$f":"VLOOKUP(B6662,Categorias!$A:$B,2,FALSE)","v":{"$error":"#N/A"}}]
[{"$f":"VLOOKUP(B6663,Categorias!$A:$B,2,FALSE)","v":{"$error":"#N/A"}}]
[{"$f":"VLOOKUP(B6664,Categorias!$A:$B,2,FALSE)","v":{"$error":"#N/A"}}]
[{"$f":"VLOOKUP(B6665,Categorias!$A:$B,2,FALSE)","v":{"$error":"#N/A"}}]
[{"$f":"VLOOKUP(B6666,Categorias!$A:$B,2,FALSE)","v":{"$error":"#N/A"}}]
[{"$f":"VLOOKUP(B6667,Categorias!$A:$B,2,FALSE)","v":{"$error":"#N/A"}}]
[{"$f":"VLOOKUP(B6668,Categorias!$A:$B,2,FALSE)","v":{"$error":"#N/A"}}]
[{"$f":"VLOOKUP(B6669,Categorias!$A:$B,2,FALSE)","v":{"$error":"#N/A"}}]
[{"$f":"VLOOKUP(B6670,Categorias!$A:$B,2,FALSE)","v":{"$error":"#N/A"}}]
[{"$f":"VLOOKUP(B6671,Categorias!$A:$B,2,FALSE)","v":{"$error":"#N/A"}}]
[{"$f":"VLOOKUP(B6672,Categorias!$A:$B,2,FALSE)","v":{"$error":"#N/A"}}]
[{"$f":"VLOOKUP(B6673,Categorias!$A:$B,2,FALSE)","v":{"$error":"#N/A"}}]
[{"$f":"VLOOKUP(B6674,Categorias!$A:$B,2,FALSE)","v":{"$error":"#N/A"}}]
[{"$f":"VLOOKUP(B6675,Categorias!$A:$B,2,FALSE)","v":{"$error":"#N/A"}}]
[{"$f":"VLOOKUP(B6676,Categorias!$A:$B,2,FALSE)","v":{"$error":"#N/A"}}]
[{"$f":"VLOOKUP(B6677,Categorias!$A:$B,2,FALSE)","v":{"$error":"#N/A"}}]
[{"$f":"VLOOKUP(B6678,Categorias!$A:$B,2,FALSE)","v":{"$error":"#N/A"}}]
[{"$f":"VLOOKUP(B6679,Categorias!$A:$B,2,FALSE)","v":{"$error":"#N/A"}}]
[{"$f":"VLOOKUP(B6680,Categorias!$A:$B,2,FALSE)","v":{"$error":"#N/A"}}]
[{"$f":"VLOOKUP(B6681,Categorias!$A:$B,2,FALSE)","v":{"$error":"#N/A"}}]
[{"$f":"VLOOKUP(B6682,Categorias!$A:$B,2,FALSE)","v":{"$error":"#N/A"}}]
[{"$f":"VLOOKUP(B6683,Categorias!$A:$B,2,FALSE)","v":{"$error":"#N/A"}}]
[{"$f":"VLOOKUP(B6684,Categorias!$A:$B,2,FALSE)","v":{"$error":"#N/A"}}]
[{"$f":"VLOOKUP(B6685,Categorias!$A:$B,2,FALSE)","v":{"$error":"#N/A"}}]
[{"$f":"VLOOKUP(B6686,Categorias!$A:$B,2,FALSE)","v":{"$error":"#N/A"}}]
[{"$f":"VLOOKUP(B6687,Categorias!$A:$B,2,FALSE)","v":{"$error":"#N/A"}}]
[{"$f":"VLOOKUP(B6688,Categorias!$A:$B,2,FALSE)","v":{"$error":"#N/A"}}]
[{"$f":"VLOOKUP(B6689,Categorias!$A:$B,2,FALSE)","v":{"$error":"#N/A"}}]
[{"$f":"VLOOKUP(B6690,Categorias!$A:$B,2,FALSE)","v":{"$error":"#N/A"}}]
[{"$f":"VLOOKUP(B6691,Categorias!$A:$B,2,FALSE)","v":{"$error":"#N/A"}}]
[{"$f":"VLOOKUP(B6692,Categorias!$A:$B,2,FALSE)","v":{"$error":"#N/A"}}]
[{"$f":"VLOOKUP(B6693,Categorias!$A:$B,2,FALSE)","v":{"$error":"#N/A"}}]
[{"$f":"VLOOKUP(B6694,Categorias!$A:$B,2,FALSE)","v":{"$error":"#N/A"}}]
[{"$f":"VLOOKUP(B6695,Categorias!$A:$B,2,FALSE)","v":{"$error":"#N/A"}}]
[{"$f":"VLOOKUP(B6696,Categorias!$A:$B,2,FALSE)","v":{"$error":"#N/A"}}]
[{"$f":"VLOOKUP(B6697,Categorias!$A:$B,2,FALSE)","v":{"$error":"#N/A"}}]
[{"$f":"VLOOKUP(B6698,Categorias!$A:$B,2,FALSE)","v":{"$error":"#N/A"}}]
[{"$f":"VLOOKUP(B6699,Categorias!$A:$B,2,FALSE)","v":{"$error":"#N/A"}}]
[{"$f":"VLOOKUP(B6700,Categorias!$A:$B,2,FALSE)","v":{"$error":"#N/A"}}]
[{"$f":"VLOOKUP(B6701,Categorias!$A:$B,2,FALSE)","v":{"$error":"#N/A"}}]
[{"$f":"VLOOKUP(B6702,Categorias!$A:$B,2,FALSE)","v":{"$error":"#N/A"}}]
[{"$f":"VLOOKUP(B6703,Categorias!$A:$B,2,FALSE)","v":{"$error":"#N/A"}}]
[{"$f":"VLOOKUP(B6704,Categorias!$A:$B,2,FALSE)","v":{"$error":"#N/A"}}]
[{"$f":"VLOOKUP(B6705,Categorias!$A:$B,2,FALSE)","v":{"$error":"#N/A"}}]
[{"$f":"VLOOKUP(B6706,Categorias!$A:$B,2,FALSE)","v":{"$error":"#N/A"}}]
[{"$f":"VLOOKUP(B6707,Categorias!$A:$B,2,FALSE)","v":{"$error":"#N/A"}}]
[{"$f":"VLOOKUP(B6708,Categorias!$A:$B,2,FALSE)","v":{"$error":"#N/A"}}]
[{"$f":"VLOOKUP(B6709,Categorias!$A:$B,2,FALSE)","v":{"$error":"#N/A"}}]
[{"$f":"VLOOKUP(B6710,Categorias!$A:$B,2,FALSE)","v":{"$error":"#N/A"}}]
[{"$f":"VLOOKUP(B6711,Categorias!$A:$B,2,FALSE)","v":{"$error":"#N/A"}}]
[{"$f":"VLOOKUP(B6712,Categorias!$A:$B,2,FALSE)","v":{"$error":"#N/A"}}]
[{"$f":"VLOOKUP(B6713,Categorias!$A:$B,2,FALSE)","v":{"$error":"#N/A"}}]
[{"$f":"VLOOKUP(B6714,Categorias!$A:$B,2,FALSE)","v":{"$error":"#N/A"}}]
[{"$f":"VLOOKUP(B6715,Categorias!$A:$B,2,FALSE)","v":{"$error":"#N/A"}}]
[{"$f":"VLOOKUP(B6716,Categorias!$A:$B,2,FALSE)","v":{"$error":"#N/A"}}]
[{"$f":"VLOOKUP(B6717,Categorias!$A:$B,2,FALSE)","v":{"$error":"#N/A"}}]
[{"$f":"VLOOKUP(B6718,Categorias!$A:$B,2,FALSE)","v":{"$error":"#N/A"}}]
[{"$f":"VLOOKUP(B6719,Categorias!$A:$B,2,FALSE)","v":{"$error":"#N/A"}}]
[{"$f":"VLOOKUP(B6720,Categorias!$A:$B,2,FALSE)","v":{"$error":"#N/A"}}]
[{"$f":"VLOOKUP(B6721,Categorias!$A:$B,2,FALSE)","v":{"$error":"#N/A"}}]
[{"$f":"VLOOKUP(B6722,Categorias!$A:$B,2,FALSE)","v":{"$error":"#N/A"}}]
[{"$f":"VLOOKUP(B6723,Categorias!$A:$B,2,FALSE)","v":{"$error":"#N/A"}}]
[{"$f":"VLOOKUP(B6724,Categorias!$A:$B,2,FALSE)","v":{"$error":"#N/A"}}]
[{"$f":"VLOOKUP(B6725,Categorias!$A:$B,2,FALSE)","v":{"$error":"#N/A"}}]
[{"$f":"VLOOKUP(B6726,Categorias!$A:$B,2,FALSE)","v":{"$error":"#N/A"}}]
[{"$f":"VLOOKUP(B6727,Categorias!$A:$B,2,FALSE)","v":{"$error":"#N/A"}}]
[{"$f":"VLOOKUP(B6728,Categorias!$A:$B,2,FALSE)","v":{"$error":"#N/A"}}]
[{"$f":"VLOOKUP(B6729,Categorias!$A:$B,2,FALSE)","v":{"$error":"#N/A"}}]
[{"$f":"VLOOKUP(B6730,Categorias!$A:$B,2,FALSE)","v":{"$error":"#N/A"}}]
[{"$f":"VLOOKUP(B6731,Categorias!$A:$B,2,FALSE)","v":{"$error":"#N/A"}}]
[{"$f":"VLOOKUP(B6732,Categorias!$A:$B,2,FALSE)","v":{"$error":"#N/A"}}]
[{"$f":"VLOOKUP(B6733,Categorias!$A:$B,2,FALSE)","v":{"$error":"#N/A"}}]
[{"$f":"VLOOKUP(B6734,Categorias!$A:$B,2,FALSE)","v":{"$error":"#N/A"}}]
[{"$f":"VLOOKUP(B6735,Categorias!$A:$B,2,FALSE)","v":{"$error":"#N/A"}}]
[{"$f":"VLOOKUP(B6736,Categorias!$A:$B,2,FALSE)","v":{"$error":"#N/A"}}]
[{"$f":"VLOOKUP(B6737,Categorias!$A:$B,2,FALSE)","v":{"$error":"#N/A"}}]
[{"$f":"VLOOKUP(B6738,Categorias!$A:$B,2,FALSE)","v":{"$error":"#N/A"}}]
[{"$f":"VLOOKUP(B6739,Categorias!$A:$B,2,FALSE)","v":{"$error":"#N/A"}}]
[{"$f":"VLOOKUP(B6740,Categorias!$A:$B,2,FALSE)","v":{"$error":"#N/A"}}]
[{"$f":"VLOOKUP(B6741,Categorias!$A:$B,2,FALSE)","v":{"$error":"#N/A"}}]
[{"$f":"VLOOKUP(B6742,Categorias!$A:$B,2,FALSE)","v":{"$error":"#N/A"}}]
[{"$f":"VLOOKUP(B6743,Categorias!$A:$B,2,FALSE)","v":{"$error":"#N/A"}}]
[{"$f":"VLOOKUP(B6744,Categorias!$A:$B,2,FALSE)","v":{"$error":"#N/A"}}]
[{"$f":"VLOOKUP(B6745,Categorias!$A:$B,2,FALSE)","v":{"$error":"#N/A"}}]
[{"$f":"VLOOKUP(B6746,Categorias!$A:$B,2,FALSE)","v":{"$error":"#N/A"}}]
[{"$f":"VLOOKUP(B6747,Categorias!$A:$B,2,FALSE)","v":{"$error":"#N/A"}}]
[{"$f":"VLOOKUP(B6748,Categorias!$A:$B,2,FALSE)","v":{"$error":"#N/A"}}]
[{"$f":"VLOOKUP(B6749,Categorias!$A:$B,2,FALSE)","v":{"$error":"#N/A"}}]
[{"$f":"VLOOKUP(B6750,Categorias!$A:$B,2,FALSE)","v":{"$error":"#N/A"}}]
[{"$f":"VLOOKUP(B6751,Categorias!$A:$B,2,FALSE)","v":{"$error":"#N/A"}}]
[{"$f":"VLOOKUP(B6752,Categorias!$A:$B,2,FALSE)","v":{"$error":"#N/A"}}]
[{"$f":"VLOOKUP(B6753,Categorias!$A:$B,2,FALSE)","v":{"$error":"#N/A"}}]
[{"$f":"VLOOKUP(B6754,Categorias!$A:$B,2,FALSE)","v":{"$error":"#N/A"}}]
[{"$f":"VLOOKUP(B6755,Categorias!$A:$B,2,FALSE)","v":{"$error":"#N/A"}}]
[{"$f":"VLOOKUP(B6756,Categorias!$A:$B,2,FALSE)","v":{"$error":"#N/A"}}]
[{"$f":"VLOOKUP(B6757,Categorias!$A:$B,2,FALSE)","v":{"$error":"#N/A"}}]
[{"$f":"VLOOKUP(B6758,Categorias!$A:$B,2,FALSE)","v":{"$error":"#N/A"}}]
[{"$f":"VLOOKUP(B6759,Categorias!$A:$B,2,FALSE)","v":{"$error":"#N/A"}}]
[{"$f":"VLOOKUP(B6760,Categorias!$A:$B,2,FALSE)","v":{"$error":"#N/A"}}]
[{"$f":"VLOOKUP(B6761,Categorias!$A:$B,2,FALSE)","v":{"$error":"#N/A"}}]
[{"$f":"VLOOKUP(B6762,Categorias!$A:$B,2,FALSE)","v":{"$error":"#N/A"}}]
[{"$f":"VLOOKUP(B6763,Categorias!$A:$B,2,FALSE)","v":{"$error":"#N/A"}}]
[{"$f":"VLOOKUP(B6764,Categorias!$A:$B,2,FALSE)","v":{"$error":"#N/A"}}]
[{"$f":"VLOOKUP(B6765,Categorias!$A:$B,2,FALSE)","v":{"$error":"#N/A"}}]
[{"$f":"VLOOKUP(B6766,Categorias!$A:$B,2,FALSE)","v":{"$error":"#N/A"}}]
[{"$f":"VLOOKUP(B6767,Categorias!$A:$B,2,FALSE)","v":{"$error":"#N/A"}}]
[{"$f":"VLOOKUP(B6768,Categorias!$A:$B,2,FALSE)","v":{"$error":"#N/A"}}]
[{"$f":"VLOOKUP(B6769,Categorias!$A:$B,2,FALSE)","v":{"$error":"#N/A"}}]
[{"$f":"VLOOKUP(B6770,Categorias!$A:$B,2,FALSE)","v":{"$error":"#N/A"}}]
[{"$f":"VLOOKUP(B6771,Categorias!$A:$B,2,FALSE)","v":{"$error":"#N/A"}}]
[{"$f":"VLOOKUP(B6772,Categorias!$A:$B,2,FALSE)","v":{"$error":"#N/A"}}]
[{"$f":"VLOOKUP(B6773,Categorias!$A:$B,2,FALSE)","v":{"$error":"#N/A"}}]
[{"$f":"VLOOKUP(B6774,Categorias!$A:$B,2,FALSE)","v":{"$error":"#N/A"}}]
[{"$f":"VLOOKUP(B6775,Categorias!$A:$B,2,FALSE)","v":{"$error":"#N/A"}}]
[{"$f":"VLOOKUP(B6776,Categorias!$A:$B,2,FALSE)","v":{"$error":"#N/A"}}]
[{"$f":"VLOOKUP(B6777,Categorias!$A:$B,2,FALSE)","v":{"$error":"#N/A"}}]
[{"$f":"VLOOKUP(B6778,Categorias!$A:$B,2,FALSE)","v":{"$error":"#N/A"}}]
[{"$f":"VLOOKUP(B6779,Categorias!$A:$B,2,FALSE)","v":{"$error":"#N/A"}}]
[{"$f":"VLOOKUP(B6780,Categorias!$A:$B,2,FALSE)","v":{"$error":"#N/A"}}]
[{"$f":"VLOOKUP(B6781,Categorias!$A:$B,2,FALSE)","v":{"$error":"#N/A"}}]
[{"$f":"VLOOKUP(B6782,Categorias!$A:$B,2,FALSE)","v":{"$error":"#N/A"}}]
[{"$f":"VLOOKUP(B6783,Categorias!$A:$B,2,FALSE)","v":{"$error":"#N/A"}}]
[{"$f":"VLOOKUP(B6784,Categorias!$A:$B,2,FALSE)","v":{"$error":"#N/A"}}]
[{"$f":"VLOOKUP(B6785,Categorias!$A:$B,2,FALSE)","v":{"$error":"#N/A"}}]
[{"$f":"VLOOKUP(B6786,Categorias!$A:$B,2,FALSE)","v":{"$error":"#N/A"}}]
[{"$f":"VLOOKUP(B6787,Categorias!$A:$B,2,FALSE)","v":{"$error":"#N/A"}}]
[{"$f":"VLOOKUP(B6788,Categorias!$A:$B,2,FALSE)","v":{"$error":"#N/A"}}]
[{"$f":"VLOOKUP(B6789,Categorias!$A:$B,2,FALSE)","v":{"$error":"#N/A"}}]
[{"$f":"VLOOKUP(B6790,Categorias!$A:$B,2,FALSE)","v":{"$error":"#N/A"}}]
[{"$f":"VLOOKUP(B6791,Categorias!$A:$B,2,FALSE)","v":{"$error":"#N/A"}}]
[{"$f":"VLOOKUP(B6792,Categorias!$A:$B,2,FALSE)","v":{"$error":"#N/A"}}]
[{"$f":"VLOOKUP(B6793,Categorias!$A:$B,2,FALSE)","v":{"$error":"#N/A"}}]
[{"$f":"VLOOKUP(B6794,Categorias!$A:$B,2,FALSE)","v":{"$error":"#N/A"}}]
[{"$f":"VLOOKUP(B6795,Categorias!$A:$B,2,FALSE)","v":{"$error":"#N/A"}}]
[{"$f":"VLOOKUP(B6796,Categorias!$A:$B,2,FALSE)","v":{"$error":"#N/A"}}]
[{"$f":"VLOOKUP(B6797,Categorias!$A:$B,2,FALSE)","v":{"$error":"#N/A"}}]
[{"$f":"VLOOKUP(B6798,Categorias!$A:$B,2,FALSE)","v":{"$error":"#N/A"}}]
[{"$f":"VLOOKUP(B6799,Categorias!$A:$B,2,FALSE)","v":{"$error":"#N/A"}}]
[{"$f":"VLOOKUP(B6800,Categorias!$A:$B,2,FALSE)","v":{"$error":"#N/A"}}]
[{"$f":"VLOOKUP(B6801,Categorias!$A:$B,2,FALSE)","v":{"$error":"#N/A"}}]
[{"$f":"VLOOKUP(B6802,Categorias!$A:$B,2,FALSE)","v":{"$error":"#N/A"}}]
[{"$f":"VLOOKUP(B6803,Categorias!$A:$B,2,FALSE)","v":{"$error":"#N/A"}}]
[{"$f":"VLOOKUP(B6804,Categorias!$A:$B,2,FALSE)","v":{"$error":"#N/A"}}]
[{"$f":"VLOOKUP(B6805,Categorias!$A:$B,2,FALSE)","v":{"$error":"#N/A"}}]
[{"$f":"VLOOKUP(B6806,Categorias!$A:$B,2,FALSE)","v":{"$error":"#N/A"}}]
[{"$f":"VLOOKUP(B6807,Categorias!$A:$B,2,FALSE)","v":{"$error":"#N/A"}}]
[{"$f":"VLOOKUP(B6808,Categorias!$A:$B,2,FALSE)","v":{"$error":"#N/A"}}]
[{"$f":"VLOOKUP(B6809,Categorias!$A:$B,2,FALSE)","v":{"$error":"#N/A"}}]
[{"$f":"VLOOKUP(B6810,Categorias!$A:$B,2,FALSE)","v":{"$error":"#N/A"}}]
[{"$f":"VLOOKUP(B6811,Categorias!$A:$B,2,FALSE)","v":{"$error":"#N/A"}}]
[{"$f":"VLOOKUP(B6812,Categorias!$A:$B,2,FALSE)","v":{"$error":"#N/A"}}]
[{"$f":"VLOOKUP(B6813,Categorias!$A:$B,2,FALSE)","v":{"$error":"#N/A"}}]
[{"$f":"VLOOKUP(B6814,Categorias!$A:$B,2,FALSE)","v":{"$error":"#N/A"}}]
[{"$f":"VLOOKUP(B6815,Categorias!$A:$B,2,FALSE)","v":{"$error":"#N/A"}}]
[{"$f":"VLOOKUP(B6816,Categorias!$A:$B,2,FALSE)","v":{"$error":"#N/A"}}]
[{"$f":"VLOOKUP(B6817,Categorias!$A:$B,2,FALSE)","v":{"$error":"#N/A"}}]
[{"$f":"VLOOKUP(B6818,Categorias!$A:$B,2,FALSE)","v":{"$error":"#N/A"}}]
[{"$f":"VLOOKUP(B6819,Categorias!$A:$B,2,FALSE)","v":{"$error":"#N/A"}}]
[{"$f":"VLOOKUP(B6820,Categorias!$A:$B,2,FALSE)","v":{"$error":"#N/A"}}]
[{"$f":"VLOOKUP(B6821,Categorias!$A:$B,2,FALSE)","v":{"$error":"#N/A"}}]
[{"$f":"VLOOKUP(B6822,Categorias!$A:$B,2,FALSE)","v":{"$error":"#N/A"}}]
[{"$f":"VLOOKUP(B6823,Categorias!$A:$B,2,FALSE)","v":{"$error":"#N/A"}}]
[{"$f":"VLOOKUP(B6824,Categorias!$A:$B,2,FALSE)","v":{"$error":"#N/A"}}]
[{"$f":"VLOOKUP(B6825,Categorias!$A:$B,2,FALSE)","v":{"$error":"#N/A"}}]
[{"$f":"VLOOKUP(B6826,Categorias!$A:$B,2,FALSE)","v":{"$error":"#N/A"}}]
[{"$f":"VLOOKUP(B6827,Categorias!$A:$B,2,FALSE)","v":{"$error":"#N/A"}}]
[{"$f":"VLOOKUP(B6828,Categorias!$A:$B,2,FALSE)","v":{"$error":"#N/A"}}]
[{"$f":"VLOOKUP(B6829,Categorias!$A:$B,2,FALSE)","v":{"$error":"#N/A"}}]
[{"$f":"VLOOKUP(B6830,Categorias!$A:$B,2,FALSE)","v":{"$error":"#N/A"}}]
[{"$f":"VLOOKUP(B6831,Categorias!$A:$B,2,FALSE)","v":{"$error":"#N/A"}}]
[{"$f":"VLOOKUP(B6832,Categorias!$A:$B,2,FALSE)","v":{"$error":"#N/A"}}]
[{"$f":"VLOOKUP(B6833,Categorias!$A:$B,2,FALSE)","v":{"$error":"#N/A"}}]
[{"$f":"VLOOKUP(B6834,Categorias!$A:$B,2,FALSE)","v":{"$error":"#N/A"}}]
[{"$f":"VLOOKUP(B6835,Categorias!$A:$B,2,FALSE)","v":{"$error":"#N/A"}}]
[{"$f":"VLOOKUP(B6836,Categorias!$A:$B,2,FALSE)","v":{"$error":"#N/A"}}]
[{"$f":"VLOOKUP(B6837,Categorias!$A:$B,2,FALSE)","v":{"$error":"#N/A"}}]
[{"$f":"VLOOKUP(B6838,Categorias!$A:$B,2,FALSE)","v":{"$error":"#N/A"}}]
[{"$f":"VLOOKUP(B6839,Categorias!$A:$B,2,FALSE)","v":{"$error":"#N/A"}}]
[{"$f":"VLOOKUP(B6840,Categorias!$A:$B,2,FALSE)","v":{"$error":"#N/A"}}]
[{"$f":"VLOOKUP(B6841,Categorias!$A:$B,2,FALSE)","v":{"$error":"#N/A"}}]
[{"$f":"VLOOKUP(B6842,Categorias!$A:$B,2,FALSE)","v":{"$error":"#N/A"}}]
[{"$f":"VLOOKUP(B6843,Categorias!$A:$B,2,FALSE)","v":{"$error":"#N/A"}}]
[{"$f":"VLOOKUP(B6844,Categorias!$A:$B,2,FALSE)","v":{"$error":"#N/A"}}]
[{"$f":"VLOOKUP(B6845,Categorias!$A:$B,2,FALSE)","v":{"$error":"#N/A"}}]
[{"$f":"VLOOKUP(B6846,Categorias!$A:$B,2,FALSE)","v":{"$error":"#N/A"}}]
[{"$f":"VLOOKUP(B6847,Categorias!$A:$B,2,FALSE)","v":{"$error":"#N/A"}}]
[{"$f":"VLOOKUP(B6848,Categorias!$A:$B,2,FALSE)","v":{"$error":"#N/A"}}]
[{"$f":"VLOOKUP(B6849,Categorias!$A:$B,2,FALSE)","v":{"$error":"#N/A"}}]
[{"$f":"VLOOKUP(B6850,Categorias!$A:$B,2,FALSE)","v":{"$error":"#N/A"}}]
[{"$f":"VLOOKUP(B6851,Categorias!$A:$B,2,FALSE)","v":{"$error":"#N/A"}}]
[{"$f":"VLOOKUP(B6852,Categorias!$A:$B,2,FALSE)","v":{"$error":"#N/A"}}]
[{"$f":"VLOOKUP(B6853,Categorias!$A:$B,2,FALSE)","v":{"$error":"#N/A"}}]
[{"$f":"VLOOKUP(B6854,Categorias!$A:$B,2,FALSE)","v":{"$error":"#N/A"}}]
[{"$f":"VLOOKUP(B6855,Categorias!$A:$B,2,FALSE)","v":{"$error":"#N/A"}}]
[{"$f":"VLOOKUP(B6856,Categorias!$A:$B,2,FALSE)","v":{"$error":"#N/A"}}]
[{"$f":"VLOOKUP(B6857,Categorias!$A:$B,2,FALSE)","v":{"$error":"#N/A"}}]
[{"$f":"VLOOKUP(B6858,Categorias!$A:$B,2,FALSE)","v":{"$error":"#N/A"}}]
[{"$f":"VLOOKUP(B6859,Categorias!$A:$B,2,FALSE)","v":{"$error":"#N/A"}}]
[{"$f":"VLOOKUP(B6860,Categorias!$A:$B,2,FALSE)","v":{"$error":"#N/A"}}]
[{"$f":"VLOOKUP(B6861,Categorias!$A:$B,2,FALSE)","v":{"$error":"#N/A"}}]
[{"$f":"VLOOKUP(B6862,Categorias!$A:$B,2,FALSE)","v":{"$error":"#N/A"}}]
[{"$f":"VLOOKUP(B6863,Categorias!$A:$B,2,FALSE)","v":{"$error":"#N/A"}}]
[{"$f":"VLOOKUP(B6864,Categorias!$A:$B,2,FALSE)","v":{"$error":"#N/A"}}]
[{"$f":"VLOOKUP(B6865,Categorias!$A:$B,2,FALSE)","v":{"$error":"#N/A"}}]
[{"$f":"VLOOKUP(B6866,Categorias!$A:$B,2,FALSE)","v":{"$error":"#N/A"}}]
[{"$f":"VLOOKUP(B6867,Categorias!$A:$B,2,FALSE)","v":{"$error":"#N/A"}}]
[{"$f":"VLOOKUP(B6868,Categorias!$A:$B,2,FALSE)","v":{"$error":"#N/A"}}]
[{"$f":"VLOOKUP(B6869,Categorias!$A:$B,2,FALSE)","v":{"$error":"#N/A"}}]
[{"$f":"VLOOKUP(B6870,Categorias!$A:$B,2,FALSE)","v":{"$error":"#N/A"}}]
[{"$f":"VLOOKUP(B6871,Categorias!$A:$B,2,FALSE)","v":{"$error":"#N/A"}}]
[{"$f":"VLOOKUP(B6872,Categorias!$A:$B,2,FALSE)","v":{"$error":"#N/A"}}]
[{"$f":"VLOOKUP(B6873,Categorias!$A:$B,2,FALSE)","v":{"$error":"#N/A"}}]
[{"$f":"VLOOKUP(B6874,Categorias!$A:$B,2,FALSE)","v":{"$error":"#N/A"}}]
[{"$f":"VLOOKUP(B6875,Categorias!$A:$B,2,FALSE)","v":{"$error":"#N/A"}}]
[{"$f":"VLOOKUP(B6876,Categorias!$A:$B,2,FALSE)","v":{"$error":"#N/A"}}]
[{"$f":"VLOOKUP(B6877,Categorias!$A:$B,2,FALSE)","v":{"$error":"#N/A"}}]
[{"$f":"VLOOKUP(B6878,Categorias!$A:$B,2,FALSE)","v":{"$error":"#N/A"}}]
[{"$f":"VLOOKUP(B6879,Categorias!$A:$B,2,FALSE)","v":{"$error":"#N/A"}}]
[{"$f":"VLOOKUP(B6880,Categorias!$A:$B,2,FALSE)","v":{"$error":"#N/A"}}]
[{"$f":"VLOOKUP(B6881,Categorias!$A:$B,2,FALSE)","v":{"$error":"#N/A"}}]
[{"$f":"VLOOKUP(B6882,Categorias!$A:$B,2,FALSE)","v":{"$error":"#N/A"}}]
[{"$f":"VLOOKUP(B6883,Categorias!$A:$B,2,FALSE)","v":{"$error":"#N/A"}}]
[{"$f":"VLOOKUP(B6884,Categorias!$A:$B,2,FALSE)","v":{"$error":"#N/A"}}]
[{"$f":"VLOOKUP(B6885,Categorias!$A:$B,2,FALSE)","v":{"$error":"#N/A"}}]
[{"$f":"VLOOKUP(B6886,Categorias!$A:$B,2,FALSE)","v":{"$error":"#N/A"}}]
[{"$f":"VLOOKUP(B6887,Categorias!$A:$B,2,FALSE)","v":{"$error":"#N/A"}}]
[{"$f":"VLOOKUP(B6888,Categorias!$A:$B,2,FALSE)","v":{"$error":"#N/A"}}]
[{"$f":"VLOOKUP(B6889,Categorias!$A:$B,2,FALSE)","v":{"$error":"#N/A"}}]
[{"$f":"VLOOKUP(B6890,Categorias!$A:$B,2,FALSE)","v":{"$error":"#N/A"}}]
[{"$f":"VLOOKUP(B6891,Categorias!$A:$B,2,FALSE)","v":{"$error":"#N/A"}}]
[{"$f":"VLOOKUP(B6892,Categorias!$A:$B,2,FALSE)","v":{"$error":"#N/A"}}]
[{"$f":"VLOOKUP(B6893,Categorias!$A:$B,2,FALSE)","v":{"$error":"#N/A"}}]
[{"$f":"VLOOKUP(B6894,Categorias!$A:$B,2,FALSE)","v":{"$error":"#N/A"}}]
[{"$f":"VLOOKUP(B6895,Categorias!$A:$B,2,FALSE)","v":{"$error":"#N/A"}}]
[{"$f":"VLOOKUP(B6896,Categorias!$A:$B,2,FALSE)","v":{"$error":"#N/A"}}]
[{"$f":"VLOOKUP(B6897,Categorias!$A:$B,2,FALSE)","v":{"$error":"#N/A"}}]
[{"$f":"VLOOKUP(B6898,Categorias!$A:$B,2,FALSE)","v":{"$error":"#N/A"}}]
[{"$f":"VLOOKUP(B6899,Categorias!$A:$B,2,FALSE)","v":{"$error":"#N/A"}}]
[{"$f":"VLOOKUP(B6900,Categorias!$A:$B,2,FALSE)","v":{"$error":"#N/A"}}]
[{"$f":"VLOOKUP(B6901,Categorias!$A:$B,2,FALSE)","v":{"$error":"#N/A"}}]
[{"$f":"VLOOKUP(B6902,Categorias!$A:$B,2,FALSE)","v":{"$error":"#N/A"}}]
[{"$f":"VLOOKUP(B6903,Categorias!$A:$B,2,FALSE)","v":{"$error":"#N/A"}}]
[{"$f":"VLOOKUP(B6904,Categorias!$A:$B,2,FALSE)","v":{"$error":"#N/A"}}]
[{"$f":"VLOOKUP(B6905,Categorias!$A:$B,2,FALSE)","v":{"$error":"#N/A"}}]
[{"$f":"VLOOKUP(B6906,Categorias!$A:$B,2,FALSE)","v":{"$error":"#N/A"}}]
[{"$f":"VLOOKUP(B6907,Categorias!$A:$B,2,FALSE)","v":{"$error":"#N/A"}}]
[{"$f":"VLOOKUP(B6908,Categorias!$A:$B,2,FALSE)","v":{"$error":"#N/A"}}]
[{"$f":"VLOOKUP(B6909,Categorias!$A:$B,2,FALSE)","v":{"$error":"#N/A"}}]
[{"$f":"VLOOKUP(B6910,Categorias!$A:$B,2,FALSE)","v":{"$error":"#N/A"}}]
[{"$f":"VLOOKUP(B6911,Categorias!$A:$B,2,FALSE)","v":{"$error":"#N/A"}}]
[{"$f":"VLOOKUP(B6912,Categorias!$A:$B,2,FALSE)","v":{"$error":"#N/A"}}]
[{"$f":"VLOOKUP(B6913,Categorias!$A:$B,2,FALSE)","v":{"$error":"#N/A"}}]
[{"$f":"VLOOKUP(B6914,Categorias!$A:$B,2,FALSE)","v":{"$error":"#N/A"}}]
[{"$f":"VLOOKUP(B6915,Categorias!$A:$B,2,FALSE)","v":{"$error":"#N/A"}}]
[{"$f":"VLOOKUP(B6916,Categorias!$A:$B,2,FALSE)","v":{"$error":"#N/A"}}]
[{"$f":"VLOOKUP(B6917,Categorias!$A:$B,2,FALSE)","v":{"$error":"#N/A"}}]
[{"$f":"VLOOKUP(B6918,Categorias!$A:$B,2,FALSE)","v":{"$error":"#N/A"}}]
[{"$f":"VLOOKUP(B6919,Categorias!$A:$B,2,FALSE)","v":{"$error":"#N/A"}}]
[{"$f":"VLOOKUP(B6920,Categorias!$A:$B,2,FALSE)","v":{"$error":"#N/A"}}]
[{"$f":"VLOOKUP(B6921,Categorias!$A:$B,2,FALSE)","v":{"$error":"#N/A"}}]
[{"$f":"VLOOKUP(B6922,Categorias!$A:$B,2,FALSE)","v":{"$error":"#N/A"}}]
[{"$f":"VLOOKUP(B6923,Categorias!$A:$B,2,FALSE)","v":{"$error":"#N/A"}}]
[{"$f":"VLOOKUP(B6924,Categorias!$A:$B,2,FALSE)","v":{"$error":"#N/A"}}]
[{"$f":"VLOOKUP(B6925,Categorias!$A:$B,2,FALSE)","v":{"$error":"#N/A"}}]
[{"$f":"VLOOKUP(B6926,Categorias!$A:$B,2,FALSE)","v":{"$error":"#N/A"}}]
[{"$f":"VLOOKUP(B6927,Categorias!$A:$B,2,FALSE)","v":{"$error":"#N/A"}}]
[{"$f":"VLOOKUP(B6928,Categorias!$A:$B,2,FALSE)","v":{"$error":"#N/A"}}]
[{"$f":"VLOOKUP(B6929,Categorias!$A:$B,2,FALSE)","v":{"$error":"#N/A"}}]
[{"$f":"VLOOKUP(B6930,Categorias!$A:$B,2,FALSE)","v":{"$error":"#N/A"}}]
[{"$f":"VLOOKUP(B6931,Categorias!$A:$B,2,FALSE)","v":{"$error":"#N/A"}}]
[{"$f":"VLOOKUP(B6932,Categorias!$A:$B,2,FALSE)","v":{"$error":"#N/A"}}]
[{"$f":"VLOOKUP(B6933,Categorias!$A:$B,2,FALSE)","v":{"$error":"#N/A"}}]
[{"$f":"VLOOKUP(B6934,Categorias!$A:$B,2,FALSE)","v":{"$error":"#N/A"}}]
[{"$f":"VLOOKUP(B6935,Categorias!$A:$B,2,FALSE)","v":{"$error":"#N/A"}}]
[{"$f":"VLOOKUP(B6936,Categorias!$A:$B,2,FALSE)","v":{"$error":"#N/A"}}]
[{"$f":"VLOOKUP(B6937,Categorias!$A:$B,2,FALSE)","v":{"$error":"#N/A"}}]
[{"$f":"VLOOKUP(B6938,Categorias!$A:$B,2,FALSE)","v":{"$error":"#N/A"}}]
[{"$f":"VLOOKUP(B6939,Categorias!$A:$B,2,FALSE)","v":{"$error":"#N/A"}}]
[{"$f":"VLOOKUP(B6940,Categorias!$A:$B,2,FALSE)","v":{"$error":"#N/A"}}]
[{"$f":"VLOOKUP(B6941,Categorias!$A:$B,2,FALSE)","v":{"$error":"#N/A"}}]
[{"$f":"VLOOKUP(B6942,Categorias!$A:$B,2,FALSE)","v":{"$error":"#N/A"}}]
[{"$f":"VLOOKUP(B6943,Categorias!$A:$B,2,FALSE)","v":{"$error":"#N/A"}}]
[{"$f":"VLOOKUP(B6944,Categorias!$A:$B,2,FALSE)","v":{"$error":"#N/A"}}]
[{"$f":"VLOOKUP(B6945,Categorias!$A:$B,2,FALSE)","v":{"$error":"#N/A"}}]
[{"$f":"VLOOKUP(B6946,Categorias!$A:$B,2,FALSE)","v":{"$error":"#N/A"}}]
[{"$f":"VLOOKUP(B6947,Categorias!$A:$B,2,FALSE)","v":{"$error":"#N/A"}}]
[{"$f":"VLOOKUP(B6948,Categorias!$A:$B,2,FALSE)","v":{"$error":"#N/A"}}]
[{"$f":"VLOOKUP(B6949,Categorias!$A:$B,2,FALSE)","v":{"$error":"#N/A"}}]
[{"$f":"VLOOKUP(B6950,Categorias!$A:$B,2,FALSE)","v":{"$error":"#N/A"}}]
[{"$f":"VLOOKUP(B6951,Categorias!$A:$B,2,FALSE)","v":{"$error":"#N/A"}}]
[{"$f":"VLOOKUP(B6952,Categorias!$A:$B,2,FALSE)","v":{"$error":"#N/A"}}]
[{"$f":"VLOOKUP(B6953,Categorias!$A:$B,2,FALSE)","v":{"$error":"#N/A"}}]
[{"$f":"VLOOKUP(B6954,Categorias!$A:$B,2,FALSE)","v":{"$error":"#N/A"}}]
[{"$f":"VLOOKUP(B6955,Categorias!$A:$B,2,FALSE)","v":{"$error":"#N/A"}}]
[{"$f":"VLOOKUP(B6956,Categorias!$A:$B,2,FALSE)","v":{"$error":"#N/A"}}]
[{"$f":"VLOOKUP(B6957,Categorias!$A:$B,2,FALSE)","v":{"$error":"#N/A"}}]
[{"$f":"VLOOKUP(B6958,Categorias!$A:$B,2,FALSE)","v":{"$error":"#N/A"}}]
[{"$f":"VLOOKUP(B6959,Categorias!$A:$B,2,FALSE)","v":{"$error":"#N/A"}}]
[{"$f":"VLOOKUP(B6960,Categorias!$A:$B,2,FALSE)","v":{"$error":"#N/A"}}]
[{"$f":"VLOOKUP(B6961,Categorias!$A:$B,2,FALSE)","v":{"$error":"#N/A"}}]
[{"$f":"VLOOKUP(B6962,Categorias!$A:$B,2,FALSE)","v":{"$error":"#N/A"}}]
[{"$f":"VLOOKUP(B6963,Categorias!$A:$B,2,FALSE)","v":{"$error":"#N/A"}}]
[{"$f":"VLOOKUP(B6964,Categorias!$A:$B,2,FALSE)","v":{"$error":"#N/A"}}]
[{"$f":"VLOOKUP(B6965,Categorias!$A:$B,2,FALSE)","v":{"$error":"#N/A"}}]
[{"$f":"VLOOKUP(B6966,Categorias!$A:$B,2,FALSE)","v":{"$error":"#N/A"}}]
[{"$f":"VLOOKUP(B6967,Categorias!$A:$B,2,FALSE)","v":{"$error":"#N/A"}}]
[{"$f":"VLOOKUP(B6968,Categorias!$A:$B,2,FALSE)","v":{"$error":"#N/A"}}]
[{"$f":"VLOOKUP(B6969,Categorias!$A:$B,2,FALSE)","v":{"$error":"#N/A"}}]
[{"$f":"VLOOKUP(B6970,Categorias!$A:$B,2,FALSE)","v":{"$error":"#N/A"}}]
[{"$f":"VLOOKUP(B6971,Categorias!$A:$B,2,FALSE)","v":{"$error":"#N/A"}}]
[{"$f":"VLOOKUP(B6972,Categorias!$A:$B,2,FALSE)","v":{"$error":"#N/A"}}]
[{"$f":"VLOOKUP(B6973,Categorias!$A:$B,2,FALSE)","v":{"$error":"#N/A"}}]
[{"$f":"VLOOKUP(B6974,Categorias!$A:$B,2,FALSE)","v":{"$error":"#N/A"}}]
[{"$f":"VLOOKUP(B6975,Categorias!$A:$B,2,FALSE)","v":{"$error":"#N/A"}}]
[{"$f":"VLOOKUP(B6976,Categorias!$A:$B,2,FALSE)","v":{"$error":"#N/A"}}]
[{"$f":"VLOOKUP(B6977,Categorias!$A:$B,2,FALSE)","v":{"$error":"#N/A"}}]
[{"$f":"VLOOKUP(B6978,Categorias!$A:$B,2,FALSE)","v":{"$error":"#N/A"}}]
[{"$f":"VLOOKUP(B6979,Categorias!$A:$B,2,FALSE)","v":{"$error":"#N/A"}}]
[{"$f":"VLOOKUP(B6980,Categorias!$A:$B,2,FALSE)","v":{"$error":"#N/A"}}]
[{"$f":"VLOOKUP(B6981,Categorias!$A:$B,2,FALSE)","v":{"$error":"#N/A"}}]
[{"$f":"VLOOKUP(B6982,Categorias!$A:$B,2,FALSE)","v":{"$error":"#N/A"}}]
[{"$f":"VLOOKUP(B6983,Categorias!$A:$B,2,FALSE)","v":{"$error":"#N/A"}}]
[{"$f":"VLOOKUP(B6984,Categorias!$A:$B,2,FALSE)","v":{"$error":"#N/A"}}]
[{"$f":"VLOOKUP(B6985,Categorias!$A:$B,2,FALSE)","v":{"$error":"#N/A"}}]
[{"$f":"VLOOKUP(B6986,Categorias!$A:$B,2,FALSE)","v":{"$error":"#N/A"}}]
[{"$f":"VLOOKUP(B6987,Categorias!$A:$B,2,FALSE)","v":{"$error":"#N/A"}}]
[{"$f":"VLOOKUP(B6988,Categorias!$A:$B,2,FALSE)","v":{"$error":"#N/A"}}]
[{"$f":"VLOOKUP(B6989,Categorias!$A:$B,2,FALSE)","v":{"$error":"#N/A"}}]
[{"$f":"VLOOKUP(B6990,Categorias!$A:$B,2,FALSE)","v":{"$error":"#N/A"}}]
[{"$f":"VLOOKUP(B6991,Categorias!$A:$B,2,FALSE)","v":{"$error":"#N/A"}}]
[{"$f":"VLOOKUP(B6992,Categorias!$A:$B,2,FALSE)","v":{"$error":"#N/A"}}]
[{"$f":"VLOOKUP(B6993,Categorias!$A:$B,2,FALSE)","v":{"$error":"#N/A"}}]
[{"$f":"VLOOKUP(B6994,Categorias!$A:$B,2,FALSE)","v":{"$error":"#N/A"}}]
[{"$f":"VLOOKUP(B6995,Categorias!$A:$B,2,FALSE)","v":{"$error":"#N/A"}}]
[{"$f":"VLOOKUP(B6996,Categorias!$A:$B,2,FALSE)","v":{"$error":"#N/A"}}]
[{"$f":"VLOOKUP(B6997,Categorias!$A:$B,2,FALSE)","v":{"$error":"#N/A"}}]
[{"$f":"VLOOKUP(B6998,Categorias!$A:$B,2,FALSE)","v":{"$error":"#N/A"}}]
[{"$f":"VLOOKUP(B6999,Categorias!$A:$B,2,FALSE)","v":{"$error":"#N/A"}}]
[{"$f":"VLOOKUP(B7000,Categorias!$A:$B,2,FALSE)","v":{"$error":"#N/A"}}]
[{"$f":"VLOOKUP(B7001,Categorias!$A:$B,2,FALSE)","v":{"$error":"#N/A"}}]
[{"$f":"VLOOKUP(B7002,Categorias!$A:$B,2,FALSE)","v":{"$error":"#N/A"}}]
[{"$f":"VLOOKUP(B7003,Categorias!$A:$B,2,FALSE)","v":{"$error":"#N/A"}}]
[{"$f":"VLOOKUP(B7004,Categorias!$A:$B,2,FALSE)","v":{"$error":"#N/A"}}]
[{"$f":"VLOOKUP(B7005,Categorias!$A:$B,2,FALSE)","v":{"$error":"#N/A"}}]
[{"$f":"VLOOKUP(B7006,Categorias!$A:$B,2,FALSE)","v":{"$error":"#N/A"}}]
[{"$f":"VLOOKUP(B7007,Categorias!$A:$B,2,FALSE)","v":{"$error":"#N/A"}}]
[{"$f":"VLOOKUP(B7008,Categorias!$A:$B,2,FALSE)","v":{"$error":"#N/A"}}]
[{"$f":"VLOOKUP(B7009,Categorias!$A:$B,2,FALSE)","v":{"$error":"#N/A"}}]
[{"$f":"VLOOKUP(B7010,Categorias!$A:$B,2,FALSE)","v":{"$error":"#N/A"}}]
[{"$f":"VLOOKUP(B7011,Categorias!$A:$B,2,FALSE)","v":{"$error":"#N/A"}}]
[{"$f":"VLOOKUP(B7012,Categorias!$A:$B,2,FALSE)","v":{"$error":"#N/A"}}]
[{"$f":"VLOOKUP(B7013,Categorias!$A:$B,2,FALSE)","v":{"$error":"#N/A"}}]
[{"$f":"VLOOKUP(B7014,Categorias!$A:$B,2,FALSE)","v":{"$error":"#N/A"}}]
[{"$f":"VLOOKUP(B7015,Categorias!$A:$B,2,FALSE)","v":{"$error":"#N/A"}}]
[{"$f":"VLOOKUP(B7016,Categorias!$A:$B,2,FALSE)","v":{"$error":"#N/A"}}]
[{"$f":"VLOOKUP(B7017,Categorias!$A:$B,2,FALSE)","v":{"$error":"#N/A"}}]
[{"$f":"VLOOKUP(B7018,Categorias!$A:$B,2,FALSE)","v":{"$error":"#N/A"}}]
[{"$f":"VLOOKUP(B7019,Categorias!$A:$B,2,FALSE)","v":{"$error":"#N/A"}}]
[{"$f":"VLOOKUP(B7020,Categorias!$A:$B,2,FALSE)","v":{"$error":"#N/A"}}]
[{"$f":"VLOOKUP(B7021,Categorias!$A:$B,2,FALSE)","v":{"$error":"#N/A"}}]
[{"$f":"VLOOKUP(B7022,Categorias!$A:$B,2,FALSE)","v":{"$error":"#N/A"}}]
[{"$f":"VLOOKUP(B7023,Categorias!$A:$B,2,FALSE)","v":{"$error":"#N/A"}}]
[{"$f":"VLOOKUP(B7024,Categorias!$A:$B,2,FALSE)","v":{"$error":"#N/A"}}]
[{"$f":"VLOOKUP(B7025,Categorias!$A:$B,2,FALSE)","v":{"$error":"#N/A"}}]
[{"$f":"VLOOKUP(B7026,Categorias!$A:$B,2,FALSE)","v":{"$error":"#N/A"}}]
[{"$f":"VLOOKUP(B7027,Categorias!$A:$B,2,FALSE)","v":{"$error":"#N/A"}}]
[{"$f":"VLOOKUP(B7028,Categorias!$A:$B,2,FALSE)","v":{"$error":"#N/A"}}]
[{"$f":"VLOOKUP(B7029,Categorias!$A:$B,2,FALSE)","v":{"$error":"#N/A"}}]
[{"$f":"VLOOKUP(B7030,Categorias!$A:$B,2,FALSE)","v":{"$error":"#N/A"}}]
[{"$f":"VLOOKUP(B7031,Categorias!$A:$B,2,FALSE)","v":{"$error":"#N/A"}}]
[{"$f":"VLOOKUP(B7032,Categorias!$A:$B,2,FALSE)","v":{"$error":"#N/A"}}]
[{"$f":"VLOOKUP(B7033,Categorias!$A:$B,2,FALSE)","v":{"$error":"#N/A"}}]
[{"$f":"VLOOKUP(B7034,Categorias!$A:$B,2,FALSE)","v":{"$error":"#N/A"}}]
[{"$f":"VLOOKUP(B7035,Categorias!$A:$B,2,FALSE)","v":{"$error":"#N/A"}}]
[{"$f":"VLOOKUP(B7036,Categorias!$A:$B,2,FALSE)","v":{"$error":"#N/A"}}]
[{"$f":"VLOOKUP(B7037,Categorias!$A:$B,2,FALSE)","v":{"$error":"#N/A"}}]
[{"$f":"VLOOKUP(B7038,Categorias!$A:$B,2,FALSE)","v":{"$error":"#N/A"}}]
[{"$f":"VLOOKUP(B7039,Categorias!$A:$B,2,FALSE)","v":{"$error":"#N/A"}}]
[{"$f":"VLOOKUP(B7040,Categorias!$A:$B,2,FALSE)","v":{"$error":"#N/A"}}]
[{"$f":"VLOOKUP(B7041,Categorias!$A:$B,2,FALSE)","v":{"$error":"#N/A"}}]
[{"$f":"VLOOKUP(B7042,Categorias!$A:$B,2,FALSE)","v":{"$error":"#N/A"}}]
[{"$f":"VLOOKUP(B7043,Categorias!$A:$B,2,FALSE)","v":{"$error":"#N/A"}}]
[{"$f":"VLOOKUP(B7044,Categorias!$A:$B,2,FALSE)","v":{"$error":"#N/A"}}]
[{"$f":"VLOOKUP(B7045,Categorias!$A:$B,2,FALSE)","v":{"$error":"#N/A"}}]
[{"$f":"VLOOKUP(B7046,Categorias!$A:$B,2,FALSE)","v":{"$error":"#N/A"}}]
[{"$f":"VLOOKUP(B7047,Categorias!$A:$B,2,FALSE)","v":{"$error":"#N/A"}}]
[{"$f":"VLOOKUP(B7048,Categorias!$A:$B,2,FALSE)","v":{"$error":"#N/A"}}]
[{"$f":"VLOOKUP(B7049,Categorias!$A:$B,2,FALSE)","v":{"$error":"#N/A"}}]
[{"$f":"VLOOKUP(B7050,Categorias!$A:$B,2,FALSE)","v":{"$error":"#N/A"}}]
[{"$f":"VLOOKUP(B7051,Categorias!$A:$B,2,FALSE)","v":{"$error":"#N/A"}}]
[{"$f":"VLOOKUP(B7052,Categorias!$A:$B,2,FALSE)","v":{"$error":"#N/A"}}]
[{"$f":"VLOOKUP(B7053,Categorias!$A:$B,2,FALSE)","v":{"$error":"#N/A"}}]
[{"$f":"VLOOKUP(B7054,Categorias!$A:$B,2,FALSE)","v":{"$error":"#N/A"}}]
[{"$f":"VLOOKUP(B7055,Categorias!$A:$B,2,FALSE)","v":{"$error":"#N/A"}}]
[{"$f":"VLOOKUP(B7056,Categorias!$A:$B,2,FALSE)","v":{"$error":"#N/A"}}]
[{"$f":"VLOOKUP(B7057,Categorias!$A:$B,2,FALSE)","v":{"$error":"#N/A"}}]
[{"$f":"VLOOKUP(B7058,Categorias!$A:$B,2,FALSE)","v":{"$error":"#N/A"}}]
[{"$f":"VLOOKUP(B7059,Categorias!$A:$B,2,FALSE)","v":{"$error":"#N/A"}}]
[{"$f":"VLOOKUP(B7060,Categorias!$A:$B,2,FALSE)","v":{"$error":"#N/A"}}]
[{"$f":"VLOOKUP(B7061,Categorias!$A:$B,2,FALSE)","v":{"$error":"#N/A"}}]
[{"$f":"VLOOKUP(B7062,Categorias!$A:$B,2,FALSE)","v":{"$error":"#N/A"}}]
[{"$f":"VLOOKUP(B7063,Categorias!$A:$B,2,FALSE)","v":{"$error":"#N/A"}}]
[{"$f":"VLOOKUP(B7064,Categorias!$A:$B,2,FALSE)","v":{"$error":"#N/A"}}]
[{"$f":"VLOOKUP(B7065,Categorias!$A:$B,2,FALSE)","v":{"$error":"#N/A"}}]
[{"$f":"VLOOKUP(B7066,Categorias!$A:$B,2,FALSE)","v":{"$error":"#N/A"}}]
[{"$f":"VLOOKUP(B7067,Categorias!$A:$B,2,FALSE)","v":{"$error":"#N/A"}}]
[{"$f":"VLOOKUP(B7068,Categorias!$A:$B,2,FALSE)","v":{"$error":"#N/A"}}]
[{"$f":"VLOOKUP(B7069,Categorias!$A:$B,2,FALSE)","v":{"$error":"#N/A"}}]
[{"$f":"VLOOKUP(B7070,Categorias!$A:$B,2,FALSE)","v":{"$error":"#N/A"}}]
[{"$f":"VLOOKUP(B7071,Categorias!$A:$B,2,FALSE)","v":{"$error":"#N/A"}}]
[{"$f":"VLOOKUP(B7072,Categorias!$A:$B,2,FALSE)","v":{"$error":"#N/A"}}]
[{"$f":"VLOOKUP(B7073,Categorias!$A:$B,2,FALSE)","v":{"$error":"#N/A"}}]
[{"$f":"VLOOKUP(B7074,Categorias!$A:$B,2,FALSE)","v":{"$error":"#N/A"}}]
[{"$f":"VLOOKUP(B7075,Categorias!$A:$B,2,FALSE)","v":{"$error":"#N/A"}}]
[{"$f":"VLOOKUP(B7076,Categorias!$A:$B,2,FALSE)","v":{"$error":"#N/A"}}]
[{"$f":"VLOOKUP(B7077,Categorias!$A:$B,2,FALSE)","v":{"$error":"#N/A"}}]
[{"$f":"VLOOKUP(B7078,Categorias!$A:$B,2,FALSE)","v":{"$error":"#N/A"}}]
[{"$f":"VLOOKUP(B7079,Categorias!$A:$B,2,FALSE)","v":{"$error":"#N/A"}}]
[{"$f":"VLOOKUP(B7080,Categorias!$A:$B,2,FALSE)","v":{"$error":"#N/A"}}]
[{"$f":"VLOOKUP(B7081,Categorias!$A:$B,2,FALSE)","v":{"$error":"#N/A"}}]
[{"$f":"VLOOKUP(B7082,Categorias!$A:$B,2,FALSE)","v":{"$error":"#N/A"}}]
[{"$f":"VLOOKUP(B7083,Categorias!$A:$B,2,FALSE)","v":{"$error":"#N/A"}}]
[{"$f":"VLOOKUP(B7084,Categorias!$A:$B,2,FALSE)","v":{"$error":"#N/A"}}]
[{"$f":"VLOOKUP(B7085,Categorias!$A:$B,2,FALSE)","v":{"$error":"#N/A"}}]
[{"$f":"VLOOKUP(B7086,Categorias!$A:$B,2,FALSE)","v":{"$error":"#N/A"}}]
[{"$f":"VLOOKUP(B7087,Categorias!$A:$B,2,FALSE)","v":{"$error":"#N/A"}}]
[{"$f":"VLOOKUP(B7088,Categorias!$A:$B,2,FALSE)","v":{"$error":"#N/A"}}]
[{"$f":"VLOOKUP(B7089,Categorias!$A:$B,2,FALSE)","v":{"$error":"#N/A"}}]
[{"$f":"VLOOKUP(B7090,Categorias!$A:$B,2,FALSE)","v":{"$error":"#N/A"}}]
[{"$f":"VLOOKUP(B7091,Categorias!$A:$B,2,FALSE)","v":{"$error":"#N/A"}}]
[{"$f":"VLOOKUP(B7092,Categorias!$A:$B,2,FALSE)","v":{"$error":"#N/A"}}]
[{"$f":"VLOOKUP(B7093,Categorias!$A:$B,2,FALSE)","v":{"$error":"#N/A"}}]
[{"$f":"VLOOKUP(B7094,Categorias!$A:$B,2,FALSE)","v":{"$error":"#N/A"}}]
[{"$f":"VLOOKUP(B7095,Categorias!$A:$B,2,FALSE)","v":{"$error":"#N/A"}}]
[{"$f":"VLOOKUP(B7096,Categorias!$A:$B,2,FALSE)","v":{"$error":"#N/A"}}]
[{"$f":"VLOOKUP(B7097,Categorias!$A:$B,2,FALSE)","v":{"$error":"#N/A"}}]
[{"$f":"VLOOKUP(B7098,Categorias!$A:$B,2,FALSE)","v":{"$error":"#N/A"}}]
[{"$f":"VLOOKUP(B7099,Categorias!$A:$B,2,FALSE)","v":{"$error":"#N/A"}}]
[{"$f":"VLOOKUP(B7100,Categorias!$A:$B,2,FALSE)","v":{"$error":"#N/A"}}]
[{"$f":"VLOOKUP(B7101,Categorias!$A:$B,2,FALSE)","v":{"$error":"#N/A"}}]
[{"$f":"VLOOKUP(B7102,Categorias!$A:$B,2,FALSE)","v":{"$error":"#N/A"}}]
[{"$f":"VLOOKUP(B7103,Categorias!$A:$B,2,FALSE)","v":{"$error":"#N/A"}}]
[{"$f":"VLOOKUP(B7104,Categorias!$A:$B,2,FALSE)","v":{"$error":"#N/A"}}]
[{"$f":"VLOOKUP(B7105,Categorias!$A:$B,2,FALSE)","v":{"$error":"#N/A"}}]
[{"$f":"VLOOKUP(B7106,Categorias!$A:$B,2,FALSE)","v":{"$error":"#N/A"}}]
[{"$f":"VLOOKUP(B7107,Categorias!$A:$B,2,FALSE)","v":{"$error":"#N/A"}}]
[{"$f":"VLOOKUP(B7108,Categorias!$A:$B,2,FALSE)","v":{"$error":"#N/A"}}]
[{"$f":"VLOOKUP(B7109,Categorias!$A:$B,2,FALSE)","v":{"$error":"#N/A"}}]
[{"$f":"VLOOKUP(B7110,Categorias!$A:$B,2,FALSE)","v":{"$error":"#N/A"}}]
[{"$f":"VLOOKUP(B7111,Categorias!$A:$B,2,FALSE)","v":{"$error":"#N/A"}}]
[{"$f":"VLOOKUP(B7112,Categorias!$A:$B,2,FALSE)","v":{"$error":"#N/A"}}]
[{"$f":"VLOOKUP(B7113,Categorias!$A:$B,2,FALSE)","v":{"$error":"#N/A"}}]
[{"$f":"VLOOKUP(B7114,Categorias!$A:$B,2,FALSE)","v":{"$error":"#N/A"}}]
[{"$f":"VLOOKUP(B7115,Categorias!$A:$B,2,FALSE)","v":{"$error":"#N/A"}}]
[{"$f":"VLOOKUP(B7116,Categorias!$A:$B,2,FALSE)","v":{"$error":"#N/A"}}]
[{"$f":"VLOOKUP(B7117,Categorias!$A:$B,2,FALSE)","v":{"$error":"#N/A"}}]
[{"$f":"VLOOKUP(B7118,Categorias!$A:$B,2,FALSE)","v":{"$error":"#N/A"}}]
[{"$f":"VLOOKUP(B7119,Categorias!$A:$B,2,FALSE)","v":{"$error":"#N/A"}}]
[{"$f":"VLOOKUP(B7120,Categorias!$A:$B,2,FALSE)","v":{"$error":"#N/A"}}]
[{"$f":"VLOOKUP(B7121,Categorias!$A:$B,2,FALSE)","v":{"$error":"#N/A"}}]
[{"$f":"VLOOKUP(B7122,Categorias!$A:$B,2,FALSE)","v":{"$error":"#N/A"}}]
[{"$f":"VLOOKUP(B7123,Categorias!$A:$B,2,FALSE)","v":{"$error":"#N/A"}}]
[{"$f":"VLOOKUP(B7124,Categorias!$A:$B,2,FALSE)","v":{"$error":"#N/A"}}]
[{"$f":"VLOOKUP(B7125,Categorias!$A:$B,2,FALSE)","v":{"$error":"#N/A"}}]
[{"$f":"VLOOKUP(B7126,Categorias!$A:$B,2,FALSE)","v":{"$error":"#N/A"}}]
[{"$f":"VLOOKUP(B7127,Categorias!$A:$B,2,FALSE)","v":{"$error":"#N/A"}}]
[{"$f":"VLOOKUP(B7128,Categorias!$A:$B,2,FALSE)","v":{"$error":"#N/A"}}]
[{"$f":"VLOOKUP(B7129,Categorias!$A:$B,2,FALSE)","v":{"$error":"#N/A"}}]
[{"$f":"VLOOKUP(B7130,Categorias!$A:$B,2,FALSE)","v":{"$error":"#N/A"}}]
[{"$f":"VLOOKUP(B7131,Categorias!$A:$B,2,FALSE)","v":{"$error":"#N/A"}}]
[{"$f":"VLOOKUP(B7132,Categorias!$A:$B,2,FALSE)","v":{"$error":"#N/A"}}]
[{"$f":"VLOOKUP(B7133,Categorias!$A:$B,2,FALSE)","v":{"$error":"#N/A"}}]
[{"$f":"VLOOKUP(B7134,Categorias!$A:$B,2,FALSE)","v":{"$error":"#N/A"}}]
[{"$f":"VLOOKUP(B7135,Categorias!$A:$B,2,FALSE)","v":{"$error":"#N/A"}}]
[{"$f":"VLOOKUP(B7136,Categorias!$A:$B,2,FALSE)","v":{"$error":"#N/A"}}]
[{"$f":"VLOOKUP(B7137,Categorias!$A:$B,2,FALSE)","v":{"$error":"#N/A"}}]
[{"$f":"VLOOKUP(B7138,Categorias!$A:$B,2,FALSE)","v":{"$error":"#N/A"}}]
[{"$f":"VLOOKUP(B7139,Categorias!$A:$B,2,FALSE)","v":{"$error":"#N/A"}}]
[{"$f":"VLOOKUP(B7140,Categorias!$A:$B,2,FALSE)","v":{"$error":"#N/A"}}]
[{"$f":"VLOOKUP(B7141,Categorias!$A:$B,2,FALSE)","v":{"$error":"#N/A"}}]
[{"$f":"VLOOKUP(B7142,Categorias!$A:$B,2,FALSE)","v":{"$error":"#N/A"}}]
[{"$f":"VLOOKUP(B7143,Categorias!$A:$B,2,FALSE)","v":{"$error":"#N/A"}}]
[{"$f":"VLOOKUP(B7144,Categorias!$A:$B,2,FALSE)","v":{"$error":"#N/A"}}]
[{"$f":"VLOOKUP(B7145,Categorias!$A:$B,2,FALSE)","v":{"$error":"#N/A"}}]
[{"$f":"VLOOKUP(B7146,Categorias!$A:$B,2,FALSE)","v":{"$error":"#N/A"}}]
[{"$f":"VLOOKUP(B7147,Categorias!$A:$B,2,FALSE)","v":{"$error":"#N/A"}}]
[{"$f":"VLOOKUP(B7148,Categorias!$A:$B,2,FALSE)","v":{"$error":"#N/A"}}]
[{"$f":"VLOOKUP(B7149,Categorias!$A:$B,2,FALSE)","v":{"$error":"#N/A"}}]
[{"$f":"VLOOKUP(B7150,Categorias!$A:$B,2,FALSE)","v":{"$error":"#N/A"}}]
[{"$f":"VLOOKUP(B7151,Categorias!$A:$B,2,FALSE)","v":{"$error":"#N/A"}}]
[{"$f":"VLOOKUP(B7152,Categorias!$A:$B,2,FALSE)","v":{"$error":"#N/A"}}]
[{"$f":"VLOOKUP(B7153,Categorias!$A:$B,2,FALSE)","v":{"$error":"#N/A"}}]
[{"$f":"VLOOKUP(B7154,Categorias!$A:$B,2,FALSE)","v":{"$error":"#N/A"}}]
[{"$f":"VLOOKUP(B7155,Categorias!$A:$B,2,FALSE)","v":{"$error":"#N/A"}}]
[{"$f":"VLOOKUP(B7156,Categorias!$A:$B,2,FALSE)","v":{"$error":"#N/A"}}]
[{"$f":"VLOOKUP(B7157,Categorias!$A:$B,2,FALSE)","v":{"$error":"#N/A"}}]
[{"$f":"VLOOKUP(B7158,Categorias!$A:$B,2,FALSE)","v":{"$error":"#N/A"}}]
[{"$f":"VLOOKUP(B7159,Categorias!$A:$B,2,FALSE)","v":{"$error":"#N/A"}}]
[{"$f":"VLOOKUP(B7160,Categorias!$A:$B,2,FALSE)","v":{"$error":"#N/A"}}]
[{"$f":"VLOOKUP(B7161,Categorias!$A:$B,2,FALSE)","v":{"$error":"#N/A"}}]
[{"$f":"VLOOKUP(B7162,Categorias!$A:$B,2,FALSE)","v":{"$error":"#N/A"}}]
[{"$f":"VLOOKUP(B7163,Categorias!$A:$B,2,FALSE)","v":{"$error":"#N/A"}}]
[{"$f":"VLOOKUP(B7164,Categorias!$A:$B,2,FALSE)","v":{"$error":"#N/A"}}]
[{"$f":"VLOOKUP(B7165,Categorias!$A:$B,2,FALSE)","v":{"$error":"#N/A"}}]
[{"$f":"VLOOKUP(B7166,Categorias!$A:$B,2,FALSE)","v":{"$error":"#N/A"}}]
[{"$f":"VLOOKUP(B7167,Categorias!$A:$B,2,FALSE)","v":{"$error":"#N/A"}}]
[{"$f":"VLOOKUP(B7168,Categorias!$A:$B,2,FALSE)","v":{"$error":"#N/A"}}]
[{"$f":"VLOOKUP(B7169,Categorias!$A:$B,2,FALSE)","v":{"$error":"#N/A"}}]
[{"$f":"VLOOKUP(B7170,Categorias!$A:$B,2,FALSE)","v":{"$error":"#N/A"}}]
[{"$f":"VLOOKUP(B7171,Categorias!$A:$B,2,FALSE)","v":{"$error":"#N/A"}}]
[{"$f":"VLOOKUP(B7172,Categorias!$A:$B,2,FALSE)","v":{"$error":"#N/A"}}]
[{"$f":"VLOOKUP(B7173,Categorias!$A:$B,2,FALSE)","v":{"$error":"#N/A"}}]
[{"$f":"VLOOKUP(B7174,Categorias!$A:$B,2,FALSE)","v":{"$error":"#N/A"}}]
[{"$f":"VLOOKUP(B7175,Categorias!$A:$B,2,FALSE)","v":{"$error":"#N/A"}}]
[{"$f":"VLOOKUP(B7176,Categorias!$A:$B,2,FALSE)","v":{"$error":"#N/A"}}]
[{"$f":"VLOOKUP(B7177,Categorias!$A:$B,2,FALSE)","v":{"$error":"#N/A"}}]
[{"$f":"VLOOKUP(B7178,Categorias!$A:$B,2,FALSE)","v":{"$error":"#N/A"}}]
[{"$f":"VLOOKUP(B7179,Categorias!$A:$B,2,FALSE)","v":{"$error":"#N/A"}}]
[{"$f":"VLOOKUP(B7180,Categorias!$A:$B,2,FALSE)","v":{"$error":"#N/A"}}]
[{"$f":"VLOOKUP(B7181,Categorias!$A:$B,2,FALSE)","v":{"$error":"#N/A"}}]
[{"$f":"VLOOKUP(B7182,Categorias!$A:$B,2,FALSE)","v":{"$error":"#N/A"}}]
[{"$f":"VLOOKUP(B7183,Categorias!$A:$B,2,FALSE)","v":{"$error":"#N/A"}}]
[{"$f":"VLOOKUP(B7184,Categorias!$A:$B,2,FALSE)","v":{"$error":"#N/A"}}]
[{"$f":"VLOOKUP(B7185,Categorias!$A:$B,2,FALSE)","v":{"$error":"#N/A"}}]
[{"$f":"VLOOKUP(B7186,Categorias!$A:$B,2,FALSE)","v":{"$error":"#N/A"}}]
[{"$f":"VLOOKUP(B7187,Categorias!$A:$B,2,FALSE)","v":{"$error":"#N/A"}}]
[{"$f":"VLOOKUP(B7188,Categorias!$A:$B,2,FALSE)","v":{"$error":"#N/A"}}]
[{"$f":"VLOOKUP(B7189,Categorias!$A:$B,2,FALSE)","v":{"$error":"#N/A"}}]
[{"$f":"VLOOKUP(B7190,Categorias!$A:$B,2,FALSE)","v":{"$error":"#N/A"}}]
[{"$f":"VLOOKUP(B7191,Categorias!$A:$B,2,FALSE)","v":{"$error":"#N/A"}}]
[{"$f":"VLOOKUP(B7192,Categorias!$A:$B,2,FALSE)","v":{"$error":"#N/A"}}]
[{"$f":"VLOOKUP(B7193,Categorias!$A:$B,2,FALSE)","v":{"$error":"#N/A"}}]
[{"$f":"VLOOKUP(B7194,Categorias!$A:$B,2,FALSE)","v":{"$error":"#N/A"}}]
[{"$f":"VLOOKUP(B7195,Categorias!$A:$B,2,FALSE)","v":{"$error":"#N/A"}}]
[{"$f":"VLOOKUP(B7196,Categorias!$A:$B,2,FALSE)","v":{"$error":"#N/A"}}]
[{"$f":"VLOOKUP(B7197,Categorias!$A:$B,2,FALSE)","v":{"$error":"#N/A"}}]
[{"$f":"VLOOKUP(B7198,Categorias!$A:$B,2,FALSE)","v":{"$error":"#N/A"}}]
[{"$f":"VLOOKUP(B7199,Categorias!$A:$B,2,FALSE)","v":{"$error":"#N/A"}}]
[{"$f":"VLOOKUP(B7200,Categorias!$A:$B,2,FALSE)","v":{"$error":"#N/A"}}]
[{"$f":"VLOOKUP(B7201,Categorias!$A:$B,2,FALSE)","v":{"$error":"#N/A"}}]
[{"$f":"VLOOKUP(B7202,Categorias!$A:$B,2,FALSE)","v":{"$error":"#N/A"}}]
[{"$f":"VLOOKUP(B7203,Categorias!$A:$B,2,FALSE)","v":{"$error":"#N/A"}}]
[{"$f":"VLOOKUP(B7204,Categorias!$A:$B,2,FALSE)","v":{"$error":"#N/A"}}]
[{"$f":"VLOOKUP(B7205,Categorias!$A:$B,2,FALSE)","v":{"$error":"#N/A"}}]
[{"$f":"VLOOKUP(B7206,Categorias!$A:$B,2,FALSE)","v":{"$error":"#N/A"}}]
[{"$f":"VLOOKUP(B7207,Categorias!$A:$B,2,FALSE)","v":{"$error":"#N/A"}}]
[{"$f":"VLOOKUP(B7208,Categorias!$A:$B,2,FALSE)","v":{"$error":"#N/A"}}]
[{"$f":"VLOOKUP(B7209,Categorias!$A:$B,2,FALSE)","v":{"$error":"#N/A"}}]
[{"$f":"VLOOKUP(B7210,Categorias!$A:$B,2,FALSE)","v":{"$error":"#N/A"}}]
[{"$f":"VLOOKUP(B7211,Categorias!$A:$B,2,FALSE)","v":{"$error":"#N/A"}}]
[{"$f":"VLOOKUP(B7212,Categorias!$A:$B,2,FALSE)","v":{"$error":"#N/A"}}]
[{"$f":"VLOOKUP(B7213,Categorias!$A:$B,2,FALSE)","v":{"$error":"#N/A"}}]
[{"$f":"VLOOKUP(B7214,Categorias!$A:$B,2,FALSE)","v":{"$error":"#N/A"}}]
[{"$f":"VLOOKUP(B7215,Categorias!$A:$B,2,FALSE)","v":{"$error":"#N/A"}}]
[{"$f":"VLOOKUP(B7216,Categorias!$A:$B,2,FALSE)","v":{"$error":"#N/A"}}]
[{"$f":"VLOOKUP(B7217,Categorias!$A:$B,2,FALSE)","v":{"$error":"#N/A"}}]
[{"$f":"VLOOKUP(B7218,Categorias!$A:$B,2,FALSE)","v":{"$error":"#N/A"}}]
[{"$f":"VLOOKUP(B7219,Categorias!$A:$B,2,FALSE)","v":{"$error":"#N/A"}}]
[{"$f":"VLOOKUP(B7220,Categorias!$A:$B,2,FALSE)","v":{"$error":"#N/A"}}]
[{"$f":"VLOOKUP(B7221,Categorias!$A:$B,2,FALSE)","v":{"$error":"#N/A"}}]
[{"$f":"VLOOKUP(B7222,Categorias!$A:$B,2,FALSE)","v":{"$error":"#N/A"}}]
[{"$f":"VLOOKUP(B7223,Categorias!$A:$B,2,FALSE)","v":{"$error":"#N/A"}}]
[{"$f":"VLOOKUP(B7224,Categorias!$A:$B,2,FALSE)","v":{"$error":"#N/A"}}]
[{"$f":"VLOOKUP(B7225,Categorias!$A:$B,2,FALSE)","v":{"$error":"#N/A"}}]
[{"$f":"VLOOKUP(B7226,Categorias!$A:$B,2,FALSE)","v":{"$error":"#N/A"}}]
[{"$f":"VLOOKUP(B7227,Categorias!$A:$B,2,FALSE)","v":{"$error":"#N/A"}}]
[{"$f":"VLOOKUP(B7228,Categorias!$A:$B,2,FALSE)","v":{"$error":"#N/A"}}]
[{"$f":"VLOOKUP(B7229,Categorias!$A:$B,2,FALSE)","v":{"$error":"#N/A"}}]
[{"$f":"VLOOKUP(B7230,Categorias!$A:$B,2,FALSE)","v":{"$error":"#N/A"}}]
[{"$f":"VLOOKUP(B7231,Categorias!$A:$B,2,FALSE)","v":{"$error":"#N/A"}}]
[{"$f":"VLOOKUP(B7232,Categorias!$A:$B,2,FALSE)","v":{"$error":"#N/A"}}]
[{"$f":"VLOOKUP(B7233,Categorias!$A:$B,2,FALSE)","v":{"$error":"#N/A"}}]
[{"$f":"VLOOKUP(B7234,Categorias!$A:$B,2,FALSE)","v":{"$error":"#N/A"}}]
[{"$f":"VLOOKUP(B7235,Categorias!$A:$B,2,FALSE)","v":{"$error":"#N/A"}}]
[{"$f":"VLOOKUP(B7236,Categorias!$A:$B,2,FALSE)","v":{"$error":"#N/A"}}]
[{"$f":"VLOOKUP(B7237,Categorias!$A:$B,2,FALSE)","v":{"$error":"#N/A"}}]
[{"$f":"VLOOKUP(B7238,Categorias!$A:$B,2,FALSE)","v":{"$error":"#N/A"}}]
[{"$f":"VLOOKUP(B7239,Categorias!$A:$B,2,FALSE)","v":{"$error":"#N/A"}}]
[{"$f":"VLOOKUP(B7240,Categorias!$A:$B,2,FALSE)","v":{"$error":"#N/A"}}]
[{"$f":"VLOOKUP(B7241,Categorias!$A:$B,2,FALSE)","v":{"$error":"#N/A"}}]
[{"$f":"VLOOKUP(B7242,Categorias!$A:$B,2,FALSE)","v":{"$error":"#N/A"}}]
[{"$f":"VLOOKUP(B7243,Categorias!$A:$B,2,FALSE)","v":{"$error":"#N/A"}}]
[{"$f":"VLOOKUP(B7244,Categorias!$A:$B,2,FALSE)","v":{"$error":"#N/A"}}]
[{"$f":"VLOOKUP(B7245,Categorias!$A:$B,2,FALSE)","v":{"$error":"#N/A"}}]
[{"$f":"VLOOKUP(B7246,Categorias!$A:$B,2,FALSE)","v":{"$error":"#N/A"}}]
[{"$f":"VLOOKUP(B7247,Categorias!$A:$B,2,FALSE)","v":{"$error":"#N/A"}}]
[{"$f":"VLOOKUP(B7248,Categorias!$A:$B,2,FALSE)","v":{"$error":"#N/A"}}]
[{"$f":"VLOOKUP(B7249,Categorias!$A:$B,2,FALSE)","v":{"$error":"#N/A"}}]
[{"$f":"VLOOKUP(B7250,Categorias!$A:$B,2,FALSE)","v":{"$error":"#N/A"}}]
[{"$f":"VLOOKUP(B7251,Categorias!$A:$B,2,FALSE)","v":{"$error":"#N/A"}}]
[{"$f":"VLOOKUP(B7252,Categorias!$A:$B,2,FALSE)","v":{"$error":"#N/A"}}]
[{"$f":"VLOOKUP(B7253,Categorias!$A:$B,2,FALSE)","v":{"$error":"#N/A"}}]
[{"$f":"VLOOKUP(B7254,Categorias!$A:$B,2,FALSE)","v":{"$error":"#N/A"}}]
[{"$f":"VLOOKUP(B7255,Categorias!$A:$B,2,FALSE)","v":{"$error":"#N/A"}}]
[{"$f":"VLOOKUP(B7256,Categorias!$A:$B,2,FALSE)","v":{"$error":"#N/A"}}]
[{"$f":"VLOOKUP(B7257,Categorias!$A:$B,2,FALSE)","v":{"$error":"#N/A"}}]
[{"$f":"VLOOKUP(B7258,Categorias!$A:$B,2,FALSE)","v":{"$error":"#N/A"}}]
[{"$f":"VLOOKUP(B7259,Categorias!$A:$B,2,FALSE)","v":{"$error":"#N/A"}}]
[{"$f":"VLOOKUP(B7260,Categorias!$A:$B,2,FALSE)","v":{"$error":"#N/A"}}]
[{"$f":"VLOOKUP(B7261,Categorias!$A:$B,2,FALSE)","v":{"$error":"#N/A"}}]
[{"$f":"VLOOKUP(B7262,Categorias!$A:$B,2,FALSE)","v":{"$error":"#N/A"}}]
[{"$f":"VLOOKUP(B7263,Categorias!$A:$B,2,FALSE)","v":{"$error":"#N/A"}}]
[{"$f":"VLOOKUP(B7264,Categorias!$A:$B,2,FALSE)","v":{"$error":"#N/A"}}]
[{"$f":"VLOOKUP(B7265,Categorias!$A:$B,2,FALSE)","v":{"$error":"#N/A"}}]
[{"$f":"VLOOKUP(B7266,Categorias!$A:$B,2,FALSE)","v":{"$error":"#N/A"}}]
[{"$f":"VLOOKUP(B7267,Categorias!$A:$B,2,FALSE)","v":{"$error":"#N/A"}}]
[{"$f":"VLOOKUP(B7268,Categorias!$A:$B,2,FALSE)","v":{"$error":"#N/A"}}]
[{"$f":"VLOOKUP(B7269,Categorias!$A:$B,2,FALSE)","v":{"$error":"#N/A"}}]
[{"$f":"VLOOKUP(B7270,Categorias!$A:$B,2,FALSE)","v":{"$error":"#N/A"}}]
[{"$f":"VLOOKUP(B7271,Categorias!$A:$B,2,FALSE)","v":{"$error":"#N/A"}}]
[{"$f":"VLOOKUP(B7272,Categorias!$A:$B,2,FALSE)","v":{"$error":"#N/A"}}]
[{"$f":"VLOOKUP(B7273,Categorias!$A:$B,2,FALSE)","v":{"$error":"#N/A"}}]
[{"$f":"VLOOKUP(B7274,Categorias!$A:$B,2,FALSE)","v":{"$error":"#N/A"}}]
[{"$f":"VLOOKUP(B7275,Categorias!$A:$B,2,FALSE)","v":{"$error":"#N/A"}}]
[{"$f":"VLOOKUP(B7276,Categorias!$A:$B,2,FALSE)","v":{"$error":"#N/A"}}]
[{"$f":"VLOOKUP(B7277,Categorias!$A:$B,2,FALSE)","v":{"$error":"#N/A"}}]
[{"$f":"VLOOKUP(B7278,Categorias!$A:$B,2,FALSE)","v":{"$error":"#N/A"}}]
[{"$f":"VLOOKUP(B7279,Categorias!$A:$B,2,FALSE)","v":{"$error":"#N/A"}}]
[{"$f":"VLOOKUP(B7280,Categorias!$A:$B,2,FALSE)","v":{"$error":"#N/A"}}]
[{"$f":"VLOOKUP(B7281,Categorias!$A:$B,2,FALSE)","v":{"$error":"#N/A"}}]
[{"$f":"VLOOKUP(B7282,Categorias!$A:$B,2,FALSE)","v":{"$error":"#N/A"}}]
[{"$f":"VLOOKUP(B7283,Categorias!$A:$B,2,FALSE)","v":{"$error":"#N/A"}}]
[{"$f":"VLOOKUP(B7284,Categorias!$A:$B,2,FALSE)","v":{"$error":"#N/A"}}]
[{"$f":"VLOOKUP(B7285,Categorias!$A:$B,2,FALSE)","v":{"$error":"#N/A"}}]
[{"$f":"VLOOKUP(B7286,Categorias!$A:$B,2,FALSE)","v":{"$error":"#N/A"}}]
[{"$f":"VLOOKUP(B7287,Categorias!$A:$B,2,FALSE)","v":{"$error":"#N/A"}}]
[{"$f":"VLOOKUP(B7288,Categorias!$A:$B,2,FALSE)","v":{"$error":"#N/A"}}]
[{"$f":"VLOOKUP(B7289,Categorias!$A:$B,2,FALSE)","v":{"$error":"#N/A"}}]
[{"$f":"VLOOKUP(B7290,Categorias!$A:$B,2,FALSE)","v":{"$error":"#N/A"}}]
[{"$f":"VLOOKUP(B7291,Categorias!$A:$B,2,FALSE)","v":{"$error":"#N/A"}}]
[{"$f":"VLOOKUP(B7292,Categorias!$A:$B,2,FALSE)","v":{"$error":"#N/A"}}]
[{"$f":"VLOOKUP(B7293,Categorias!$A:$B,2,FALSE)","v":{"$error":"#N/A"}}]
[{"$f":"VLOOKUP(B7294,Categorias!$A:$B,2,FALSE)","v":{"$error":"#N/A"}}]
[{"$f":"VLOOKUP(B7295,Categorias!$A:$B,2,FALSE)","v":{"$error":"#N/A"}}]
[{"$f":"VLOOKUP(B7296,Categorias!$A:$B,2,FALSE)","v":{"$error":"#N/A"}}]
[{"$f":"VLOOKUP(B7297,Categorias!$A:$B,2,FALSE)","v":{"$error":"#N/A"}}]
[{"$f":"VLOOKUP(B7298,Categorias!$A:$B,2,FALSE)","v":{"$error":"#N/A"}}]
[{"$f":"VLOOKUP(B7299,Categorias!$A:$B,2,FALSE)","v":{"$error":"#N/A"}}]
[{"$f":"VLOOKUP(B7300,Categorias!$A:$B,2,FALSE)","v":{"$error":"#N/A"}}]
[{"$f":"VLOOKUP(B7301,Categorias!$A:$B,2,FALSE)","v":{"$error":"#N/A"}}]
[{"$f":"VLOOKUP(B7302,Categorias!$A:$B,2,FALSE)","v":{"$error":"#N/A"}}]
[{"$f":"VLOOKUP(B7303,Categorias!$A:$B,2,FALSE)","v":{"$error":"#N/A"}}]
[{"$f":"VLOOKUP(B7304,Categorias!$A:$B,2,FALSE)","v":{"$error":"#N/A"}}]
[{"$f":"VLOOKUP(B7305,Categorias!$A:$B,2,FALSE)","v":{"$error":"#N/A"}}]
[{"$f":"VLOOKUP(B7306,Categorias!$A:$B,2,FALSE)","v":{"$error":"#N/A"}}]
[{"$f":"VLOOKUP(B7307,Categorias!$A:$B,2,FALSE)","v":{"$error":"#N/A"}}]
[{"$f":"VLOOKUP(B7308,Categorias!$A:$B,2,FALSE)","v":{"$error":"#N/A"}}]
[{"$f":"VLOOKUP(B7309,Categorias!$A:$B,2,FALSE)","v":{"$error":"#N/A"}}]
[{"$f":"VLOOKUP(B7310,Categorias!$A:$B,2,FALSE)","v":{"$error":"#N/A"}}]
[{"$f":"VLOOKUP(B7311,Categorias!$A:$B,2,FALSE)","v":{"$error":"#N/A"}}]
[{"$f":"VLOOKUP(B7312,Categorias!$A:$B,2,FALSE)","v":{"$error":"#N/A"}}]
[{"$f":"VLOOKUP(B7313,Categorias!$A:$B,2,FALSE)","v":{"$error":"#N/A"}}]
[{"$f":"VLOOKUP(B7314,Categorias!$A:$B,2,FALSE)","v":{"$error":"#N/A"}}]
[{"$f":"VLOOKUP(B7315,Categorias!$A:$B,2,FALSE)","v":{"$error":"#N/A"}}]
[{"$f":"VLOOKUP(B7316,Categorias!$A:$B,2,FALSE)","v":{"$error":"#N/A"}}]
[{"$f":"VLOOKUP(B7317,Categorias!$A:$B,2,FALSE)","v":{"$error":"#N/A"}}]
[{"$f":"VLOOKUP(B7318,Categorias!$A:$B,2,FALSE)","v":{"$error":"#N/A"}}]
[{"$f":"VLOOKUP(B7319,Categorias!$A:$B,2,FALSE)","v":{"$error":"#N/A"}}]
[{"$f":"VLOOKUP(B7320,Categorias!$A:$B,2,FALSE)","v":{"$error":"#N/A"}}]
[{"$f":"VLOOKUP(B7321,Categorias!$A:$B,2,FALSE)","v":{"$error":"#N/A"}}]
[{"$f":"VLOOKUP(B7322,Categorias!$A:$B,2,FALSE)","v":{"$error":"#N/A"}}]
[{"$f":"VLOOKUP(B7323,Categorias!$A:$B,2,FALSE)","v":{"$error":"#N/A"}}]
[{"$f":"VLOOKUP(B7324,Categorias!$A:$B,2,FALSE)","v":{"$error":"#N/A"}}]
[{"$f":"VLOOKUP(B7325,Categorias!$A:$B,2,FALSE)","v":{"$error":"#N/A"}}]
[{"$f":"VLOOKUP(B7326,Categorias!$A:$B,2,FALSE)","v":{"$error":"#N/A"}}]
[{"$f":"VLOOKUP(B7327,Categorias!$A:$B,2,FALSE)","v":{"$error":"#N/A"}}]
[{"$f":"VLOOKUP(B7328,Categorias!$A:$B,2,FALSE)","v":{"$error":"#N/A"}}]
[{"$f":"VLOOKUP(B7329,Categorias!$A:$B,2,FALSE)","v":{"$error":"#N/A"}}]
[{"$f":"VLOOKUP(B7330,Categorias!$A:$B,2,FALSE)","v":{"$error":"#N/A"}}]
[{"$f":"VLOOKUP(B7331,Categorias!$A:$B,2,FALSE)","v":{"$error":"#N/A"}}]
[{"$f":"VLOOKUP(B7332,Categorias!$A:$B,2,FALSE)","v":{"$error":"#N/A"}}]
[{"$f":"VLOOKUP(B7333,Categorias!$A:$B,2,FALSE)","v":{"$error":"#N/A"}}]
[{"$f":"VLOOKUP(B7334,Categorias!$A:$B,2,FALSE)","v":{"$error":"#N/A"}}]
[{"$f":"VLOOKUP(B7335,Categorias!$A:$B,2,FALSE)","v":{"$error":"#N/A"}}]
[{"$f":"VLOOKUP(B7336,Categorias!$A:$B,2,FALSE)","v":{"$error":"#N/A"}}]
[{"$f":"VLOOKUP(B7337,Categorias!$A:$B,2,FALSE)","v":{"$error":"#N/A"}}]
[{"$f":"VLOOKUP(B7338,Categorias!$A:$B,2,FALSE)","v":{"$error":"#N/A"}}]
[{"$f":"VLOOKUP(B7339,Categorias!$A:$B,2,FALSE)","v":{"$error":"#N/A"}}]
[{"$f":"VLOOKUP(B7340,Categorias!$A:$B,2,FALSE)","v":{"$error":"#N/A"}}]
[{"$f":"VLOOKUP(B7341,Categorias!$A:$B,2,FALSE)","v":{"$error":"#N/A"}}]
[{"$f":"VLOOKUP(B7342,Categorias!$A:$B,2,FALSE)","v":{"$error":"#N/A"}}]
[{"$f":"VLOOKUP(B7343,Categorias!$A:$B,2,FALSE)","v":{"$error":"#N/A"}}]
[{"$f":"VLOOKUP(B7344,Categorias!$A:$B,2,FALSE)","v":{"$error":"#N/A"}}]
[{"$f":"VLOOKUP(B7345,Categorias!$A:$B,2,FALSE)","v":{"$error":"#N/A"}}]
[{"$f":"VLOOKUP(B7346,Categorias!$A:$B,2,FALSE)","v":{"$error":"#N/A"}}]
[{"$f":"VLOOKUP(B7347,Categorias!$A:$B,2,FALSE)","v":{"$error":"#N/A"}}]
[{"$f":"VLOOKUP(B7348,Categorias!$A:$B,2,FALSE)","v":{"$error":"#N/A"}}]
[{"$f":"VLOOKUP(B7349,Categorias!$A:$B,2,FALSE)","v":{"$error":"#N/A"}}]
[{"$f":"VLOOKUP(B7350,Categorias!$A:$B,2,FALSE)","v":{"$error":"#N/A"}}]
[{"$f":"VLOOKUP(B7351,Categorias!$A:$B,2,FALSE)","v":{"$error":"#N/A"}}]
[{"$f":"VLOOKUP(B7352,Categorias!$A:$B,2,FALSE)","v":{"$error":"#N/A"}}]
[{"$f":"VLOOKUP(B7353,Categorias!$A:$B,2,FALSE)","v":{"$error":"#N/A"}}]
[{"$f":"VLOOKUP(B7354,Categorias!$A:$B,2,FALSE)","v":{"$error":"#N/A"}}]
[{"$f":"VLOOKUP(B7355,Categorias!$A:$B,2,FALSE)","v":{"$error":"#N/A"}}]
[{"$f":"VLOOKUP(B7356,Categorias!$A:$B,2,FALSE)","v":{"$error":"#N/A"}}]
[{"$f":"VLOOKUP(B7357,Categorias!$A:$B,2,FALSE)","v":{"$error":"#N/A"}}]
[{"$f":"VLOOKUP(B7358,Categorias!$A:$B,2,FALSE)","v":{"$error":"#N/A"}}]
[{"$f":"VLOOKUP(B7359,Categorias!$A:$B,2,FALSE)","v":{"$error":"#N/A"}}]
[{"$f":"VLOOKUP(B7360,Categorias!$A:$B,2,FALSE)","v":{"$error":"#N/A"}}]
[{"$f":"VLOOKUP(B7361,Categorias!$A:$B,2,FALSE)","v":{"$error":"#N/A"}}]
[{"$f":"VLOOKUP(B7362,Categorias!$A:$B,2,FALSE)","v":{"$error":"#N/A"}}]
[{"$f":"VLOOKUP(B7363,Categorias!$A:$B,2,FALSE)","v":{"$error":"#N/A"}}]
[{"$f":"VLOOKUP(B7364,Categorias!$A:$B,2,FALSE)","v":{"$error":"#N/A"}}]
[{"$f":"VLOOKUP(B7365,Categorias!$A:$B,2,FALSE)","v":{"$error":"#N/A"}}]
[{"$f":"VLOOKUP(B7366,Categorias!$A:$B,2,FALSE)","v":{"$error":"#N/A"}}]
[{"$f":"VLOOKUP(B7367,Categorias!$A:$B,2,FALSE)","v":{"$error":"#N/A"}}]
[{"$f":"VLOOKUP(B7368,Categorias!$A:$B,2,FALSE)","v":{"$error":"#N/A"}}]
[{"$f":"VLOOKUP(B7369,Categorias!$A:$B,2,FALSE)","v":{"$error":"#N/A"}}]
[{"$f":"VLOOKUP(B7370,Categorias!$A:$B,2,FALSE)","v":{"$error":"#N/A"}}]
[{"$f":"VLOOKUP(B7371,Categorias!$A:$B,2,FALSE)","v":{"$error":"#N/A"}}]
[{"$f":"VLOOKUP(B7372,Categorias!$A:$B,2,FALSE)","v":{"$error":"#N/A"}}]
[{"$f":"VLOOKUP(B7373,Categorias!$A:$B,2,FALSE)","v":{"$error":"#N/A"}}]
[{"$f":"VLOOKUP(B7374,Categorias!$A:$B,2,FALSE)","v":{"$error":"#N/A"}}]
[{"$f":"VLOOKUP(B7375,Categorias!$A:$B,2,FALSE)","v":{"$error":"#N/A"}}]
[{"$f":"VLOOKUP(B7376,Categorias!$A:$B,2,FALSE)","v":{"$error":"#N/A"}}]
[{"$f":"VLOOKUP(B7377,Categorias!$A:$B,2,FALSE)","v":{"$error":"#N/A"}}]
[{"$f":"VLOOKUP(B7378,Categorias!$A:$B,2,FALSE)","v":{"$error":"#N/A"}}]
[{"$f":"VLOOKUP(B7379,Categorias!$A:$B,2,FALSE)","v":{"$error":"#N/A"}}]
[{"$f":"VLOOKUP(B7380,Categorias!$A:$B,2,FALSE)","v":{"$error":"#N/A"}}]
[{"$f":"VLOOKUP(B7381,Categorias!$A:$B,2,FALSE)","v":{"$error":"#N/A"}}]
[{"$f":"VLOOKUP(B7382,Categorias!$A:$B,2,FALSE)","v":{"$error":"#N/A"}}]
[{"$f":"VLOOKUP(B7383,Categorias!$A:$B,2,FALSE)","v":{"$error":"#N/A"}}]
[{"$f":"VLOOKUP(B7384,Categorias!$A:$B,2,FALSE)","v":{"$error":"#N/A"}}]
[{"$f":"VLOOKUP(B7385,Categorias!$A:$B,2,FALSE)","v":{"$error":"#N/A"}}]
[{"$f":"VLOOKUP(B7386,Categorias!$A:$B,2,FALSE)","v":{"$error":"#N/A"}}]
[{"$f":"VLOOKUP(B7387,Categorias!$A:$B,2,FALSE)","v":{"$error":"#N/A"}}]
[{"$f":"VLOOKUP(B7388,Categorias!$A:$B,2,FALSE)","v":{"$error":"#N/A"}}]
[{"$f":"VLOOKUP(B7389,Categorias!$A:$B,2,FALSE)","v":{"$error":"#N/A"}}]
[{"$f":"VLOOKUP(B7390,Categorias!$A:$B,2,FALSE)","v":{"$error":"#N/A"}}]
[{"$f":"VLOOKUP(B7391,Categorias!$A:$B,2,FALSE)","v":{"$error":"#N/A"}}]
[{"$f":"VLOOKUP(B7392,Categorias!$A:$B,2,FALSE)","v":{"$error":"#N/A"}}]
[{"$f":"VLOOKUP(B7393,Categorias!$A:$B,2,FALSE)","v":{"$error":"#N/A"}}]
[{"$f":"VLOOKUP(B7394,Categorias!$A:$B,2,FALSE)","v":{"$error":"#N/A"}}]
[{"$f":"VLOOKUP(B7395,Categorias!$A:$B,2,FALSE)","v":{"$error":"#N/A"}}]
[{"$f":"VLOOKUP(B7396,Categorias!$A:$B,2,FALSE)","v":{"$error":"#N/A"}}]
[{"$f":"VLOOKUP(B7397,Categorias!$A:$B,2,FALSE)","v":{"$error":"#N/A"}}]
[{"$f":"VLOOKUP(B7398,Categorias!$A:$B,2,FALSE)","v":{"$error":"#N/A"}}]
[{"$f":"VLOOKUP(B7399,Categorias!$A:$B,2,FALSE)","v":{"$error":"#N/A"}}]
[{"$f":"VLOOKUP(B7400,Categorias!$A:$B,2,FALSE)","v":{"$error":"#N/A"}}]
[{"$f":"VLOOKUP(B7401,Categorias!$A:$B,2,FALSE)","v":{"$error":"#N/A"}}]
[{"$f":"VLOOKUP(B7402,Categorias!$A:$B,2,FALSE)","v":{"$error":"#N/A"}}]
[{"$f":"VLOOKUP(B7403,Categorias!$A:$B,2,FALSE)","v":{"$error":"#N/A"}}]
[{"$f":"VLOOKUP(B7404,Categorias!$A:$B,2,FALSE)","v":{"$error":"#N/A"}}]
[{"$f":"VLOOKUP(B7405,Categorias!$A:$B,2,FALSE)","v":{"$error":"#N/A"}}]
[{"$f":"VLOOKUP(B7406,Categorias!$A:$B,2,FALSE)","v":{"$error":"#N/A"}}]
[{"$f":"VLOOKUP(B7407,Categorias!$A:$B,2,FALSE)","v":{"$error":"#N/A"}}]
[{"$f":"VLOOKUP(B7408,Categorias!$A:$B,2,FALSE)","v":{"$error":"#N/A"}}]
[{"$f":"VLOOKUP(B7409,Categorias!$A:$B,2,FALSE)","v":{"$error":"#N/A"}}]
[{"$f":"VLOOKUP(B7410,Categorias!$A:$B,2,FALSE)","v":{"$error":"#N/A"}}]
[{"$f":"VLOOKUP(B7411,Categorias!$A:$B,2,FALSE)","v":{"$error":"#N/A"}}]
[{"$f":"VLOOKUP(B7412,Categorias!$A:$B,2,FALSE)","v":{"$error":"#N/A"}}]
[{"$f":"VLOOKUP(B7413,Categorias!$A:$B,2,FALSE)","v":{"$error":"#N/A"}}]
[{"$f":"VLOOKUP(B7414,Categorias!$A:$B,2,FALSE)","v":{"$error":"#N/A"}}]
[{"$f":"VLOOKUP(B7415,Categorias!$A:$B,2,FALSE)","v":{"$error":"#N/A"}}]
[{"$f":"VLOOKUP(B7416,Categorias!$A:$B,2,FALSE)","v":{"$error":"#N/A"}}]
[{"$f":"VLOOKUP(B7417,Categorias!$A:$B,2,FALSE)","v":{"$error":"#N/A"}}]
[{"$f":"VLOOKUP(B7418,Categorias!$A:$B,2,FALSE)","v":{"$error":"#N/A"}}]
[{"$f":"VLOOKUP(B7419,Categorias!$A:$B,2,FALSE)","v":{"$error":"#N/A"}}]
[{"$f":"VLOOKUP(B7420,Categorias!$A:$B,2,FALSE)","v":{"$error":"#N/A"}}]
[{"$f":"VLOOKUP(B7421,Categorias!$A:$B,2,FALSE)","v":{"$error":"#N/A"}}]
[{"$f":"VLOOKUP(B7422,Categorias!$A:$B,2,FALSE)","v":{"$error":"#N/A"}}]
[{"$f":"VLOOKUP(B7423,Categorias!$A:$B,2,FALSE)","v":{"$error":"#N/A"}}]
[{"$f":"VLOOKUP(B7424,Categorias!$A:$B,2,FALSE)","v":{"$error":"#N/A"}}]
[{"$f":"VLOOKUP(B7425,Categorias!$A:$B,2,FALSE)","v":{"$error":"#N/A"}}]
[{"$f":"VLOOKUP(B7426,Categorias!$A:$B,2,FALSE)","v":{"$error":"#N/A"}}]
[{"$f":"VLOOKUP(B7427,Categorias!$A:$B,2,FALSE)","v":{"$error":"#N/A"}}]
[{"$f":"VLOOKUP(B7428,Categorias!$A:$B,2,FALSE)","v":{"$error":"#N/A"}}]
[{"$f":"VLOOKUP(B7429,Categorias!$A:$B,2,FALSE)","v":{"$error":"#N/A"}}]
[{"$f":"VLOOKUP(B7430,Categorias!$A:$B,2,FALSE)","v":{"$error":"#N/A"}}]
[{"$f":"VLOOKUP(B7431,Categorias!$A:$B,2,FALSE)","v":{"$error":"#N/A"}}]
[{"$f":"VLOOKUP(B7432,Categorias!$A:$B,2,FALSE)","v":{"$error":"#N/A"}}]
[{"$f":"VLOOKUP(B7433,Categorias!$A:$B,2,FALSE)","v":{"$error":"#N/A"}}]
[{"$f":"VLOOKUP(B7434,Categorias!$A:$B,2,FALSE)","v":{"$error":"#N/A"}}]
[{"$f":"VLOOKUP(B7435,Categorias!$A:$B,2,FALSE)","v":{"$error":"#N/A"}}]
[{"$f":"VLOOKUP(B7436,Categorias!$A:$B,2,FALSE)","v":{"$error":"#N/A"}}]
[{"$f":"VLOOKUP(B7437,Categorias!$A:$B,2,FALSE)","v":{"$error":"#N/A"}}]
[{"$f":"VLOOKUP(B7438,Categorias!$A:$B,2,FALSE)","v":{"$error":"#N/A"}}]
[{"$f":"VLOOKUP(B7439,Categorias!$A:$B,2,FALSE)","v":{"$error":"#N/A"}}]
[{"$f":"VLOOKUP(B7440,Categorias!$A:$B,2,FALSE)","v":{"$error":"#N/A"}}]
[{"$f":"VLOOKUP(B7441,Categorias!$A:$B,2,FALSE)","v":{"$error":"#N/A"}}]
[{"$f":"VLOOKUP(B7442,Categorias!$A:$B,2,FALSE)","v":{"$error":"#N/A"}}]
[{"$f":"VLOOKUP(B7443,Categorias!$A:$B,2,FALSE)","v":{"$error":"#N/A"}}]
[{"$f":"VLOOKUP(B7444,Categorias!$A:$B,2,FALSE)","v":{"$error":"#N/A"}}]
[{"$f":"VLOOKUP(B7445,Categorias!$A:$B,2,FALSE)","v":{"$error":"#N/A"}}]
[{"$f":"VLOOKUP(B7446,Categorias!$A:$B,2,FALSE)","v":{"$error":"#N/A"}}]
[{"$f":"VLOOKUP(B7447,Categorias!$A:$B,2,FALSE)","v":{"$error":"#N/A"}}]
[{"$f":"VLOOKUP(B7448,Categorias!$A:$B,2,FALSE)","v":{"$error":"#N/A"}}]
[{"$f":"VLOOKUP(B7449,Categorias!$A:$B,2,FALSE)","v":{"$error":"#N/A"}}]
[{"$f":"VLOOKUP(B7450,Categorias!$A:$B,2,FALSE)","v":{"$error":"#N/A"}}]
[{"$f":"VLOOKUP(B7451,Categorias!$A:$B,2,FALSE)","v":{"$error":"#N/A"}}]
[{"$f":"VLOOKUP(B7452,Categorias!$A:$B,2,FALSE)","v":{"$error":"#N/A"}}]
[{"$f":"VLOOKUP(B7453,Categorias!$A:$B,2,FALSE)","v":{"$error":"#N/A"}}]
[{"$f":"VLOOKUP(B7454,Categorias!$A:$B,2,FALSE)","v":{"$error":"#N/A"}}]
[{"$f":"VLOOKUP(B7455,Categorias!$A:$B,2,FALSE)","v":{"$error":"#N/A"}}]
[{"$f":"VLOOKUP(B7456,Categorias!$A:$B,2,FALSE)","v":{"$error":"#N/A"}}]
[{"$f":"VLOOKUP(B7457,Categorias!$A:$B,2,FALSE)","v":{"$error":"#N/A"}}]
[{"$f":"VLOOKUP(B7458,Categorias!$A:$B,2,FALSE)","v":{"$error":"#N/A"}}]
[{"$f":"VLOOKUP(B7459,Categorias!$A:$B,2,FALSE)","v":{"$error":"#N/A"}}]
[{"$f":"VLOOKUP(B7460,Categorias!$A:$B,2,FALSE)","v":{"$error":"#N/A"}}]
[{"$f":"VLOOKUP(B7461,Categorias!$A:$B,2,FALSE)","v":{"$error":"#N/A"}}]
[{"$f":"VLOOKUP(B7462,Categorias!$A:$B,2,FALSE)","v":{"$error":"#N/A"}}]
[{"$f":"VLOOKUP(B7463,Categorias!$A:$B,2,FALSE)","v":{"$error":"#N/A"}}]
[{"$f":"VLOOKUP(B7464,Categorias!$A:$B,2,FALSE)","v":{"$error":"#N/A"}}]
[{"$f":"VLOOKUP(B7465,Categorias!$A:$B,2,FALSE)","v":{"$error":"#N/A"}}]
[{"$f":"VLOOKUP(B7466,Categorias!$A:$B,2,FALSE)","v":{"$error":"#N/A"}}]
[{"$f":"VLOOKUP(B7467,Categorias!$A:$B,2,FALSE)","v":{"$error":"#N/A"}}]
[{"$f":"VLOOKUP(B7468,Categorias!$A:$B,2,FALSE)","v":{"$error":"#N/A"}}]
[{"$f":"VLOOKUP(B7469,Categorias!$A:$B,2,FALSE)","v":{"$error":"#N/A"}}]
[{"$f":"VLOOKUP(B7470,Categorias!$A:$B,2,FALSE)","v":{"$error":"#N/A"}}]
[{"$f":"VLOOKUP(B7471,Categorias!$A:$B,2,FALSE)","v":{"$error":"#N/A"}}]
[{"$f":"VLOOKUP(B7472,Categorias!$A:$B,2,FALSE)","v":{"$error":"#N/A"}}]
[{"$f":"VLOOKUP(B7473,Categorias!$A:$B,2,FALSE)","v":{"$error":"#N/A"}}]
[{"$f":"VLOOKUP(B7474,Categorias!$A:$B,2,FALSE)","v":{"$error":"#N/A"}}]
[{"$f":"VLOOKUP(B7475,Categorias!$A:$B,2,FALSE)","v":{"$error":"#N/A"}}]
[{"$f":"VLOOKUP(B7476,Categorias!$A:$B,2,FALSE)","v":{"$error":"#N/A"}}]
[{"$f":"VLOOKUP(B7477,Categorias!$A:$B,2,FALSE)","v":{"$error":"#N/A"}}]
[{"$f":"VLOOKUP(B7478,Categorias!$A:$B,2,FALSE)","v":{"$error":"#N/A"}}]
[{"$f":"VLOOKUP(B7479,Categorias!$A:$B,2,FALSE)","v":{"$error":"#N/A"}}]
[{"$f":"VLOOKUP(B7480,Categorias!$A:$B,2,FALSE)","v":{"$error":"#N/A"}}]
[{"$f":"VLOOKUP(B7481,Categorias!$A:$B,2,FALSE)","v":{"$error":"#N/A"}}]
[{"$f":"VLOOKUP(B7482,Categorias!$A:$B,2,FALSE)","v":{"$error":"#N/A"}}]
[{"$f":"VLOOKUP(B7483,Categorias!$A:$B,2,FALSE)","v":{"$error":"#N/A"}}]
[{"$f":"VLOOKUP(B7484,Categorias!$A:$B,2,FALSE)","v":{"$error":"#N/A"}}]
[{"$f":"VLOOKUP(B7485,Categorias!$A:$B,2,FALSE)","v":{"$error":"#N/A"}}]
[{"$f":"VLOOKUP(B7486,Categorias!$A:$B,2,FALSE)","v":{"$error":"#N/A"}}]
[{"$f":"VLOOKUP(B7487,Categorias!$A:$B,2,FALSE)","v":{"$error":"#N/A"}}]
[{"$f":"VLOOKUP(B7488,Categorias!$A:$B,2,FALSE)","v":{"$error":"#N/A"}}]
[{"$f":"VLOOKUP(B7489,Categorias!$A:$B,2,FALSE)","v":{"$error":"#N/A"}}]
[{"$f":"VLOOKUP(B7490,Categorias!$A:$B,2,FALSE)","v":{"$error":"#N/A"}}]
[{"$f":"VLOOKUP(B7491,Categorias!$A:$B,2,FALSE)","v":{"$error":"#N/A"}}]
[{"$f":"VLOOKUP(B7492,Categorias!$A:$B,2,FALSE)","v":{"$error":"#N/A"}}]
[{"$f":"VLOOKUP(B7493,Categorias!$A:$B,2,FALSE)","v":{"$error":"#N/A"}}]
[{"$f":"VLOOKUP(B7494,Categorias!$A:$B,2,FALSE)","v":{"$error":"#N/A"}}]
[{"$f":"VLOOKUP(B7495,Categorias!$A:$B,2,FALSE)","v":{"$error":"#N/A"}}]
[{"$f":"VLOOKUP(B7496,Categorias!$A:$B,2,FALSE)","v":{"$error":"#N/A"}}]
[{"$f":"VLOOKUP(B7497,Categorias!$A:$B,2,FALSE)","v":{"$error":"#N/A"}}]
[{"$f":"VLOOKUP(B7498,Categorias!$A:$B,2,FALSE)","v":{"$error":"#N/A"}}]
[{"$f":"VLOOKUP(B7499,Categorias!$A:$B,2,FALSE)","v":{"$error":"#N/A"}}]
[{"$f":"VLOOKUP(B7500,Categorias!$A:$B,2,FALSE)","v":{"$error":"#N/A"}}]
[{"$f":"VLOOKUP(B7501,Categorias!$A:$B,2,FALSE)","v":{"$error":"#N/A"}}]
[{"$f":"VLOOKUP(B7502,Categorias!$A:$B,2,FALSE)","v":{"$error":"#N/A"}}]
[{"$f":"VLOOKUP(B7503,Categorias!$A:$B,2,FALSE)","v":{"$error":"#N/A"}}]
[{"$f":"VLOOKUP(B7504,Categorias!$A:$B,2,FALSE)","v":{"$error":"#N/A"}}]
[{"$f":"VLOOKUP(B7505,Categorias!$A:$B,2,FALSE)","v":{"$error":"#N/A"}}]
[{"$f":"VLOOKUP(B7506,Categorias!$A:$B,2,FALSE)","v":{"$error":"#N/A"}}]
[{"$f":"VLOOKUP(B7507,Categorias!$A:$B,2,FALSE)","v":{"$error":"#N/A"}}]
[{"$f":"VLOOKUP(B7508,Categorias!$A:$B,2,FALSE)","v":{"$error":"#N/A"}}]
[{"$f":"VLOOKUP(B7509,Categorias!$A:$B,2,FALSE)","v":{"$error":"#N/A"}}]
[{"$f":"VLOOKUP(B7510,Categorias!$A:$B,2,FALSE)","v":{"$error":"#N/A"}}]
[{"$f":"VLOOKUP(B7511,Categorias!$A:$B,2,FALSE)","v":{"$error":"#N/A"}}]
[{"$f":"VLOOKUP(B7512,Categorias!$A:$B,2,FALSE)","v":{"$error":"#N/A"}}]
[{"$f":"VLOOKUP(B7513,Categorias!$A:$B,2,FALSE)","v":{"$error":"#N/A"}}]
[{"$f":"VLOOKUP(B7514,Categorias!$A:$B,2,FALSE)","v":{"$error":"#N/A"}}]
[{"$f":"VLOOKUP(B7515,Categorias!$A:$B,2,FALSE)","v":{"$error":"#N/A"}}]
[{"$f":"VLOOKUP(B7516,Categorias!$A:$B,2,FALSE)","v":{"$error":"#N/A"}}]
[{"$f":"VLOOKUP(B7517,Categorias!$A:$B,2,FALSE)","v":{"$error":"#N/A"}}]
[{"$f":"VLOOKUP(B7518,Categorias!$A:$B,2,FALSE)","v":{"$error":"#N/A"}}]
[{"$f":"VLOOKUP(B7519,Categorias!$A:$B,2,FALSE)","v":{"$error":"#N/A"}}]
[{"$f":"VLOOKUP(B7520,Categorias!$A:$B,2,FALSE)","v":{"$error":"#N/A"}}]
[{"$f":"VLOOKUP(B7521,Categorias!$A:$B,2,FALSE)","v":{"$error":"#N/A"}}]
[{"$f":"VLOOKUP(B7522,Categorias!$A:$B,2,FALSE)","v":{"$error":"#N/A"}}]
[{"$f":"VLOOKUP(B7523,Categorias!$A:$B,2,FALSE)","v":{"$error":"#N/A"}}]
[{"$f":"VLOOKUP(B7524,Categorias!$A:$B,2,FALSE)","v":{"$error":"#N/A"}}]
[{"$f":"VLOOKUP(B7525,Categorias!$A:$B,2,FALSE)","v":{"$error":"#N/A"}}]
[{"$f":"VLOOKUP(B7526,Categorias!$A:$B,2,FALSE)","v":{"$error":"#N/A"}}]
[{"$f":"VLOOKUP(B7527,Categorias!$A:$B,2,FALSE)","v":{"$error":"#N/A"}}]
[{"$f":"VLOOKUP(B7528,Categorias!$A:$B,2,FALSE)","v":{"$error":"#N/A"}}]
[{"$f":"VLOOKUP(B7529,Categorias!$A:$B,2,FALSE)","v":{"$error":"#N/A"}}]
[{"$f":"VLOOKUP(B7530,Categorias!$A:$B,2,FALSE)","v":{"$error":"#N/A"}}]
[{"$f":"VLOOKUP(B7531,Categorias!$A:$B,2,FALSE)","v":{"$error":"#N/A"}}]
[{"$f":"VLOOKUP(B7532,Categorias!$A:$B,2,FALSE)","v":{"$error":"#N/A"}}]
[{"$f":"VLOOKUP(B7533,Categorias!$A:$B,2,FALSE)","v":{"$error":"#N/A"}}]
[{"$f":"VLOOKUP(B7534,Categorias!$A:$B,2,FALSE)","v":{"$error":"#N/A"}}]
[{"$f":"VLOOKUP(B7535,Categorias!$A:$B,2,FALSE)","v":{"$error":"#N/A"}}]
[{"$f":"VLOOKUP(B7536,Categorias!$A:$B,2,FALSE)","v":{"$error":"#N/A"}}]
[{"$f":"VLOOKUP(B7537,Categorias!$A:$B,2,FALSE)","v":{"$error":"#N/A"}}]
[{"$f":"VLOOKUP(B7538,Categorias!$A:$B,2,FALSE)","v":{"$error":"#N/A"}}]
[{"$f":"VLOOKUP(B7539,Categorias!$A:$B,2,FALSE)","v":{"$error":"#N/A"}}]
[{"$f":"VLOOKUP(B7540,Categorias!$A:$B,2,FALSE)","v":{"$error":"#N/A"}}]
[{"$f":"VLOOKUP(B7541,Categorias!$A:$B,2,FALSE)","v":{"$error":"#N/A"}}]
[{"$f":"VLOOKUP(B7542,Categorias!$A:$B,2,FALSE)","v":{"$error":"#N/A"}}]
[{"$f":"VLOOKUP(B7543,Categorias!$A:$B,2,FALSE)","v":{"$error":"#N/A"}}]
[{"$f":"VLOOKUP(B7544,Categorias!$A:$B,2,FALSE)","v":{"$error":"#N/A"}}]
[{"$f":"VLOOKUP(B7545,Categorias!$A:$B,2,FALSE)","v":{"$error":"#N/A"}}]
[{"$f":"VLOOKUP(B7546,Categorias!$A:$B,2,FALSE)","v":{"$error":"#N/A"}}]
[{"$f":"VLOOKUP(B7547,Categorias!$A:$B,2,FALSE)","v":{"$error":"#N/A"}}]
[{"$f":"VLOOKUP(B7548,Categorias!$A:$B,2,FALSE)","v":{"$error":"#N/A"}}]
[{"$f":"VLOOKUP(B7549,Categorias!$A:$B,2,FALSE)","v":{"$error":"#N/A"}}]
[{"$f":"VLOOKUP(B7550,Categorias!$A:$B,2,FALSE)","v":{"$error":"#N/A"}}]
[{"$f":"VLOOKUP(B7551,Categorias!$A:$B,2,FALSE)","v":{"$error":"#N/A"}}]
[{"$f":"VLOOKUP(B7552,Categorias!$A:$B,2,FALSE)","v":{"$error":"#N/A"}}]
[{"$f":"VLOOKUP(B7553,Categorias!$A:$B,2,FALSE)","v":{"$error":"#N/A"}}]
[{"$f":"VLOOKUP(B7554,Categorias!$A:$B,2,FALSE)","v":{"$error":"#N/A"}}]
[{"$f":"VLOOKUP(B7555,Categorias!$A:$B,2,FALSE)","v":{"$error":"#N/A"}}]
[{"$f":"VLOOKUP(B7556,Categorias!$A:$B,2,FALSE)","v":{"$error":"#N/A"}}]
[{"$f":"VLOOKUP(B7557,Categorias!$A:$B,2,FALSE)","v":{"$error":"#N/A"}}]
[{"$f":"VLOOKUP(B7558,Categorias!$A:$B,2,FALSE)","v":{"$error":"#N/A"}}]
[{"$f":"VLOOKUP(B7559,Categorias!$A:$B,2,FALSE)","v":{"$error":"#N/A"}}]
[{"$f":"VLOOKUP(B7560,Categorias!$A:$B,2,FALSE)","v":{"$error":"#N/A"}}]
[{"$f":"VLOOKUP(B7561,Categorias!$A:$B,2,FALSE)","v":{"$error":"#N/A"}}]
[{"$f":"VLOOKUP(B7562,Categorias!$A:$B,2,FALSE)","v":{"$error":"#N/A"}}]
[{"$f":"VLOOKUP(B7563,Categorias!$A:$B,2,FALSE)","v":{"$error":"#N/A"}}]
[{"$f":"VLOOKUP(B7564,Categorias!$A:$B,2,FALSE)","v":{"$error":"#N/A"}}]
[{"$f":"VLOOKUP(B7565,Categorias!$A:$B,2,FALSE)","v":{"$error":"#N/A"}}]
[{"$f":"VLOOKUP(B7566,Categorias!$A:$B,2,FALSE)","v":{"$error":"#N/A"}}]
[{"$f":"VLOOKUP(B7567,Categorias!$A:$B,2,FALSE)","v":{"$error":"#N/A"}}]
[{"$f":"VLOOKUP(B7568,Categorias!$A:$B,2,FALSE)","v":{"$error":"#N/A"}}]
[{"$f":"VLOOKUP(B7569,Categorias!$A:$B,2,FALSE)","v":{"$error":"#N/A"}}]
[{"$f":"VLOOKUP(B7570,Categorias!$A:$B,2,FALSE)","v":{"$error":"#N/A"}}]
[{"$f":"VLOOKUP(B7571,Categorias!$A:$B,2,FALSE)","v":{"$error":"#N/A"}}]
[{"$f":"VLOOKUP(B7572,Categorias!$A:$B,2,FALSE)","v":{"$error":"#N/A"}}]
[{"$f":"VLOOKUP(B7573,Categorias!$A:$B,2,FALSE)","v":{"$error":"#N/A"}}]
[{"$f":"VLOOKUP(B7574,Categorias!$A:$B,2,FALSE)","v":{"$error":"#N/A"}}]
[{"$f":"VLOOKUP(B7575,Categorias!$A:$B,2,FALSE)","v":{"$error":"#N/A"}}]
[{"$f":"VLOOKUP(B7576,Categorias!$A:$B,2,FALSE)","v":{"$error":"#N/A"}}]
[{"$f":"VLOOKUP(B7577,Categorias!$A:$B,2,FALSE)","v":{"$error":"#N/A"}}]
[{"$f":"VLOOKUP(B7578,Categorias!$A:$B,2,FALSE)","v":{"$error":"#N/A"}}]
[{"$f":"VLOOKUP(B7579,Categorias!$A:$B,2,FALSE)","v":{"$error":"#N/A"}}]
[{"$f":"VLOOKUP(B7580,Categorias!$A:$B,2,FALSE)","v":{"$error":"#N/A"}}]
[{"$f":"VLOOKUP(B7581,Categorias!$A:$B,2,FALSE)","v":{"$error":"#N/A"}}]
[{"$f":"VLOOKUP(B7582,Categorias!$A:$B,2,FALSE)","v":{"$error":"#N/A"}}]
[{"$f":"VLOOKUP(B7583,Categorias!$A:$B,2,FALSE)","v":{"$error":"#N/A"}}]
[{"$f":"VLOOKUP(B7584,Categorias!$A:$B,2,FALSE)","v":{"$error":"#N/A"}}]
[{"$f":"VLOOKUP(B7585,Categorias!$A:$B,2,FALSE)","v":{"$error":"#N/A"}}]
[{"$f":"VLOOKUP(B7586,Categorias!$A:$B,2,FALSE)","v":{"$error":"#N/A"}}]
[{"$f":"VLOOKUP(B7587,Categorias!$A:$B,2,FALSE)","v":{"$error":"#N/A"}}]
[{"$f":"VLOOKUP(B7588,Categorias!$A:$B,2,FALSE)","v":{"$error":"#N/A"}}]
[{"$f":"VLOOKUP(B7589,Categorias!$A:$B,2,FALSE)","v":{"$error":"#N/A"}}]
[{"$f":"VLOOKUP(B7590,Categorias!$A:$B,2,FALSE)","v":{"$error":"#N/A"}}]
[{"$f":"VLOOKUP(B7591,Categorias!$A:$B,2,FALSE)","v":{"$error":"#N/A"}}]
[{"$f":"VLOOKUP(B7592,Categorias!$A:$B,2,FALSE)","v":{"$error":"#N/A"}}]
[{"$f":"VLOOKUP(B7593,Categorias!$A:$B,2,FALSE)","v":{"$error":"#N/A"}}]
[{"$f":"VLOOKUP(B7594,Categorias!$A:$B,2,FALSE)","v":{"$error":"#N/A"}}]
[{"$f":"VLOOKUP(B7595,Categorias!$A:$B,2,FALSE)","v":{"$error":"#N/A"}}]
[{"$f":"VLOOKUP(B7596,Categorias!$A:$B,2,FALSE)","v":{"$error":"#N/A"}}]
[{"$f":"VLOOKUP(B7597,Categorias!$A:$B,2,FALSE)","v":{"$error":"#N/A"}}]
[{"$f":"VLOOKUP(B7598,Categorias!$A:$B,2,FALSE)","v":{"$error":"#N/A"}}]
[{"$f":"VLOOKUP(B7599,Categorias!$A:$B,2,FALSE)","v":{"$error":"#N/A"}}]
[{"$f":"VLOOKUP(B7600,Categorias!$A:$B,2,FALSE)","v":{"$error":"#N/A"}}]
[{"$f":"VLOOKUP(B7601,Categorias!$A:$B,2,FALSE)","v":{"$error":"#N/A"}}]
[{"$f":"VLOOKUP(B7602,Categorias!$A:$B,2,FALSE)","v":{"$error":"#N/A"}}]
[{"$f":"VLOOKUP(B7603,Categorias!$A:$B,2,FALSE)","v":{"$error":"#N/A"}}]
[{"$f":"VLOOKUP(B7604,Categorias!$A:$B,2,FALSE)","v":{"$error":"#N/A"}}]
[{"$f":"VLOOKUP(B7605,Categorias!$A:$B,2,FALSE)","v":{"$error":"#N/A"}}]
[{"$f":"VLOOKUP(B7606,Categorias!$A:$B,2,FALSE)","v":{"$error":"#N/A"}}]
[{"$f":"VLOOKUP(B7607,Categorias!$A:$B,2,FALSE)","v":{"$error":"#N/A"}}]
[{"$f":"VLOOKUP(B7608,Categorias!$A:$B,2,FALSE)","v":{"$error":"#N/A"}}]
[{"$f":"VLOOKUP(B7609,Categorias!$A:$B,2,FALSE)","v":{"$error":"#N/A"}}]
[{"$f":"VLOOKUP(B7610,Categorias!$A:$B,2,FALSE)","v":{"$error":"#N/A"}}]
[{"$f":"VLOOKUP(B7611,Categorias!$A:$B,2,FALSE)","v":{"$error":"#N/A"}}]
[{"$f":"VLOOKUP(B7612,Categorias!$A:$B,2,FALSE)","v":{"$error":"#N/A"}}]
[{"$f":"VLOOKUP(B7613,Categorias!$A:$B,2,FALSE)","v":{"$error":"#N/A"}}]
[{"$f":"VLOOKUP(B7614,Categorias!$A:$B,2,FALSE)","v":{"$error":"#N/A"}}]
[{"$f":"VLOOKUP(B7615,Categorias!$A:$B,2,FALSE)","v":{"$error":"#N/A"}}]
[{"$f":"VLOOKUP(B7616,Categorias!$A:$B,2,FALSE)","v":{"$error":"#N/A"}}]
[{"$f":"VLOOKUP(B7617,Categorias!$A:$B,2,FALSE)","v":{"$error":"#N/A"}}]
[{"$f":"VLOOKUP(B7618,Categorias!$A:$B,2,FALSE)","v":{"$error":"#N/A"}}]
[{"$f":"VLOOKUP(B7619,Categorias!$A:$B,2,FALSE)","v":{"$error":"#N/A"}}]
[{"$f":"VLOOKUP(B7620,Categorias!$A:$B,2,FALSE)","v":{"$error":"#N/A"}}]
[{"$f":"VLOOKUP(B7621,Categorias!$A:$B,2,FALSE)","v":{"$error":"#N/A"}}]
[{"$f":"VLOOKUP(B7622,Categorias!$A:$B,2,FALSE)","v":{"$error":"#N/A"}}]
[{"$f":"VLOOKUP(B7623,Categorias!$A:$B,2,FALSE)","v":{"$error":"#N/A"}}]
[{"$f":"VLOOKUP(B7624,Categorias!$A:$B,2,FALSE)","v":{"$error":"#N/A"}}]
[{"$f":"VLOOKUP(B7625,Categorias!$A:$B,2,FALSE)","v":{"$error":"#N/A"}}]
[{"$f":"VLOOKUP(B7626,Categorias!$A:$B,2,FALSE)","v":{"$error":"#N/A"}}]
[{"$f":"VLOOKUP(B7627,Categorias!$A:$B,2,FALSE)","v":{"$error":"#N/A"}}]
[{"$f":"VLOOKUP(B7628,Categorias!$A:$B,2,FALSE)","v":{"$error":"#N/A"}}]
[{"$f":"VLOOKUP(B7629,Categorias!$A:$B,2,FALSE)","v":{"$error":"#N/A"}}]
[{"$f":"VLOOKUP(B7630,Categorias!$A:$B,2,FALSE)","v":{"$error":"#N/A"}}]
[{"$f":"VLOOKUP(B7631,Categorias!$A:$B,2,FALSE)","v":{"$error":"#N/A"}}]
[{"$f":"VLOOKUP(B7632,Categorias!$A:$B,2,FALSE)","v":{"$error":"#N/A"}}]
[{"$f":"VLOOKUP(B7633,Categorias!$A:$B,2,FALSE)","v":{"$error":"#N/A"}}]
[{"$f":"VLOOKUP(B7634,Categorias!$A:$B,2,FALSE)","v":{"$error":"#N/A"}}]
[{"$f":"VLOOKUP(B7635,Categorias!$A:$B,2,FALSE)","v":{"$error":"#N/A"}}]
[{"$f":"VLOOKUP(B7636,Categorias!$A:$B,2,FALSE)","v":{"$error":"#N/A"}}]
[{"$f":"VLOOKUP(B7637,Categorias!$A:$B,2,FALSE)","v":{"$error":"#N/A"}}]
[{"$f":"VLOOKUP(B7638,Categorias!$A:$B,2,FALSE)","v":{"$error":"#N/A"}}]
[{"$f":"VLOOKUP(B7639,Categorias!$A:$B,2,FALSE)","v":{"$error":"#N/A"}}]
[{"$f":"VLOOKUP(B7640,Categorias!$A:$B,2,FALSE)","v":{"$error":"#N/A"}}]
[{"$f":"VLOOKUP(B7641,Categorias!$A:$B,2,FALSE)","v":{"$error":"#N/A"}}]
[{"$f":"VLOOKUP(B7642,Categorias!$A:$B,2,FALSE)","v":{"$error":"#N/A"}}]
[{"$f":"VLOOKUP(B7643,Categorias!$A:$B,2,FALSE)","v":{"$error":"#N/A"}}]
[{"$f":"VLOOKUP(B7644,Categorias!$A:$B,2,FALSE)","v":{"$error":"#N/A"}}]
[{"$f":"VLOOKUP(B7645,Categorias!$A:$B,2,FALSE)","v":{"$error":"#N/A"}}]
[{"$f":"VLOOKUP(B7646,Categorias!$A:$B,2,FALSE)","v":{"$error":"#N/A"}}]
[{"$f":"VLOOKUP(B7647,Categorias!$A:$B,2,FALSE)","v":{"$error":"#N/A"}}]
[{"$f":"VLOOKUP(B7648,Categorias!$A:$B,2,FALSE)","v":{"$error":"#N/A"}}]
[{"$f":"VLOOKUP(B7649,Categorias!$A:$B,2,FALSE)","v":{"$error":"#N/A"}}]
[{"$f":"VLOOKUP(B7650,Categorias!$A:$B,2,FALSE)","v":{"$error":"#N/A"}}]
[{"$f":"VLOOKUP(B7651,Categorias!$A:$B,2,FALSE)","v":{"$error":"#N/A"}}]
[{"$f":"VLOOKUP(B7652,Categorias!$A:$B,2,FALSE)","v":{"$error":"#N/A"}}]
[{"$f":"VLOOKUP(B7653,Categorias!$A:$B,2,FALSE)","v":{"$error":"#N/A"}}]
[{"$f":"VLOOKUP(B7654,Categorias!$A:$B,2,FALSE)","v":{"$error":"#N/A"}}]
[{"$f":"VLOOKUP(B7655,Categorias!$A:$B,2,FALSE)","v":{"$error":"#N/A"}}]
[{"$f":"VLOOKUP(B7656,Categorias!$A:$B,2,FALSE)","v":{"$error":"#N/A"}}]
[{"$f":"VLOOKUP(B7657,Categorias!$A:$B,2,FALSE)","v":{"$error":"#N/A"}}]
[{"$f":"VLOOKUP(B7658,Categorias!$A:$B,2,FALSE)","v":{"$error":"#N/A"}}]
[{"$f":"VLOOKUP(B7659,Categorias!$A:$B,2,FALSE)","v":{"$error":"#N/A"}}]
[{"$f":"VLOOKUP(B7660,Categorias!$A:$B,2,FALSE)","v":{"$error":"#N/A"}}]
[{"$f":"VLOOKUP(B7661,Categorias!$A:$B,2,FALSE)","v":{"$error":"#N/A"}}]
[{"$f":"VLOOKUP(B7662,Categorias!$A:$B,2,FALSE)","v":{"$error":"#N/A"}}]
[{"$f":"VLOOKUP(B7663,Categorias!$A:$B,2,FALSE)","v":{"$error":"#N/A"}}]
[{"$f":"VLOOKUP(B7664,Categorias!$A:$B,2,FALSE)","v":{"$error":"#N/A"}}]
[{"$f":"VLOOKUP(B7665,Categorias!$A:$B,2,FALSE)","v":{"$error":"#N/A"}}]
[{"$f":"VLOOKUP(B7666,Categorias!$A:$B,2,FALSE)","v":{"$error":"#N/A"}}]
[{"$f":"VLOOKUP(B7667,Categorias!$A:$B,2,FALSE)","v":{"$error":"#N/A"}}]
[{"$f":"VLOOKUP(B7668,Categorias!$A:$B,2,FALSE)","v":{"$error":"#N/A"}}]
[{"$f":"VLOOKUP(B7669,Categorias!$A:$B,2,FALSE)","v":{"$error":"#N/A"}}]
[{"$f":"VLOOKUP(B7670,Categorias!$A:$B,2,FALSE)","v":{"$error":"#N/A"}}]
[{"$f":"VLOOKUP(B7671,Categorias!$A:$B,2,FALSE)","v":{"$error":"#N/A"}}]
[{"$f":"VLOOKUP(B7672,Categorias!$A:$B,2,FALSE)","v":{"$error":"#N/A"}}]
[{"$f":"VLOOKUP(B7673,Categorias!$A:$B,2,FALSE)","v":{"$error":"#N/A"}}]
[{"$f":"VLOOKUP(B7674,Categorias!$A:$B,2,FALSE)","v":{"$error":"#N/A"}}]
[{"$f":"VLOOKUP(B7675,Categorias!$A:$B,2,FALSE)","v":{"$error":"#N/A"}}]
[{"$f":"VLOOKUP(B7676,Categorias!$A:$B,2,FALSE)","v":{"$error":"#N/A"}}]
[{"$f":"VLOOKUP(B7677,Categorias!$A:$B,2,FALSE)","v":{"$error":"#N/A"}}]
[{"$f":"VLOOKUP(B7678,Categorias!$A:$B,2,FALSE)","v":{"$error":"#N/A"}}]
[{"$f":"VLOOKUP(B7679,Categorias!$A:$B,2,FALSE)","v":{"$error":"#N/A"}}]
[{"$f":"VLOOKUP(B7680,Categorias!$A:$B,2,FALSE)","v":{"$error":"#N/A"}}]
[{"$f":"VLOOKUP(B7681,Categorias!$A:$B,2,FALSE)","v":{"$error":"#N/A"}}]
[{"$f":"VLOOKUP(B7682,Categorias!$A:$B,2,FALSE)","v":{"$error":"#N/A"}}]
[{"$f":"VLOOKUP(B7683,Categorias!$A:$B,2,FALSE)","v":{"$error":"#N/A"}}]
[{"$f":"VLOOKUP(B7684,Categorias!$A:$B,2,FALSE)","v":{"$error":"#N/A"}}]
[{"$f":"VLOOKUP(B7685,Categorias!$A:$B,2,FALSE)","v":{"$error":"#N/A"}}]
[{"$f":"VLOOKUP(B7686,Categorias!$A:$B,2,FALSE)","v":{"$error":"#N/A"}}]
[{"$f":"VLOOKUP(B7687,Categorias!$A:$B,2,FALSE)","v":{"$error":"#N/A"}}]
[{"$f":"VLOOKUP(B7688,Categorias!$A:$B,2,FALSE)","v":{"$error":"#N/A"}}]
[{"$f":"VLOOKUP(B7689,Categorias!$A:$B,2,FALSE)","v":{"$error":"#N/A"}}]
[{"$f":"VLOOKUP(B7690,Categorias!$A:$B,2,FALSE)","v":{"$error":"#N/A"}}]
[{"$f":"VLOOKUP(B7691,Categorias!$A:$B,2,FALSE)","v":{"$error":"#N/A"}}]
[{"$f":"VLOOKUP(B7692,Categorias!$A:$B,2,FALSE)","v":{"$error":"#N/A"}}]
[{"$f":"VLOOKUP(B7693,Categorias!$A:$B,2,FALSE)","v":{"$error":"#N/A"}}]
[{"$f":"VLOOKUP(B7694,Categorias!$A:$B,2,FALSE)","v":{"$error":"#N/A"}}]
[{"$f":"VLOOKUP(B7695,Categorias!$A:$B,2,FALSE)","v":{"$error":"#N/A"}}]
[{"$f":"VLOOKUP(B7696,Categorias!$A:$B,2,FALSE)","v":{"$error":"#N/A"}}]
[{"$f":"VLOOKUP(B7697,Categorias!$A:$B,2,FALSE)","v":{"$error":"#N/A"}}]
[{"$f":"VLOOKUP(B7698,Categorias!$A:$B,2,FALSE)","v":{"$error":"#N/A"}}]
[{"$f":"VLOOKUP(B7699,Categorias!$A:$B,2,FALSE)","v":{"$error":"#N/A"}}]
[{"$f":"VLOOKUP(B7700,Categorias!$A:$B,2,FALSE)","v":{"$error":"#N/A"}}]
[{"$f":"VLOOKUP(B7701,Categorias!$A:$B,2,FALSE)","v":{"$error":"#N/A"}}]
[{"$f":"VLOOKUP(B7702,Categorias!$A:$B,2,FALSE)","v":{"$error":"#N/A"}}]
[{"$f":"VLOOKUP(B7703,Categorias!$A:$B,2,FALSE)","v":{"$error":"#N/A"}}]
[{"$f":"VLOOKUP(B7704,Categorias!$A:$B,2,FALSE)","v":{"$error":"#N/A"}}]
[{"$f":"VLOOKUP(B7705,Categorias!$A:$B,2,FALSE)","v":{"$error":"#N/A"}}]
[{"$f":"VLOOKUP(B7706,Categorias!$A:$B,2,FALSE)","v":{"$error":"#N/A"}}]
[{"$f":"VLOOKUP(B7707,Categorias!$A:$B,2,FALSE)","v":{"$error":"#N/A"}}]
[{"$f":"VLOOKUP(B7708,Categorias!$A:$B,2,FALSE)","v":{"$error":"#N/A"}}]
[{"$f":"VLOOKUP(B7709,Categorias!$A:$B,2,FALSE)","v":{"$error":"#N/A"}}]
[{"$f":"VLOOKUP(B7710,Categorias!$A:$B,2,FALSE)","v":{"$error":"#N/A"}}]
[{"$f":"VLOOKUP(B7711,Categorias!$A:$B,2,FALSE)","v":{"$error":"#N/A"}}]
[{"$f":"VLOOKUP(B7712,Categorias!$A:$B,2,FALSE)","v":{"$error":"#N/A"}}]
[{"$f":"VLOOKUP(B7713,Categorias!$A:$B,2,FALSE)","v":{"$error":"#N/A"}}]
[{"$f":"VLOOKUP(B7714,Categorias!$A:$B,2,FALSE)","v":{"$error":"#N/A"}}]
[{"$f":"VLOOKUP(B7715,Categorias!$A:$B,2,FALSE)","v":{"$error":"#N/A"}}]
[{"$f":"VLOOKUP(B7716,Categorias!$A:$B,2,FALSE)","v":{"$error":"#N/A"}}]
[{"$f":"VLOOKUP(B7717,Categorias!$A:$B,2,FALSE)","v":{"$error":"#N/A"}}]
[{"$f":"VLOOKUP(B7718,Categorias!$A:$B,2,FALSE)","v":{"$error":"#N/A"}}]
[{"$f":"VLOOKUP(B7719,Categorias!$A:$B,2,FALSE)","v":{"$error":"#N/A"}}]
[{"$f":"VLOOKUP(B7720,Categorias!$A:$B,2,FALSE)","v":{"$error":"#N/A"}}]
[{"$f":"VLOOKUP(B7721,Categorias!$A:$B,2,FALSE)","v":{"$error":"#N/A"}}]
[{"$f":"VLOOKUP(B7722,Categorias!$A:$B,2,FALSE)","v":{"$error":"#N/A"}}]
[{"$f":"VLOOKUP(B7723,Categorias!$A:$B,2,FALSE)","v":{"$error":"#N/A"}}]
[{"$f":"VLOOKUP(B7724,Categorias!$A:$B,2,FALSE)","v":{"$error":"#N/A"}}]
[{"$f":"VLOOKUP(B7725,Categorias!$A:$B,2,FALSE)","v":{"$error":"#N/A"}}]
[{"$f":"VLOOKUP(B7726,Categorias!$A:$B,2,FALSE)","v":{"$error":"#N/A"}}]
[{"$f":"VLOOKUP(B7727,Categorias!$A:$B,2,FALSE)","v":{"$error":"#N/A"}}]
[{"$f":"VLOOKUP(B7728,Categorias!$A:$B,2,FALSE)","v":{"$error":"#N/A"}}]
[{"$f":"VLOOKUP(B7729,Categorias!$A:$B,2,FALSE)","v":{"$error":"#N/A"}}]
[{"$f":"VLOOKUP(B7730,Categorias!$A:$B,2,FALSE)","v":{"$error":"#N/A"}}]
[{"$f":"VLOOKUP(B7731,Categorias!$A:$B,2,FALSE)","v":{"$error":"#N/A"}}]
[{"$f":"VLOOKUP(B7732,Categorias!$A:$B,2,FALSE)","v":{"$error":"#N/A"}}]
[{"$f":"VLOOKUP(B7733,Categorias!$A:$B,2,FALSE)","v":{"$error":"#N/A"}}]
[{"$f":"VLOOKUP(B7734,Categorias!$A:$B,2,FALSE)","v":{"$error":"#N/A"}}]
[{"$f":"VLOOKUP(B7735,Categorias!$A:$B,2,FALSE)","v":{"$error":"#N/A"}}]
[{"$f":"VLOOKUP(B7736,Categorias!$A:$B,2,FALSE)","v":{"$error":"#N/A"}}]
[{"$f":"VLOOKUP(B7737,Categorias!$A:$B,2,FALSE)","v":{"$error":"#N/A"}}]
[{"$f":"VLOOKUP(B7738,Categorias!$A:$B,2,FALSE)","v":{"$error":"#N/A"}}]
[{"$f":"VLOOKUP(B7739,Categorias!$A:$B,2,FALSE)","v":{"$error":"#N/A"}}]
[{"$f":"VLOOKUP(B7740,Categorias!$A:$B,2,FALSE)","v":{"$error":"#N/A"}}]
[{"$f":"VLOOKUP(B7741,Categorias!$A:$B,2,FALSE)","v":{"$error":"#N/A"}}]
[{"$f":"VLOOKUP(B7742,Categorias!$A:$B,2,FALSE)","v":{"$error":"#N/A"}}]
[{"$f":"VLOOKUP(B7743,Categorias!$A:$B,2,FALSE)","v":{"$error":"#N/A"}}]
[{"$f":"VLOOKUP(B7744,Categorias!$A:$B,2,FALSE)","v":{"$error":"#N/A"}}]
[{"$f":"VLOOKUP(B7745,Categorias!$A:$B,2,FALSE)","v":{"$error":"#N/A"}}]
[{"$f":"VLOOKUP(B7746,Categorias!$A:$B,2,FALSE)","v":{"$error":"#N/A"}}]
[{"$f":"VLOOKUP(B7747,Categorias!$A:$B,2,FALSE)","v":{"$error":"#N/A"}}]
[{"$f":"VLOOKUP(B7748,Categorias!$A:$B,2,FALSE)","v":{"$error":"#N/A"}}]
[{"$f":"VLOOKUP(B7749,Categorias!$A:$B,2,FALSE)","v":{"$error":"#N/A"}}]
[{"$f":"VLOOKUP(B7750,Categorias!$A:$B,2,FALSE)","v":{"$error":"#N/A"}}]
[{"$f":"VLOOKUP(B7751,Categorias!$A:$B,2,FALSE)","v":{"$error":"#N/A"}}]
[{"$f":"VLOOKUP(B7752,Categorias!$A:$B,2,FALSE)","v":{"$error":"#N/A"}}]
[{"$f":"VLOOKUP(B7753,Categorias!$A:$B,2,FALSE)","v":{"$error":"#N/A"}}]
[{"$f":"VLOOKUP(B7754,Categorias!$A:$B,2,FALSE)","v":{"$error":"#N/A"}}]
[{"$f":"VLOOKUP(B7755,Categorias!$A:$B,2,FALSE)","v":{"$error":"#N/A"}}]
[{"$f":"VLOOKUP(B7756,Categorias!$A:$B,2,FALSE)","v":{"$error":"#N/A"}}]
[{"$f":"VLOOKUP(B7757,Categorias!$A:$B,2,FALSE)","v":{"$error":"#N/A"}}]
[{"$f":"VLOOKUP(B7758,Categorias!$A:$B,2,FALSE)","v":{"$error":"#N/A"}}]
[{"$f":"VLOOKUP(B7759,Categorias!$A:$B,2,FALSE)","v":{"$error":"#N/A"}}]
[{"$f":"VLOOKUP(B7760,Categorias!$A:$B,2,FALSE)","v":{"$error":"#N/A"}}]
[{"$f":"VLOOKUP(B7761,Categorias!$A:$B,2,FALSE)","v":{"$error":"#N/A"}}]
[{"$f":"VLOOKUP(B7762,Categorias!$A:$B,2,FALSE)","v":{"$error":"#N/A"}}]
[{"$f":"VLOOKUP(B7763,Categorias!$A:$B,2,FALSE)","v":{"$error":"#N/A"}}]
[{"$f":"VLOOKUP(B7764,Categorias!$A:$B,2,FALSE)","v":{"$error":"#N/A"}}]
[{"$f":"VLOOKUP(B7765,Categorias!$A:$B,2,FALSE)","v":{"$error":"#N/A"}}]
[{"$f":"VLOOKUP(B7766,Categorias!$A:$B,2,FALSE)","v":{"$error":"#N/A"}}]
[{"$f":"VLOOKUP(B7767,Categorias!$A:$B,2,FALSE)","v":{"$error":"#N/A"}}]
[{"$f":"VLOOKUP(B7768,Categorias!$A:$B,2,FALSE)","v":{"$error":"#N/A"}}]
[{"$f":"VLOOKUP(B7769,Categorias!$A:$B,2,FALSE)","v":{"$error":"#N/A"}}]
[{"$f":"VLOOKUP(B7770,Categorias!$A:$B,2,FALSE)","v":{"$error":"#N/A"}}]
[{"$f":"VLOOKUP(B7771,Categorias!$A:$B,2,FALSE)","v":{"$error":"#N/A"}}]
[{"$f":"VLOOKUP(B7772,Categorias!$A:$B,2,FALSE)","v":{"$error":"#N/A"}}]
[{"$f":"VLOOKUP(B7773,Categorias!$A:$B,2,FALSE)","v":{"$error":"#N/A"}}]
[{"$f":"VLOOKUP(B7774,Categorias!$A:$B,2,FALSE)","v":{"$error":"#N/A"}}]
[{"$f":"VLOOKUP(B7775,Categorias!$A:$B,2,FALSE)","v":{"$error":"#N/A"}}]
[{"$f":"VLOOKUP(B7776,Categorias!$A:$B,2,FALSE)","v":{"$error":"#N/A"}}]
[{"$f":"VLOOKUP(B7777,Categorias!$A:$B,2,FALSE)","v":{"$error":"#N/A"}}]
[{"$f":"VLOOKUP(B7778,Categorias!$A:$B,2,FALSE)","v":{"$error":"#N/A"}}]
[{"$f":"VLOOKUP(B7779,Categorias!$A:$B,2,FALSE)","v":{"$error":"#N/A"}}]
[{"$f":"VLOOKUP(B7780,Categorias!$A:$B,2,FALSE)","v":{"$error":"#N/A"}}]
[{"$f":"VLOOKUP(B7781,Categorias!$A:$B,2,FALSE)","v":{"$error":"#N/A"}}]
[{"$f":"VLOOKUP(B7782,Categorias!$A:$B,2,FALSE)","v":{"$error":"#N/A"}}]
[{"$f":"VLOOKUP(B7783,Categorias!$A:$B,2,FALSE)","v":{"$error":"#N/A"}}]
[{"$f":"VLOOKUP(B7784,Categorias!$A:$B,2,FALSE)","v":{"$error":"#N/A"}}]
[{"$f":"VLOOKUP(B7785,Categorias!$A:$B,2,FALSE)","v":{"$error":"#N/A"}}]
[{"$f":"VLOOKUP(B7786,Categorias!$A:$B,2,FALSE)","v":{"$error":"#N/A"}}]
[{"$f":"VLOOKUP(B7787,Categorias!$A:$B,2,FALSE)","v":{"$error":"#N/A"}}]
[{"$f":"VLOOKUP(B7788,Categorias!$A:$B,2,FALSE)","v":{"$error":"#N/A"}}]
[{"$f":"VLOOKUP(B7789,Categorias!$A:$B,2,FALSE)","v":{"$error":"#N/A"}}]
[{"$f":"VLOOKUP(B7790,Categorias!$A:$B,2,FALSE)","v":{"$error":"#N/A"}}]
[{"$f":"VLOOKUP(B7791,Categorias!$A:$B,2,FALSE)","v":{"$error":"#N/A"}}]
[{"$f":"VLOOKUP(B7792,Categorias!$A:$B,2,FALSE)","v":{"$error":"#N/A"}}]
[{"$f":"VLOOKUP(B7793,Categorias!$A:$B,2,FALSE)","v":{"$error":"#N/A"}}]
[{"$f":"VLOOKUP(B7794,Categorias!$A:$B,2,FALSE)","v":{"$error":"#N/A"}}]
[{"$f":"VLOOKUP(B7795,Categorias!$A:$B,2,FALSE)","v":{"$error":"#N/A"}}]
[{"$f":"VLOOKUP(B7796,Categorias!$A:$B,2,FALSE)","v":{"$error":"#N/A"}}]
[{"$f":"VLOOKUP(B7797,Categorias!$A:$B,2,FALSE)","v":{"$error":"#N/A"}}]
[{"$f":"VLOOKUP(B7798,Categorias!$A:$B,2,FALSE)","v":{"$error":"#N/A"}}]
[{"$f":"VLOOKUP(B7799,Categorias!$A:$B,2,FALSE)","v":{"$error":"#N/A"}}]
[{"$f":"VLOOKUP(B7800,Categorias!$A:$B,2,FALSE)","v":{"$error":"#N/A"}}]
[{"$f":"VLOOKUP(B7801,Categorias!$A:$B,2,FALSE)","v":{"$error":"#N/A"}}]
[{"$f":"VLOOKUP(B7802,Categorias!$A:$B,2,FALSE)","v":{"$error":"#N/A"}}]
[{"$f":"VLOOKUP(B7803,Categorias!$A:$B,2,FALSE)","v":{"$error":"#N/A"}}]
[{"$f":"VLOOKUP(B7804,Categorias!$A:$B,2,FALSE)","v":{"$error":"#N/A"}}]
[{"$f":"VLOOKUP(B7805,Categorias!$A:$B,2,FALSE)","v":{"$error":"#N/A"}}]
[{"$f":"VLOOKUP(B7806,Categorias!$A:$B,2,FALSE)","v":{"$error":"#N/A"}}]
[{"$f":"VLOOKUP(B7807,Categorias!$A:$B,2,FALSE)","v":{"$error":"#N/A"}}]
[{"$f":"VLOOKUP(B7808,Categorias!$A:$B,2,FALSE)","v":{"$error":"#N/A"}}]
[{"$f":"VLOOKUP(B7809,Categorias!$A:$B,2,FALSE)","v":{"$error":"#N/A"}}]
[{"$f":"VLOOKUP(B7810,Categorias!$A:$B,2,FALSE)","v":{"$error":"#N/A"}}]
[{"$f":"VLOOKUP(B7811,Categorias!$A:$B,2,FALSE)","v":{"$error":"#N/A"}}]
[{"$f":"VLOOKUP(B7812,Categorias!$A:$B,2,FALSE)","v":{"$error":"#N/A"}}]
[{"$f":"VLOOKUP(B7813,Categorias!$A:$B,2,FALSE)","v":{"$error":"#N/A"}}]
[{"$f":"VLOOKUP(B7814,Categorias!$A:$B,2,FALSE)","v":{"$error":"#N/A"}}]
[{"$f":"VLOOKUP(B7815,Categorias!$A:$B,2,FALSE)","v":{"$error":"#N/A"}}]
[{"$f":"VLOOKUP(B7816,Categorias!$A:$B,2,FALSE)","v":{"$error":"#N/A"}}]
[{"$f":"VLOOKUP(B7817,Categorias!$A:$B,2,FALSE)","v":{"$error":"#N/A"}}]
[{"$f":"VLOOKUP(B7818,Categorias!$A:$B,2,FALSE)","v":{"$error":"#N/A"}}]
[{"$f":"VLOOKUP(B7819,Categorias!$A:$B,2,FALSE)","v":{"$error":"#N/A"}}]
[{"$f":"VLOOKUP(B7820,Categorias!$A:$B,2,FALSE)","v":{"$error":"#N/A"}}]
[{"$f":"VLOOKUP(B7821,Categorias!$A:$B,2,FALSE)","v":{"$error":"#N/A"}}]
[{"$f":"VLOOKUP(B7822,Categorias!$A:$B,2,FALSE)","v":{"$error":"#N/A"}}]
[{"$f":"VLOOKUP(B7823,Categorias!$A:$B,2,FALSE)","v":{"$error":"#N/A"}}]
[{"$f":"VLOOKUP(B7824,Categorias!$A:$B,2,FALSE)","v":{"$error":"#N/A"}}]
[{"$f":"VLOOKUP(B7825,Categorias!$A:$B,2,FALSE)","v":{"$error":"#N/A"}}]
[{"$f":"VLOOKUP(B7826,Categorias!$A:$B,2,FALSE)","v":{"$error":"#N/A"}}]
[{"$f":"VLOOKUP(B7827,Categorias!$A:$B,2,FALSE)","v":{"$error":"#N/A"}}]
[{"$f":"VLOOKUP(B7828,Categorias!$A:$B,2,FALSE)","v":{"$error":"#N/A"}}]
[{"$f":"VLOOKUP(B7829,Categorias!$A:$B,2,FALSE)","v":{"$error":"#N/A"}}]
[{"$f":"VLOOKUP(B7830,Categorias!$A:$B,2,FALSE)","v":{"$error":"#N/A"}}]
[{"$f":"VLOOKUP(B7831,Categorias!$A:$B,2,FALSE)","v":{"$error":"#N/A"}}]
[{"$f":"VLOOKUP(B7832,Categorias!$A:$B,2,FALSE)","v":{"$error":"#N/A"}}]
[{"$f":"VLOOKUP(B7833,Categorias!$A:$B,2,FALSE)","v":{"$error":"#N/A"}}]
[{"$f":"VLOOKUP(B7834,Categorias!$A:$B,2,FALSE)","v":{"$error":"#N/A"}}]
[{"$f":"VLOOKUP(B7835,Categorias!$A:$B,2,FALSE)","v":{"$error":"#N/A"}}]
[{"$f":"VLOOKUP(B7836,Categorias!$A:$B,2,FALSE)","v":{"$error":"#N/A"}}]
[{"$f":"VLOOKUP(B7837,Categorias!$A:$B,2,FALSE)","v":{"$error":"#N/A"}}]
[{"$f":"VLOOKUP(B7838,Categorias!$A:$B,2,FALSE)","v":{"$error":"#N/A"}}]
[{"$f":"VLOOKUP(B7839,Categorias!$A:$B,2,FALSE)","v":{"$error":"#N/A"}}]
[{"$f":"VLOOKUP(B7840,Categorias!$A:$B,2,FALSE)","v":{"$error":"#N/A"}}]
[{"$f":"VLOOKUP(B7841,Categorias!$A:$B,2,FALSE)","v":{"$error":"#N/A"}}]
[{"$f":"VLOOKUP(B7842,Categorias!$A:$B,2,FALSE)","v":{"$error":"#N/A"}}]
[{"$f":"VLOOKUP(B7843,Categorias!$A:$B,2,FALSE)","v":{"$error":"#N/A"}}]
[{"$f":"VLOOKUP(B7844,Categorias!$A:$B,2,FALSE)","v":{"$error":"#N/A"}}]
[{"$f":"VLOOKUP(B7845,Categorias!$A:$B,2,FALSE)","v":{"$error":"#N/A"}}]
[{"$f":"VLOOKUP(B7846,Categorias!$A:$B,2,FALSE)","v":{"$error":"#N/A"}}]
[{"$f":"VLOOKUP(B7847,Categorias!$A:$B,2,FALSE)","v":{"$error":"#N/A"}}]
[{"$f":"VLOOKUP(B7848,Categorias!$A:$B,2,FALSE)","v":{"$error":"#N/A"}}]
[{"$f":"VLOOKUP(B7849,Categorias!$A:$B,2,FALSE)","v":{"$error":"#N/A"}}]
[{"$f":"VLOOKUP(B7850,Categorias!$A:$B,2,FALSE)","v":{"$error":"#N/A"}}]
[{"$f":"VLOOKUP(B7851,Categorias!$A:$B,2,FALSE)","v":{"$error":"#N/A"}}]
[{"$f":"VLOOKUP(B7852,Categorias!$A:$B,2,FALSE)","v":{"$error":"#N/A"}}]
[{"$f":"VLOOKUP(B7853,Categorias!$A:$B,2,FALSE)","v":{"$error":"#N/A"}}]
[{"$f":"VLOOKUP(B7854,Categorias!$A:$B,2,FALSE)","v":{"$error":"#N/A"}}]
[{"$f":"VLOOKUP(B7855,Categorias!$A:$B,2,FALSE)","v":{"$error":"#N/A"}}]
[{"$f":"VLOOKUP(B7856,Categorias!$A:$B,2,FALSE)","v":{"$error":"#N/A"}}]
[{"$f":"VLOOKUP(B7857,Categorias!$A:$B,2,FALSE)","v":{"$error":"#N/A"}}]
[{"$f":"VLOOKUP(B7858,Categorias!$A:$B,2,FALSE)","v":{"$error":"#N/A"}}]
[{"$f":"VLOOKUP(B7859,Categorias!$A:$B,2,FALSE)","v":{"$error":"#N/A"}}]
[{"$f":"VLOOKUP(B7860,Categorias!$A:$B,2,FALSE)","v":{"$error":"#N/A"}}]
[{"$f":"VLOOKUP(B7861,Categorias!$A:$B,2,FALSE)","v":{"$error":"#N/A"}}]
[{"$f":"VLOOKUP(B7862,Categorias!$A:$B,2,FALSE)","v":{"$error":"#N/A"}}]
[{"$f":"VLOOKUP(B7863,Categorias!$A:$B,2,FALSE)","v":{"$error":"#N/A"}}]
[{"$f":"VLOOKUP(B7864,Categorias!$A:$B,2,FALSE)","v":{"$error":"#N/A"}}]
[{"$f":"VLOOKUP(B7865,Categorias!$A:$B,2,FALSE)","v":{"$error":"#N/A"}}]
[{"$f":"VLOOKUP(B7866,Categorias!$A:$B,2,FALSE)","v":{"$error":"#N/A"}}]
[{"$f":"VLOOKUP(B7867,Categorias!$A:$B,2,FALSE)","v":{"$error":"#N/A"}}]
[{"$f":"VLOOKUP(B7868,Categorias!$A:$B,2,FALSE)","v":{"$error":"#N/A"}}]
[{"$f":"VLOOKUP(B7869,Categorias!$A:$B,2,FALSE)","v":{"$error":"#N/A"}}]
[{"$f":"VLOOKUP(B7870,Categorias!$A:$B,2,FALSE)","v":{"$error":"#N/A"}}]
[{"$f":"VLOOKUP(B7871,Categorias!$A:$B,2,FALSE)","v":{"$error":"#N/A"}}]
[{"$f":"VLOOKUP(B7872,Categorias!$A:$B,2,FALSE)","v":{"$error":"#N/A"}}]
[{"$f":"VLOOKUP(B7873,Categorias!$A:$B,2,FALSE)","v":{"$error":"#N/A"}}]
[{"$f":"VLOOKUP(B7874,Categorias!$A:$B,2,FALSE)","v":{"$error":"#N/A"}}]
[{"$f":"VLOOKUP(B7875,Categorias!$A:$B,2,FALSE)","v":{"$error":"#N/A"}}]
[{"$f":"VLOOKUP(B7876,Categorias!$A:$B,2,FALSE)","v":{"$error":"#N/A"}}]
[{"$f":"VLOOKUP(B7877,Categorias!$A:$B,2,FALSE)","v":{"$error":"#N/A"}}]
[{"$f":"VLOOKUP(B7878,Categorias!$A:$B,2,FALSE)","v":{"$error":"#N/A"}}]
[{"$f":"VLOOKUP(B7879,Categorias!$A:$B,2,FALSE)","v":{"$error":"#N/A"}}]
[{"$f":"VLOOKUP(B7880,Categorias!$A:$B,2,FALSE)","v":{"$error":"#N/A"}}]
[{"$f":"VLOOKUP(B7881,Categorias!$A:$B,2,FALSE)","v":{"$error":"#N/A"}}]
[{"$f":"VLOOKUP(B7882,Categorias!$A:$B,2,FALSE)","v":{"$error":"#N/A"}}]
[{"$f":"VLOOKUP(B7883,Categorias!$A:$B,2,FALSE)","v":{"$error":"#N/A"}}]
[{"$f":"VLOOKUP(B7884,Categorias!$A:$B,2,FALSE)","v":{"$error":"#N/A"}}]
[{"$f":"VLOOKUP(B7885,Categorias!$A:$B,2,FALSE)","v":{"$error":"#N/A"}}]
[{"$f":"VLOOKUP(B7886,Categorias!$A:$B,2,FALSE)","v":{"$error":"#N/A"}}]
[{"$f":"VLOOKUP(B7887,Categorias!$A:$B,2,FALSE)","v":{"$error":"#N/A"}}]
[{"$f":"VLOOKUP(B7888,Categorias!$A:$B,2,FALSE)","v":{"$error":"#N/A"}}]
[{"$f":"VLOOKUP(B7889,Categorias!$A:$B,2,FALSE)","v":{"$error":"#N/A"}}]
[{"$f":"VLOOKUP(B7890,Categorias!$A:$B,2,FALSE)","v":{"$error":"#N/A"}}]
[{"$f":"VLOOKUP(B7891,Categorias!$A:$B,2,FALSE)","v":{"$error":"#N/A"}}]
[{"$f":"VLOOKUP(B7892,Categorias!$A:$B,2,FALSE)","v":{"$error":"#N/A"}}]
[{"$f":"VLOOKUP(B7893,Categorias!$A:$B,2,FALSE)","v":{"$error":"#N/A"}}]
[{"$f":"VLOOKUP(B7894,Categorias!$A:$B,2,FALSE)","v":{"$error":"#N/A"}}]
[{"$f":"VLOOKUP(B7895,Categorias!$A:$B,2,FALSE)","v":{"$error":"#N/A"}}]
[{"$f":"VLOOKUP(B7896,Categorias!$A:$B,2,FALSE)","v":{"$error":"#N/A"}}]
[{"$f":"VLOOKUP(B7897,Categorias!$A:$B,2,FALSE)","v":{"$error":"#N/A"}}]
[{"$f":"VLOOKUP(B7898,Categorias!$A:$B,2,FALSE)","v":{"$error":"#N/A"}}]
[{"$f":"VLOOKUP(B7899,Categorias!$A:$B,2,FALSE)","v":{"$error":"#N/A"}}]
[{"$f":"VLOOKUP(B7900,Categorias!$A:$B,2,FALSE)","v":{"$error":"#N/A"}}]
[{"$f":"VLOOKUP(B7901,Categorias!$A:$B,2,FALSE)","v":{"$error":"#N/A"}}]
[{"$f":"VLOOKUP(B7902,Categorias!$A:$B,2,FALSE)","v":{"$error":"#N/A"}}]
[{"$f":"VLOOKUP(B7903,Categorias!$A:$B,2,FALSE)","v":{"$error":"#N/A"}}]
[{"$f":"VLOOKUP(B7904,Categorias!$A:$B,2,FALSE)","v":{"$error":"#N/A"}}]
[{"$f":"VLOOKUP(B7905,Categorias!$A:$B,2,FALSE)","v":{"$error":"#N/A"}}]
[{"$f":"VLOOKUP(B7906,Categorias!$A:$B,2,FALSE)","v":{"$error":"#N/A"}}]
[{"$f":"VLOOKUP(B7907,Categorias!$A:$B,2,FALSE)","v":{"$error":"#N/A"}}]
[{"$f":"VLOOKUP(B7908,Categorias!$A:$B,2,FALSE)","v":{"$error":"#N/A"}}]
[{"$f":"VLOOKUP(B7909,Categorias!$A:$B,2,FALSE)","v":{"$error":"#N/A"}}]
[{"$f":"VLOOKUP(B7910,Categorias!$A:$B,2,FALSE)","v":{"$error":"#N/A"}}]
[{"$f":"VLOOKUP(B7911,Categorias!$A:$B,2,FALSE)","v":{"$error":"#N/A"}}]
[{"$f":"VLOOKUP(B7912,Categorias!$A:$B,2,FALSE)","v":{"$error":"#N/A"}}]
[{"$f":"VLOOKUP(B7913,Categorias!$A:$B,2,FALSE)","v":{"$error":"#N/A"}}]
[{"$f":"VLOOKUP(B7914,Categorias!$A:$B,2,FALSE)","v":{"$error":"#N/A"}}]
[{"$f":"VLOOKUP(B7915,Categorias!$A:$B,2,FALSE)","v":{"$error":"#N/A"}}]
[{"$f":"VLOOKUP(B7916,Categorias!$A:$B,2,FALSE)","v":{"$error":"#N/A"}}]
[{"$f":"VLOOKUP(B7917,Categorias!$A:$B,2,FALSE)","v":{"$error":"#N/A"}}]
[{"$f":"VLOOKUP(B7918,Categorias!$A:$B,2,FALSE)","v":{"$error":"#N/A"}}]
[{"$f":"VLOOKUP(B7919,Categorias!$A:$B,2,FALSE)","v":{"$error":"#N/A"}}]
[{"$f":"VLOOKUP(B7920,Categorias!$A:$B,2,FALSE)","v":{"$error":"#N/A"}}]
[{"$f":"VLOOKUP(B7921,Categorias!$A:$B,2,FALSE)","v":{"$error":"#N/A"}}]
[{"$f":"VLOOKUP(B7922,Categorias!$A:$B,2,FALSE)","v":{"$error":"#N/A"}}]
[{"$f":"VLOOKUP(B7923,Categorias!$A:$B,2,FALSE)","v":{"$error":"#N/A"}}]
[{"$f":"VLOOKUP(B7924,Categorias!$A:$B,2,FALSE)","v":{"$error":"#N/A"}}]
[{"$f":"VLOOKUP(B7925,Categorias!$A:$B,2,FALSE)","v":{"$error":"#N/A"}}]
[{"$f":"VLOOKUP(B7926,Categorias!$A:$B,2,FALSE)","v":{"$error":"#N/A"}}]
[{"$f":"VLOOKUP(B7927,Categorias!$A:$B,2,FALSE)","v":{"$error":"#N/A"}}]
[{"$f":"VLOOKUP(B7928,Categorias!$A:$B,2,FALSE)","v":{"$error":"#N/A"}}]
[{"$f":"VLOOKUP(B7929,Categorias!$A:$B,2,FALSE)","v":{"$error":"#N/A"}}]
[{"$f":"VLOOKUP(B7930,Categorias!$A:$B,2,FALSE)","v":{"$error":"#N/A"}}]
[{"$f":"VLOOKUP(B7931,Categorias!$A:$B,2,FALSE)","v":{"$error":"#N/A"}}]
[{"$f":"VLOOKUP(B7932,Categorias!$A:$B,2,FALSE)","v":{"$error":"#N/A"}}]
[{"$f":"VLOOKUP(B7933,Categorias!$A:$B,2,FALSE)","v":{"$error":"#N/A"}}]
[{"$f":"VLOOKUP(B7934,Categorias!$A:$B,2,FALSE)","v":{"$error":"#N/A"}}]
[{"$f":"VLOOKUP(B7935,Categorias!$A:$B,2,FALSE)","v":{"$error":"#N/A"}}]
[{"$f":"VLOOKUP(B7936,Categorias!$A:$B,2,FALSE)","v":{"$error":"#N/A"}}]
[{"$f":"VLOOKUP(B7937,Categorias!$A:$B,2,FALSE)","v":{"$error":"#N/A"}}]
[{"$f":"VLOOKUP(B7938,Categorias!$A:$B,2,FALSE)","v":{"$error":"#N/A"}}]
[{"$f":"VLOOKUP(B7939,Categorias!$A:$B,2,FALSE)","v":{"$error":"#N/A"}}]
[{"$f":"VLOOKUP(B7940,Categorias!$A:$B,2,FALSE)","v":{"$error":"#N/A"}}]
[{"$f":"VLOOKUP(B7941,Categorias!$A:$B,2,FALSE)","v":{"$error":"#N/A"}}]
[{"$f":"VLOOKUP(B7942,Categorias!$A:$B,2,FALSE)","v":{"$error":"#N/A"}}]
[{"$f":"VLOOKUP(B7943,Categorias!$A:$B,2,FALSE)","v":{"$error":"#N/A"}}]
[{"$f":"VLOOKUP(B7944,Categorias!$A:$B,2,FALSE)","v":{"$error":"#N/A"}}]
[{"$f":"VLOOKUP(B7945,Categorias!$A:$B,2,FALSE)","v":{"$error":"#N/A"}}]
[{"$f":"VLOOKUP(B7946,Categorias!$A:$B,2,FALSE)","v":{"$error":"#N/A"}}]
[{"$f":"VLOOKUP(B7947,Categorias!$A:$B,2,FALSE)","v":{"$error":"#N/A"}}]
[{"$f":"VLOOKUP(B7948,Categorias!$A:$B,2,FALSE)","v":{"$error":"#N/A"}}]
[{"$f":"VLOOKUP(B7949,Categorias!$A:$B,2,FALSE)","v":{"$error":"#N/A"}}]
[{"$f":"VLOOKUP(B7950,Categorias!$A:$B,2,FALSE)","v":{"$error":"#N/A"}}]
[{"$f":"VLOOKUP(B7951,Categorias!$A:$B,2,FALSE)","v":{"$error":"#N/A"}}]
[{"$f":"VLOOKUP(B7952,Categorias!$A:$B,2,FALSE)","v":{"$error":"#N/A"}}]
[{"$f":"VLOOKUP(B7953,Categorias!$A:$B,2,FALSE)","v":{"$error":"#N/A"}}]
[{"$f":"VLOOKUP(B7954,Categorias!$A:$B,2,FALSE)","v":{"$error":"#N/A"}}]
[{"$f":"VLOOKUP(B7955,Categorias!$A:$B,2,FALSE)","v":{"$error":"#N/A"}}]
[{"$f":"VLOOKUP(B7956,Categorias!$A:$B,2,FALSE)","v":{"$error":"#N/A"}}]
[{"$f":"VLOOKUP(B7957,Categorias!$A:$B,2,FALSE)","v":{"$error":"#N/A"}}]
[{"$f":"VLOOKUP(B7958,Categorias!$A:$B,2,FALSE)","v":{"$error":"#N/A"}}]
[{"$f":"VLOOKUP(B7959,Categorias!$A:$B,2,FALSE)","v":{"$error":"#N/A"}}]
[{"$f":"VLOOKUP(B7960,Categorias!$A:$B,2,FALSE)","v":{"$error":"#N/A"}}]
[{"$f":"VLOOKUP(B7961,Categorias!$A:$B,2,FALSE)","v":{"$error":"#N/A"}}]
[{"$f":"VLOOKUP(B7962,Categorias!$A:$B,2,FALSE)","v":{"$error":"#N/A"}}]
[{"$f":"VLOOKUP(B7963,Categorias!$A:$B,2,FALSE)","v":{"$error":"#N/A"}}]
[{"$f":"VLOOKUP(B7964,Categorias!$A:$B,2,FALSE)","v":{"$error":"#N/A"}}]
[{"$f":"VLOOKUP(B7965,Categorias!$A:$B,2,FALSE)","v":{"$error":"#N/A"}}]
[{"$f":"VLOOKUP(B7966,Categorias!$A:$B,2,FALSE)","v":{"$error":"#N/A"}}]
[{"$f":"VLOOKUP(B7967,Categorias!$A:$B,2,FALSE)","v":{"$error":"#N/A"}}]
[{"$f":"VLOOKUP(B7968,Categorias!$A:$B,2,FALSE)","v":{"$error":"#N/A"}}]
[{"$f":"VLOOKUP(B7969,Categorias!$A:$B,2,FALSE)","v":{"$error":"#N/A"}}]
[{"$f":"VLOOKUP(B7970,Categorias!$A:$B,2,FALSE)","v":{"$error":"#N/A"}}]
[{"$f":"VLOOKUP(B7971,Categorias!$A:$B,2,FALSE)","v":{"$error":"#N/A"}}]
[{"$f":"VLOOKUP(B7972,Categorias!$A:$B,2,FALSE)","v":{"$error":"#N/A"}}]
[{"$f":"VLOOKUP(B7973,Categorias!$A:$B,2,FALSE)","v":{"$error":"#N/A"}}]
[{"$f":"VLOOKUP(B7974,Categorias!$A:$B,2,FALSE)","v":{"$error":"#N/A"}}]
[{"$f":"VLOOKUP(B7975,Categorias!$A:$B,2,FALSE)","v":{"$error":"#N/A"}}]
[{"$f":"VLOOKUP(B7976,Categorias!$A:$B,2,FALSE)","v":{"$error":"#N/A"}}]
[{"$f":"VLOOKUP(B7977,Categorias!$A:$B,2,FALSE)","v":{"$error":"#N/A"}}]
[{"$f":"VLOOKUP(B7978,Categorias!$A:$B,2,FALSE)","v":{"$error":"#N/A"}}]
[{"$f":"VLOOKUP(B7979,Categorias!$A:$B,2,FALSE)","v":{"$error":"#N/A"}}]
[{"$f":"VLOOKUP(B7980,Categorias!$A:$B,2,FALSE)","v":{"$error":"#N/A"}}]
[{"$f":"VLOOKUP(B7981,Categorias!$A:$B,2,FALSE)","v":{"$error":"#N/A"}}]
[{"$f":"VLOOKUP(B7982,Categorias!$A:$B,2,FALSE)","v":{"$error":"#N/A"}}]
[{"$f":"VLOOKUP(B7983,Categorias!$A:$B,2,FALSE)","v":{"$error":"#N/A"}}]
[{"$f":"VLOOKUP(B7984,Categorias!$A:$B,2,FALSE)","v":{"$error":"#N/A"}}]
[{"$f":"VLOOKUP(B7985,Categorias!$A:$B,2,FALSE)","v":{"$error":"#N/A"}}]
[{"$f":"VLOOKUP(B7986,Categorias!$A:$B,2,FALSE)","v":{"$error":"#N/A"}}]
[{"$f":"VLOOKUP(B7987,Categorias!$A:$B,2,FALSE)","v":{"$error":"#N/A"}}]
[{"$f":"VLOOKUP(B7988,Categorias!$A:$B,2,FALSE)","v":{"$error":"#N/A"}}]
[{"$f":"VLOOKUP(B7989,Categorias!$A:$B,2,FALSE)","v":{"$error":"#N/A"}}]
[{"$f":"VLOOKUP(B7990,Categorias!$A:$B,2,FALSE)","v":{"$error":"#N/A"}}]
[{"$f":"VLOOKUP(B7991,Categorias!$A:$B,2,FALSE)","v":{"$error":"#N/A"}}]
[{"$f":"VLOOKUP(B7992,Categorias!$A:$B,2,FALSE)","v":{"$error":"#N/A"}}]
[{"$f":"VLOOKUP(B7993,Categorias!$A:$B,2,FALSE)","v":{"$error":"#N/A"}}]
[{"$f":"VLOOKUP(B7994,Categorias!$A:$B,2,FALSE)","v":{"$error":"#N/A"}}]
[{"$f":"VLOOKUP(B7995,Categorias!$A:$B,2,FALSE)","v":{"$error":"#N/A"}}]
[{"$f":"VLOOKUP(B7996,Categorias!$A:$B,2,FALSE)","v":{"$error":"#N/A"}}]
[{"$f":"VLOOKUP(B7997,Categorias!$A:$B,2,FALSE)","v":{"$error":"#N/A"}}]
[{"$f":"VLOOKUP(B7998,Categorias!$A:$B,2,FALSE)","v":{"$error":"#N/A"}}]
[{"$f":"VLOOKUP(B7999,Categorias!$A:$B,2,FALSE)","v":{"$error":"#N/A"}}]
[{"$f":"VLOOKUP(B8000,Categorias!$A:$B,2,FALSE)","v":{"$error":"#N/A"}}]
[{"$f":"VLOOKUP(B8001,Categorias!$A:$B,2,FALSE)","v":{"$error":"#N/A"}}]
[{"$f":"VLOOKUP(B8002,Categorias!$A:$B,2,FALSE)","v":{"$error":"#N/A"}}]
[{"$f":"VLOOKUP(B8003,Categorias!$A:$B,2,FALSE)","v":{"$error":"#N/A"}}]
[{"$f":"VLOOKUP(B8004,Categorias!$A:$B,2,FALSE)","v":{"$error":"#N/A"}}]
[{"$f":"VLOOKUP(B8005,Categorias!$A:$B,2,FALSE)","v":{"$error":"#N/A"}}]
[{"$f":"VLOOKUP(B8006,Categorias!$A:$B,2,FALSE)","v":{"$error":"#N/A"}}]
[{"$f":"VLOOKUP(B8007,Categorias!$A:$B,2,FALSE)","v":{"$error":"#N/A"}}]
[{"$f":"VLOOKUP(B8008,Categorias!$A:$B,2,FALSE)","v":{"$error":"#N/A"}}]
[{"$f":"VLOOKUP(B8009,Categorias!$A:$B,2,FALSE)","v":{"$error":"#N/A"}}]
[{"$f":"VLOOKUP(B8010,Categorias!$A:$B,2,FALSE)","v":{"$error":"#N/A"}}]
[{"$f":"VLOOKUP(B8011,Categorias!$A:$B,2,FALSE)","v":{"$error":"#N/A"}}]
[{"$f":"VLOOKUP(B8012,Categorias!$A:$B,2,FALSE)","v":{"$error":"#N/A"}}]
[{"$f":"VLOOKUP(B8013,Categorias!$A:$B,2,FALSE)","v":{"$error":"#N/A"}}]
[{"$f":"VLOOKUP(B8014,Categorias!$A:$B,2,FALSE)","v":{"$error":"#N/A"}}]
[{"$f":"VLOOKUP(B8015,Categorias!$A:$B,2,FALSE)","v":{"$error":"#N/A"}}]
[{"$f":"VLOOKUP(B8016,Categorias!$A:$B,2,FALSE)","v":{"$error":"#N/A"}}]
[{"$f":"VLOOKUP(B8017,Categorias!$A:$B,2,FALSE)","v":{"$error":"#N/A"}}]
[{"$f":"VLOOKUP(B8018,Categorias!$A:$B,2,FALSE)","v":{"$error":"#N/A"}}]
[{"$f":"VLOOKUP(B8019,Categorias!$A:$B,2,FALSE)","v":{"$error":"#N/A"}}]
[{"$f":"VLOOKUP(B8020,Categorias!$A:$B,2,FALSE)","v":{"$error":"#N/A"}}]
[{"$f":"VLOOKUP(B8021,Categorias!$A:$B,2,FALSE)","v":{"$error":"#N/A"}}]
[{"$f":"VLOOKUP(B8022,Categorias!$A:$B,2,FALSE)","v":{"$error":"#N/A"}}]
[{"$f":"VLOOKUP(B8023,Categorias!$A:$B,2,FALSE)","v":{"$error":"#N/A"}}]
[{"$f":"VLOOKUP(B8024,Categorias!$A:$B,2,FALSE)","v":{"$error":"#N/A"}}]
[{"$f":"VLOOKUP(B8025,Categorias!$A:$B,2,FALSE)","v":{"$error":"#N/A"}}]
[{"$f":"VLOOKUP(B8026,Categorias!$A:$B,2,FALSE)","v":{"$error":"#N/A"}}]
[{"$f":"VLOOKUP(B8027,Categorias!$A:$B,2,FALSE)","v":{"$error":"#N/A"}}]
[{"$f":"VLOOKUP(B8028,Categorias!$A:$B,2,FALSE)","v":{"$error":"#N/A"}}]
[{"$f":"VLOOKUP(B8029,Categorias!$A:$B,2,FALSE)","v":{"$error":"#N/A"}}]
[{"$f":"VLOOKUP(B8030,Categorias!$A:$B,2,FALSE)","v":{"$error":"#N/A"}}]
[{"$f":"VLOOKUP(B8031,Categorias!$A:$B,2,FALSE)","v":{"$error":"#N/A"}}]
[{"$f":"VLOOKUP(B8032,Categorias!$A:$B,2,FALSE)","v":{"$error":"#N/A"}}]
[{"$f":"VLOOKUP(B8033,Categorias!$A:$B,2,FALSE)","v":{"$error":"#N/A"}}]
[{"$f":"VLOOKUP(B8034,Categorias!$A:$B,2,FALSE)","v":{"$error":"#N/A"}}]
[{"$f":"VLOOKUP(B8035,Categorias!$A:$B,2,FALSE)","v":{"$error":"#N/A"}}]
[{"$f":"VLOOKUP(B8036,Categorias!$A:$B,2,FALSE)","v":{"$error":"#N/A"}}]
[{"$f":"VLOOKUP(B8037,Categorias!$A:$B,2,FALSE)","v":{"$error":"#N/A"}}]
[{"$f":"VLOOKUP(B8038,Categorias!$A:$B,2,FALSE)","v":{"$error":"#N/A"}}]
[{"$f":"VLOOKUP(B8039,Categorias!$A:$B,2,FALSE)","v":{"$error":"#N/A"}}]
[{"$f":"VLOOKUP(B8040,Categorias!$A:$B,2,FALSE)","v":{"$error":"#N/A"}}]
[{"$f":"VLOOKUP(B8041,Categorias!$A:$B,2,FALSE)","v":{"$error":"#N/A"}}]
[{"$f":"VLOOKUP(B8042,Categorias!$A:$B,2,FALSE)","v":{"$error":"#N/A"}}]
[{"$f":"VLOOKUP(B8043,Categorias!$A:$B,2,FALSE)","v":{"$error":"#N/A"}}]
[{"$f":"VLOOKUP(B8044,Categorias!$A:$B,2,FALSE)","v":{"$error":"#N/A"}}]
[{"$f":"VLOOKUP(B8045,Categorias!$A:$B,2,FALSE)","v":{"$error":"#N/A"}}]
[{"$f":"VLOOKUP(B8046,Categorias!$A:$B,2,FALSE)","v":{"$error":"#N/A"}}]
[{"$f":"VLOOKUP(B8047,Categorias!$A:$B,2,FALSE)","v":{"$error":"#N/A"}}]
[{"$f":"VLOOKUP(B8048,Categorias!$A:$B,2,FALSE)","v":{"$error":"#N/A"}}]
[{"$f":"VLOOKUP(B8049,Categorias!$A:$B,2,FALSE)","v":{"$error":"#N/A"}}]
[{"$f":"VLOOKUP(B8050,Categorias!$A:$B,2,FALSE)","v":{"$error":"#N/A"}}]
[{"$f":"VLOOKUP(B8051,Categorias!$A:$B,2,FALSE)","v":{"$error":"#N/A"}}]
[{"$f":"VLOOKUP(B8052,Categorias!$A:$B,2,FALSE)","v":{"$error":"#N/A"}}]
[{"$f":"VLOOKUP(B8053,Categorias!$A:$B,2,FALSE)","v":{"$error":"#N/A"}}]
[{"$f":"VLOOKUP(B8054,Categorias!$A:$B,2,FALSE)","v":{"$error":"#N/A"}}]
[{"$f":"VLOOKUP(B8055,Categorias!$A:$B,2,FALSE)","v":{"$error":"#N/A"}}]
[{"$f":"VLOOKUP(B8056,Categorias!$A:$B,2,FALSE)","v":{"$error":"#N/A"}}]
[{"$f":"VLOOKUP(B8057,Categorias!$A:$B,2,FALSE)","v":{"$error":"#N/A"}}]
[{"$f":"VLOOKUP(B8058,Categorias!$A:$B,2,FALSE)","v":{"$error":"#N/A"}}]
[{"$f":"VLOOKUP(B8059,Categorias!$A:$B,2,FALSE)","v":{"$error":"#N/A"}}]
[{"$f":"VLOOKUP(B8060,Categorias!$A:$B,2,FALSE)","v":{"$error":"#N/A"}}]
[{"$f":"VLOOKUP(B8061,Categorias!$A:$B,2,FALSE)","v":{"$error":"#N/A"}}]
[{"$f":"VLOOKUP(B8062,Categorias!$A:$B,2,FALSE)","v":{"$error":"#N/A"}}]
[{"$f":"VLOOKUP(B8063,Categorias!$A:$B,2,FALSE)","v":{"$error":"#N/A"}}]
[{"$f":"VLOOKUP(B8064,Categorias!$A:$B,2,FALSE)","v":{"$error":"#N/A"}}]
[{"$f":"VLOOKUP(B8065,Categorias!$A:$B,2,FALSE)","v":{"$error":"#N/A"}}]
[{"$f":"VLOOKUP(B8066,Categorias!$A:$B,2,FALSE)","v":{"$error":"#N/A"}}]
[{"$f":"VLOOKUP(B8067,Categorias!$A:$B,2,FALSE)","v":{"$error":"#N/A"}}]
[{"$f":"VLOOKUP(B8068,Categorias!$A:$B,2,FALSE)","v":{"$error":"#N/A"}}]
[{"$f":"VLOOKUP(B8069,Categorias!$A:$B,2,FALSE)","v":{"$error":"#N/A"}}]
[{"$f":"VLOOKUP(B8070,Categorias!$A:$B,2,FALSE)","v":{"$error":"#N/A"}}]
[{"$f":"VLOOKUP(B8071,Categorias!$A:$B,2,FALSE)","v":{"$error":"#N/A"}}]
[{"$f":"VLOOKUP(B8072,Categorias!$A:$B,2,FALSE)","v":{"$error":"#N/A"}}]
[{"$f":"VLOOKUP(B8073,Categorias!$A:$B,2,FALSE)","v":{"$error":"#N/A"}}]
[{"$f":"VLOOKUP(B8074,Categorias!$A:$B,2,FALSE)","v":{"$error":"#N/A"}}]
[{"$f":"VLOOKUP(B8075,Categorias!$A:$B,2,FALSE)","v":{"$error":"#N/A"}}]
[{"$f":"VLOOKUP(B8076,Categorias!$A:$B,2,FALSE)","v":{"$error":"#N/A"}}]
[{"$f":"VLOOKUP(B8077,Categorias!$A:$B,2,FALSE)","v":{"$error":"#N/A"}}]
[{"$f":"VLOOKUP(B8078,Categorias!$A:$B,2,FALSE)","v":{"$error":"#N/A"}}]
[{"$f":"VLOOKUP(B8079,Categorias!$A:$B,2,FALSE)","v":{"$error":"#N/A"}}]
[{"$f":"VLOOKUP(B8080,Categorias!$A:$B,2,FALSE)","v":{"$error":"#N/A"}}]
[{"$f":"VLOOKUP(B8081,Categorias!$A:$B,2,FALSE)","v":{"$error":"#N/A"}}]
[{"$f":"VLOOKUP(B8082,Categorias!$A:$B,2,FALSE)","v":{"$error":"#N/A"}}]
[{"$f":"VLOOKUP(B8083,Categorias!$A:$B,2,FALSE)","v":{"$error":"#N/A"}}]
[{"$f":"VLOOKUP(B8084,Categorias!$A:$B,2,FALSE)","v":{"$error":"#N/A"}}]
[{"$f":"VLOOKUP(B8085,Categorias!$A:$B,2,FALSE)","v":{"$error":"#N/A"}}]
[{"$f":"VLOOKUP(B8086,Categorias!$A:$B,2,FALSE)","v":{"$error":"#N/A"}}]
[{"$f":"VLOOKUP(B8087,Categorias!$A:$B,2,FALSE)","v":{"$error":"#N/A"}}]
[{"$f":"VLOOKUP(B8088,Categorias!$A:$B,2,FALSE)","v":{"$error":"#N/A"}}]
[{"$f":"VLOOKUP(B8089,Categorias!$A:$B,2,FALSE)","v":{"$error":"#N/A"}}]
[{"$f":"VLOOKUP(B8090,Categorias!$A:$B,2,FALSE)","v":{"$error":"#N/A"}}]
[{"$f":"VLOOKUP(B8091,Categorias!$A:$B,2,FALSE)","v":{"$error":"#N/A"}}]
[{"$f":"VLOOKUP(B8092,Categorias!$A:$B,2,FALSE)","v":{"$error":"#N/A"}}]
[{"$f":"VLOOKUP(B8093,Categorias!$A:$B,2,FALSE)","v":{"$error":"#N/A"}}]
[{"$f":"VLOOKUP(B8094,Categorias!$A:$B,2,FALSE)","v":{"$error":"#N/A"}}]
[{"$f":"VLOOKUP(B8095,Categorias!$A:$B,2,FALSE)","v":{"$error":"#N/A"}}]
[{"$f":"VLOOKUP(B8096,Categorias!$A:$B,2,FALSE)","v":{"$error":"#N/A"}}]
[{"$f":"VLOOKUP(B8097,Categorias!$A:$B,2,FALSE)","v":{"$error":"#N/A"}}]
[{"$f":"VLOOKUP(B8098,Categorias!$A:$B,2,FALSE)","v":{"$error":"#N/A"}}]
[{"$f":"VLOOKUP(B8099,Categorias!$A:$B,2,FALSE)","v":{"$error":"#N/A"}}]
[{"$f":"VLOOKUP(B8100,Categorias!$A:$B,2,FALSE)","v":{"$error":"#N/A"}}]
[{"$f":"VLOOKUP(B8101,Categorias!$A:$B,2,FALSE)","v":{"$error":"#N/A"}}]
[{"$f":"VLOOKUP(B8102,Categorias!$A:$B,2,FALSE)","v":{"$error":"#N/A"}}]
[{"$f":"VLOOKUP(B8103,Categorias!$A:$B,2,FALSE)","v":{"$error":"#N/A"}}]
[{"$f":"VLOOKUP(B8104,Categorias!$A:$B,2,FALSE)","v":{"$error":"#N/A"}}]
[{"$f":"VLOOKUP(B8105,Categorias!$A:$B,2,FALSE)","v":{"$error":"#N/A"}}]
[{"$f":"VLOOKUP(B8106,Categorias!$A:$B,2,FALSE)","v":{"$error":"#N/A"}}]
[{"$f":"VLOOKUP(B8107,Categorias!$A:$B,2,FALSE)","v":{"$error":"#N/A"}}]
[{"$f":"VLOOKUP(B8108,Categorias!$A:$B,2,FALSE)","v":{"$error":"#N/A"}}]
[{"$f":"VLOOKUP(B8109,Categorias!$A:$B,2,FALSE)","v":{"$error":"#N/A"}}]
[{"$f":"VLOOKUP(B8110,Categorias!$A:$B,2,FALSE)","v":{"$error":"#N/A"}}]
[{"$f":"VLOOKUP(B8111,Categorias!$A:$B,2,FALSE)","v":{"$error":"#N/A"}}]
[{"$f":"VLOOKUP(B8112,Categorias!$A:$B,2,FALSE)","v":{"$error":"#N/A"}}]
[{"$f":"VLOOKUP(B8113,Categorias!$A:$B,2,FALSE)","v":{"$error":"#N/A"}}]
[{"$f":"VLOOKUP(B8114,Categorias!$A:$B,2,FALSE)","v":{"$error":"#N/A"}}]
[{"$f":"VLOOKUP(B8115,Categorias!$A:$B,2,FALSE)","v":{"$error":"#N/A"}}]
[{"$f":"VLOOKUP(B8116,Categorias!$A:$B,2,FALSE)","v":{"$error":"#N/A"}}]
[{"$f":"VLOOKUP(B8117,Categorias!$A:$B,2,FALSE)","v":{"$error":"#N/A"}}]
[{"$f":"VLOOKUP(B8118,Categorias!$A:$B,2,FALSE)","v":{"$error":"#N/A"}}]
[{"$f":"VLOOKUP(B8119,Categorias!$A:$B,2,FALSE)","v":{"$error":"#N/A"}}]
[{"$f":"VLOOKUP(B8120,Categorias!$A:$B,2,FALSE)","v":{"$error":"#N/A"}}]
[{"$f":"VLOOKUP(B8121,Categorias!$A:$B,2,FALSE)","v":{"$error":"#N/A"}}]
[{"$f":"VLOOKUP(B8122,Categorias!$A:$B,2,FALSE)","v":{"$error":"#N/A"}}]
[{"$f":"VLOOKUP(B8123,Categorias!$A:$B,2,FALSE)","v":{"$error":"#N/A"}}]
[{"$f":"VLOOKUP(B8124,Categorias!$A:$B,2,FALSE)","v":{"$error":"#N/A"}}]
[{"$f":"VLOOKUP(B8125,Categorias!$A:$B,2,FALSE)","v":{"$error":"#N/A"}}]
[{"$f":"VLOOKUP(B8126,Categorias!$A:$B,2,FALSE)","v":{"$error":"#N/A"}}]
[{"$f":"VLOOKUP(B8127,Categorias!$A:$B,2,FALSE)","v":{"$error":"#N/A"}}]
[{"$f":"VLOOKUP(B8128,Categorias!$A:$B,2,FALSE)","v":{"$error":"#N/A"}}]
[{"$f":"VLOOKUP(B8129,Categorias!$A:$B,2,FALSE)","v":{"$error":"#N/A"}}]
[{"$f":"VLOOKUP(B8130,Categorias!$A:$B,2,FALSE)","v":{"$error":"#N/A"}}]
[{"$f":"VLOOKUP(B8131,Categorias!$A:$B,2,FALSE)","v":{"$error":"#N/A"}}]
[{"$f":"VLOOKUP(B8132,Categorias!$A:$B,2,FALSE)","v":{"$error":"#N/A"}}]
[{"$f":"VLOOKUP(B8133,Categorias!$A:$B,2,FALSE)","v":{"$error":"#N/A"}}]
[{"$f":"VLOOKUP(B8134,Categorias!$A:$B,2,FALSE)","v":{"$error":"#N/A"}}]
[{"$f":"VLOOKUP(B8135,Categorias!$A:$B,2,FALSE)","v":{"$error":"#N/A"}}]
[{"$f":"VLOOKUP(B8136,Categorias!$A:$B,2,FALSE)","v":{"$error":"#N/A"}}]
[{"$f":"VLOOKUP(B8137,Categorias!$A:$B,2,FALSE)","v":{"$error":"#N/A"}}]
[{"$f":"VLOOKUP(B8138,Categorias!$A:$B,2,FALSE)","v":{"$error":"#N/A"}}]
[{"$f":"VLOOKUP(B8139,Categorias!$A:$B,2,FALSE)","v":{"$error":"#N/A"}}]
[{"$f":"VLOOKUP(B8140,Categorias!$A:$B,2,FALSE)","v":{"$error":"#N/A"}}]
[{"$f":"VLOOKUP(B8141,Categorias!$A:$B,2,FALSE)","v":{"$error":"#N/A"}}]
[{"$f":"VLOOKUP(B8142,Categorias!$A:$B,2,FALSE)","v":{"$error":"#N/A"}}]
[{"$f":"VLOOKUP(B8143,Categorias!$A:$B,2,FALSE)","v":{"$error":"#N/A"}}]
[{"$f":"VLOOKUP(B8144,Categorias!$A:$B,2,FALSE)","v":{"$error":"#N/A"}}]
[{"$f":"VLOOKUP(B8145,Categorias!$A:$B,2,FALSE)","v":{"$error":"#N/A"}}]
[{"$f":"VLOOKUP(B8146,Categorias!$A:$B,2,FALSE)","v":{"$error":"#N/A"}}]
[{"$f":"VLOOKUP(B8147,Categorias!$A:$B,2,FALSE)","v":{"$error":"#N/A"}}]
[{"$f":"VLOOKUP(B8148,Categorias!$A:$B,2,FALSE)","v":{"$error":"#N/A"}}]
[{"$f":"VLOOKUP(B8149,Categorias!$A:$B,2,FALSE)","v":{"$error":"#N/A"}}]
[{"$f":"VLOOKUP(B8150,Categorias!$A:$B,2,FALSE)","v":{"$error":"#N/A"}}]
[{"$f":"VLOOKUP(B8151,Categorias!$A:$B,2,FALSE)","v":{"$error":"#N/A"}}]
[{"$f":"VLOOKUP(B8152,Categorias!$A:$B,2,FALSE)","v":{"$error":"#N/A"}}]
[{"$f":"VLOOKUP(B8153,Categorias!$A:$B,2,FALSE)","v":{"$error":"#N/A"}}]
[{"$f":"VLOOKUP(B8154,Categorias!$A:$B,2,FALSE)","v":{"$error":"#N/A"}}]
[{"$f":"VLOOKUP(B8155,Categorias!$A:$B,2,FALSE)","v":{"$error":"#N/A"}}]
[{"$f":"VLOOKUP(B8156,Categorias!$A:$B,2,FALSE)","v":{"$error":"#N/A"}}]
[{"$f":"VLOOKUP(B8157,Categorias!$A:$B,2,FALSE)","v":{"$error":"#N/A"}}]
[{"$f":"VLOOKUP(B8158,Categorias!$A:$B,2,FALSE)","v":{"$error":"#N/A"}}]
[{"$f":"VLOOKUP(B8159,Categorias!$A:$B,2,FALSE)","v":{"$error":"#N/A"}}]
[{"$f":"VLOOKUP(B8160,Categorias!$A:$B,2,FALSE)","v":{"$error":"#N/A"}}]
[{"$f":"VLOOKUP(B8161,Categorias!$A:$B,2,FALSE)","v":{"$error":"#N/A"}}]
[{"$f":"VLOOKUP(B8162,Categorias!$A:$B,2,FALSE)","v":{"$error":"#N/A"}}]
[{"$f":"VLOOKUP(B8163,Categorias!$A:$B,2,FALSE)","v":{"$error":"#N/A"}}]
[{"$f":"VLOOKUP(B8164,Categorias!$A:$B,2,FALSE)","v":{"$error":"#N/A"}}]
[{"$f":"VLOOKUP(B8165,Categorias!$A:$B,2,FALSE)","v":{"$error":"#N/A"}}]
[{"$f":"VLOOKUP(B8166,Categorias!$A:$B,2,FALSE)","v":{"$error":"#N/A"}}]
[{"$f":"VLOOKUP(B8167,Categorias!$A:$B,2,FALSE)","v":{"$error":"#N/A"}}]
[{"$f":"VLOOKUP(B8168,Categorias!$A:$B,2,FALSE)","v":{"$error":"#N/A"}}]
[{"$f":"VLOOKUP(B8169,Categorias!$A:$B,2,FALSE)","v":{"$error":"#N/A"}}]
[{"$f":"VLOOKUP(B8170,Categorias!$A:$B,2,FALSE)","v":{"$error":"#N/A"}}]
[{"$f":"VLOOKUP(B8171,Categorias!$A:$B,2,FALSE)","v":{"$error":"#N/A"}}]
[{"$f":"VLOOKUP(B8172,Categorias!$A:$B,2,FALSE)","v":{"$error":"#N/A"}}]
[{"$f":"VLOOKUP(B8173,Categorias!$A:$B,2,FALSE)","v":{"$error":"#N/A"}}]
[{"$f":"VLOOKUP(B8174,Categorias!$A:$B,2,FALSE)","v":{"$error":"#N/A"}}]
[{"$f":"VLOOKUP(B8175,Categorias!$A:$B,2,FALSE)","v":{"$error":"#N/A"}}]
[{"$f":"VLOOKUP(B8176,Categorias!$A:$B,2,FALSE)","v":{"$error":"#N/A"}}]
[{"$f":"VLOOKUP(B8177,Categorias!$A:$B,2,FALSE)","v":{"$error":"#N/A"}}]
[{"$f":"VLOOKUP(B8178,Categorias!$A:$B,2,FALSE)","v":{"$error":"#N/A"}}]
[{"$f":"VLOOKUP(B8179,Categorias!$A:$B,2,FALSE)","v":{"$error":"#N/A"}}]
[{"$f":"VLOOKUP(B8180,Categorias!$A:$B,2,FALSE)","v":{"$error":"#N/A"}}]
[{"$f":"VLOOKUP(B8181,Categorias!$A:$B,2,FALSE)","v":{"$error":"#N/A"}}]
[{"$f":"VLOOKUP(B8182,Categorias!$A:$B,2,FALSE)","v":{"$error":"#N/A"}}]
[{"$f":"VLOOKUP(B8183,Categorias!$A:$B,2,FALSE)","v":{"$error":"#N/A"}}]
[{"$f":"VLOOKUP(B8184,Categorias!$A:$B,2,FALSE)","v":{"$error":"#N/A"}}]
[{"$f":"VLOOKUP(B8185,Categorias!$A:$B,2,FALSE)","v":{"$error":"#N/A"}}]
[{"$f":"VLOOKUP(B8186,Categorias!$A:$B,2,FALSE)","v":{"$error":"#N/A"}}]
[{"$f":"VLOOKUP(B8187,Categorias!$A:$B,2,FALSE)","v":{"$error":"#N/A"}}]
[{"$f":"VLOOKUP(B8188,Categorias!$A:$B,2,FALSE)","v":{"$error":"#N/A"}}]
[{"$f":"VLOOKUP(B8189,Categorias!$A:$B,2,FALSE)","v":{"$error":"#N/A"}}]
[{"$f":"VLOOKUP(B8190,Categorias!$A:$B,2,FALSE)","v":{"$error":"#N/A"}}]
[{"$f":"VLOOKUP(B8191,Categorias!$A:$B,2,FALSE)","v":{"$error":"#N/A"}}]
[{"$f":"VLOOKUP(B8192,Categorias!$A:$B,2,FALSE)","v":{"$error":"#N/A"}}]
[{"$f":"VLOOKUP(B8193,Categorias!$A:$B,2,FALSE)","v":{"$error":"#N/A"}}]
[{"$f":"VLOOKUP(B8194,Categorias!$A:$B,2,FALSE)","v":{"$error":"#N/A"}}]
[{"$f":"VLOOKUP(B8195,Categorias!$A:$B,2,FALSE)","v":{"$error":"#N/A"}}]
[{"$f":"VLOOKUP(B8196,Categorias!$A:$B,2,FALSE)","v":{"$error":"#N/A"}}]
[{"$f":"VLOOKUP(B8197,Categorias!$A:$B,2,FALSE)","v":{"$error":"#N/A"}}]
[{"$f":"VLOOKUP(B8198,Categorias!$A:$B,2,FALSE)","v":{"$error":"#N/A"}}]
[{"$f":"VLOOKUP(B8199,Categorias!$A:$B,2,FALSE)","v":{"$error":"#N/A"}}]
[{"$f":"VLOOKUP(B8200,Categorias!$A:$B,2,FALSE)","v":{"$error":"#N/A"}}]
[{"$f":"VLOOKUP(B8201,Categorias!$A:$B,2,FALSE)","v":{"$error":"#N/A"}}]
[{"$f":"VLOOKUP(B8202,Categorias!$A:$B,2,FALSE)","v":{"$error":"#N/A"}}]
[{"$f":"VLOOKUP(B8203,Categorias!$A:$B,2,FALSE)","v":{"$error":"#N/A"}}]
[{"$f":"VLOOKUP(B8204,Categorias!$A:$B,2,FALSE)","v":{"$error":"#N/A"}}]
[{"$f":"VLOOKUP(B8205,Categorias!$A:$B,2,FALSE)","v":{"$error":"#N/A"}}]
[{"$f":"VLOOKUP(B8206,Categorias!$A:$B,2,FALSE)","v":{"$error":"#N/A"}}]
[{"$f":"VLOOKUP(B8207,Categorias!$A:$B,2,FALSE)","v":{"$error":"#N/A"}}]
[{"$f":"VLOOKUP(B8208,Categorias!$A:$B,2,FALSE)","v":{"$error":"#N/A"}}]
[{"$f":"VLOOKUP(B8209,Categorias!$A:$B,2,FALSE)","v":{"$error":"#N/A"}}]
[{"$f":"VLOOKUP(B8210,Categorias!$A:$B,2,FALSE)","v":{"$error":"#N/A"}}]
[{"$f":"VLOOKUP(B8211,Categorias!$A:$B,2,FALSE)","v":{"$error":"#N/A"}}]
[{"$f":"VLOOKUP(B8212,Categorias!$A:$B,2,FALSE)","v":{"$error":"#N/A"}}]
[{"$f":"VLOOKUP(B8213,Categorias!$A:$B,2,FALSE)","v":{"$error":"#N/A"}}]
[{"$f":"VLOOKUP(B8214,Categorias!$A:$B,2,FALSE)","v":{"$error":"#N/A"}}]
[{"$f":"VLOOKUP(B8215,Categorias!$A:$B,2,FALSE)","v":{"$error":"#N/A"}}]
[{"$f":"VLOOKUP(B8216,Categorias!$A:$B,2,FALSE)","v":{"$error":"#N/A"}}]
[{"$f":"VLOOKUP(B8217,Categorias!$A:$B,2,FALSE)","v":{"$error":"#N/A"}}]
[{"$f":"VLOOKUP(B8218,Categorias!$A:$B,2,FALSE)","v":{"$error":"#N/A"}}]
[{"$f":"VLOOKUP(B8219,Categorias!$A:$B,2,FALSE)","v":{"$error":"#N/A"}}]
[{"$f":"VLOOKUP(B8220,Categorias!$A:$B,2,FALSE)","v":{"$error":"#N/A"}}]
[{"$f":"VLOOKUP(B8221,Categorias!$A:$B,2,FALSE)","v":{"$error":"#N/A"}}]
[{"$f":"VLOOKUP(B8222,Categorias!$A:$B,2,FALSE)","v":{"$error":"#N/A"}}]
[{"$f":"VLOOKUP(B8223,Categorias!$A:$B,2,FALSE)","v":{"$error":"#N/A"}}]
[{"$f":"VLOOKUP(B8224,Categorias!$A:$B,2,FALSE)","v":{"$error":"#N/A"}}]
[{"$f":"VLOOKUP(B8225,Categorias!$A:$B,2,FALSE)","v":{"$error":"#N/A"}}]
[{"$f":"VLOOKUP(B8226,Categorias!$A:$B,2,FALSE)","v":{"$error":"#N/A"}}]
[{"$f":"VLOOKUP(B8227,Categorias!$A:$B,2,FALSE)","v":{"$error":"#N/A"}}]
[{"$f":"VLOOKUP(B8228,Categorias!$A:$B,2,FALSE)","v":{"$error":"#N/A"}}]
[{"$f":"VLOOKUP(B8229,Categorias!$A:$B,2,FALSE)","v":{"$error":"#N/A"}}]
[{"$f":"VLOOKUP(B8230,Categorias!$A:$B,2,FALSE)","v":{"$error":"#N/A"}}]
[{"$f":"VLOOKUP(B8231,Categorias!$A:$B,2,FALSE)","v":{"$error":"#N/A"}}]
[{"$f":"VLOOKUP(B8232,Categorias!$A:$B,2,FALSE)","v":{"$error":"#N/A"}}]
[{"$f":"VLOOKUP(B8233,Categorias!$A:$B,2,FALSE)","v":{"$error":"#N/A"}}]
[{"$f":"VLOOKUP(B8234,Categorias!$A:$B,2,FALSE)","v":{"$error":"#N/A"}}]
[{"$f":"VLOOKUP(B8235,Categorias!$A:$B,2,FALSE)","v":{"$error":"#N/A"}}]
[{"$f":"VLOOKUP(B8236,Categorias!$A:$B,2,FALSE)","v":{"$error":"#N/A"}}]
[{"$f":"VLOOKUP(B8237,Categorias!$A:$B,2,FALSE)","v":{"$error":"#N/A"}}]
[{"$f":"VLOOKUP(B8238,Categorias!$A:$B,2,FALSE)","v":{"$error":"#N/A"}}]
[{"$f":"VLOOKUP(B8239,Categorias!$A:$B,2,FALSE)","v":{"$error":"#N/A"}}]
[{"$f":"VLOOKUP(B8240,Categorias!$A:$B,2,FALSE)","v":{"$error":"#N/A"}}]
[{"$f":"VLOOKUP(B8241,Categorias!$A:$B,2,FALSE)","v":{"$error":"#N/A"}}]
[{"$f":"VLOOKUP(B8242,Categorias!$A:$B,2,FALSE)","v":{"$error":"#N/A"}}]
[{"$f":"VLOOKUP(B8243,Categorias!$A:$B,2,FALSE)","v":{"$error":"#N/A"}}]
[{"$f":"VLOOKUP(B8244,Categorias!$A:$B,2,FALSE)","v":{"$error":"#N/A"}}]
[{"$f":"VLOOKUP(B8245,Categorias!$A:$B,2,FALSE)","v":{"$error":"#N/A"}}]
[{"$f":"VLOOKUP(B8246,Categorias!$A:$B,2,FALSE)","v":{"$error":"#N/A"}}]
[{"$f":"VLOOKUP(B8247,Categorias!$A:$B,2,FALSE)","v":{"$error":"#N/A"}}]
[{"$f":"VLOOKUP(B8248,Categorias!$A:$B,2,FALSE)","v":{"$error":"#N/A"}}]
[{"$f":"VLOOKUP(B8249,Categorias!$A:$B,2,FALSE)","v":{"$error":"#N/A"}}]
[{"$f":"VLOOKUP(B8250,Categorias!$A:$B,2,FALSE)","v":{"$error":"#N/A"}}]
[{"$f":"VLOOKUP(B8251,Categorias!$A:$B,2,FALSE)","v":{"$error":"#N/A"}}]
[{"$f":"VLOOKUP(B8252,Categorias!$A:$B,2,FALSE)","v":{"$error":"#N/A"}}]
[{"$f":"VLOOKUP(B8253,Categorias!$A:$B,2,FALSE)","v":{"$error":"#N/A"}}]
[{"$f":"VLOOKUP(B8254,Categorias!$A:$B,2,FALSE)","v":{"$error":"#N/A"}}]
[{"$f":"VLOOKUP(B8255,Categorias!$A:$B,2,FALSE)","v":{"$error":"#N/A"}}]
[{"$f":"VLOOKUP(B8256,Categorias!$A:$B,2,FALSE)","v":{"$error":"#N/A"}}]
[{"$f":"VLOOKUP(B8257,Categorias!$A:$B,2,FALSE)","v":{"$error":"#N/A"}}]
[{"$f":"VLOOKUP(B8258,Categorias!$A:$B,2,FALSE)","v":{"$error":"#N/A"}}]
[{"$f":"VLOOKUP(B8259,Categorias!$A:$B,2,FALSE)","v":{"$error":"#N/A"}}]
[{"$f":"VLOOKUP(B8260,Categorias!$A:$B,2,FALSE)","v":{"$error":"#N/A"}}]
[{"$f":"VLOOKUP(B8261,Categorias!$A:$B,2,FALSE)","v":{"$error":"#N/A"}}]
[{"$f":"VLOOKUP(B8262,Categorias!$A:$B,2,FALSE)","v":{"$error":"#N/A"}}]
[{"$f":"VLOOKUP(B8263,Categorias!$A:$B,2,FALSE)","v":{"$error":"#N/A"}}]
[{"$f":"VLOOKUP(B8264,Categorias!$A:$B,2,FALSE)","v":{"$error":"#N/A"}}]
[{"$f":"VLOOKUP(B8265,Categorias!$A:$B,2,FALSE)","v":{"$error":"#N/A"}}]
[{"$f":"VLOOKUP(B8266,Categorias!$A:$B,2,FALSE)","v":{"$error":"#N/A"}}]
[{"$f":"VLOOKUP(B8267,Categorias!$A:$B,2,FALSE)","v":{"$error":"#N/A"}}]
[{"$f":"VLOOKUP(B8268,Categorias!$A:$B,2,FALSE)","v":{"$error":"#N/A"}}]
[{"$f":"VLOOKUP(B8269,Categorias!$A:$B,2,FALSE)","v":{"$error":"#N/A"}}]
[{"$f":"VLOOKUP(B8270,Categorias!$A:$B,2,FALSE)","v":{"$error":"#N/A"}}]
[{"$f":"VLOOKUP(B8271,Categorias!$A:$B,2,FALSE)","v":{"$error":"#N/A"}}]
[{"$f":"VLOOKUP(B8272,Categorias!$A:$B,2,FALSE)","v":{"$error":"#N/A"}}]
[{"$f":"VLOOKUP(B8273,Categorias!$A:$B,2,FALSE)","v":{"$error":"#N/A"}}]
[{"$f":"VLOOKUP(B8274,Categorias!$A:$B,2,FALSE)","v":{"$error":"#N/A"}}]
[{"$f":"VLOOKUP(B8275,Categorias!$A:$B,2,FALSE)","v":{"$error":"#N/A"}}]
[{"$f":"VLOOKUP(B8276,Categorias!$A:$B,2,FALSE)","v":{"$error":"#N/A"}}]
[{"$f":"VLOOKUP(B8277,Categorias!$A:$B,2,FALSE)","v":{"$error":"#N/A"}}]
[{"$f":"VLOOKUP(B8278,Categorias!$A:$B,2,FALSE)","v":{"$error":"#N/A"}}]
[{"$f":"VLOOKUP(B8279,Categorias!$A:$B,2,FALSE)","v":{"$error":"#N/A"}}]
[{"$f":"VLOOKUP(B8280,Categorias!$A:$B,2,FALSE)","v":{"$error":"#N/A"}}]
[{"$f":"VLOOKUP(B8281,Categorias!$A:$B,2,FALSE)","v":{"$error":"#N/A"}}]
[{"$f":"VLOOKUP(B8282,Categorias!$A:$B,2,FALSE)","v":{"$error":"#N/A"}}]
[{"$f":"VLOOKUP(B8283,Categorias!$A:$B,2,FALSE)","v":{"$error":"#N/A"}}]
[{"$f":"VLOOKUP(B8284,Categorias!$A:$B,2,FALSE)","v":{"$error":"#N/A"}}]
[{"$f":"VLOOKUP(B8285,Categorias!$A:$B,2,FALSE)","v":{"$error":"#N/A"}}]
[{"$f":"VLOOKUP(B8286,Categorias!$A:$B,2,FALSE)","v":{"$error":"#N/A"}}]
[{"$f":"VLOOKUP(B8287,Categorias!$A:$B,2,FALSE)","v":{"$error":"#N/A"}}]
[{"$f":"VLOOKUP(B8288,Categorias!$A:$B,2,FALSE)","v":{"$error":"#N/A"}}]
[{"$f":"VLOOKUP(B8289,Categorias!$A:$B,2,FALSE)","v":{"$error":"#N/A"}}]
[{"$f":"VLOOKUP(B8290,Categorias!$A:$B,2,FALSE)","v":{"$error":"#N/A"}}]
[{"$f":"VLOOKUP(B8291,Categorias!$A:$B,2,FALSE)","v":{"$error":"#N/A"}}]
[{"$f":"VLOOKUP(B8292,Categorias!$A:$B,2,FALSE)","v":{"$error":"#N/A"}}]
[{"$f":"VLOOKUP(B8293,Categorias!$A:$B,2,FALSE)","v":{"$error":"#N/A"}}]
[{"$f":"VLOOKUP(B8294,Categorias!$A:$B,2,FALSE)","v":{"$error":"#N/A"}}]
[{"$f":"VLOOKUP(B8295,Categorias!$A:$B,2,FALSE)","v":{"$error":"#N/A"}}]
[{"$f":"VLOOKUP(B8296,Categorias!$A:$B,2,FALSE)","v":{"$error":"#N/A"}}]
[{"$f":"VLOOKUP(B8297,Categorias!$A:$B,2,FALSE)","v":{"$error":"#N/A"}}]
[{"$f":"VLOOKUP(B8298,Categorias!$A:$B,2,FALSE)","v":{"$error":"#N/A"}}]
[{"$f":"VLOOKUP(B8299,Categorias!$A:$B,2,FALSE)","v":{"$error":"#N/A"}}]
[{"$f":"VLOOKUP(B8300,Categorias!$A:$B,2,FALSE)","v":{"$error":"#N/A"}}]
[{"$f":"VLOOKUP(B8301,Categorias!$A:$B,2,FALSE)","v":{"$error":"#N/A"}}]
[{"$f":"VLOOKUP(B8302,Categorias!$A:$B,2,FALSE)","v":{"$error":"#N/A"}}]
[{"$f":"VLOOKUP(B8303,Categorias!$A:$B,2,FALSE)","v":{"$error":"#N/A"}}]
[{"$f":"VLOOKUP(B8304,Categorias!$A:$B,2,FALSE)","v":{"$error":"#N/A"}}]
[{"$f":"VLOOKUP(B8305,Categorias!$A:$B,2,FALSE)","v":{"$error":"#N/A"}}]
[{"$f":"VLOOKUP(B8306,Categorias!$A:$B,2,FALSE)","v":{"$error":"#N/A"}}]
[{"$f":"VLOOKUP(B8307,Categorias!$A:$B,2,FALSE)","v":{"$error":"#N/A"}}]
[{"$f":"VLOOKUP(B8308,Categorias!$A:$B,2,FALSE)","v":{"$error":"#N/A"}}]
[{"$f":"VLOOKUP(B8309,Categorias!$A:$B,2,FALSE)","v":{"$error":"#N/A"}}]
[{"$f":"VLOOKUP(B8310,Categorias!$A:$B,2,FALSE)","v":{"$error":"#N/A"}}]
[{"$f":"VLOOKUP(B8311,Categorias!$A:$B,2,FALSE)","v":{"$error":"#N/A"}}]
[{"$f":"VLOOKUP(B8312,Categorias!$A:$B,2,FALSE)","v":{"$error":"#N/A"}}]
[{"$f":"VLOOKUP(B8313,Categorias!$A:$B,2,FALSE)","v":{"$error":"#N/A"}}]
[{"$f":"VLOOKUP(B8314,Categorias!$A:$B,2,FALSE)","v":{"$error":"#N/A"}}]
[{"$f":"VLOOKUP(B8315,Categorias!$A:$B,2,FALSE)","v":{"$error":"#N/A"}}]
[{"$f":"VLOOKUP(B8316,Categorias!$A:$B,2,FALSE)","v":{"$error":"#N/A"}}]
[{"$f":"VLOOKUP(B8317,Categorias!$A:$B,2,FALSE)","v":{"$error":"#N/A"}}]
[{"$f":"VLOOKUP(B8318,Categorias!$A:$B,2,FALSE)","v":{"$error":"#N/A"}}]
[{"$f":"VLOOKUP(B8319,Categorias!$A:$B,2,FALSE)","v":{"$error":"#N/A"}}]
[{"$f":"VLOOKUP(B8320,Categorias!$A:$B,2,FALSE)","v":{"$error":"#N/A"}}]
[{"$f":"VLOOKUP(B8321,Categorias!$A:$B,2,FALSE)","v":{"$error":"#N/A"}}]
[{"$f":"VLOOKUP(B8322,Categorias!$A:$B,2,FALSE)","v":{"$error":"#N/A"}}]
[{"$f":"VLOOKUP(B8323,Categorias!$A:$B,2,FALSE)","v":{"$error":"#N/A"}}]
[{"$f":"VLOOKUP(B8324,Categorias!$A:$B,2,FALSE)","v":{"$error":"#N/A"}}]
[{"$f":"VLOOKUP(B8325,Categorias!$A:$B,2,FALSE)","v":{"$error":"#N/A"}}]
[{"$f":"VLOOKUP(B8326,Categorias!$A:$B,2,FALSE)","v":{"$error":"#N/A"}}]
[{"$f":"VLOOKUP(B8327,Categorias!$A:$B,2,FALSE)","v":{"$error":"#N/A"}}]
[{"$f":"VLOOKUP(B8328,Categorias!$A:$B,2,FALSE)","v":{"$error":"#N/A"}}]
[{"$f":"VLOOKUP(B8329,Categorias!$A:$B,2,FALSE)","v":{"$error":"#N/A"}}]
[{"$f":"VLOOKUP(B8330,Categorias!$A:$B,2,FALSE)","v":{"$error":"#N/A"}}]
[{"$f":"VLOOKUP(B8331,Categorias!$A:$B,2,FALSE)","v":{"$error":"#N/A"}}]
[{"$f":"VLOOKUP(B8332,Categorias!$A:$B,2,FALSE)","v":{"$error":"#N/A"}}]
[{"$f":"VLOOKUP(B8333,Categorias!$A:$B,2,FALSE)","v":{"$error":"#N/A"}}]
[{"$f":"VLOOKUP(B8334,Categorias!$A:$B,2,FALSE)","v":{"$error":"#N/A"}}]
[{"$f":"VLOOKUP(B8335,Categorias!$A:$B,2,FALSE)","v":{"$error":"#N/A"}}]
[{"$f":"VLOOKUP(B8336,Categorias!$A:$B,2,FALSE)","v":{"$error":"#N/A"}}]
[{"$f":"VLOOKUP(B8337,Categorias!$A:$B,2,FALSE)","v":{"$error":"#N/A"}}]
[{"$f":"VLOOKUP(B8338,Categorias!$A:$B,2,FALSE)","v":{"$error":"#N/A"}}]
[{"$f":"VLOOKUP(B8339,Categorias!$A:$B,2,FALSE)","v":{"$error":"#N/A"}}]
[{"$f":"VLOOKUP(B8340,Categorias!$A:$B,2,FALSE)","v":{"$error":"#N/A"}}]
[{"$f":"VLOOKUP(B8341,Categorias!$A:$B,2,FALSE)","v":{"$error":"#N/A"}}]
[{"$f":"VLOOKUP(B8342,Categorias!$A:$B,2,FALSE)","v":{"$error":"#N/A"}}]
[{"$f":"VLOOKUP(B8343,Categorias!$A:$B,2,FALSE)","v":{"$error":"#N/A"}}]
[{"$f":"VLOOKUP(B8344,Categorias!$A:$B,2,FALSE)","v":{"$error":"#N/A"}}]
[{"$f":"VLOOKUP(B8345,Categorias!$A:$B,2,FALSE)","v":{"$error":"#N/A"}}]
[{"$f":"VLOOKUP(B8346,Categorias!$A:$B,2,FALSE)","v":{"$error":"#N/A"}}]
[{"$f":"VLOOKUP(B8347,Categorias!$A:$B,2,FALSE)","v":{"$error":"#N/A"}}]
[{"$f":"VLOOKUP(B8348,Categorias!$A:$B,2,FALSE)","v":{"$error":"#N/A"}}]
[{"$f":"VLOOKUP(B8349,Categorias!$A:$B,2,FALSE)","v":{"$error":"#N/A"}}]
[{"$f":"VLOOKUP(B8350,Categorias!$A:$B,2,FALSE)","v":{"$error":"#N/A"}}]
[{"$f":"VLOOKUP(B8351,Categorias!$A:$B,2,FALSE)","v":{"$error":"#N/A"}}]
[{"$f":"VLOOKUP(B8352,Categorias!$A:$B,2,FALSE)","v":{"$error":"#N/A"}}]
[{"$f":"VLOOKUP(B8353,Categorias!$A:$B,2,FALSE)","v":{"$error":"#N/A"}}]
[{"$f":"VLOOKUP(B8354,Categorias!$A:$B,2,FALSE)","v":{"$error":"#N/A"}}]
[{"$f":"VLOOKUP(B8355,Categorias!$A:$B,2,FALSE)","v":{"$error":"#N/A"}}]
[{"$f":"VLOOKUP(B8356,Categorias!$A:$B,2,FALSE)","v":{"$error":"#N/A"}}]
[{"$f":"VLOOKUP(B8357,Categorias!$A:$B,2,FALSE)","v":{"$error":"#N/A"}}]
[{"$f":"VLOOKUP(B8358,Categorias!$A:$B,2,FALSE)","v":{"$error":"#N/A"}}]
[{"$f":"VLOOKUP(B8359,Categorias!$A:$B,2,FALSE)","v":{"$error":"#N/A"}}]
[{"$f":"VLOOKUP(B8360,Categorias!$A:$B,2,FALSE)","v":{"$error":"#N/A"}}]
[{"$f":"VLOOKUP(B8361,Categorias!$A:$B,2,FALSE)","v":{"$error":"#N/A"}}]
[{"$f":"VLOOKUP(B8362,Categorias!$A:$B,2,FALSE)","v":{"$error":"#N/A"}}]
[{"$f":"VLOOKUP(B8363,Categorias!$A:$B,2,FALSE)","v":{"$error":"#N/A"}}]
[{"$f":"VLOOKUP(B8364,Categorias!$A:$B,2,FALSE)","v":{"$error":"#N/A"}}]
[{"$f":"VLOOKUP(B8365,Categorias!$A:$B,2,FALSE)","v":{"$error":"#N/A"}}]
[{"$f":"VLOOKUP(B8366,Categorias!$A:$B,2,FALSE)","v":{"$error":"#N/A"}}]
[{"$f":"VLOOKUP(B8367,Categorias!$A:$B,2,FALSE)","v":{"$error":"#N/A"}}]
[{"$f":"VLOOKUP(B8368,Categorias!$A:$B,2,FALSE)","v":{"$error":"#N/A"}}]
[{"$f":"VLOOKUP(B8369,Categorias!$A:$B,2,FALSE)","v":{"$error":"#N/A"}}]
[{"$f":"VLOOKUP(B8370,Categorias!$A:$B,2,FALSE)","v":{"$error":"#N/A"}}]
[{"$f":"VLOOKUP(B8371,Categorias!$A:$B,2,FALSE)","v":{"$error":"#N/A"}}]
[{"$f":"VLOOKUP(B8372,Categorias!$A:$B,2,FALSE)","v":{"$error":"#N/A"}}]
[{"$f":"VLOOKUP(B8373,Categorias!$A:$B,2,FALSE)","v":{"$error":"#N/A"}}]
[{"$f":"VLOOKUP(B8374,Categorias!$A:$B,2,FALSE)","v":{"$error":"#N/A"}}]
[{"$f":"VLOOKUP(B8375,Categorias!$A:$B,2,FALSE)","v":{"$error":"#N/A"}}]
[{"$f":"VLOOKUP(B8376,Categorias!$A:$B,2,FALSE)","v":{"$error":"#N/A"}}]
[{"$f":"VLOOKUP(B8377,Categorias!$A:$B,2,FALSE)","v":{"$error":"#N/A"}}]
[{"$f":"VLOOKUP(B8378,Categorias!$A:$B,2,FALSE)","v":{"$error":"#N/A"}}]
[{"$f":"VLOOKUP(B8379,Categorias!$A:$B,2,FALSE)","v":{"$error":"#N/A"}}]
[{"$f":"VLOOKUP(B8380,Categorias!$A:$B,2,FALSE)","v":{"$error":"#N/A"}}]
[{"$f":"VLOOKUP(B8381,Categorias!$A:$B,2,FALSE)","v":{"$error":"#N/A"}}]
[{"$f":"VLOOKUP(B8382,Categorias!$A:$B,2,FALSE)","v":{"$error":"#N/A"}}]
[{"$f":"VLOOKUP(B8383,Categorias!$A:$B,2,FALSE)","v":{"$error":"#N/A"}}]
[{"$f":"VLOOKUP(B8384,Categorias!$A:$B,2,FALSE)","v":{"$error":"#N/A"}}]
[{"$f":"VLOOKUP(B8385,Categorias!$A:$B,2,FALSE)","v":{"$error":"#N/A"}}]
[{"$f":"VLOOKUP(B8386,Categorias!$A:$B,2,FALSE)","v":{"$error":"#N/A"}}]
[{"$f":"VLOOKUP(B8387,Categorias!$A:$B,2,FALSE)","v":{"$error":"#N/A"}}]
[{"$f":"VLOOKUP(B8388,Categorias!$A:$B,2,FALSE)","v":{"$error":"#N/A"}}]
[{"$f":"VLOOKUP(B8389,Categorias!$A:$B,2,FALSE)","v":{"$error":"#N/A"}}]
[{"$f":"VLOOKUP(B8390,Categorias!$A:$B,2,FALSE)","v":{"$error":"#N/A"}}]
[{"$f":"VLOOKUP(B8391,Categorias!$A:$B,2,FALSE)","v":{"$error":"#N/A"}}]
[{"$f":"VLOOKUP(B8392,Categorias!$A:$B,2,FALSE)","v":{"$error":"#N/A"}}]
[{"$f":"VLOOKUP(B8393,Categorias!$A:$B,2,FALSE)","v":{"$error":"#N/A"}}]
[{"$f":"VLOOKUP(B8394,Categorias!$A:$B,2,FALSE)","v":{"$error":"#N/A"}}]
[{"$f":"VLOOKUP(B8395,Categorias!$A:$B,2,FALSE)","v":{"$error":"#N/A"}}]
[{"$f":"VLOOKUP(B8396,Categorias!$A:$B,2,FALSE)","v":{"$error":"#N/A"}}]
[{"$f":"VLOOKUP(B8397,Categorias!$A:$B,2,FALSE)","v":{"$error":"#N/A"}}]
[{"$f":"VLOOKUP(B8398,Categorias!$A:$B,2,FALSE)","v":{"$error":"#N/A"}}]
[{"$f":"VLOOKUP(B8399,Categorias!$A:$B,2,FALSE)","v":{"$error":"#N/A"}}]
[{"$f":"VLOOKUP(B8400,Categorias!$A:$B,2,FALSE)","v":{"$error":"#N/A"}}]
[{"$f":"VLOOKUP(B8401,Categorias!$A:$B,2,FALSE)","v":{"$error":"#N/A"}}]
[{"$f":"VLOOKUP(B8402,Categorias!$A:$B,2,FALSE)","v":{"$error":"#N/A"}}]
[{"$f":"VLOOKUP(B8403,Categorias!$A:$B,2,FALSE)","v":{"$error":"#N/A"}}]
[{"$f":"VLOOKUP(B8404,Categorias!$A:$B,2,FALSE)","v":{"$error":"#N/A"}}]
[{"$f":"VLOOKUP(B8405,Categorias!$A:$B,2,FALSE)","v":{"$error":"#N/A"}}]
[{"$f":"VLOOKUP(B8406,Categorias!$A:$B,2,FALSE)","v":{"$error":"#N/A"}}]
[{"$f":"VLOOKUP(B8407,Categorias!$A:$B,2,FALSE)","v":{"$error":"#N/A"}}]
[{"$f":"VLOOKUP(B8408,Categorias!$A:$B,2,FALSE)","v":{"$error":"#N/A"}}]
[{"$f":"VLOOKUP(B8409,Categorias!$A:$B,2,FALSE)","v":{"$error":"#N/A"}}]
[{"$f":"VLOOKUP(B8410,Categorias!$A:$B,2,FALSE)","v":{"$error":"#N/A"}}]
[{"$f":"VLOOKUP(B8411,Categorias!$A:$B,2,FALSE)","v":{"$error":"#N/A"}}]
[{"$f":"VLOOKUP(B8412,Categorias!$A:$B,2,FALSE)","v":{"$error":"#N/A"}}]
[{"$f":"VLOOKUP(B8413,Categorias!$A:$B,2,FALSE)","v":{"$error":"#N/A"}}]
[{"$f":"VLOOKUP(B8414,Categorias!$A:$B,2,FALSE)","v":{"$error":"#N/A"}}]
[{"$f":"VLOOKUP(B8415,Categorias!$A:$B,2,FALSE)","v":{"$error":"#N/A"}}]
[{"$f":"VLOOKUP(B8416,Categorias!$A:$B,2,FALSE)","v":{"$error":"#N/A"}}]
[{"$f":"VLOOKUP(B8417,Categorias!$A:$B,2,FALSE)","v":{"$error":"#N/A"}}]
[{"$f":"VLOOKUP(B8418,Categorias!$A:$B,2,FALSE)","v":{"$error":"#N/A"}}]
[{"$f":"VLOOKUP(B8419,Categorias!$A:$B,2,FALSE)","v":{"$error":"#N/A"}}]
[{"$f":"VLOOKUP(B8420,Categorias!$A:$B,2,FALSE)","v":{"$error":"#N/A"}}]
[{"$f":"VLOOKUP(B8421,Categorias!$A:$B,2,FALSE)","v":{"$error":"#N/A"}}]
[{"$f":"VLOOKUP(B8422,Categorias!$A:$B,2,FALSE)","v":{"$error":"#N/A"}}]
[{"$f":"VLOOKUP(B8423,Categorias!$A:$B,2,FALSE)","v":{"$error":"#N/A"}}]
[{"$f":"VLOOKUP(B8424,Categorias!$A:$B,2,FALSE)","v":{"$error":"#N/A"}}]
[{"$f":"VLOOKUP(B8425,Categorias!$A:$B,2,FALSE)","v":{"$error":"#N/A"}}]
[{"$f":"VLOOKUP(B8426,Categorias!$A:$B,2,FALSE)","v":{"$error":"#N/A"}}]
[{"$f":"VLOOKUP(B8427,Categorias!$A:$B,2,FALSE)","v":{"$error":"#N/A"}}]
[{"$f":"VLOOKUP(B8428,Categorias!$A:$B,2,FALSE)","v":{"$error":"#N/A"}}]
[{"$f":"VLOOKUP(B8429,Categorias!$A:$B,2,FALSE)","v":{"$error":"#N/A"}}]
[{"$f":"VLOOKUP(B8430,Categorias!$A:$B,2,FALSE)","v":{"$error":"#N/A"}}]
[{"$f":"VLOOKUP(B8431,Categorias!$A:$B,2,FALSE)","v":{"$error":"#N/A"}}]
[{"$f":"VLOOKUP(B8432,Categorias!$A:$B,2,FALSE)","v":{"$error":"#N/A"}}]
[{"$f":"VLOOKUP(B8433,Categorias!$A:$B,2,FALSE)","v":{"$error":"#N/A"}}]
[{"$f":"VLOOKUP(B8434,Categorias!$A:$B,2,FALSE)","v":{"$error":"#N/A"}}]
[{"$f":"VLOOKUP(B8435,Categorias!$A:$B,2,FALSE)","v":{"$error":"#N/A"}}]
[{"$f":"VLOOKUP(B8436,Categorias!$A:$B,2,FALSE)","v":{"$error":"#N/A"}}]
[{"$f":"VLOOKUP(B8437,Categorias!$A:$B,2,FALSE)","v":{"$error":"#N/A"}}]
[{"$f":"VLOOKUP(B8438,Categorias!$A:$B,2,FALSE)","v":{"$error":"#N/A"}}]
[{"$f":"VLOOKUP(B8439,Categorias!$A:$B,2,FALSE)","v":{"$error":"#N/A"}}]
[{"$f":"VLOOKUP(B8440,Categorias!$A:$B,2,FALSE)","v":{"$error":"#N/A"}}]
[{"$f":"VLOOKUP(B8441,Categorias!$A:$B,2,FALSE)","v":{"$error":"#N/A"}}]
[{"$f":"VLOOKUP(B8442,Categorias!$A:$B,2,FALSE)","v":{"$error":"#N/A"}}]
[{"$f":"VLOOKUP(B8443,Categorias!$A:$B,2,FALSE)","v":{"$error":"#N/A"}}]
[{"$f":"VLOOKUP(B8444,Categorias!$A:$B,2,FALSE)","v":{"$error":"#N/A"}}]
[{"$f":"VLOOKUP(B8445,Categorias!$A:$B,2,FALSE)","v":{"$error":"#N/A"}}]
[{"$f":"VLOOKUP(B8446,Categorias!$A:$B,2,FALSE)","v":{"$error":"#N/A"}}]
[{"$f":"VLOOKUP(B8447,Categorias!$A:$B,2,FALSE)","v":{"$error":"#N/A"}}]
[{"$f":"VLOOKUP(B8448,Categorias!$A:$B,2,FALSE)","v":{"$error":"#N/A"}}]
[{"$f":"VLOOKUP(B8449,Categorias!$A:$B,2,FALSE)","v":{"$error":"#N/A"}}]
[{"$f":"VLOOKUP(B8450,Categorias!$A:$B,2,FALSE)","v":{"$error":"#N/A"}}]
[{"$f":"VLOOKUP(B8451,Categorias!$A:$B,2,FALSE)","v":{"$error":"#N/A"}}]
[{"$f":"VLOOKUP(B8452,Categorias!$A:$B,2,FALSE)","v":{"$error":"#N/A"}}]
[{"$f":"VLOOKUP(B8453,Categorias!$A:$B,2,FALSE)","v":{"$error":"#N/A"}}]
[{"$f":"VLOOKUP(B8454,Categorias!$A:$B,2,FALSE)","v":{"$error":"#N/A"}}]
[{"$f":"VLOOKUP(B8455,Categorias!$A:$B,2,FALSE)","v":{"$error":"#N/A"}}]
[{"$f":"VLOOKUP(B8456,Categorias!$A:$B,2,FALSE)","v":{"$error":"#N/A"}}]
[{"$f":"VLOOKUP(B8457,Categorias!$A:$B,2,FALSE)","v":{"$error":"#N/A"}}]
[{"$f":"VLOOKUP(B8458,Categorias!$A:$B,2,FALSE)","v":{"$error":"#N/A"}}]
[{"$f":"VLOOKUP(B8459,Categorias!$A:$B,2,FALSE)","v":{"$error":"#N/A"}}]
[{"$f":"VLOOKUP(B8460,Categorias!$A:$B,2,FALSE)","v":{"$error":"#N/A"}}]
[{"$f":"VLOOKUP(B8461,Categorias!$A:$B,2,FALSE)","v":{"$error":"#N/A"}}]
[{"$f":"VLOOKUP(B8462,Categorias!$A:$B,2,FALSE)","v":{"$error":"#N/A"}}]
[{"$f":"VLOOKUP(B8463,Categorias!$A:$B,2,FALSE)","v":{"$error":"#N/A"}}]
[{"$f":"VLOOKUP(B8464,Categorias!$A:$B,2,FALSE)","v":{"$error":"#N/A"}}]
[{"$f":"VLOOKUP(B8465,Categorias!$A:$B,2,FALSE)","v":{"$error":"#N/A"}}]
[{"$f":"VLOOKUP(B8466,Categorias!$A:$B,2,FALSE)","v":{"$error":"#N/A"}}]
[{"$f":"VLOOKUP(B8467,Categorias!$A:$B,2,FALSE)","v":{"$error":"#N/A"}}]
[{"$f":"VLOOKUP(B8468,Categorias!$A:$B,2,FALSE)","v":{"$error":"#N/A"}}]
[{"$f":"VLOOKUP(B8469,Categorias!$A:$B,2,FALSE)","v":{"$error":"#N/A"}}]
[{"$f":"VLOOKUP(B8470,Categorias!$A:$B,2,FALSE)","v":{"$error":"#N/A"}}]
[{"$f":"VLOOKUP(B8471,Categorias!$A:$B,2,FALSE)","v":{"$error":"#N/A"}}]
[{"$f":"VLOOKUP(B8472,Categorias!$A:$B,2,FALSE)","v":{"$error":"#N/A"}}]
[{"$f":"VLOOKUP(B8473,Categorias!$A:$B,2,FALSE)","v":{"$error":"#N/A"}}]
[{"$f":"VLOOKUP(B8474,Categorias!$A:$B,2,FALSE)","v":{"$error":"#N/A"}}]
[{"$f":"VLOOKUP(B8475,Categorias!$A:$B,2,FALSE)","v":{"$error":"#N/A"}}]
[{"$f":"VLOOKUP(B8476,Categorias!$A:$B,2,FALSE)","v":{"$error":"#N/A"}}]
[{"$f":"VLOOKUP(B8477,Categorias!$A:$B,2,FALSE)","v":{"$error":"#N/A"}}]
[{"$f":"VLOOKUP(B8478,Categorias!$A:$B,2,FALSE)","v":{"$error":"#N/A"}}]
[{"$f":"VLOOKUP(B8479,Categorias!$A:$B,2,FALSE)","v":{"$error":"#N/A"}}]
[{"$f":"VLOOKUP(B8480,Categorias!$A:$B,2,FALSE)","v":{"$error":"#N/A"}}]
[{"$f":"VLOOKUP(B8481,Categorias!$A:$B,2,FALSE)","v":{"$error":"#N/A"}}]
[{"$f":"VLOOKUP(B8482,Categorias!$A:$B,2,FALSE)","v":{"$error":"#N/A"}}]
[{"$f":"VLOOKUP(B8483,Categorias!$A:$B,2,FALSE)","v":{"$error":"#N/A"}}]
[{"$f":"VLOOKUP(B8484,Categorias!$A:$B,2,FALSE)","v":{"$error":"#N/A"}}]
[{"$f":"VLOOKUP(B8485,Categorias!$A:$B,2,FALSE)","v":{"$error":"#N/A"}}]
[{"$f":"VLOOKUP(B8486,Categorias!$A:$B,2,FALSE)","v":{"$error":"#N/A"}}]
[{"$f":"VLOOKUP(B8487,Categorias!$A:$B,2,FALSE)","v":{"$error":"#N/A"}}]
[{"$f":"VLOOKUP(B8488,Categorias!$A:$B,2,FALSE)","v":{"$error":"#N/A"}}]
[{"$f":"VLOOKUP(B8489,Categorias!$A:$B,2,FALSE)","v":{"$error":"#N/A"}}]
[{"$f":"VLOOKUP(B8490,Categorias!$A:$B,2,FALSE)","v":{"$error":"#N/A"}}]
[{"$f":"VLOOKUP(B8491,Categorias!$A:$B,2,FALSE)","v":{"$error":"#N/A"}}]
[{"$f":"VLOOKUP(B8492,Categorias!$A:$B,2,FALSE)","v":{"$error":"#N/A"}}]
[{"$f":"VLOOKUP(B8493,Categorias!$A:$B,2,FALSE)","v":{"$error":"#N/A"}}]
[{"$f":"VLOOKUP(B8494,Categorias!$A:$B,2,FALSE)","v":{"$error":"#N/A"}}]
[{"$f":"VLOOKUP(B8495,Categorias!$A:$B,2,FALSE)","v":{"$error":"#N/A"}}]
[{"$f":"VLOOKUP(B8496,Categorias!$A:$B,2,FALSE)","v":{"$error":"#N/A"}}]
[{"$f":"VLOOKUP(B8497,Categorias!$A:$B,2,FALSE)","v":{"$error":"#N/A"}}]
[{"$f":"VLOOKUP(B8498,Categorias!$A:$B,2,FALSE)","v":{"$error":"#N/A"}}]
[{"$f":"VLOOKUP(B8499,Categorias!$A:$B,2,FALSE)","v":{"$error":"#N/A"}}]
[{"$f":"VLOOKUP(B8500,Categorias!$A:$B,2,FALSE)","v":{"$error":"#N/A"}}]
[{"$f":"VLOOKUP(B8501,Categorias!$A:$B,2,FALSE)","v":{"$error":"#N/A"}}]
[{"$f":"VLOOKUP(B8502,Categorias!$A:$B,2,FALSE)","v":{"$error":"#N/A"}}]
[{"$f":"VLOOKUP(B8503,Categorias!$A:$B,2,FALSE)","v":{"$error":"#N/A"}}]
[{"$f":"VLOOKUP(B8504,Categorias!$A:$B,2,FALSE)","v":{"$error":"#N/A"}}]
[{"$f":"VLOOKUP(B8505,Categorias!$A:$B,2,FALSE)","v":{"$error":"#N/A"}}]
[{"$f":"VLOOKUP(B8506,Categorias!$A:$B,2,FALSE)","v":{"$error":"#N/A"}}]
[{"$f":"VLOOKUP(B8507,Categorias!$A:$B,2,FALSE)","v":{"$error":"#N/A"}}]
[{"$f":"VLOOKUP(B8508,Categorias!$A:$B,2,FALSE)","v":{"$error":"#N/A"}}]
[{"$f":"VLOOKUP(B8509,Categorias!$A:$B,2,FALSE)","v":{"$error":"#N/A"}}]
[{"$f":"VLOOKUP(B8510,Categorias!$A:$B,2,FALSE)","v":{"$error":"#N/A"}}]
[{"$f":"VLOOKUP(B8511,Categorias!$A:$B,2,FALSE)","v":{"$error":"#N/A"}}]
[{"$f":"VLOOKUP(B8512,Categorias!$A:$B,2,FALSE)","v":{"$error":"#N/A"}}]
[{"$f":"VLOOKUP(B8513,Categorias!$A:$B,2,FALSE)","v":{"$error":"#N/A"}}]
[{"$f":"VLOOKUP(B8514,Categorias!$A:$B,2,FALSE)","v":{"$error":"#N/A"}}]
[{"$f":"VLOOKUP(B8515,Categorias!$A:$B,2,FALSE)","v":{"$error":"#N/A"}}]
[{"$f":"VLOOKUP(B8516,Categorias!$A:$B,2,FALSE)","v":{"$error":"#N/A"}}]
[{"$f":"VLOOKUP(B8517,Categorias!$A:$B,2,FALSE)","v":{"$error":"#N/A"}}]
[{"$f":"VLOOKUP(B8518,Categorias!$A:$B,2,FALSE)","v":{"$error":"#N/A"}}]
[{"$f":"VLOOKUP(B8519,Categorias!$A:$B,2,FALSE)","v":{"$error":"#N/A"}}]
[{"$f":"VLOOKUP(B8520,Categorias!$A:$B,2,FALSE)","v":{"$error":"#N/A"}}]
[{"$f":"VLOOKUP(B8521,Categorias!$A:$B,2,FALSE)","v":{"$error":"#N/A"}}]
[{"$f":"VLOOKUP(B8522,Categorias!$A:$B,2,FALSE)","v":{"$error":"#N/A"}}]
[{"$f":"VLOOKUP(B8523,Categorias!$A:$B,2,FALSE)","v":{"$error":"#N/A"}}]
[{"$f":"VLOOKUP(B8524,Categorias!$A:$B,2,FALSE)","v":{"$error":"#N/A"}}]
[{"$f":"VLOOKUP(B8525,Categorias!$A:$B,2,FALSE)","v":{"$error":"#N/A"}}]
[{"$f":"VLOOKUP(B8526,Categorias!$A:$B,2,FALSE)","v":{"$error":"#N/A"}}]
[{"$f":"VLOOKUP(B8527,Categorias!$A:$B,2,FALSE)","v":{"$error":"#N/A"}}]
[{"$f":"VLOOKUP(B8528,Categorias!$A:$B,2,FALSE)","v":{"$error":"#N/A"}}]
[{"$f":"VLOOKUP(B8529,Categorias!$A:$B,2,FALSE)","v":{"$error":"#N/A"}}]
[{"$f":"VLOOKUP(B8530,Categorias!$A:$B,2,FALSE)","v":{"$error":"#N/A"}}]
[{"$f":"VLOOKUP(B8531,Categorias!$A:$B,2,FALSE)","v":{"$error":"#N/A"}}]
[{"$f":"VLOOKUP(B8532,Categorias!$A:$B,2,FALSE)","v":{"$error":"#N/A"}}]
[{"$f":"VLOOKUP(B8533,Categorias!$A:$B,2,FALSE)","v":{"$error":"#N/A"}}]
[{"$f":"VLOOKUP(B8534,Categorias!$A:$B,2,FALSE)","v":{"$error":"#N/A"}}]
[{"$f":"VLOOKUP(B8535,Categorias!$A:$B,2,FALSE)","v":{"$error":"#N/A"}}]
[{"$f":"VLOOKUP(B8536,Categorias!$A:$B,2,FALSE)","v":{"$error":"#N/A"}}]
[{"$f":"VLOOKUP(B8537,Categorias!$A:$B,2,FALSE)","v":{"$error":"#N/A"}}]
[{"$f":"VLOOKUP(B8538,Categorias!$A:$B,2,FALSE)","v":{"$error":"#N/A"}}]
[{"$f":"VLOOKUP(B8539,Categorias!$A:$B,2,FALSE)","v":{"$error":"#N/A"}}]
[{"$f":"VLOOKUP(B8540,Categorias!$A:$B,2,FALSE)","v":{"$error":"#N/A"}}]
[{"$f":"VLOOKUP(B8541,Categorias!$A:$B,2,FALSE)","v":{"$error":"#N/A"}}]
[{"$f":"VLOOKUP(B8542,Categorias!$A:$B,2,FALSE)","v":{"$error":"#N/A"}}]
[{"$f":"VLOOKUP(B8543,Categorias!$A:$B,2,FALSE)","v":{"$error":"#N/A"}}]
[{"$f":"VLOOKUP(B8544,Categorias!$A:$B,2,FALSE)","v":{"$error":"#N/A"}}]
[{"$f":"VLOOKUP(B8545,Categorias!$A:$B,2,FALSE)","v":{"$error":"#N/A"}}]
[{"$f":"VLOOKUP(B8546,Categorias!$A:$B,2,FALSE)","v":{"$error":"#N/A"}}]
[{"$f":"VLOOKUP(B8547,Categorias!$A:$B,2,FALSE)","v":{"$error":"#N/A"}}]
[{"$f":"VLOOKUP(B8548,Categorias!$A:$B,2,FALSE)","v":{"$error":"#N/A"}}]
[{"$f":"VLOOKUP(B8549,Categorias!$A:$B,2,FALSE)","v":{"$error":"#N/A"}}]
[{"$f":"VLOOKUP(B8550,Categorias!$A:$B,2,FALSE)","v":{"$error":"#N/A"}}]
[{"$f":"VLOOKUP(B8551,Categorias!$A:$B,2,FALSE)","v":{"$error":"#N/A"}}]
[{"$f":"VLOOKUP(B8552,Categorias!$A:$B,2,FALSE)","v":{"$error":"#N/A"}}]
[{"$f":"VLOOKUP(B8553,Categorias!$A:$B,2,FALSE)","v":{"$error":"#N/A"}}]
[{"$f":"VLOOKUP(B8554,Categorias!$A:$B,2,FALSE)","v":{"$error":"#N/A"}}]
[{"$f":"VLOOKUP(B8555,Categorias!$A:$B,2,FALSE)","v":{"$error":"#N/A"}}]
[{"$f":"VLOOKUP(B8556,Categorias!$A:$B,2,FALSE)","v":{"$error":"#N/A"}}]
[{"$f":"VLOOKUP(B8557,Categorias!$A:$B,2,FALSE)","v":{"$error":"#N/A"}}]
[{"$f":"VLOOKUP(B8558,Categorias!$A:$B,2,FALSE)","v":{"$error":"#N/A"}}]
[{"$f":"VLOOKUP(B8559,Categorias!$A:$B,2,FALSE)","v":{"$error":"#N/A"}}]
[{"$f":"VLOOKUP(B8560,Categorias!$A:$B,2,FALSE)","v":{"$error":"#N/A"}}]
[{"$f":"VLOOKUP(B8561,Categorias!$A:$B,2,FALSE)","v":{"$error":"#N/A"}}]
[{"$f":"VLOOKUP(B8562,Categorias!$A:$B,2,FALSE)","v":{"$error":"#N/A"}}]
[{"$f":"VLOOKUP(B8563,Categorias!$A:$B,2,FALSE)","v":{"$error":"#N/A"}}]
[{"$f":"VLOOKUP(B8564,Categorias!$A:$B,2,FALSE)","v":{"$error":"#N/A"}}]
[{"$f":"VLOOKUP(B8565,Categorias!$A:$B,2,FALSE)","v":{"$error":"#N/A"}}]
[{"$f":"VLOOKUP(B8566,Categorias!$A:$B,2,FALSE)","v":{"$error":"#N/A"}}]
[{"$f":"VLOOKUP(B8567,Categorias!$A:$B,2,FALSE)","v":{"$error":"#N/A"}}]
[{"$f":"VLOOKUP(B8568,Categorias!$A:$B,2,FALSE)","v":{"$error":"#N/A"}}]
[{"$f":"VLOOKUP(B8569,Categorias!$A:$B,2,FALSE)","v":{"$error":"#N/A"}}]
[{"$f":"VLOOKUP(B8570,Categorias!$A:$B,2,FALSE)","v":{"$error":"#N/A"}}]
[{"$f":"VLOOKUP(B8571,Categorias!$A:$B,2,FALSE)","v":{"$error":"#N/A"}}]
[{"$f":"VLOOKUP(B8572,Categorias!$A:$B,2,FALSE)","v":{"$error":"#N/A"}}]
[{"$f":"VLOOKUP(B8573,Categorias!$A:$B,2,FALSE)","v":{"$error":"#N/A"}}]
[{"$f":"VLOOKUP(B8574,Categorias!$A:$B,2,FALSE)","v":{"$error":"#N/A"}}]
[{"$f":"VLOOKUP(B8575,Categorias!$A:$B,2,FALSE)","v":{"$error":"#N/A"}}]
[{"$f":"VLOOKUP(B8576,Categorias!$A:$B,2,FALSE)","v":{"$error":"#N/A"}}]
[{"$f":"VLOOKUP(B8577,Categorias!$A:$B,2,FALSE)","v":{"$error":"#N/A"}}]
[{"$f":"VLOOKUP(B8578,Categorias!$A:$B,2,FALSE)","v":{"$error":"#N/A"}}]
[{"$f":"VLOOKUP(B8579,Categorias!$A:$B,2,FALSE)","v":{"$error":"#N/A"}}]
[{"$f":"VLOOKUP(B8580,Categorias!$A:$B,2,FALSE)","v":{"$error":"#N/A"}}]
[{"$f":"VLOOKUP(B8581,Categorias!$A:$B,2,FALSE)","v":{"$error":"#N/A"}}]
[{"$f":"VLOOKUP(B8582,Categorias!$A:$B,2,FALSE)","v":{"$error":"#N/A"}}]
[{"$f":"VLOOKUP(B8583,Categorias!$A:$B,2,FALSE)","v":{"$error":"#N/A"}}]
[{"$f":"VLOOKUP(B8584,Categorias!$A:$B,2,FALSE)","v":{"$error":"#N/A"}}]
[{"$f":"VLOOKUP(B8585,Categorias!$A:$B,2,FALSE)","v":{"$error":"#N/A"}}]
[{"$f":"VLOOKUP(B8586,Categorias!$A:$B,2,FALSE)","v":{"$error":"#N/A"}}]
[{"$f":"VLOOKUP(B8587,Categorias!$A:$B,2,FALSE)","v":{"$error":"#N/A"}}]
[{"$f":"VLOOKUP(B8588,Categorias!$A:$B,2,FALSE)","v":{"$error":"#N/A"}}]
[{"$f":"VLOOKUP(B8589,Categorias!$A:$B,2,FALSE)","v":{"$error":"#N/A"}}]
[{"$f":"VLOOKUP(B8590,Categorias!$A:$B,2,FALSE)","v":{"$error":"#N/A"}}]
[{"$f":"VLOOKUP(B8591,Categorias!$A:$B,2,FALSE)","v":{"$error":"#N/A"}}]
[{"$f":"VLOOKUP(B8592,Categorias!$A:$B,2,FALSE)","v":{"$error":"#N/A"}}]
[{"$f":"VLOOKUP(B8593,Categorias!$A:$B,2,FALSE)","v":{"$error":"#N/A"}}]
[{"$f":"VLOOKUP(B8594,Categorias!$A:$B,2,FALSE)","v":{"$error":"#N/A"}}]
[{"$f":"VLOOKUP(B8595,Categorias!$A:$B,2,FALSE)","v":{"$error":"#N/A"}}]
[{"$f":"VLOOKUP(B8596,Categorias!$A:$B,2,FALSE)","v":{"$error":"#N/A"}}]
[{"$f":"VLOOKUP(B8597,Categorias!$A:$B,2,FALSE)","v":{"$error":"#N/A"}}]
[{"$f":"VLOOKUP(B8598,Categorias!$A:$B,2,FALSE)","v":{"$error":"#N/A"}}]
[{"$f":"VLOOKUP(B8599,Categorias!$A:$B,2,FALSE)","v":{"$error":"#N/A"}}]
[{"$f":"VLOOKUP(B8600,Categorias!$A:$B,2,FALSE)","v":{"$error":"#N/A"}}]
[{"$f":"VLOOKUP(B8601,Categorias!$A:$B,2,FALSE)","v":{"$error":"#N/A"}}]
[{"$f":"VLOOKUP(B8602,Categorias!$A:$B,2,FALSE)","v":{"$error":"#N/A"}}]
[{"$f":"VLOOKUP(B8603,Categorias!$A:$B,2,FALSE)","v":{"$error":"#N/A"}}]
[{"$f":"VLOOKUP(B8604,Categorias!$A:$B,2,FALSE)","v":{"$error":"#N/A"}}]
[{"$f":"VLOOKUP(B8605,Categorias!$A:$B,2,FALSE)","v":{"$error":"#N/A"}}]
[{"$f":"VLOOKUP(B8606,Categorias!$A:$B,2,FALSE)","v":{"$error":"#N/A"}}]
[{"$f":"VLOOKUP(B8607,Categorias!$A:$B,2,FALSE)","v":{"$error":"#N/A"}}]
[{"$f":"VLOOKUP(B8608,Categorias!$A:$B,2,FALSE)","v":{"$error":"#N/A"}}]
[{"$f":"VLOOKUP(B8609,Categorias!$A:$B,2,FALSE)","v":{"$error":"#N/A"}}]
[{"$f":"VLOOKUP(B8610,Categorias!$A:$B,2,FALSE)","v":{"$error":"#N/A"}}]
[{"$f":"VLOOKUP(B8611,Categorias!$A:$B,2,FALSE)","v":{"$error":"#N/A"}}]
[{"$f":"VLOOKUP(B8612,Categorias!$A:$B,2,FALSE)","v":{"$error":"#N/A"}}]
[{"$f":"VLOOKUP(B8613,Categorias!$A:$B,2,FALSE)","v":{"$error":"#N/A"}}]
[{"$f":"VLOOKUP(B8614,Categorias!$A:$B,2,FALSE)","v":{"$error":"#N/A"}}]
[{"$f":"VLOOKUP(B8615,Categorias!$A:$B,2,FALSE)","v":{"$error":"#N/A"}}]
[{"$f":"VLOOKUP(B8616,Categorias!$A:$B,2,FALSE)","v":{"$error":"#N/A"}}]
[{"$f":"VLOOKUP(B8617,Categorias!$A:$B,2,FALSE)","v":{"$error":"#N/A"}}]
[{"$f":"VLOOKUP(B8618,Categorias!$A:$B,2,FALSE)","v":{"$error":"#N/A"}}]
[{"$f":"VLOOKUP(B8619,Categorias!$A:$B,2,FALSE)","v":{"$error":"#N/A"}}]
[{"$f":"VLOOKUP(B8620,Categorias!$A:$B,2,FALSE)","v":{"$error":"#N/A"}}]
[{"$f":"VLOOKUP(B8621,Categorias!$A:$B,2,FALSE)","v":{"$error":"#N/A"}}]
[{"$f":"VLOOKUP(B8622,Categorias!$A:$B,2,FALSE)","v":{"$error":"#N/A"}}]
[{"$f":"VLOOKUP(B8623,Categorias!$A:$B,2,FALSE)","v":{"$error":"#N/A"}}]
[{"$f":"VLOOKUP(B8624,Categorias!$A:$B,2,FALSE)","v":{"$error":"#N/A"}}]
[{"$f":"VLOOKUP(B8625,Categorias!$A:$B,2,FALSE)","v":{"$error":"#N/A"}}]
[{"$f":"VLOOKUP(B8626,Categorias!$A:$B,2,FALSE)","v":{"$error":"#N/A"}}]
[{"$f":"VLOOKUP(B8627,Categorias!$A:$B,2,FALSE)","v":{"$error":"#N/A"}}]
[{"$f":"VLOOKUP(B8628,Categorias!$A:$B,2,FALSE)","v":{"$error":"#N/A"}}]
[{"$f":"VLOOKUP(B8629,Categorias!$A:$B,2,FALSE)","v":{"$error":"#N/A"}}]
[{"$f":"VLOOKUP(B8630,Categorias!$A:$B,2,FALSE)","v":{"$error":"#N/A"}}]
[{"$f":"VLOOKUP(B8631,Categorias!$A:$B,2,FALSE)","v":{"$error":"#N/A"}}]
[{"$f":"VLOOKUP(B8632,Categorias!$A:$B,2,FALSE)","v":{"$error":"#N/A"}}]
[{"$f":"VLOOKUP(B8633,Categorias!$A:$B,2,FALSE)","v":{"$error":"#N/A"}}]
[{"$f":"VLOOKUP(B8634,Categorias!$A:$B,2,FALSE)","v":{"$error":"#N/A"}}]
[{"$f":"VLOOKUP(B8635,Categorias!$A:$B,2,FALSE)","v":{"$error":"#N/A"}}]
[{"$f":"VLOOKUP(B8636,Categorias!$A:$B,2,FALSE)","v":{"$error":"#N/A"}}]
[{"$f":"VLOOKUP(B8637,Categorias!$A:$B,2,FALSE)","v":{"$error":"#N/A"}}]
[{"$f":"VLOOKUP(B8638,Categorias!$A:$B,2,FALSE)","v":{"$error":"#N/A"}}]
[{"$f":"VLOOKUP(B8639,Categorias!$A:$B,2,FALSE)","v":{"$error":"#N/A"}}]
[{"$f":"VLOOKUP(B8640,Categorias!$A:$B,2,FALSE)","v":{"$error":"#N/A"}}]
[{"$f":"VLOOKUP(B8641,Categorias!$A:$B,2,FALSE)","v":{"$error":"#N/A"}}]
[{"$f":"VLOOKUP(B8642,Categorias!$A:$B,2,FALSE)","v":{"$error":"#N/A"}}]
[{"$f":"VLOOKUP(B8643,Categorias!$A:$B,2,FALSE)","v":{"$error":"#N/A"}}]
[{"$f":"VLOOKUP(B8644,Categorias!$A:$B,2,FALSE)","v":{"$error":"#N/A"}}]
[{"$f":"VLOOKUP(B8645,Categorias!$A:$B,2,FALSE)","v":{"$error":"#N/A"}}]
[{"$f":"VLOOKUP(B8646,Categorias!$A:$B,2,FALSE)","v":{"$error":"#N/A"}}]
[{"$f":"VLOOKUP(B8647,Categorias!$A:$B,2,FALSE)","v":{"$error":"#N/A"}}]
[{"$f":"VLOOKUP(B8648,Categorias!$A:$B,2,FALSE)","v":{"$error":"#N/A"}}]
[{"$f":"VLOOKUP(B8649,Categorias!$A:$B,2,FALSE)","v":{"$error":"#N/A"}}]
[{"$f":"VLOOKUP(B8650,Categorias!$A:$B,2,FALSE)","v":{"$error":"#N/A"}}]
[{"$f":"VLOOKUP(B8651,Categorias!$A:$B,2,FALSE)","v":{"$error":"#N/A"}}]
[{"$f":"VLOOKUP(B8652,Categorias!$A:$B,2,FALSE)","v":{"$error":"#N/A"}}]
[{"$f":"VLOOKUP(B8653,Categorias!$A:$B,2,FALSE)","v":{"$error":"#N/A"}}]
[{"$f":"VLOOKUP(B8654,Categorias!$A:$B,2,FALSE)","v":{"$error":"#N/A"}}]
[{"$f":"VLOOKUP(B8655,Categorias!$A:$B,2,FALSE)","v":{"$error":"#N/A"}}]
[{"$f":"VLOOKUP(B8656,Categorias!$A:$B,2,FALSE)","v":{"$error":"#N/A"}}]
[{"$f":"VLOOKUP(B8657,Categorias!$A:$B,2,FALSE)","v":{"$error":"#N/A"}}]
[{"$f":"VLOOKUP(B8658,Categorias!$A:$B,2,FALSE)","v":{"$error":"#N/A"}}]
[{"$f":"VLOOKUP(B8659,Categorias!$A:$B,2,FALSE)","v":{"$error":"#N/A"}}]
[{"$f":"VLOOKUP(B8660,Categorias!$A:$B,2,FALSE)","v":{"$error":"#N/A"}}]
[{"$f":"VLOOKUP(B8661,Categorias!$A:$B,2,FALSE)","v":{"$error":"#N/A"}}]
[{"$f":"VLOOKUP(B8662,Categorias!$A:$B,2,FALSE)","v":{"$error":"#N/A"}}]
[{"$f":"VLOOKUP(B8663,Categorias!$A:$B,2,FALSE)","v":{"$error":"#N/A"}}]
[{"$f":"VLOOKUP(B8664,Categorias!$A:$B,2,FALSE)","v":{"$error":"#N/A"}}]
[{"$f":"VLOOKUP(B8665,Categorias!$A:$B,2,FALSE)","v":{"$error":"#N/A"}}]
[{"$f":"VLOOKUP(B8666,Categorias!$A:$B,2,FALSE)","v":{"$error":"#N/A"}}]
[{"$f":"VLOOKUP(B8667,Categorias!$A:$B,2,FALSE)","v":{"$error":"#N/A"}}]
[{"$f":"VLOOKUP(B8668,Categorias!$A:$B,2,FALSE)","v":{"$error":"#N/A"}}]
[{"$f":"VLOOKUP(B8669,Categorias!$A:$B,2,FALSE)","v":{"$error":"#N/A"}}]
[{"$f":"VLOOKUP(B8670,Categorias!$A:$B,2,FALSE)","v":{"$error":"#N/A"}}]
[{"$f":"VLOOKUP(B8671,Categorias!$A:$B,2,FALSE)","v":{"$error":"#N/A"}}]
[{"$f":"VLOOKUP(B8672,Categorias!$A:$B,2,FALSE)","v":{"$error":"#N/A"}}]
[{"$f":"VLOOKUP(B8673,Categorias!$A:$B,2,FALSE)","v":{"$error":"#N/A"}}]
[{"$f":"VLOOKUP(B8674,Categorias!$A:$B,2,FALSE)","v":{"$error":"#N/A"}}]
[{"$f":"VLOOKUP(B8675,Categorias!$A:$B,2,FALSE)","v":{"$error":"#N/A"}}]
[{"$f":"VLOOKUP(B8676,Categorias!$A:$B,2,FALSE)","v":{"$error":"#N/A"}}]
[{"$f":"VLOOKUP(B8677,Categorias!$A:$B,2,FALSE)","v":{"$error":"#N/A"}}]
[{"$f":"VLOOKUP(B8678,Categorias!$A:$B,2,FALSE)","v":{"$error":"#N/A"}}]
[{"$f":"VLOOKUP(B8679,Categorias!$A:$B,2,FALSE)","v":{"$error":"#N/A"}}]
[{"$f":"VLOOKUP(B8680,Categorias!$A:$B,2,FALSE)","v":{"$error":"#N/A"}}]
[{"$f":"VLOOKUP(B8681,Categorias!$A:$B,2,FALSE)","v":{"$error":"#N/A"}}]
[{"$f":"VLOOKUP(B8682,Categorias!$A:$B,2,FALSE)","v":{"$error":"#N/A"}}]
[{"$f":"VLOOKUP(B8683,Categorias!$A:$B,2,FALSE)","v":{"$error":"#N/A"}}]
[{"$f":"VLOOKUP(B8684,Categorias!$A:$B,2,FALSE)","v":{"$error":"#N/A"}}]
[{"$f":"VLOOKUP(B8685,Categorias!$A:$B,2,FALSE)","v":{"$error":"#N/A"}}]
[{"$f":"VLOOKUP(B8686,Categorias!$A:$B,2,FALSE)","v":{"$error":"#N/A"}}]
[{"$f":"VLOOKUP(B8687,Categorias!$A:$B,2,FALSE)","v":{"$error":"#N/A"}}]
[{"$f":"VLOOKUP(B8688,Categorias!$A:$B,2,FALSE)","v":{"$error":"#N/A"}}]
[{"$f":"VLOOKUP(B8689,Categorias!$A:$B,2,FALSE)","v":{"$error":"#N/A"}}]
[{"$f":"VLOOKUP(B8690,Categorias!$A:$B,2,FALSE)","v":{"$error":"#N/A"}}]
[{"$f":"VLOOKUP(B8691,Categorias!$A:$B,2,FALSE)","v":{"$error":"#N/A"}}]
[{"$f":"VLOOKUP(B8692,Categorias!$A:$B,2,FALSE)","v":{"$error":"#N/A"}}]
[{"$f":"VLOOKUP(B8693,Categorias!$A:$B,2,FALSE)","v":{"$error":"#N/A"}}]
[{"$f":"VLOOKUP(B8694,Categorias!$A:$B,2,FALSE)","v":{"$error":"#N/A"}}]
[{"$f":"VLOOKUP(B8695,Categorias!$A:$B,2,FALSE)","v":{"$error":"#N/A"}}]
[{"$f":"VLOOKUP(B8696,Categorias!$A:$B,2,FALSE)","v":{"$error":"#N/A"}}]
[{"$f":"VLOOKUP(B8697,Categorias!$A:$B,2,FALSE)","v":{"$error":"#N/A"}}]
[{"$f":"VLOOKUP(B8698,Categorias!$A:$B,2,FALSE)","v":{"$error":"#N/A"}}]
[{"$f":"VLOOKUP(B8699,Categorias!$A:$B,2,FALSE)","v":{"$error":"#N/A"}}]
[{"$f":"VLOOKUP(B8700,Categorias!$A:$B,2,FALSE)","v":{"$error":"#N/A"}}]
[{"$f":"VLOOKUP(B8701,Categorias!$A:$B,2,FALSE)","v":{"$error":"#N/A"}}]
[{"$f":"VLOOKUP(B8702,Categorias!$A:$B,2,FALSE)","v":{"$error":"#N/A"}}]
[{"$f":"VLOOKUP(B8703,Categorias!$A:$B,2,FALSE)","v":{"$error":"#N/A"}}]
[{"$f":"VLOOKUP(B8704,Categorias!$A:$B,2,FALSE)","v":{"$error":"#N/A"}}]
[{"$f":"VLOOKUP(B8705,Categorias!$A:$B,2,FALSE)","v":{"$error":"#N/A"}}]
[{"$f":"VLOOKUP(B8706,Categorias!$A:$B,2,FALSE)","v":{"$error":"#N/A"}}]
[{"$f":"VLOOKUP(B8707,Categorias!$A:$B,2,FALSE)","v":{"$error":"#N/A"}}]
[{"$f":"VLOOKUP(B8708,Categorias!$A:$B,2,FALSE)","v":{"$error":"#N/A"}}]
[{"$f":"VLOOKUP(B8709,Categorias!$A:$B,2,FALSE)","v":{"$error":"#N/A"}}]
[{"$f":"VLOOKUP(B8710,Categorias!$A:$B,2,FALSE)","v":{"$error":"#N/A"}}]
[{"$f":"VLOOKUP(B8711,Categorias!$A:$B,2,FALSE)","v":{"$error":"#N/A"}}]
[{"$f":"VLOOKUP(B8712,Categorias!$A:$B,2,FALSE)","v":{"$error":"#N/A"}}]
[{"$f":"VLOOKUP(B8713,Categorias!$A:$B,2,FALSE)","v":{"$error":"#N/A"}}]
[{"$f":"VLOOKUP(B8714,Categorias!$A:$B,2,FALSE)","v":{"$error":"#N/A"}}]
[{"$f":"VLOOKUP(B8715,Categorias!$A:$B,2,FALSE)","v":{"$error":"#N/A"}}]
[{"$f":"VLOOKUP(B8716,Categorias!$A:$B,2,FALSE)","v":{"$error":"#N/A"}}]
[{"$f":"VLOOKUP(B8717,Categorias!$A:$B,2,FALSE)","v":{"$error":"#N/A"}}]
[{"$f":"VLOOKUP(B8718,Categorias!$A:$B,2,FALSE)","v":{"$error":"#N/A"}}]
[{"$f":"VLOOKUP(B8719,Categorias!$A:$B,2,FALSE)","v":{"$error":"#N/A"}}]
[{"$f":"VLOOKUP(B8720,Categorias!$A:$B,2,FALSE)","v":{"$error":"#N/A"}}]
[{"$f":"VLOOKUP(B8721,Categorias!$A:$B,2,FALSE)","v":{"$error":"#N/A"}}]
[{"$f":"VLOOKUP(B8722,Categorias!$A:$B,2,FALSE)","v":{"$error":"#N/A"}}]
[{"$f":"VLOOKUP(B8723,Categorias!$A:$B,2,FALSE)","v":{"$error":"#N/A"}}]
[{"$f":"VLOOKUP(B8724,Categorias!$A:$B,2,FALSE)","v":{"$error":"#N/A"}}]
[{"$f":"VLOOKUP(B8725,Categorias!$A:$B,2,FALSE)","v":{"$error":"#N/A"}}]
[{"$f":"VLOOKUP(B8726,Categorias!$A:$B,2,FALSE)","v":{"$error":"#N/A"}}]
[{"$f":"VLOOKUP(B8727,Categorias!$A:$B,2,FALSE)","v":{"$error":"#N/A"}}]
[{"$f":"VLOOKUP(B8728,Categorias!$A:$B,2,FALSE)","v":{"$error":"#N/A"}}]
[{"$f":"VLOOKUP(B8729,Categorias!$A:$B,2,FALSE)","v":{"$error":"#N/A"}}]
[{"$f":"VLOOKUP(B8730,Categorias!$A:$B,2,FALSE)","v":{"$error":"#N/A"}}]
[{"$f":"VLOOKUP(B8731,Categorias!$A:$B,2,FALSE)","v":{"$error":"#N/A"}}]
[{"$f":"VLOOKUP(B8732,Categorias!$A:$B,2,FALSE)","v":{"$error":"#N/A"}}]
[{"$f":"VLOOKUP(B8733,Categorias!$A:$B,2,FALSE)","v":{"$error":"#N/A"}}]
[{"$f":"VLOOKUP(B8734,Categorias!$A:$B,2,FALSE)","v":{"$error":"#N/A"}}]
[{"$f":"VLOOKUP(B8735,Categorias!$A:$B,2,FALSE)","v":{"$error":"#N/A"}}]
[{"$f":"VLOOKUP(B8736,Categorias!$A:$B,2,FALSE)","v":{"$error":"#N/A"}}]
[{"$f":"VLOOKUP(B8737,Categorias!$A:$B,2,FALSE)","v":{"$error":"#N/A"}}]
[{"$f":"VLOOKUP(B8738,Categorias!$A:$B,2,FALSE)","v":{"$error":"#N/A"}}]
[{"$f":"VLOOKUP(B8739,Categorias!$A:$B,2,FALSE)","v":{"$error":"#N/A"}}]
[{"$f":"VLOOKUP(B8740,Categorias!$A:$B,2,FALSE)","v":{"$error":"#N/A"}}]
[{"$f":"VLOOKUP(B8741,Categorias!$A:$B,2,FALSE)","v":{"$error":"#N/A"}}]
[{"$f":"VLOOKUP(B8742,Categorias!$A:$B,2,FALSE)","v":{"$error":"#N/A"}}]
[{"$f":"VLOOKUP(B8743,Categorias!$A:$B,2,FALSE)","v":{"$error":"#N/A"}}]
[{"$f":"VLOOKUP(B8744,Categorias!$A:$B,2,FALSE)","v":{"$error":"#N/A"}}]
[{"$f":"VLOOKUP(B8745,Categorias!$A:$B,2,FALSE)","v":{"$error":"#N/A"}}]
[{"$f":"VLOOKUP(B8746,Categorias!$A:$B,2,FALSE)","v":{"$error":"#N/A"}}]
[{"$f":"VLOOKUP(B8747,Categorias!$A:$B,2,FALSE)","v":{"$error":"#N/A"}}]
[{"$f":"VLOOKUP(B8748,Categorias!$A:$B,2,FALSE)","v":{"$error":"#N/A"}}]
[{"$f":"VLOOKUP(B8749,Categorias!$A:$B,2,FALSE)","v":{"$error":"#N/A"}}]
[{"$f":"VLOOKUP(B8750,Categorias!$A:$B,2,FALSE)","v":{"$error":"#N/A"}}]
[{"$f":"VLOOKUP(B8751,Categorias!$A:$B,2,FALSE)","v":{"$error":"#N/A"}}]
[{"$f":"VLOOKUP(B8752,Categorias!$A:$B,2,FALSE)","v":{"$error":"#N/A"}}]
[{"$f":"VLOOKUP(B8753,Categorias!$A:$B,2,FALSE)","v":{"$error":"#N/A"}}]
[{"$f":"VLOOKUP(B8754,Categorias!$A:$B,2,FALSE)","v":{"$error":"#N/A"}}]
[{"$f":"VLOOKUP(B8755,Categorias!$A:$B,2,FALSE)","v":{"$error":"#N/A"}}]
[{"$f":"VLOOKUP(B8756,Categorias!$A:$B,2,FALSE)","v":{"$error":"#N/A"}}]
[{"$f":"VLOOKUP(B8757,Categorias!$A:$B,2,FALSE)","v":{"$error":"#N/A"}}]
[{"$f":"VLOOKUP(B8758,Categorias!$A:$B,2,FALSE)","v":{"$error":"#N/A"}}]
[{"$f":"VLOOKUP(B8759,Categorias!$A:$B,2,FALSE)","v":{"$error":"#N/A"}}]
[{"$f":"VLOOKUP(B8760,Categorias!$A:$B,2,FALSE)","v":{"$error":"#N/A"}}]
[{"$f":"VLOOKUP(B8761,Categorias!$A:$B,2,FALSE)","v":{"$error":"#N/A"}}]
[{"$f":"VLOOKUP(B8762,Categorias!$A:$B,2,FALSE)","v":{"$error":"#N/A"}}]
[{"$f":"VLOOKUP(B8763,Categorias!$A:$B,2,FALSE)","v":{"$error":"#N/A"}}]
[{"$f":"VLOOKUP(B8764,Categorias!$A:$B,2,FALSE)","v":{"$error":"#N/A"}}]
[{"$f":"VLOOKUP(B8765,Categorias!$A:$B,2,FALSE)","v":{"$error":"#N/A"}}]
[{"$f":"VLOOKUP(B8766,Categorias!$A:$B,2,FALSE)","v":{"$error":"#N/A"}}]
[{"$f":"VLOOKUP(B8767,Categorias!$A:$B,2,FALSE)","v":{"$error":"#N/A"}}]
[{"$f":"VLOOKUP(B8768,Categorias!$A:$B,2,FALSE)","v":{"$error":"#N/A"}}]
[{"$f":"VLOOKUP(B8769,Categorias!$A:$B,2,FALSE)","v":{"$error":"#N/A"}}]
[{"$f":"VLOOKUP(B8770,Categorias!$A:$B,2,FALSE)","v":{"$error":"#N/A"}}]
[{"$f":"VLOOKUP(B8771,Categorias!$A:$B,2,FALSE)","v":{"$error":"#N/A"}}]
[{"$f":"VLOOKUP(B8772,Categorias!$A:$B,2,FALSE)","v":{"$error":"#N/A"}}]
[{"$f":"VLOOKUP(B8773,Categorias!$A:$B,2,FALSE)","v":{"$error":"#N/A"}}]
[{"$f":"VLOOKUP(B8774,Categorias!$A:$B,2,FALSE)","v":{"$error":"#N/A"}}]
[{"$f":"VLOOKUP(B8775,Categorias!$A:$B,2,FALSE)","v":{"$error":"#N/A"}}]
[{"$f":"VLOOKUP(B8776,Categorias!$A:$B,2,FALSE)","v":{"$error":"#N/A"}}]
[{"$f":"VLOOKUP(B8777,Categorias!$A:$B,2,FALSE)","v":{"$error":"#N/A"}}]
[{"$f":"VLOOKUP(B8778,Categorias!$A:$B,2,FALSE)","v":{"$error":"#N/A"}}]
[{"$f":"VLOOKUP(B8779,Categorias!$A:$B,2,FALSE)","v":{"$error":"#N/A"}}]
[{"$f":"VLOOKUP(B8780,Categorias!$A:$B,2,FALSE)","v":{"$error":"#N/A"}}]
[{"$f":"VLOOKUP(B8781,Categorias!$A:$B,2,FALSE)","v":{"$error":"#N/A"}}]
[{"$f":"VLOOKUP(B8782,Categorias!$A:$B,2,FALSE)","v":{"$error":"#N/A"}}]
[{"$f":"VLOOKUP(B8783,Categorias!$A:$B,2,FALSE)","v":{"$error":"#N/A"}}]
[{"$f":"VLOOKUP(B8784,Categorias!$A:$B,2,FALSE)","v":{"$error":"#N/A"}}]
[{"$f":"VLOOKUP(B8785,Categorias!$A:$B,2,FALSE)","v":{"$error":"#N/A"}}]
[{"$f":"VLOOKUP(B8786,Categorias!$A:$B,2,FALSE)","v":{"$error":"#N/A"}}]
[{"$f":"VLOOKUP(B8787,Categorias!$A:$B,2,FALSE)","v":{"$error":"#N/A"}}]
[{"$f":"VLOOKUP(B8788,Categorias!$A:$B,2,FALSE)","v":{"$error":"#N/A"}}]
[{"$f":"VLOOKUP(B8789,Categorias!$A:$B,2,FALSE)","v":{"$error":"#N/A"}}]
[{"$f":"VLOOKUP(B8790,Categorias!$A:$B,2,FALSE)","v":{"$error":"#N/A"}}]
[{"$f":"VLOOKUP(B8791,Categorias!$A:$B,2,FALSE)","v":{"$error":"#N/A"}}]
[{"$f":"VLOOKUP(B8792,Categorias!$A:$B,2,FALSE)","v":{"$error":"#N/A"}}]
[{"$f":"VLOOKUP(B8793,Categorias!$A:$B,2,FALSE)","v":{"$error":"#N/A"}}]
[{"$f":"VLOOKUP(B8794,Categorias!$A:$B,2,FALSE)","v":{"$error":"#N/A"}}]
[{"$f":"VLOOKUP(B8795,Categorias!$A:$B,2,FALSE)","v":{"$error":"#N/A"}}]
[{"$f":"VLOOKUP(B8796,Categorias!$A:$B,2,FALSE)","v":{"$error":"#N/A"}}]
[{"$f":"VLOOKUP(B8797,Categorias!$A:$B,2,FALSE)","v":{"$error":"#N/A"}}]
[{"$f":"VLOOKUP(B8798,Categorias!$A:$B,2,FALSE)","v":{"$error":"#N/A"}}]
[{"$f":"VLOOKUP(B8799,Categorias!$A:$B,2,FALSE)","v":{"$error":"#N/A"}}]
[{"$f":"VLOOKUP(B8800,Categorias!$A:$B,2,FALSE)","v":{"$error":"#N/A"}}]
[{"$f":"VLOOKUP(B8801,Categorias!$A:$B,2,FALSE)","v":{"$error":"#N/A"}}]
[{"$f":"VLOOKUP(B8802,Categorias!$A:$B,2,FALSE)","v":{"$error":"#N/A"}}]
[{"$f":"VLOOKUP(B8803,Categorias!$A:$B,2,FALSE)","v":{"$error":"#N/A"}}]
[{"$f":"VLOOKUP(B8804,Categorias!$A:$B,2,FALSE)","v":{"$error":"#N/A"}}]
[{"$f":"VLOOKUP(B8805,Categorias!$A:$B,2,FALSE)","v":{"$error":"#N/A"}}]
[{"$f":"VLOOKUP(B8806,Categorias!$A:$B,2,FALSE)","v":{"$error":"#N/A"}}]
[{"$f":"VLOOKUP(B8807,Categorias!$A:$B,2,FALSE)","v":{"$error":"#N/A"}}]
[{"$f":"VLOOKUP(B8808,Categorias!$A:$B,2,FALSE)","v":{"$error":"#N/A"}}]
[{"$f":"VLOOKUP(B8809,Categorias!$A:$B,2,FALSE)","v":{"$error":"#N/A"}}]
[{"$f":"VLOOKUP(B8810,Categorias!$A:$B,2,FALSE)","v":{"$error":"#N/A"}}]
[{"$f":"VLOOKUP(B8811,Categorias!$A:$B,2,FALSE)","v":{"$error":"#N/A"}}]
[{"$f":"VLOOKUP(B8812,Categorias!$A:$B,2,FALSE)","v":{"$error":"#N/A"}}]
[{"$f":"VLOOKUP(B8813,Categorias!$A:$B,2,FALSE)","v":{"$error":"#N/A"}}]
[{"$f":"VLOOKUP(B8814,Categorias!$A:$B,2,FALSE)","v":{"$error":"#N/A"}}]
[{"$f":"VLOOKUP(B8815,Categorias!$A:$B,2,FALSE)","v":{"$error":"#N/A"}}]
[{"$f":"VLOOKUP(B8816,Categorias!$A:$B,2,FALSE)","v":{"$error":"#N/A"}}]
[{"$f":"VLOOKUP(B8817,Categorias!$A:$B,2,FALSE)","v":{"$error":"#N/A"}}]
[{"$f":"VLOOKUP(B8818,Categorias!$A:$B,2,FALSE)","v":{"$error":"#N/A"}}]
[{"$f":"VLOOKUP(B8819,Categorias!$A:$B,2,FALSE)","v":{"$error":"#N/A"}}]
[{"$f":"VLOOKUP(B8820,Categorias!$A:$B,2,FALSE)","v":{"$error":"#N/A"}}]
[{"$f":"VLOOKUP(B8821,Categorias!$A:$B,2,FALSE)","v":{"$error":"#N/A"}}]
[{"$f":"VLOOKUP(B8822,Categorias!$A:$B,2,FALSE)","v":{"$error":"#N/A"}}]
[{"$f":"VLOOKUP(B8823,Categorias!$A:$B,2,FALSE)","v":{"$error":"#N/A"}}]
[{"$f":"VLOOKUP(B8824,Categorias!$A:$B,2,FALSE)","v":{"$error":"#N/A"}}]
[{"$f":"VLOOKUP(B8825,Categorias!$A:$B,2,FALSE)","v":{"$error":"#N/A"}}]
[{"$f":"VLOOKUP(B8826,Categorias!$A:$B,2,FALSE)","v":{"$error":"#N/A"}}]
[{"$f":"VLOOKUP(B8827,Categorias!$A:$B,2,FALSE)","v":{"$error":"#N/A"}}]
[{"$f":"VLOOKUP(B8828,Categorias!$A:$B,2,FALSE)","v":{"$error":"#N/A"}}]
[{"$f":"VLOOKUP(B8829,Categorias!$A:$B,2,FALSE)","v":{"$error":"#N/A"}}]
[{"$f":"VLOOKUP(B8830,Categorias!$A:$B,2,FALSE)","v":{"$error":"#N/A"}}]
[{"$f":"VLOOKUP(B8831,Categorias!$A:$B,2,FALSE)","v":{"$error":"#N/A"}}]
[{"$f":"VLOOKUP(B8832,Categorias!$A:$B,2,FALSE)","v":{"$error":"#N/A"}}]
[{"$f":"VLOOKUP(B8833,Categorias!$A:$B,2,FALSE)","v":{"$error":"#N/A"}}]
[{"$f":"VLOOKUP(B8834,Categorias!$A:$B,2,FALSE)","v":{"$error":"#N/A"}}]
[{"$f":"VLOOKUP(B8835,Categorias!$A:$B,2,FALSE)","v":{"$error":"#N/A"}}]
[{"$f":"VLOOKUP(B8836,Categorias!$A:$B,2,FALSE)","v":{"$error":"#N/A"}}]
[{"$f":"VLOOKUP(B8837,Categorias!$A:$B,2,FALSE)","v":{"$error":"#N/A"}}]
[{"$f":"VLOOKUP(B8838,Categorias!$A:$B,2,FALSE)","v":{"$error":"#N/A"}}]
[{"$f":"VLOOKUP(B8839,Categorias!$A:$B,2,FALSE)","v":{"$error":"#N/A"}}]
[{"$f":"VLOOKUP(B8840,Categorias!$A:$B,2,FALSE)","v":{"$error":"#N/A"}}]
[{"$f":"VLOOKUP(B8841,Categorias!$A:$B,2,FALSE)","v":{"$error":"#N/A"}}]
[{"$f":"VLOOKUP(B8842,Categorias!$A:$B,2,FALSE)","v":{"$error":"#N/A"}}]
[{"$f":"VLOOKUP(B8843,Categorias!$A:$B,2,FALSE)","v":{"$error":"#N/A"}}]
[{"$f":"VLOOKUP(B8844,Categorias!$A:$B,2,FALSE)","v":{"$error":"#N/A"}}]
[{"$f":"VLOOKUP(B8845,Categorias!$A:$B,2,FALSE)","v":{"$error":"#N/A"}}]
[{"$f":"VLOOKUP(B8846,Categorias!$A:$B,2,FALSE)","v":{"$error":"#N/A"}}]
[{"$f":"VLOOKUP(B8847,Categorias!$A:$B,2,FALSE)","v":{"$error":"#N/A"}}]
[{"$f":"VLOOKUP(B8848,Categorias!$A:$B,2,FALSE)","v":{"$error":"#N/A"}}]
[{"$f":"VLOOKUP(B8849,Categorias!$A:$B,2,FALSE)","v":{"$error":"#N/A"}}]
[{"$f":"VLOOKUP(B8850,Categorias!$A:$B,2,FALSE)","v":{"$error":"#N/A"}}]
[{"$f":"VLOOKUP(B8851,Categorias!$A:$B,2,FALSE)","v":{"$error":"#N/A"}}]
[{"$f":"VLOOKUP(B8852,Categorias!$A:$B,2,FALSE)","v":{"$error":"#N/A"}}]
[{"$f":"VLOOKUP(B8853,Categorias!$A:$B,2,FALSE)","v":{"$error":"#N/A"}}]
[{"$f":"VLOOKUP(B8854,Categorias!$A:$B,2,FALSE)","v":{"$error":"#N/A"}}]
[{"$f":"VLOOKUP(B8855,Categorias!$A:$B,2,FALSE)","v":{"$error":"#N/A"}}]
[{"$f":"VLOOKUP(B8856,Categorias!$A:$B,2,FALSE)","v":{"$error":"#N/A"}}]
[{"$f":"VLOOKUP(B8857,Categorias!$A:$B,2,FALSE)","v":{"$error":"#N/A"}}]
[{"$f":"VLOOKUP(B8858,Categorias!$A:$B,2,FALSE)","v":{"$error":"#N/A"}}]
[{"$f":"VLOOKUP(B8859,Categorias!$A:$B,2,FALSE)","v":{"$error":"#N/A"}}]
[{"$f":"VLOOKUP(B8860,Categorias!$A:$B,2,FALSE)","v":{"$error":"#N/A"}}]
[{"$f":"VLOOKUP(B8861,Categorias!$A:$B,2,FALSE)","v":{"$error":"#N/A"}}]
[{"$f":"VLOOKUP(B8862,Categorias!$A:$B,2,FALSE)","v":{"$error":"#N/A"}}]
[{"$f":"VLOOKUP(B8863,Categorias!$A:$B,2,FALSE)","v":{"$error":"#N/A"}}]
[{"$f":"VLOOKUP(B8864,Categorias!$A:$B,2,FALSE)","v":{"$error":"#N/A"}}]
[{"$f":"VLOOKUP(B8865,Categorias!$A:$B,2,FALSE)","v":{"$error":"#N/A"}}]
[{"$f":"VLOOKUP(B8866,Categorias!$A:$B,2,FALSE)","v":{"$error":"#N/A"}}]
[{"$f":"VLOOKUP(B8867,Categorias!$A:$B,2,FALSE)","v":{"$error":"#N/A"}}]
[{"$f":"VLOOKUP(B8868,Categorias!$A:$B,2,FALSE)","v":{"$error":"#N/A"}}]
[{"$f":"VLOOKUP(B8869,Categorias!$A:$B,2,FALSE)","v":{"$error":"#N/A"}}]
[{"$f":"VLOOKUP(B8870,Categorias!$A:$B,2,FALSE)","v":{"$error":"#N/A"}}]
[{"$f":"VLOOKUP(B8871,Categorias!$A:$B,2,FALSE)","v":{"$error":"#N/A"}}]
[{"$f":"VLOOKUP(B8872,Categorias!$A:$B,2,FALSE)","v":{"$error":"#N/A"}}]
[{"$f":"VLOOKUP(B8873,Categorias!$A:$B,2,FALSE)","v":{"$error":"#N/A"}}]
[{"$f":"VLOOKUP(B8874,Categorias!$A:$B,2,FALSE)","v":{"$error":"#N/A"}}]
[{"$f":"VLOOKUP(B8875,Categorias!$A:$B,2,FALSE)","v":{"$error":"#N/A"}}]
[{"$f":"VLOOKUP(B8876,Categorias!$A:$B,2,FALSE)","v":{"$error":"#N/A"}}]
[{"$f":"VLOOKUP(B8877,Categorias!$A:$B,2,FALSE)","v":{"$error":"#N/A"}}]
[{"$f":"VLOOKUP(B8878,Categorias!$A:$B,2,FALSE)","v":{"$error":"#N/A"}}]
[{"$f":"VLOOKUP(B8879,Categorias!$A:$B,2,FALSE)","v":{"$error":"#N/A"}}]
[{"$f":"VLOOKUP(B8880,Categorias!$A:$B,2,FALSE)","v":{"$error":"#N/A"}}]
[{"$f":"VLOOKUP(B8881,Categorias!$A:$B,2,FALSE)","v":{"$error":"#N/A"}}]
[{"$f":"VLOOKUP(B8882,Categorias!$A:$B,2,FALSE)","v":{"$error":"#N/A"}}]
[{"$f":"VLOOKUP(B8883,Categorias!$A:$B,2,FALSE)","v":{"$error":"#N/A"}}]
[{"$f":"VLOOKUP(B8884,Categorias!$A:$B,2,FALSE)","v":{"$error":"#N/A"}}]
[{"$f":"VLOOKUP(B8885,Categorias!$A:$B,2,FALSE)","v":{"$error":"#N/A"}}]
[{"$f":"VLOOKUP(B8886,Categorias!$A:$B,2,FALSE)","v":{"$error":"#N/A"}}]
[{"$f":"VLOOKUP(B8887,Categorias!$A:$B,2,FALSE)","v":{"$error":"#N/A"}}]
[{"$f":"VLOOKUP(B8888,Categorias!$A:$B,2,FALSE)","v":{"$error":"#N/A"}}]
[{"$f":"VLOOKUP(B8889,Categorias!$A:$B,2,FALSE)","v":{"$error":"#N/A"}}]
[{"$f":"VLOOKUP(B8890,Categorias!$A:$B,2,FALSE)","v":{"$error":"#N/A"}}]
[{"$f":"VLOOKUP(B8891,Categorias!$A:$B,2,FALSE)","v":{"$error":"#N/A"}}]
[{"$f":"VLOOKUP(B8892,Categorias!$A:$B,2,FALSE)","v":{"$error":"#N/A"}}]
[{"$f":"VLOOKUP(B8893,Categorias!$A:$B,2,FALSE)","v":{"$error":"#N/A"}}]
[{"$f":"VLOOKUP(B8894,Categorias!$A:$B,2,FALSE)","v":{"$error":"#N/A"}}]
[{"$f":"VLOOKUP(B8895,Categorias!$A:$B,2,FALSE)","v":{"$error":"#N/A"}}]
[{"$f":"VLOOKUP(B8896,Categorias!$A:$B,2,FALSE)","v":{"$error":"#N/A"}}]
[{"$f":"VLOOKUP(B8897,Categorias!$A:$B,2,FALSE)","v":{"$error":"#N/A"}}]
[{"$f":"VLOOKUP(B8898,Categorias!$A:$B,2,FALSE)","v":{"$error":"#N/A"}}]
[{"$f":"VLOOKUP(B8899,Categorias!$A:$B,2,FALSE)","v":{"$error":"#N/A"}}]
[{"$f":"VLOOKUP(B8900,Categorias!$A:$B,2,FALSE)","v":{"$error":"#N/A"}}]
[{"$f":"VLOOKUP(B8901,Categorias!$A:$B,2,FALSE)","v":{"$error":"#N/A"}}]
[{"$f":"VLOOKUP(B8902,Categorias!$A:$B,2,FALSE)","v":{"$error":"#N/A"}}]
[{"$f":"VLOOKUP(B8903,Categorias!$A:$B,2,FALSE)","v":{"$error":"#N/A"}}]
[{"$f":"VLOOKUP(B8904,Categorias!$A:$B,2,FALSE)","v":{"$error":"#N/A"}}]
[{"$f":"VLOOKUP(B8905,Categorias!$A:$B,2,FALSE)","v":{"$error":"#N/A"}}]
[{"$f":"VLOOKUP(B8906,Categorias!$A:$B,2,FALSE)","v":{"$error":"#N/A"}}]
[{"$f":"VLOOKUP(B8907,Categorias!$A:$B,2,FALSE)","v":{"$error":"#N/A"}}]
[{"$f":"VLOOKUP(B8908,Categorias!$A:$B,2,FALSE)","v":{"$error":"#N/A"}}]
[{"$f":"VLOOKUP(B8909,Categorias!$A:$B,2,FALSE)","v":{"$error":"#N/A"}}]
[{"$f":"VLOOKUP(B8910,Categorias!$A:$B,2,FALSE)","v":{"$error":"#N/A"}}]
[{"$f":"VLOOKUP(B8911,Categorias!$A:$B,2,FALSE)","v":{"$error":"#N/A"}}]
[{"$f":"VLOOKUP(B8912,Categorias!$A:$B,2,FALSE)","v":{"$error":"#N/A"}}]
[{"$f":"VLOOKUP(B8913,Categorias!$A:$B,2,FALSE)","v":{"$error":"#N/A"}}]
[{"$f":"VLOOKUP(B8914,Categorias!$A:$B,2,FALSE)","v":{"$error":"#N/A"}}]
[{"$f":"VLOOKUP(B8915,Categorias!$A:$B,2,FALSE)","v":{"$error":"#N/A"}}]
[{"$f":"VLOOKUP(B8916,Categorias!$A:$B,2,FALSE)","v":{"$error":"#N/A"}}]
[{"$f":"VLOOKUP(B8917,Categorias!$A:$B,2,FALSE)","v":{"$error":"#N/A"}}]
[{"$f":"VLOOKUP(B8918,Categorias!$A:$B,2,FALSE)","v":{"$error":"#N/A"}}]
[{"$f":"VLOOKUP(B8919,Categorias!$A:$B,2,FALSE)","v":{"$error":"#N/A"}}]
[{"$f":"VLOOKUP(B8920,Categorias!$A:$B,2,FALSE)","v":{"$error":"#N/A"}}]
[{"$f":"VLOOKUP(B8921,Categorias!$A:$B,2,FALSE)","v":{"$error":"#N/A"}}]
[{"$f":"VLOOKUP(B8922,Categorias!$A:$B,2,FALSE)","v":{"$error":"#N/A"}}]
[{"$f":"VLOOKUP(B8923,Categorias!$A:$B,2,FALSE)","v":{"$error":"#N/A"}}]
[{"$f":"VLOOKUP(B8924,Categorias!$A:$B,2,FALSE)","v":{"$error":"#N/A"}}]
[{"$f":"VLOOKUP(B8925,Categorias!$A:$B,2,FALSE)","v":{"$error":"#N/A"}}]
[{"$f":"VLOOKUP(B8926,Categorias!$A:$B,2,FALSE)","v":{"$error":"#N/A"}}]
[{"$f":"VLOOKUP(B8927,Categorias!$A:$B,2,FALSE)","v":{"$error":"#N/A"}}]
[{"$f":"VLOOKUP(B8928,Categorias!$A:$B,2,FALSE)","v":{"$error":"#N/A"}}]
[{"$f":"VLOOKUP(B8929,Categorias!$A:$B,2,FALSE)","v":{"$error":"#N/A"}}]
[{"$f":"VLOOKUP(B8930,Categorias!$A:$B,2,FALSE)","v":{"$error":"#N/A"}}]
[{"$f":"VLOOKUP(B8931,Categorias!$A:$B,2,FALSE)","v":{"$error":"#N/A"}}]
[{"$f":"VLOOKUP(B8932,Categorias!$A:$B,2,FALSE)","v":{"$error":"#N/A"}}]
[{"$f":"VLOOKUP(B8933,Categorias!$A:$B,2,FALSE)","v":{"$error":"#N/A"}}]
[{"$f":"VLOOKUP(B8934,Categorias!$A:$B,2,FALSE)","v":{"$error":"#N/A"}}]
[{"$f":"VLOOKUP(B8935,Categorias!$A:$B,2,FALSE)","v":{"$error":"#N/A"}}]
[{"$f":"VLOOKUP(B8936,Categorias!$A:$B,2,FALSE)","v":{"$error":"#N/A"}}]
[{"$f":"VLOOKUP(B8937,Categorias!$A:$B,2,FALSE)","v":{"$error":"#N/A"}}]
[{"$f":"VLOOKUP(B8938,Categorias!$A:$B,2,FALSE)","v":{"$error":"#N/A"}}]
[{"$f":"VLOOKUP(B8939,Categorias!$A:$B,2,FALSE)","v":{"$error":"#N/A"}}]
[{"$f":"VLOOKUP(B8940,Categorias!$A:$B,2,FALSE)","v":{"$error":"#N/A"}}]
[{"$f":"VLOOKUP(B8941,Categorias!$A:$B,2,FALSE)","v":{"$error":"#N/A"}}]
[{"$f":"VLOOKUP(B8942,Categorias!$A:$B,2,FALSE)","v":{"$error":"#N/A"}}]
[{"$f":"VLOOKUP(B8943,Categorias!$A:$B,2,FALSE)","v":{"$error":"#N/A"}}]
[{"$f":"VLOOKUP(B8944,Categorias!$A:$B,2,FALSE)","v":{"$error":"#N/A"}}]
[{"$f":"VLOOKUP(B8945,Categorias!$A:$B,2,FALSE)","v":{"$error":"#N/A"}}]
[{"$f":"VLOOKUP(B8946,Categorias!$A:$B,2,FALSE)","v":{"$error":"#N/A"}}]
[{"$f":"VLOOKUP(B8947,Categorias!$A:$B,2,FALSE)","v":{"$error":"#N/A"}}]
[{"$f":"VLOOKUP(B8948,Categorias!$A:$B,2,FALSE)","v":{"$error":"#N/A"}}]
[{"$f":"VLOOKUP(B8949,Categorias!$A:$B,2,FALSE)","v":{"$error":"#N/A"}}]
[{"$f":"VLOOKUP(B8950,Categorias!$A:$B,2,FALSE)","v":{"$error":"#N/A"}}]
[{"$f":"VLOOKUP(B8951,Categorias!$A:$B,2,FALSE)","v":{"$error":"#N/A"}}]
[{"$f":"VLOOKUP(B8952,Categorias!$A:$B,2,FALSE)","v":{"$error":"#N/A"}}]
[{"$f":"VLOOKUP(B8953,Categorias!$A:$B,2,FALSE)","v":{"$error":"#N/A"}}]
[{"$f":"VLOOKUP(B8954,Categorias!$A:$B,2,FALSE)","v":{"$error":"#N/A"}}]
[{"$f":"VLOOKUP(B8955,Categorias!$A:$B,2,FALSE)","v":{"$error":"#N/A"}}]
[{"$f":"VLOOKUP(B8956,Categorias!$A:$B,2,FALSE)","v":{"$error":"#N/A"}}]
[{"$f":"VLOOKUP(B8957,Categorias!$A:$B,2,FALSE)","v":{"$error":"#N/A"}}]
[{"$f":"VLOOKUP(B8958,Categorias!$A:$B,2,FALSE)","v":{"$error":"#N/A"}}]
[{"$f":"VLOOKUP(B8959,Categorias!$A:$B,2,FALSE)","v":{"$error":"#N/A"}}]
[{"$f":"VLOOKUP(B8960,Categorias!$A:$B,2,FALSE)","v":{"$error":"#N/A"}}]
[{"$f":"VLOOKUP(B8961,Categorias!$A:$B,2,FALSE)","v":{"$error":"#N/A"}}]
[{"$f":"VLOOKUP(B8962,Categorias!$A:$B,2,FALSE)","v":{"$error":"#N/A"}}]
[{"$f":"VLOOKUP(B8963,Categorias!$A:$B,2,FALSE)","v":{"$error":"#N/A"}}]
[{"$f":"VLOOKUP(B8964,Categorias!$A:$B,2,FALSE)","v":{"$error":"#N/A"}}]
[{"$f":"VLOOKUP(B8965,Categorias!$A:$B,2,FALSE)","v":{"$error":"#N/A"}}]
[{"$f":"VLOOKUP(B8966,Categorias!$A:$B,2,FALSE)","v":{"$error":"#N/A"}}]
[{"$f":"VLOOKUP(B8967,Categorias!$A:$B,2,FALSE)","v":{"$error":"#N/A"}}]
[{"$f":"VLOOKUP(B8968,Categorias!$A:$B,2,FALSE)","v":{"$error":"#N/A"}}]
[{"$f":"VLOOKUP(B8969,Categorias!$A:$B,2,FALSE)","v":{"$error":"#N/A"}}]
[{"$f":"VLOOKUP(B8970,Categorias!$A:$B,2,FALSE)","v":{"$error":"#N/A"}}]
[{"$f":"VLOOKUP(B8971,Categorias!$A:$B,2,FALSE)","v":{"$error":"#N/A"}}]
[{"$f":"VLOOKUP(B8972,Categorias!$A:$B,2,FALSE)","v":{"$error":"#N/A"}}]
[{"$f":"VLOOKUP(B8973,Categorias!$A:$B,2,FALSE)","v":{"$error":"#N/A"}}]
[{"$f":"VLOOKUP(B8974,Categorias!$A:$B,2,FALSE)","v":{"$error":"#N/A"}}]
[{"$f":"VLOOKUP(B8975,Categorias!$A:$B,2,FALSE)","v":{"$error":"#N/A"}}]
[{"$f":"VLOOKUP(B8976,Categorias!$A:$B,2,FALSE)","v":{"$error":"#N/A"}}]
[{"$f":"VLOOKUP(B8977,Categorias!$A:$B,2,FALSE)","v":{"$error":"#N/A"}}]
[{"$f":"VLOOKUP(B8978,Categorias!$A:$B,2,FALSE)","v":{"$error":"#N/A"}}]
[{"$f":"VLOOKUP(B8979,Categorias!$A:$B,2,FALSE)","v":{"$error":"#N/A"}}]
[{"$f":"VLOOKUP(B8980,Categorias!$A:$B,2,FALSE)","v":{"$error":"#N/A"}}]
[{"$f":"VLOOKUP(B8981,Categorias!$A:$B,2,FALSE)","v":{"$error":"#N/A"}}]
[{"$f":"VLOOKUP(B8982,Categorias!$A:$B,2,FALSE)","v":{"$error":"#N/A"}}]
[{"$f":"VLOOKUP(B8983,Categorias!$A:$B,2,FALSE)","v":{"$error":"#N/A"}}]
[{"$f":"VLOOKUP(B8984,Categorias!$A:$B,2,FALSE)","v":{"$error":"#N/A"}}]
[{"$f":"VLOOKUP(B8985,Categorias!$A:$B,2,FALSE)","v":{"$error":"#N/A"}}]
[{"$f":"VLOOKUP(B8986,Categorias!$A:$B,2,FALSE)","v":{"$error":"#N/A"}}]
[{"$f":"VLOOKUP(B8987,Categorias!$A:$B,2,FALSE)","v":{"$error":"#N/A"}}]
[{"$f":"VLOOKUP(B8988,Categorias!$A:$B,2,FALSE)","v":{"$error":"#N/A"}}]
[{"$f":"VLOOKUP(B8989,Categorias!$A:$B,2,FALSE)","v":{"$error":"#N/A"}}]
[{"$f":"VLOOKUP(B8990,Categorias!$A:$B,2,FALSE)","v":{"$error":"#N/A"}}]
[{"$f":"VLOOKUP(B8991,Categorias!$A:$B,2,FALSE)","v":{"$error":"#N/A"}}]
[{"$f":"VLOOKUP(B8992,Categorias!$A:$B,2,FALSE)","v":{"$error":"#N/A"}}]
[{"$f":"VLOOKUP(B8993,Categorias!$A:$B,2,FALSE)","v":{"$error":"#N/A"}}]
[{"$f":"VLOOKUP(B8994,Categorias!$A:$B,2,FALSE)","v":{"$error":"#N/A"}}]
[{"$f":"VLOOKUP(B8995,Categorias!$A:$B,2,FALSE)","v":{"$error":"#N/A"}}]
[{"$f":"VLOOKUP(B8996,Categorias!$A:$B,2,FALSE)","v":{"$error":"#N/A"}}]
[{"$f":"VLOOKUP(B8997,Categorias!$A:$B,2,FALSE)","v":{"$error":"#N/A"}}]
[{"$f":"VLOOKUP(B8998,Categorias!$A:$B,2,FALSE)","v":{"$error":"#N/A"}}]
[{"$f":"VLOOKUP(B8999,Categorias!$A:$B,2,FALSE)","v":{"$error":"#N/A"}}]
[{"$f":"VLOOKUP(B9000,Categorias!$A:$B,2,FALSE)","v":{"$error":"#N/A"}}]
[{"$f":"VLOOKUP(B9001,Categorias!$A:$B,2,FALSE)","v":{"$error":"#N/A"}}]
[{"$f":"VLOOKUP(B9002,Categorias!$A:$B,2,FALSE)","v":{"$error":"#N/A"}}]
[{"$f":"VLOOKUP(B9003,Categorias!$A:$B,2,FALSE)","v":{"$error":"#N/A"}}]
[{"$f":"VLOOKUP(B9004,Categorias!$A:$B,2,FALSE)","v":{"$error":"#N/A"}}]
[{"$f":"VLOOKUP(B9005,Categorias!$A:$B,2,FALSE)","v":{"$error":"#N/A"}}]
[{"$f":"VLOOKUP(B9006,Categorias!$A:$B,2,FALSE)","v":{"$error":"#N/A"}}]
[{"$f":"VLOOKUP(B9007,Categorias!$A:$B,2,FALSE)","v":{"$error":"#N/A"}}]
[{"$f":"VLOOKUP(B9008,Categorias!$A:$B,2,FALSE)","v":{"$error":"#N/A"}}]
[{"$f":"VLOOKUP(B9009,Categorias!$A:$B,2,FALSE)","v":{"$error":"#N/A"}}]
[{"$f":"VLOOKUP(B9010,Categorias!$A:$B,2,FALSE)","v":{"$error":"#N/A"}}]
[{"$f":"VLOOKUP(B9011,Categorias!$A:$B,2,FALSE)","v":{"$error":"#N/A"}}]
[{"$f":"VLOOKUP(B9012,Categorias!$A:$B,2,FALSE)","v":{"$error":"#N/A"}}]
[{"$f":"VLOOKUP(B9013,Categorias!$A:$B,2,FALSE)","v":{"$error":"#N/A"}}]
[{"$f":"VLOOKUP(B9014,Categorias!$A:$B,2,FALSE)","v":{"$error":"#N/A"}}]
[{"$f":"VLOOKUP(B9015,Categorias!$A:$B,2,FALSE)","v":{"$error":"#N/A"}}]
[{"$f":"VLOOKUP(B9016,Categorias!$A:$B,2,FALSE)","v":{"$error":"#N/A"}}]
[{"$f":"VLOOKUP(B9017,Categorias!$A:$B,2,FALSE)","v":{"$error":"#N/A"}}]
[{"$f":"VLOOKUP(B9018,Categorias!$A:$B,2,FALSE)","v":{"$error":"#N/A"}}]
[{"$f":"VLOOKUP(B9019,Categorias!$A:$B,2,FALSE)","v":{"$error":"#N/A"}}]
[{"$f":"VLOOKUP(B9020,Categorias!$A:$B,2,FALSE)","v":{"$error":"#N/A"}}]
[{"$f":"VLOOKUP(B9021,Categorias!$A:$B,2,FALSE)","v":{"$error":"#N/A"}}]
[{"$f":"VLOOKUP(B9022,Categorias!$A:$B,2,FALSE)","v":{"$error":"#N/A"}}]
[{"$f":"VLOOKUP(B9023,Categorias!$A:$B,2,FALSE)","v":{"$error":"#N/A"}}]
[{"$f":"VLOOKUP(B9024,Categorias!$A:$B,2,FALSE)","v":{"$error":"#N/A"}}]
[{"$f":"VLOOKUP(B9025,Categorias!$A:$B,2,FALSE)","v":{"$error":"#N/A"}}]
[{"$f":"VLOOKUP(B9026,Categorias!$A:$B,2,FALSE)","v":{"$error":"#N/A"}}]
[{"$f":"VLOOKUP(B9027,Categorias!$A:$B,2,FALSE)","v":{"$error":"#N/A"}}]
[{"$f":"VLOOKUP(B9028,Categorias!$A:$B,2,FALSE)","v":{"$error":"#N/A"}}]
[{"$f":"VLOOKUP(B9029,Categorias!$A:$B,2,FALSE)","v":{"$error":"#N/A"}}]
[{"$f":"VLOOKUP(B9030,Categorias!$A:$B,2,FALSE)","v":{"$error":"#N/A"}}]
[{"$f":"VLOOKUP(B9031,Categorias!$A:$B,2,FALSE)","v":{"$error":"#N/A"}}]
[{"$f":"VLOOKUP(B9032,Categorias!$A:$B,2,FALSE)","v":{"$error":"#N/A"}}]
[{"$f":"VLOOKUP(B9033,Categorias!$A:$B,2,FALSE)","v":{"$error":"#N/A"}}]
[{"$f":"VLOOKUP(B9034,Categorias!$A:$B,2,FALSE)","v":{"$error":"#N/A"}}]
[{"$f":"VLOOKUP(B9035,Categorias!$A:$B,2,FALSE)","v":{"$error":"#N/A"}}]
[{"$f":"VLOOKUP(B9036,Categorias!$A:$B,2,FALSE)","v":{"$error":"#N/A"}}]
[{"$f":"VLOOKUP(B9037,Categorias!$A:$B,2,FALSE)","v":{"$error":"#N/A"}}]
[{"$f":"VLOOKUP(B9038,Categorias!$A:$B,2,FALSE)","v":{"$error":"#N/A"}}]
[{"$f":"VLOOKUP(B9039,Categorias!$A:$B,2,FALSE)","v":{"$error":"#N/A"}}]
[{"$f":"VLOOKUP(B9040,Categorias!$A:$B,2,FALSE)","v":{"$error":"#N/A"}}]
[{"$f":"VLOOKUP(B9041,Categorias!$A:$B,2,FALSE)","v":{"$error":"#N/A"}}]
[{"$f":"VLOOKUP(B9042,Categorias!$A:$B,2,FALSE)","v":{"$error":"#N/A"}}]
[{"$f":"VLOOKUP(B9043,Categorias!$A:$B,2,FALSE)","v":{"$error":"#N/A"}}]
[{"$f":"VLOOKUP(B9044,Categorias!$A:$B,2,FALSE)","v":{"$error":"#N/A"}}]
[{"$f":"VLOOKUP(B9045,Categorias!$A:$B,2,FALSE)","v":{"$error":"#N/A"}}]
[{"$f":"VLOOKUP(B9046,Categorias!$A:$B,2,FALSE)","v":{"$error":"#N/A"}}]
[{"$f":"VLOOKUP(B9047,Categorias!$A:$B,2,FALSE)","v":{"$error":"#N/A"}}]
[{"$f":"VLOOKUP(B9048,Categorias!$A:$B,2,FALSE)","v":{"$error":"#N/A"}}]
[{"$f":"VLOOKUP(B9049,Categorias!$A:$B,2,FALSE)","v":{"$error":"#N/A"}}]
[{"$f":"VLOOKUP(B9050,Categorias!$A:$B,2,FALSE)","v":{"$error":"#N/A"}}]
[{"$f":"VLOOKUP(B9051,Categorias!$A:$B,2,FALSE)","v":{"$error":"#N/A"}}]
[{"$f":"VLOOKUP(B9052,Categorias!$A:$B,2,FALSE)","v":{"$error":"#N/A"}}]
[{"$f":"VLOOKUP(B9053,Categorias!$A:$B,2,FALSE)","v":{"$error":"#N/A"}}]
[{"$f":"VLOOKUP(B9054,Categorias!$A:$B,2,FALSE)","v":{"$error":"#N/A"}}]
[{"$f":"VLOOKUP(B9055,Categorias!$A:$B,2,FALSE)","v":{"$error":"#N/A"}}]
[{"$f":"VLOOKUP(B9056,Categorias!$A:$B,2,FALSE)","v":{"$error":"#N/A"}}]
[{"$f":"VLOOKUP(B9057,Categorias!$A:$B,2,FALSE)","v":{"$error":"#N/A"}}]
[{"$f":"VLOOKUP(B9058,Categorias!$A:$B,2,FALSE)","v":{"$error":"#N/A"}}]
[{"$f":"VLOOKUP(B9059,Categorias!$A:$B,2,FALSE)","v":{"$error":"#N/A"}}]
[{"$f":"VLOOKUP(B9060,Categorias!$A:$B,2,FALSE)","v":{"$error":"#N/A"}}]
[{"$f":"VLOOKUP(B9061,Categorias!$A:$B,2,FALSE)","v":{"$error":"#N/A"}}]
[{"$f":"VLOOKUP(B9062,Categorias!$A:$B,2,FALSE)","v":{"$error":"#N/A"}}]
[{"$f":"VLOOKUP(B9063,Categorias!$A:$B,2,FALSE)","v":{"$error":"#N/A"}}]
[{"$f":"VLOOKUP(B9064,Categorias!$A:$B,2,FALSE)","v":{"$error":"#N/A"}}]
[{"$f":"VLOOKUP(B9065,Categorias!$A:$B,2,FALSE)","v":{"$error":"#N/A"}}]
[{"$f":"VLOOKUP(B9066,Categorias!$A:$B,2,FALSE)","v":{"$error":"#N/A"}}]
[{"$f":"VLOOKUP(B9067,Categorias!$A:$B,2,FALSE)","v":{"$error":"#N/A"}}]
[{"$f":"VLOOKUP(B9068,Categorias!$A:$B,2,FALSE)","v":{"$error":"#N/A"}}]
[{"$f":"VLOOKUP(B9069,Categorias!$A:$B,2,FALSE)","v":{"$error":"#N/A"}}]
[{"$f":"VLOOKUP(B9070,Categorias!$A:$B,2,FALSE)","v":{"$error":"#N/A"}}]
[{"$f":"VLOOKUP(B9071,Categorias!$A:$B,2,FALSE)","v":{"$error":"#N/A"}}]
[{"$f":"VLOOKUP(B9072,Categorias!$A:$B,2,FALSE)","v":{"$error":"#N/A"}}]
[{"$f":"VLOOKUP(B9073,Categorias!$A:$B,2,FALSE)","v":{"$error":"#N/A"}}]
[{"$f":"VLOOKUP(B9074,Categorias!$A:$B,2,FALSE)","v":{"$error":"#N/A"}}]
[{"$f":"VLOOKUP(B9075,Categorias!$A:$B,2,FALSE)","v":{"$error":"#N/A"}}]
[{"$f":"VLOOKUP(B9076,Categorias!$A:$B,2,FALSE)","v":{"$error":"#N/A"}}]
[{"$f":"VLOOKUP(B9077,Categorias!$A:$B,2,FALSE)","v":{"$error":"#N/A"}}]
[{"$f":"VLOOKUP(B9078,Categorias!$A:$B,2,FALSE)","v":{"$error":"#N/A"}}]
[{"$f":"VLOOKUP(B9079,Categorias!$A:$B,2,FALSE)","v":{"$error":"#N/A"}}]
[{"$f":"VLOOKUP(B9080,Categorias!$A:$B,2,FALSE)","v":{"$error":"#N/A"}}]
[{"$f":"VLOOKUP(B9081,Categorias!$A:$B,2,FALSE)","v":{"$error":"#N/A"}}]
[{"$f":"VLOOKUP(B9082,Categorias!$A:$B,2,FALSE)","v":{"$error":"#N/A"}}]
[{"$f":"VLOOKUP(B9083,Categorias!$A:$B,2,FALSE)","v":{"$error":"#N/A"}}]
[{"$f":"VLOOKUP(B9084,Categorias!$A:$B,2,FALSE)","v":{"$error":"#N/A"}}]
[{"$f":"VLOOKUP(B9085,Categorias!$A:$B,2,FALSE)","v":{"$error":"#N/A"}}]
[{"$f":"VLOOKUP(B9086,Categorias!$A:$B,2,FALSE)","v":{"$error":"#N/A"}}]
[{"$f":"VLOOKUP(B9087,Categorias!$A:$B,2,FALSE)","v":{"$error":"#N/A"}}]
[{"$f":"VLOOKUP(B9088,Categorias!$A:$B,2,FALSE)","v":{"$error":"#N/A"}}]
[{"$f":"VLOOKUP(B9089,Categorias!$A:$B,2,FALSE)","v":{"$error":"#N/A"}}]
[{"$f":"VLOOKUP(B9090,Categorias!$A:$B,2,FALSE)","v":{"$error":"#N/A"}}]
[{"$f":"VLOOKUP(B9091,Categorias!$A:$B,2,FALSE)","v":{"$error":"#N/A"}}]
[{"$f":"VLOOKUP(B9092,Categorias!$A:$B,2,FALSE)","v":{"$error":"#N/A"}}]
[{"$f":"VLOOKUP(B9093,Categorias!$A:$B,2,FALSE)","v":{"$error":"#N/A"}}]
[{"$f":"VLOOKUP(B9094,Categorias!$A:$B,2,FALSE)","v":{"$error":"#N/A"}}]
[{"$f":"VLOOKUP(B9095,Categorias!$A:$B,2,FALSE)","v":{"$error":"#N/A"}}]
[{"$f":"VLOOKUP(B9096,Categorias!$A:$B,2,FALSE)","v":{"$error":"#N/A"}}]
[{"$f":"VLOOKUP(B9097,Categorias!$A:$B,2,FALSE)","v":{"$error":"#N/A"}}]
[{"$f":"VLOOKUP(B9098,Categorias!$A:$B,2,FALSE)","v":{"$error":"#N/A"}}]
[{"$f":"VLOOKUP(B9099,Categorias!$A:$B,2,FALSE)","v":{"$error":"#N/A"}}]
[{"$f":"VLOOKUP(B9100,Categorias!$A:$B,2,FALSE)","v":{"$error":"#N/A"}}]
[{"$f":"VLOOKUP(B9101,Categorias!$A:$B,2,FALSE)","v":{"$error":"#N/A"}}]
[{"$f":"VLOOKUP(B9102,Categorias!$A:$B,2,FALSE)","v":{"$error":"#N/A"}}]
[{"$f":"VLOOKUP(B9103,Categorias!$A:$B,2,FALSE)","v":{"$error":"#N/A"}}]
[{"$f":"VLOOKUP(B9104,Categorias!$A:$B,2,FALSE)","v":{"$error":"#N/A"}}]
[{"$f":"VLOOKUP(B9105,Categorias!$A:$B,2,FALSE)","v":{"$error":"#N/A"}}]
[{"$f":"VLOOKUP(B9106,Categorias!$A:$B,2,FALSE)","v":{"$error":"#N/A"}}]
[{"$f":"VLOOKUP(B9107,Categorias!$A:$B,2,FALSE)","v":{"$error":"#N/A"}}]
[{"$f":"VLOOKUP(B9108,Categorias!$A:$B,2,FALSE)","v":{"$error":"#N/A"}}]
[{"$f":"VLOOKUP(B9109,Categorias!$A:$B,2,FALSE)","v":{"$error":"#N/A"}}]
[{"$f":"VLOOKUP(B9110,Categorias!$A:$B,2,FALSE)","v":{"$error":"#N/A"}}]
[{"$f":"VLOOKUP(B9111,Categorias!$A:$B,2,FALSE)","v":{"$error":"#N/A"}}]
[{"$f":"VLOOKUP(B9112,Categorias!$A:$B,2,FALSE)","v":{"$error":"#N/A"}}]
[{"$f":"VLOOKUP(B9113,Categorias!$A:$B,2,FALSE)","v":{"$error":"#N/A"}}]
[{"$f":"VLOOKUP(B9114,Categorias!$A:$B,2,FALSE)","v":{"$error":"#N/A"}}]
[{"$f":"VLOOKUP(B9115,Categorias!$A:$B,2,FALSE)","v":{"$error":"#N/A"}}]
[{"$f":"VLOOKUP(B9116,Categorias!$A:$B,2,FALSE)","v":{"$error":"#N/A"}}]
[{"$f":"VLOOKUP(B9117,Categorias!$A:$B,2,FALSE)","v":{"$error":"#N/A"}}]
[{"$f":"VLOOKUP(B9118,Categorias!$A:$B,2,FALSE)","v":{"$error":"#N/A"}}]
[{"$f":"VLOOKUP(B9119,Categorias!$A:$B,2,FALSE)","v":{"$error":"#N/A"}}]
[{"$f":"VLOOKUP(B9120,Categorias!$A:$B,2,FALSE)","v":{"$error":"#N/A"}}]
[{"$f":"VLOOKUP(B9121,Categorias!$A:$B,2,FALSE)","v":{"$error":"#N/A"}}]
[{"$f":"VLOOKUP(B9122,Categorias!$A:$B,2,FALSE)","v":{"$error":"#N/A"}}]
[{"$f":"VLOOKUP(B9123,Categorias!$A:$B,2,FALSE)","v":{"$error":"#N/A"}}]
[{"$f":"VLOOKUP(B9124,Categorias!$A:$B,2,FALSE)","v":{"$error":"#N/A"}}]
[{"$f":"VLOOKUP(B9125,Categorias!$A:$B,2,FALSE)","v":{"$error":"#N/A"}}]
[{"$f":"VLOOKUP(B9126,Categorias!$A:$B,2,FALSE)","v":{"$error":"#N/A"}}]
[{"$f":"VLOOKUP(B9127,Categorias!$A:$B,2,FALSE)","v":{"$error":"#N/A"}}]
[{"$f":"VLOOKUP(B9128,Categorias!$A:$B,2,FALSE)","v":{"$error":"#N/A"}}]
[{"$f":"VLOOKUP(B9129,Categorias!$A:$B,2,FALSE)","v":{"$error":"#N/A"}}]
[{"$f":"VLOOKUP(B9130,Categorias!$A:$B,2,FALSE)","v":{"$error":"#N/A"}}]
[{"$f":"VLOOKUP(B9131,Categorias!$A:$B,2,FALSE)","v":{"$error":"#N/A"}}]
[{"$f":"VLOOKUP(B9132,Categorias!$A:$B,2,FALSE)","v":{"$error":"#N/A"}}]
[{"$f":"VLOOKUP(B9133,Categorias!$A:$B,2,FALSE)","v":{"$error":"#N/A"}}]
[{"$f":"VLOOKUP(B9134,Categorias!$A:$B,2,FALSE)","v":{"$error":"#N/A"}}]
[{"$f":"VLOOKUP(B9135,Categorias!$A:$B,2,FALSE)","v":{"$error":"#N/A"}}]
[{"$f":"VLOOKUP(B9136,Categorias!$A:$B,2,FALSE)","v":{"$error":"#N/A"}}]
[{"$f":"VLOOKUP(B9137,Categorias!$A:$B,2,FALSE)","v":{"$error":"#N/A"}}]
[{"$f":"VLOOKUP(B9138,Categorias!$A:$B,2,FALSE)","v":{"$error":"#N/A"}}]
[{"$f":"VLOOKUP(B9139,Categorias!$A:$B,2,FALSE)","v":{"$error":"#N/A"}}]
[{"$f":"VLOOKUP(B9140,Categorias!$A:$B,2,FALSE)","v":{"$error":"#N/A"}}]
[{"$f":"VLOOKUP(B9141,Categorias!$A:$B,2,FALSE)","v":{"$error":"#N/A"}}]
[{"$f":"VLOOKUP(B9142,Categorias!$A:$B,2,FALSE)","v":{"$error":"#N/A"}}]
[{"$f":"VLOOKUP(B9143,Categorias!$A:$B,2,FALSE)","v":{"$error":"#N/A"}}]
[{"$f":"VLOOKUP(B9144,Categorias!$A:$B,2,FALSE)","v":{"$error":"#N/A"}}]
[{"$f":"VLOOKUP(B9145,Categorias!$A:$B,2,FALSE)","v":{"$error":"#N/A"}}]
[{"$f":"VLOOKUP(B9146,Categorias!$A:$B,2,FALSE)","v":{"$error":"#N/A"}}]
[{"$f":"VLOOKUP(B9147,Categorias!$A:$B,2,FALSE)","v":{"$error":"#N/A"}}]
[{"$f":"VLOOKUP(B9148,Categorias!$A:$B,2,FALSE)","v":{"$error":"#N/A"}}]
[{"$f":"VLOOKUP(B9149,Categorias!$A:$B,2,FALSE)","v":{"$error":"#N/A"}}]
[{"$f":"VLOOKUP(B9150,Categorias!$A:$B,2,FALSE)","v":{"$error":"#N/A"}}]
[{"$f":"VLOOKUP(B9151,Categorias!$A:$B,2,FALSE)","v":{"$error":"#N/A"}}]
[{"$f":"VLOOKUP(B9152,Categorias!$A:$B,2,FALSE)","v":{"$error":"#N/A"}}]
[{"$f":"VLOOKUP(B9153,Categorias!$A:$B,2,FALSE)","v":{"$error":"#N/A"}}]
[{"$f":"VLOOKUP(B9154,Categorias!$A:$B,2,FALSE)","v":{"$error":"#N/A"}}]
[{"$f":"VLOOKUP(B9155,Categorias!$A:$B,2,FALSE)","v":{"$error":"#N/A"}}]
[{"$f":"VLOOKUP(B9156,Categorias!$A:$B,2,FALSE)","v":{"$error":"#N/A"}}]
[{"$f":"VLOOKUP(B9157,Categorias!$A:$B,2,FALSE)","v":{"$error":"#N/A"}}]
[{"$f":"VLOOKUP(B9158,Categorias!$A:$B,2,FALSE)","v":{"$error":"#N/A"}}]
[{"$f":"VLOOKUP(B9159,Categorias!$A:$B,2,FALSE)","v":{"$error":"#N/A"}}]
[{"$f":"VLOOKUP(B9160,Categorias!$A:$B,2,FALSE)","v":{"$error":"#N/A"}}]
[{"$f":"VLOOKUP(B9161,Categorias!$A:$B,2,FALSE)","v":{"$error":"#N/A"}}]
[{"$f":"VLOOKUP(B9162,Categorias!$A:$B,2,FALSE)","v":{"$error":"#N/A"}}]
[{"$f":"VLOOKUP(B9163,Categorias!$A:$B,2,FALSE)","v":{"$error":"#N/A"}}]
[{"$f":"VLOOKUP(B9164,Categorias!$A:$B,2,FALSE)","v":{"$error":"#N/A"}}]
[{"$f":"VLOOKUP(B9165,Categorias!$A:$B,2,FALSE)","v":{"$error":"#N/A"}}]
[{"$f":"VLOOKUP(B9166,Categorias!$A:$B,2,FALSE)","v":{"$error":"#N/A"}}]
[{"$f":"VLOOKUP(B9167,Categorias!$A:$B,2,FALSE)","v":{"$error":"#N/A"}}]
[{"$f":"VLOOKUP(B9168,Categorias!$A:$B,2,FALSE)","v":{"$error":"#N/A"}}]
[{"$f":"VLOOKUP(B9169,Categorias!$A:$B,2,FALSE)","v":{"$error":"#N/A"}}]
[{"$f":"VLOOKUP(B9170,Categorias!$A:$B,2,FALSE)","v":{"$error":"#N/A"}}]
[{"$f":"VLOOKUP(B9171,Categorias!$A:$B,2,FALSE)","v":{"$error":"#N/A"}}]
[{"$f":"VLOOKUP(B9172,Categorias!$A:$B,2,FALSE)","v":{"$error":"#N/A"}}]
[{"$f":"VLOOKUP(B9173,Categorias!$A:$B,2,FALSE)","v":{"$error":"#N/A"}}]
[{"$f":"VLOOKUP(B9174,Categorias!$A:$B,2,FALSE)","v":{"$error":"#N/A"}}]
[{"$f":"VLOOKUP(B9175,Categorias!$A:$B,2,FALSE)","v":{"$error":"#N/A"}}]
[{"$f":"VLOOKUP(B9176,Categorias!$A:$B,2,FALSE)","v":{"$error":"#N/A"}}]
[{"$f":"VLOOKUP(B9177,Categorias!$A:$B,2,FALSE)","v":{"$error":"#N/A"}}]
[{"$f":"VLOOKUP(B9178,Categorias!$A:$B,2,FALSE)","v":{"$error":"#N/A"}}]
[{"$f":"VLOOKUP(B9179,Categorias!$A:$B,2,FALSE)","v":{"$error":"#N/A"}}]
[{"$f":"VLOOKUP(B9180,Categorias!$A:$B,2,FALSE)","v":{"$error":"#N/A"}}]
[{"$f":"VLOOKUP(B9181,Categorias!$A:$B,2,FALSE)","v":{"$error":"#N/A"}}]
[{"$f":"VLOOKUP(B9182,Categorias!$A:$B,2,FALSE)","v":{"$error":"#N/A"}}]
[{"$f":"VLOOKUP(B9183,Categorias!$A:$B,2,FALSE)","v":{"$error":"#N/A"}}]
[{"$f":"VLOOKUP(B9184,Categorias!$A:$B,2,FALSE)","v":{"$error":"#N/A"}}]
[{"$f":"VLOOKUP(B9185,Categorias!$A:$B,2,FALSE)","v":{"$error":"#N/A"}}]
[{"$f":"VLOOKUP(B9186,Categorias!$A:$B,2,FALSE)","v":{"$error":"#N/A"}}]
[{"$f":"VLOOKUP(B9187,Categorias!$A:$B,2,FALSE)","v":{"$error":"#N/A"}}]
[{"$f":"VLOOKUP(B9188,Categorias!$A:$B,2,FALSE)","v":{"$error":"#N/A"}}]
[{"$f":"VLOOKUP(B9189,Categorias!$A:$B,2,FALSE)","v":{"$error":"#N/A"}}]
[{"$f":"VLOOKUP(B9190,Categorias!$A:$B,2,FALSE)","v":{"$error":"#N/A"}}]
[{"$f":"VLOOKUP(B9191,Categorias!$A:$B,2,FALSE)","v":{"$error":"#N/A"}}]
[{"$f":"VLOOKUP(B9192,Categorias!$A:$B,2,FALSE)","v":{"$error":"#N/A"}}]
[{"$f":"VLOOKUP(B9193,Categorias!$A:$B,2,FALSE)","v":{"$error":"#N/A"}}]
[{"$f":"VLOOKUP(B9194,Categorias!$A:$B,2,FALSE)","v":{"$error":"#N/A"}}]
[{"$f":"VLOOKUP(B9195,Categorias!$A:$B,2,FALSE)","v":{"$error":"#N/A"}}]
[{"$f":"VLOOKUP(B9196,Categorias!$A:$B,2,FALSE)","v":{"$error":"#N/A"}}]
[{"$f":"VLOOKUP(B9197,Categorias!$A:$B,2,FALSE)","v":{"$error":"#N/A"}}]
[{"$f":"VLOOKUP(B9198,Categorias!$A:$B,2,FALSE)","v":{"$error":"#N/A"}}]
[{"$f":"VLOOKUP(B9199,Categorias!$A:$B,2,FALSE)","v":{"$error":"#N/A"}}]
[{"$f":"VLOOKUP(B9200,Categorias!$A:$B,2,FALSE)","v":{"$error":"#N/A"}}]
[{"$f":"VLOOKUP(B9201,Categorias!$A:$B,2,FALSE)","v":{"$error":"#N/A"}}]
[{"$f":"VLOOKUP(B9202,Categorias!$A:$B,2,FALSE)","v":{"$error":"#N/A"}}]
[{"$f":"VLOOKUP(B9203,Categorias!$A:$B,2,FALSE)","v":{"$error":"#N/A"}}]
[{"$f":"VLOOKUP(B9204,Categorias!$A:$B,2,FALSE)","v":{"$error":"#N/A"}}]
[{"$f":"VLOOKUP(B9205,Categorias!$A:$B,2,FALSE)","v":{"$error":"#N/A"}}]
[{"$f":"VLOOKUP(B9206,Categorias!$A:$B,2,FALSE)","v":{"$error":"#N/A"}}]
[{"$f":"VLOOKUP(B9207,Categorias!$A:$B,2,FALSE)","v":{"$error":"#N/A"}}]
[{"$f":"VLOOKUP(B9208,Categorias!$A:$B,2,FALSE)","v":{"$error":"#N/A"}}]
[{"$f":"VLOOKUP(B9209,Categorias!$A:$B,2,FALSE)","v":{"$error":"#N/A"}}]
[{"$f":"VLOOKUP(B9210,Categorias!$A:$B,2,FALSE)","v":{"$error":"#N/A"}}]
[{"$f":"VLOOKUP(B9211,Categorias!$A:$B,2,FALSE)","v":{"$error":"#N/A"}}]
[{"$f":"VLOOKUP(B9212,Categorias!$A:$B,2,FALSE)","v":{"$error":"#N/A"}}]
[{"$f":"VLOOKUP(B9213,Categorias!$A:$B,2,FALSE)","v":{"$error":"#N/A"}}]
[{"$f":"VLOOKUP(B9214,Categorias!$A:$B,2,FALSE)","v":{"$error":"#N/A"}}]
[{"$f":"VLOOKUP(B9215,Categorias!$A:$B,2,FALSE)","v":{"$error":"#N/A"}}]
[{"$f":"VLOOKUP(B9216,Categorias!$A:$B,2,FALSE)","v":{"$error":"#N/A"}}]
[{"$f":"VLOOKUP(B9217,Categorias!$A:$B,2,FALSE)","v":{"$error":"#N/A"}}]
[{"$f":"VLOOKUP(B9218,Categorias!$A:$B,2,FALSE)","v":{"$error":"#N/A"}}]
[{"$f":"VLOOKUP(B9219,Categorias!$A:$B,2,FALSE)","v":{"$error":"#N/A"}}]
[{"$f":"VLOOKUP(B9220,Categorias!$A:$B,2,FALSE)","v":{"$error":"#N/A"}}]
[{"$f":"VLOOKUP(B9221,Categorias!$A:$B,2,FALSE)","v":{"$error":"#N/A"}}]
[{"$f":"VLOOKUP(B9222,Categorias!$A:$B,2,FALSE)","v":{"$error":"#N/A"}}]
[{"$f":"VLOOKUP(B9223,Categorias!$A:$B,2,FALSE)","v":{"$error":"#N/A"}}]
[{"$f":"VLOOKUP(B9224,Categorias!$A:$B,2,FALSE)","v":{"$error":"#N/A"}}]
[{"$f":"VLOOKUP(B9225,Categorias!$A:$B,2,FALSE)","v":{"$error":"#N/A"}}]
[{"$f":"VLOOKUP(B9226,Categorias!$A:$B,2,FALSE)","v":{"$error":"#N/A"}}]
[{"$f":"VLOOKUP(B9227,Categorias!$A:$B,2,FALSE)","v":{"$error":"#N/A"}}]
[{"$f":"VLOOKUP(B9228,Categorias!$A:$B,2,FALSE)","v":{"$error":"#N/A"}}]
[{"$f":"VLOOKUP(B9229,Categorias!$A:$B,2,FALSE)","v":{"$error":"#N/A"}}]
[{"$f":"VLOOKUP(B9230,Categorias!$A:$B,2,FALSE)","v":{"$error":"#N/A"}}]
[{"$f":"VLOOKUP(B9231,Categorias!$A:$B,2,FALSE)","v":{"$error":"#N/A"}}]
[{"$f":"VLOOKUP(B9232,Categorias!$A:$B,2,FALSE)","v":{"$error":"#N/A"}}]
[{"$f":"VLOOKUP(B9233,Categorias!$A:$B,2,FALSE)","v":{"$error":"#N/A"}}]
[{"$f":"VLOOKUP(B9234,Categorias!$A:$B,2,FALSE)","v":{"$error":"#N/A"}}]
[{"$f":"VLOOKUP(B9235,Categorias!$A:$B,2,FALSE)","v":{"$error":"#N/A"}}]
[{"$f":"VLOOKUP(B9236,Categorias!$A:$B,2,FALSE)","v":{"$error":"#N/A"}}]
[{"$f":"VLOOKUP(B9237,Categorias!$A:$B,2,FALSE)","v":{"$error":"#N/A"}}]
[{"$f":"VLOOKUP(B9238,Categorias!$A:$B,2,FALSE)","v":{"$error":"#N/A"}}]
[{"$f":"VLOOKUP(B9239,Categorias!$A:$B,2,FALSE)","v":{"$error":"#N/A"}}]
[{"$f":"VLOOKUP(B9240,Categorias!$A:$B,2,FALSE)","v":{"$error":"#N/A"}}]
[{"$f":"VLOOKUP(B9241,Categorias!$A:$B,2,FALSE)","v":{"$error":"#N/A"}}]
[{"$f":"VLOOKUP(B9242,Categorias!$A:$B,2,FALSE)","v":{"$error":"#N/A"}}]
[{"$f":"VLOOKUP(B9243,Categorias!$A:$B,2,FALSE)","v":{"$error":"#N/A"}}]
[{"$f":"VLOOKUP(B9244,Categorias!$A:$B,2,FALSE)","v":{"$error":"#N/A"}}]
[{"$f":"VLOOKUP(B9245,Categorias!$A:$B,2,FALSE)","v":{"$error":"#N/A"}}]
[{"$f":"VLOOKUP(B9246,Categorias!$A:$B,2,FALSE)","v":{"$error":"#N/A"}}]
[{"$f":"VLOOKUP(B9247,Categorias!$A:$B,2,FALSE)","v":{"$error":"#N/A"}}]
[{"$f":"VLOOKUP(B9248,Categorias!$A:$B,2,FALSE)","v":{"$error":"#N/A"}}]
[{"$f":"VLOOKUP(B9249,Categorias!$A:$B,2,FALSE)","v":{"$error":"#N/A"}}]
[{"$f":"VLOOKUP(B9250,Categorias!$A:$B,2,FALSE)","v":{"$error":"#N/A"}}]
[{"$f":"VLOOKUP(B9251,Categorias!$A:$B,2,FALSE)","v":{"$error":"#N/A"}}]
[{"$f":"VLOOKUP(B9252,Categorias!$A:$B,2,FALSE)","v":{"$error":"#N/A"}}]
[{"$f":"VLOOKUP(B9253,Categorias!$A:$B,2,FALSE)","v":{"$error":"#N/A"}}]
[{"$f":"VLOOKUP(B9254,Categorias!$A:$B,2,FALSE)","v":{"$error":"#N/A"}}]
[{"$f":"VLOOKUP(B9255,Categorias!$A:$B,2,FALSE)","v":{"$error":"#N/A"}}]
[{"$f":"VLOOKUP(B9256,Categorias!$A:$B,2,FALSE)","v":{"$error":"#N/A"}}]
[{"$f":"VLOOKUP(B9257,Categorias!$A:$B,2,FALSE)","v":{"$error":"#N/A"}}]
[{"$f":"VLOOKUP(B9258,Categorias!$A:$B,2,FALSE)","v":{"$error":"#N/A"}}]
[{"$f":"VLOOKUP(B9259,Categorias!$A:$B,2,FALSE)","v":{"$error":"#N/A"}}]
[{"$f":"VLOOKUP(B9260,Categorias!$A:$B,2,FALSE)","v":{"$error":"#N/A"}}]
[{"$f":"VLOOKUP(B9261,Categorias!$A:$B,2,FALSE)","v":{"$error":"#N/A"}}]
[{"$f":"VLOOKUP(B9262,Categorias!$A:$B,2,FALSE)","v":{"$error":"#N/A"}}]
[{"$f":"VLOOKUP(B9263,Categorias!$A:$B,2,FALSE)","v":{"$error":"#N/A"}}]
[{"$f":"VLOOKUP(B9264,Categorias!$A:$B,2,FALSE)","v":{"$error":"#N/A"}}]
[{"$f":"VLOOKUP(B9265,Categorias!$A:$B,2,FALSE)","v":{"$error":"#N/A"}}]
[{"$f":"VLOOKUP(B9266,Categorias!$A:$B,2,FALSE)","v":{"$error":"#N/A"}}]
[{"$f":"VLOOKUP(B9267,Categorias!$A:$B,2,FALSE)","v":{"$error":"#N/A"}}]
[{"$f":"VLOOKUP(B9268,Categorias!$A:$B,2,FALSE)","v":{"$error":"#N/A"}}]
[{"$f":"VLOOKUP(B9269,Categorias!$A:$B,2,FALSE)","v":{"$error":"#N/A"}}]
[{"$f":"VLOOKUP(B9270,Categorias!$A:$B,2,FALSE)","v":{"$error":"#N/A"}}]
[{"$f":"VLOOKUP(B9271,Categorias!$A:$B,2,FALSE)","v":{"$error":"#N/A"}}]
[{"$f":"VLOOKUP(B9272,Categorias!$A:$B,2,FALSE)","v":{"$error":"#N/A"}}]
[{"$f":"VLOOKUP(B9273,Categorias!$A:$B,2,FALSE)","v":{"$error":"#N/A"}}]
[{"$f":"VLOOKUP(B9274,Categorias!$A:$B,2,FALSE)","v":{"$error":"#N/A"}}]
[{"$f":"VLOOKUP(B9275,Categorias!$A:$B,2,FALSE)","v":{"$error":"#N/A"}}]
[{"$f":"VLOOKUP(B9276,Categorias!$A:$B,2,FALSE)","v":{"$error":"#N/A"}}]
[{"$f":"VLOOKUP(B9277,Categorias!$A:$B,2,FALSE)","v":{"$error":"#N/A"}}]
[{"$f":"VLOOKUP(B9278,Categorias!$A:$B,2,FALSE)","v":{"$error":"#N/A"}}]
[{"$f":"VLOOKUP(B9279,Categorias!$A:$B,2,FALSE)","v":{"$error":"#N/A"}}]
[{"$f":"VLOOKUP(B9280,Categorias!$A:$B,2,FALSE)","v":{"$error":"#N/A"}}]
[{"$f":"VLOOKUP(B9281,Categorias!$A:$B,2,FALSE)","v":{"$error":"#N/A"}}]
[{"$f":"VLOOKUP(B9282,Categorias!$A:$B,2,FALSE)","v":{"$error":"#N/A"}}]
[{"$f":"VLOOKUP(B9283,Categorias!$A:$B,2,FALSE)","v":{"$error":"#N/A"}}]
[{"$f":"VLOOKUP(B9284,Categorias!$A:$B,2,FALSE)","v":{"$error":"#N/A"}}]
[{"$f":"VLOOKUP(B9285,Categorias!$A:$B,2,FALSE)","v":{"$error":"#N/A"}}]
[{"$f":"VLOOKUP(B9286,Categorias!$A:$B,2,FALSE)","v":{"$error":"#N/A"}}]
[{"$f":"VLOOKUP(B9287,Categorias!$A:$B,2,FALSE)","v":{"$error":"#N/A"}}]
[{"$f":"VLOOKUP(B9288,Categorias!$A:$B,2,FALSE)","v":{"$error":"#N/A"}}]
[{"$f":"VLOOKUP(B9289,Categorias!$A:$B,2,FALSE)","v":{"$error":"#N/A"}}]
[{"$f":"VLOOKUP(B9290,Categorias!$A:$B,2,FALSE)","v":{"$error":"#N/A"}}]
[{"$f":"VLOOKUP(B9291,Categorias!$A:$B,2,FALSE)","v":{"$error":"#N/A"}}]
[{"$f":"VLOOKUP(B9292,Categorias!$A:$B,2,FALSE)","v":{"$error":"#N/A"}}]
[{"$f":"VLOOKUP(B9293,Categorias!$A:$B,2,FALSE)","v":{"$error":"#N/A"}}]
[{"$f":"VLOOKUP(B9294,Categorias!$A:$B,2,FALSE)","v":{"$error":"#N/A"}}]
[{"$f":"VLOOKUP(B9295,Categorias!$A:$B,2,FALSE)","v":{"$error":"#N/A"}}]
[{"$f":"VLOOKUP(B9296,Categorias!$A:$B,2,FALSE)","v":{"$error":"#N/A"}}]
[{"$f":"VLOOKUP(B9297,Categorias!$A:$B,2,FALSE)","v":{"$error":"#N/A"}}]
[{"$f":"VLOOKUP(B9298,Categorias!$A:$B,2,FALSE)","v":{"$error":"#N/A"}}]
[{"$f":"VLOOKUP(B9299,Categorias!$A:$B,2,FALSE)","v":{"$error":"#N/A"}}]
[{"$f":"VLOOKUP(B9300,Categorias!$A:$B,2,FALSE)","v":{"$error":"#N/A"}}]
[{"$f":"VLOOKUP(B9301,Categorias!$A:$B,2,FALSE)","v":{"$error":"#N/A"}}]
[{"$f":"VLOOKUP(B9302,Categorias!$A:$B,2,FALSE)","v":{"$error":"#N/A"}}]
[{"$f":"VLOOKUP(B9303,Categorias!$A:$B,2,FALSE)","v":{"$error":"#N/A"}}]
[{"$f":"VLOOKUP(B9304,Categorias!$A:$B,2,FALSE)","v":{"$error":"#N/A"}}]
[{"$f":"VLOOKUP(B9305,Categorias!$A:$B,2,FALSE)","v":{"$error":"#N/A"}}]
[{"$f":"VLOOKUP(B9306,Categorias!$A:$B,2,FALSE)","v":{"$error":"#N/A"}}]
[{"$f":"VLOOKUP(B9307,Categorias!$A:$B,2,FALSE)","v":{"$error":"#N/A"}}]
[{"$f":"VLOOKUP(B9308,Categorias!$A:$B,2,FALSE)","v":{"$error":"#N/A"}}]
[{"$f":"VLOOKUP(B9309,Categorias!$A:$B,2,FALSE)","v":{"$error":"#N/A"}}]
[{"$f":"VLOOKUP(B9310,Categorias!$A:$B,2,FALSE)","v":{"$error":"#N/A"}}]
[{"$f":"VLOOKUP(B9311,Categorias!$A:$B,2,FALSE)","v":{"$error":"#N/A"}}]
[{"$f":"VLOOKUP(B9312,Categorias!$A:$B,2,FALSE)","v":{"$error":"#N/A"}}]
[{"$f":"VLOOKUP(B9313,Categorias!$A:$B,2,FALSE)","v":{"$error":"#N/A"}}]
[{"$f":"VLOOKUP(B9314,Categorias!$A:$B,2,FALSE)","v":{"$error":"#N/A"}}]
[{"$f":"VLOOKUP(B9315,Categorias!$A:$B,2,FALSE)","v":{"$error":"#N/A"}}]
[{"$f":"VLOOKUP(B9316,Categorias!$A:$B,2,FALSE)","v":{"$error":"#N/A"}}]
[{"$f":"VLOOKUP(B9317,Categorias!$A:$B,2,FALSE)","v":{"$error":"#N/A"}}]
[{"$f":"VLOOKUP(B9318,Categorias!$A:$B,2,FALSE)","v":{"$error":"#N/A"}}]
[{"$f":"VLOOKUP(B9319,Categorias!$A:$B,2,FALSE)","v":{"$error":"#N/A"}}]
[{"$f":"VLOOKUP(B9320,Categorias!$A:$B,2,FALSE)","v":{"$error":"#N/A"}}]
[{"$f":"VLOOKUP(B9321,Categorias!$A:$B,2,FALSE)","v":{"$error":"#N/A"}}]
[{"$f":"VLOOKUP(B9322,Categorias!$A:$B,2,FALSE)","v":{"$error":"#N/A"}}]
[{"$f":"VLOOKUP(B9323,Categorias!$A:$B,2,FALSE)","v":{"$error":"#N/A"}}]
[{"$f":"VLOOKUP(B9324,Categorias!$A:$B,2,FALSE)","v":{"$error":"#N/A"}}]
[{"$f":"VLOOKUP(B9325,Categorias!$A:$B,2,FALSE)","v":{"$error":"#N/A"}}]
[{"$f":"VLOOKUP(B9326,Categorias!$A:$B,2,FALSE)","v":{"$error":"#N/A"}}]
[{"$f":"VLOOKUP(B9327,Categorias!$A:$B,2,FALSE)","v":{"$error":"#N/A"}}]
[{"$f":"VLOOKUP(B9328,Categorias!$A:$B,2,FALSE)","v":{"$error":"#N/A"}}]
[{"$f":"VLOOKUP(B9329,Categorias!$A:$B,2,FALSE)","v":{"$error":"#N/A"}}]
[{"$f":"VLOOKUP(B9330,Categorias!$A:$B,2,FALSE)","v":{"$error":"#N/A"}}]
[{"$f":"VLOOKUP(B9331,Categorias!$A:$B,2,FALSE)","v":{"$error":"#N/A"}}]
[{"$f":"VLOOKUP(B9332,Categorias!$A:$B,2,FALSE)","v":{"$error":"#N/A"}}]
[{"$f":"VLOOKUP(B9333,Categorias!$A:$B,2,FALSE)","v":{"$error":"#N/A"}}]
[{"$f":"VLOOKUP(B9334,Categorias!$A:$B,2,FALSE)","v":{"$error":"#N/A"}}]
[{"$f":"VLOOKUP(B9335,Categorias!$A:$B,2,FALSE)","v":{"$error":"#N/A"}}]
[{"$f":"VLOOKUP(B9336,Categorias!$A:$B,2,FALSE)","v":{"$error":"#N/A"}}]
[{"$f":"VLOOKUP(B9337,Categorias!$A:$B,2,FALSE)","v":{"$error":"#N/A"}}]
[{"$f":"VLOOKUP(B9338,Categorias!$A:$B,2,FALSE)","v":{"$error":"#N/A"}}]
[{"$f":"VLOOKUP(B9339,Categorias!$A:$B,2,FALSE)","v":{"$error":"#N/A"}}]
[{"$f":"VLOOKUP(B9340,Categorias!$A:$B,2,FALSE)","v":{"$error":"#N/A"}}]
[{"$f":"VLOOKUP(B9341,Categorias!$A:$B,2,FALSE)","v":{"$error":"#N/A"}}]
[{"$f":"VLOOKUP(B9342,Categorias!$A:$B,2,FALSE)","v":{"$error":"#N/A"}}]
[{"$f":"VLOOKUP(B9343,Categorias!$A:$B,2,FALSE)","v":{"$error":"#N/A"}}]
[{"$f":"VLOOKUP(B9344,Categorias!$A:$B,2,FALSE)","v":{"$error":"#N/A"}}]
[{"$f":"VLOOKUP(B9345,Categorias!$A:$B,2,FALSE)","v":{"$error":"#N/A"}}]
[{"$f":"VLOOKUP(B9346,Categorias!$A:$B,2,FALSE)","v":{"$error":"#N/A"}}]
[{"$f":"VLOOKUP(B9347,Categorias!$A:$B,2,FALSE)","v":{"$error":"#N/A"}}]
[{"$f":"VLOOKUP(B9348,Categorias!$A:$B,2,FALSE)","v":{"$error":"#N/A"}}]
[{"$f":"VLOOKUP(B9349,Categorias!$A:$B,2,FALSE)","v":{"$error":"#N/A"}}]
[{"$f":"VLOOKUP(B9350,Categorias!$A:$B,2,FALSE)","v":{"$error":"#N/A"}}]
[{"$f":"VLOOKUP(B9351,Categorias!$A:$B,2,FALSE)","v":{"$error":"#N/A"}}]
[{"$f":"VLOOKUP(B9352,Categorias!$A:$B,2,FALSE)","v":{"$error":"#N/A"}}]
[{"$f":"VLOOKUP(B9353,Categorias!$A:$B,2,FALSE)","v":{"$error":"#N/A"}}]
[{"$f":"VLOOKUP(B9354,Categorias!$A:$B,2,FALSE)","v":{"$error":"#N/A"}}]
[{"$f":"VLOOKUP(B9355,Categorias!$A:$B,2,FALSE)","v":{"$error":"#N/A"}}]
[{"$f":"VLOOKUP(B9356,Categorias!$A:$B,2,FALSE)","v":{"$error":"#N/A"}}]
[{"$f":"VLOOKUP(B9357,Categorias!$A:$B,2,FALSE)","v":{"$error":"#N/A"}}]
[{"$f":"VLOOKUP(B9358,Categorias!$A:$B,2,FALSE)","v":{"$error":"#N/A"}}]
[{"$f":"VLOOKUP(B9359,Categorias!$A:$B,2,FALSE)","v":{"$error":"#N/A"}}]
[{"$f":"VLOOKUP(B9360,Categorias!$A:$B,2,FALSE)","v":{"$error":"#N/A"}}]
[{"$f":"VLOOKUP(B9361,Categorias!$A:$B,2,FALSE)","v":{"$error":"#N/A"}}]
[{"$f":"VLOOKUP(B9362,Categorias!$A:$B,2,FALSE)","v":{"$error":"#N/A"}}]
[{"$f":"VLOOKUP(B9363,Categorias!$A:$B,2,FALSE)","v":{"$error":"#N/A"}}]
[{"$f":"VLOOKUP(B9364,Categorias!$A:$B,2,FALSE)","v":{"$error":"#N/A"}}]
[{"$f":"VLOOKUP(B9365,Categorias!$A:$B,2,FALSE)","v":{"$error":"#N/A"}}]
[{"$f":"VLOOKUP(B9366,Categorias!$A:$B,2,FALSE)","v":{"$error":"#N/A"}}]
[{"$f":"VLOOKUP(B9367,Categorias!$A:$B,2,FALSE)","v":{"$error":"#N/A"}}]
[{"$f":"VLOOKUP(B9368,Categorias!$A:$B,2,FALSE)","v":{"$error":"#N/A"}}]
[{"$f":"VLOOKUP(B9369,Categorias!$A:$B,2,FALSE)","v":{"$error":"#N/A"}}]
[{"$f":"VLOOKUP(B9370,Categorias!$A:$B,2,FALSE)","v":{"$error":"#N/A"}}]
[{"$f":"VLOOKUP(B9371,Categorias!$A:$B,2,FALSE)","v":{"$error":"#N/A"}}]
[{"$f":"VLOOKUP(B9372,Categorias!$A:$B,2,FALSE)","v":{"$error":"#N/A"}}]
[{"$f":"VLOOKUP(B9373,Categorias!$A:$B,2,FALSE)","v":{"$error":"#N/A"}}]
[{"$f":"VLOOKUP(B9374,Categorias!$A:$B,2,FALSE)","v":{"$error":"#N/A"}}]
[{"$f":"VLOOKUP(B9375,Categorias!$A:$B,2,FALSE)","v":{"$error":"#N/A"}}]
[{"$f":"VLOOKUP(B9376,Categorias!$A:$B,2,FALSE)","v":{"$error":"#N/A"}}]
[{"$f":"VLOOKUP(B9377,Categorias!$A:$B,2,FALSE)","v":{"$error":"#N/A"}}]
[{"$f":"VLOOKUP(B9378,Categorias!$A:$B,2,FALSE)","v":{"$error":"#N/A"}}]
[{"$f":"VLOOKUP(B9379,Categorias!$A:$B,2,FALSE)","v":{"$error":"#N/A"}}]
[{"$f":"VLOOKUP(B9380,Categorias!$A:$B,2,FALSE)","v":{"$error":"#N/A"}}]
[{"$f":"VLOOKUP(B9381,Categorias!$A:$B,2,FALSE)","v":{"$error":"#N/A"}}]
[{"$f":"VLOOKUP(B9382,Categorias!$A:$B,2,FALSE)","v":{"$error":"#N/A"}}]
[{"$f":"VLOOKUP(B9383,Categorias!$A:$B,2,FALSE)","v":{"$error":"#N/A"}}]
[{"$f":"VLOOKUP(B9384,Categorias!$A:$B,2,FALSE)","v":{"$error":"#N/A"}}]
[{"$f":"VLOOKUP(B9385,Categorias!$A:$B,2,FALSE)","v":{"$error":"#N/A"}}]
[{"$f":"VLOOKUP(B9386,Categorias!$A:$B,2,FALSE)","v":{"$error":"#N/A"}}]
[{"$f":"VLOOKUP(B9387,Categorias!$A:$B,2,FALSE)","v":{"$error":"#N/A"}}]
[{"$f":"VLOOKUP(B9388,Categorias!$A:$B,2,FALSE)","v":{"$error":"#N/A"}}]
[{"$f":"VLOOKUP(B9389,Categorias!$A:$B,2,FALSE)","v":{"$error":"#N/A"}}]
[{"$f":"VLOOKUP(B9390,Categorias!$A:$B,2,FALSE)","v":{"$error":"#N/A"}}]
[{"$f":"VLOOKUP(B9391,Categorias!$A:$B,2,FALSE)","v":{"$error":"#N/A"}}]
[{"$f":"VLOOKUP(B9392,Categorias!$A:$B,2,FALSE)","v":{"$error":"#N/A"}}]
[{"$f":"VLOOKUP(B9393,Categorias!$A:$B,2,FALSE)","v":{"$error":"#N/A"}}]
[{"$f":"VLOOKUP(B9394,Categorias!$A:$B,2,FALSE)","v":{"$error":"#N/A"}}]
[{"$f":"VLOOKUP(B9395,Categorias!$A:$B,2,FALSE)","v":{"$error":"#N/A"}}]
[{"$f":"VLOOKUP(B9396,Categorias!$A:$B,2,FALSE)","v":{"$error":"#N/A"}}]
[{"$f":"VLOOKUP(B9397,Categorias!$A:$B,2,FALSE)","v":{"$error":"#N/A"}}]
[{"$f":"VLOOKUP(B9398,Categorias!$A:$B,2,FALSE)","v":{"$error":"#N/A"}}]
[{"$f":"VLOOKUP(B9399,Categorias!$A:$B,2,FALSE)","v":{"$error":"#N/A"}}]
[{"$f":"VLOOKUP(B9400,Categorias!$A:$B,2,FALSE)","v":{"$error":"#N/A"}}]
[{"$f":"VLOOKUP(B9401,Categorias!$A:$B,2,FALSE)","v":{"$error":"#N/A"}}]
[{"$f":"VLOOKUP(B9402,Categorias!$A:$B,2,FALSE)","v":{"$error":"#N/A"}}]
[{"$f":"VLOOKUP(B9403,Categorias!$A:$B,2,FALSE)","v":{"$error":"#N/A"}}]
[{"$f":"VLOOKUP(B9404,Categorias!$A:$B,2,FALSE)","v":{"$error":"#N/A"}}]
[{"$f":"VLOOKUP(B9405,Categorias!$A:$B,2,FALSE)","v":{"$error":"#N/A"}}]
[{"$f":"VLOOKUP(B9406,Categorias!$A:$B,2,FALSE)","v":{"$error":"#N/A"}}]
[{"$f":"VLOOKUP(B9407,Categorias!$A:$B,2,FALSE)","v":{"$error":"#N/A"}}]
[{"$f":"VLOOKUP(B9408,Categorias!$A:$B,2,FALSE)","v":{"$error":"#N/A"}}]
[{"$f":"VLOOKUP(B9409,Categorias!$A:$B,2,FALSE)","v":{"$error":"#N/A"}}]
[{"$f":"VLOOKUP(B9410,Categorias!$A:$B,2,FALSE)","v":{"$error":"#N/A"}}]
[{"$f":"VLOOKUP(B9411,Categorias!$A:$B,2,FALSE)","v":{"$error":"#N/A"}}]
[{"$f":"VLOOKUP(B9412,Categorias!$A:$B,2,FALSE)","v":{"$error":"#N/A"}}]
[{"$f":"VLOOKUP(B9413,Categorias!$A:$B,2,FALSE)","v":{"$error":"#N/A"}}]
[{"$f":"VLOOKUP(B9414,Categorias!$A:$B,2,FALSE)","v":{"$error":"#N/A"}}]
[{"$f":"VLOOKUP(B9415,Categorias!$A:$B,2,FALSE)","v":{"$error":"#N/A"}}]
[{"$f":"VLOOKUP(B9416,Categorias!$A:$B,2,FALSE)","v":{"$error":"#N/A"}}]
[{"$f":"VLOOKUP(B9417,Categorias!$A:$B,2,FALSE)","v":{"$error":"#N/A"}}]
[{"$f":"VLOOKUP(B9418,Categorias!$A:$B,2,FALSE)","v":{"$error":"#N/A"}}]
[{"$f":"VLOOKUP(B9419,Categorias!$A:$B,2,FALSE)","v":{"$error":"#N/A"}}]
[{"$f":"VLOOKUP(B9420,Categorias!$A:$B,2,FALSE)","v":{"$error":"#N/A"}}]
[{"$f":"VLOOKUP(B9421,Categorias!$A:$B,2,FALSE)","v":{"$error":"#N/A"}}]
[{"$f":"VLOOKUP(B9422,Categorias!$A:$B,2,FALSE)","v":{"$error":"#N/A"}}]
[{"$f":"VLOOKUP(B9423,Categorias!$A:$B,2,FALSE)","v":{"$error":"#N/A"}}]
[{"$f":"VLOOKUP(B9424,Categorias!$A:$B,2,FALSE)","v":{"$error":"#N/A"}}]
[{"$f":"VLOOKUP(B9425,Categorias!$A:$B,2,FALSE)","v":{"$error":"#N/A"}}]
[{"$f":"VLOOKUP(B9426,Categorias!$A:$B,2,FALSE)","v":{"$error":"#N/A"}}]
[{"$f":"VLOOKUP(B9427,Categorias!$A:$B,2,FALSE)","v":{"$error":"#N/A"}}]
[{"$f":"VLOOKUP(B9428,Categorias!$A:$B,2,FALSE)","v":{"$error":"#N/A"}}]
[{"$f":"VLOOKUP(B9429,Categorias!$A:$B,2,FALSE)","v":{"$error":"#N/A"}}]
[{"$f":"VLOOKUP(B9430,Categorias!$A:$B,2,FALSE)","v":{"$error":"#N/A"}}]
[{"$f":"VLOOKUP(B9431,Categorias!$A:$B,2,FALSE)","v":{"$error":"#N/A"}}]
[{"$f":"VLOOKUP(B9432,Categorias!$A:$B,2,FALSE)","v":{"$error":"#N/A"}}]
[{"$f":"VLOOKUP(B9433,Categorias!$A:$B,2,FALSE)","v":{"$error":"#N/A"}}]
[{"$f":"VLOOKUP(B9434,Categorias!$A:$B,2,FALSE)","v":{"$error":"#N/A"}}]
[{"$f":"VLOOKUP(B9435,Categorias!$A:$B,2,FALSE)","v":{"$error":"#N/A"}}]
[{"$f":"VLOOKUP(B9436,Categorias!$A:$B,2,FALSE)","v":{"$error":"#N/A"}}]
[{"$f":"VLOOKUP(B9437,Categorias!$A:$B,2,FALSE)","v":{"$error":"#N/A"}}]
[{"$f":"VLOOKUP(B9438,Categorias!$A:$B,2,FALSE)","v":{"$error":"#N/A"}}]
[{"$f":"VLOOKUP(B9439,Categorias!$A:$B,2,FALSE)","v":{"$error":"#N/A"}}]
[{"$f":"VLOOKUP(B9440,Categorias!$A:$B,2,FALSE)","v":{"$error":"#N/A"}}]
[{"$f":"VLOOKUP(B9441,Categorias!$A:$B,2,FALSE)","v":{"$error":"#N/A"}}]
[{"$f":"VLOOKUP(B9442,Categorias!$A:$B,2,FALSE)","v":{"$error":"#N/A"}}]
[{"$f":"VLOOKUP(B9443,Categorias!$A:$B,2,FALSE)","v":{"$error":"#N/A"}}]
[{"$f":"VLOOKUP(B9444,Categorias!$A:$B,2,FALSE)","v":{"$error":"#N/A"}}]
[{"$f":"VLOOKUP(B9445,Categorias!$A:$B,2,FALSE)","v":{"$error":"#N/A"}}]
[{"$f":"VLOOKUP(B9446,Categorias!$A:$B,2,FALSE)","v":{"$error":"#N/A"}}]
[{"$f":"VLOOKUP(B9447,Categorias!$A:$B,2,FALSE)","v":{"$error":"#N/A"}}]
[{"$f":"VLOOKUP(B9448,Categorias!$A:$B,2,FALSE)","v":{"$error":"#N/A"}}]
[{"$f":"VLOOKUP(B9449,Categorias!$A:$B,2,FALSE)","v":{"$error":"#N/A"}}]
[{"$f":"VLOOKUP(B9450,Categorias!$A:$B,2,FALSE)","v":{"$error":"#N/A"}}]
[{"$f":"VLOOKUP(B9451,Categorias!$A:$B,2,FALSE)","v":{"$error":"#N/A"}}]
[{"$f":"VLOOKUP(B9452,Categorias!$A:$B,2,FALSE)","v":{"$error":"#N/A"}}]
[{"$f":"VLOOKUP(B9453,Categorias!$A:$B,2,FALSE)","v":{"$error":"#N/A"}}]
[{"$f":"VLOOKUP(B9454,Categorias!$A:$B,2,FALSE)","v":{"$error":"#N/A"}}]
[{"$f":"VLOOKUP(B9455,Categorias!$A:$B,2,FALSE)","v":{"$error":"#N/A"}}]
[{"$f":"VLOOKUP(B9456,Categorias!$A:$B,2,FALSE)","v":{"$error":"#N/A"}}]
[{"$f":"VLOOKUP(B9457,Categorias!$A:$B,2,FALSE)","v":{"$error":"#N/A"}}]
[{"$f":"VLOOKUP(B9458,Categorias!$A:$B,2,FALSE)","v":{"$error":"#N/A"}}]
[{"$f":"VLOOKUP(B9459,Categorias!$A:$B,2,FALSE)","v":{"$error":"#N/A"}}]
[{"$f":"VLOOKUP(B9460,Categorias!$A:$B,2,FALSE)","v":{"$error":"#N/A"}}]
[{"$f":"VLOOKUP(B9461,Categorias!$A:$B,2,FALSE)","v":{"$error":"#N/A"}}]
[{"$f":"VLOOKUP(B9462,Categorias!$A:$B,2,FALSE)","v":{"$error":"#N/A"}}]
[{"$f":"VLOOKUP(B9463,Categorias!$A:$B,2,FALSE)","v":{"$error":"#N/A"}}]
[{"$f":"VLOOKUP(B9464,Categorias!$A:$B,2,FALSE)","v":{"$error":"#N/A"}}]
[{"$f":"VLOOKUP(B9465,Categorias!$A:$B,2,FALSE)","v":{"$error":"#N/A"}}]
[{"$f":"VLOOKUP(B9466,Categorias!$A:$B,2,FALSE)","v":{"$error":"#N/A"}}]
[{"$f":"VLOOKUP(B9467,Categorias!$A:$B,2,FALSE)","v":{"$error":"#N/A"}}]
[{"$f":"VLOOKUP(B9468,Categorias!$A:$B,2,FALSE)","v":{"$error":"#N/A"}}]
[{"$f":"VLOOKUP(B9469,Categorias!$A:$B,2,FALSE)","v":{"$error":"#N/A"}}]
[{"$f":"VLOOKUP(B9470,Categorias!$A:$B,2,FALSE)","v":{"$error":"#N/A"}}]
[{"$f":"VLOOKUP(B9471,Categorias!$A:$B,2,FALSE)","v":{"$error":"#N/A"}}]
[{"$f":"VLOOKUP(B9472,Categorias!$A:$B,2,FALSE)","v":{"$error":"#N/A"}}]
[{"$f":"VLOOKUP(B9473,Categorias!$A:$B,2,FALSE)","v":{"$error":"#N/A"}}]
[{"$f":"VLOOKUP(B9474,Categorias!$A:$B,2,FALSE)","v":{"$error":"#N/A"}}]
[{"$f":"VLOOKUP(B9475,Categorias!$A:$B,2,FALSE)","v":{"$error":"#N/A"}}]
[{"$f":"VLOOKUP(B9476,Categorias!$A:$B,2,FALSE)","v":{"$error":"#N/A"}}]
[{"$f":"VLOOKUP(B9477,Categorias!$A:$B,2,FALSE)","v":{"$error":"#N/A"}}]
[{"$f":"VLOOKUP(B9478,Categorias!$A:$B,2,FALSE)","v":{"$error":"#N/A"}}]
[{"$f":"VLOOKUP(B9479,Categorias!$A:$B,2,FALSE)","v":{"$error":"#N/A"}}]
[{"$f":"VLOOKUP(B9480,Categorias!$A:$B,2,FALSE)","v":{"$error":"#N/A"}}]
[{"$f":"VLOOKUP(B9481,Categorias!$A:$B,2,FALSE)","v":{"$error":"#N/A"}}]
[{"$f":"VLOOKUP(B9482,Categorias!$A:$B,2,FALSE)","v":{"$error":"#N/A"}}]
[{"$f":"VLOOKUP(B9483,Categorias!$A:$B,2,FALSE)","v":{"$error":"#N/A"}}]
[{"$f":"VLOOKUP(B9484,Categorias!$A:$B,2,FALSE)","v":{"$error":"#N/A"}}]
[{"$f":"VLOOKUP(B9485,Categorias!$A:$B,2,FALSE)","v":{"$error":"#N/A"}}]
[{"$f":"VLOOKUP(B9486,Categorias!$A:$B,2,FALSE)","v":{"$error":"#N/A"}}]
[{"$f":"VLOOKUP(B9487,Categorias!$A:$B,2,FALSE)","v":{"$error":"#N/A"}}]
[{"$f":"VLOOKUP(B9488,Categorias!$A:$B,2,FALSE)","v":{"$error":"#N/A"}}]
[{"$f":"VLOOKUP(B9489,Categorias!$A:$B,2,FALSE)","v":{"$error":"#N/A"}}]
[{"$f":"VLOOKUP(B9490,Categorias!$A:$B,2,FALSE)","v":{"$error":"#N/A"}}]
[{"$f":"VLOOKUP(B9491,Categorias!$A:$B,2,FALSE)","v":{"$error":"#N/A"}}]
[{"$f":"VLOOKUP(B9492,Categorias!$A:$B,2,FALSE)","v":{"$error":"#N/A"}}]
[{"$f":"VLOOKUP(B9493,Categorias!$A:$B,2,FALSE)","v":{"$error":"#N/A"}}]
[{"$f":"VLOOKUP(B9494,Categorias!$A:$B,2,FALSE)","v":{"$error":"#N/A"}}]
[{"$f":"VLOOKUP(B9495,Categorias!$A:$B,2,FALSE)","v":{"$error":"#N/A"}}]
[{"$f":"VLOOKUP(B9496,Categorias!$A:$B,2,FALSE)","v":{"$error":"#N/A"}}]
[{"$f":"VLOOKUP(B9497,Categorias!$A:$B,2,FALSE)","v":{"$error":"#N/A"}}]
[{"$f":"VLOOKUP(B9498,Categorias!$A:$B,2,FALSE)","v":{"$error":"#N/A"}}]
[{"$f":"VLOOKUP(B9499,Categorias!$A:$B,2,FALSE)","v":{"$error":"#N/A"}}]
[{"$f":"VLOOKUP(B9500,Categorias!$A:$B,2,FALSE)","v":{"$error":"#N/A"}}]
[{"$f":"VLOOKUP(B9501,Categorias!$A:$B,2,FALSE)","v":{"$error":"#N/A"}}]
[{"$f":"VLOOKUP(B9502,Categorias!$A:$B,2,FALSE)","v":{"$error":"#N/A"}}]
[{"$f":"VLOOKUP(B9503,Categorias!$A:$B,2,FALSE)","v":{"$error":"#N/A"}}]
[{"$f":"VLOOKUP(B9504,Categorias!$A:$B,2,FALSE)","v":{"$error":"#N/A"}}]
[{"$f":"VLOOKUP(B9505,Categorias!$A:$B,2,FALSE)","v":{"$error":"#N/A"}}]
[{"$f":"VLOOKUP(B9506,Categorias!$A:$B,2,FALSE)","v":{"$error":"#N/A"}}]
[{"$f":"VLOOKUP(B9507,Categorias!$A:$B,2,FALSE)","v":{"$error":"#N/A"}}]
[{"$f":"VLOOKUP(B9508,Categorias!$A:$B,2,FALSE)","v":{"$error":"#N/A"}}]
[{"$f":"VLOOKUP(B9509,Categorias!$A:$B,2,FALSE)","v":{"$error":"#N/A"}}]
[{"$f":"VLOOKUP(B9510,Categorias!$A:$B,2,FALSE)","v":{"$error":"#N/A"}}]
[{"$f":"VLOOKUP(B9511,Categorias!$A:$B,2,FALSE)","v":{"$error":"#N/A"}}]
[{"$f":"VLOOKUP(B9512,Categorias!$A:$B,2,FALSE)","v":{"$error":"#N/A"}}]
[{"$f":"VLOOKUP(B9513,Categorias!$A:$B,2,FALSE)","v":{"$error":"#N/A"}}]
[{"$f":"VLOOKUP(B9514,Categorias!$A:$B,2,FALSE)","v":{"$error":"#N/A"}}]
[{"$f":"VLOOKUP(B9515,Categorias!$A:$B,2,FALSE)","v":{"$error":"#N/A"}}]
[{"$f":"VLOOKUP(B9516,Categorias!$A:$B,2,FALSE)","v":{"$error":"#N/A"}}]
[{"$f":"VLOOKUP(B9517,Categorias!$A:$B,2,FALSE)","v":{"$error":"#N/A"}}]
[{"$f":"VLOOKUP(B9518,Categorias!$A:$B,2,FALSE)","v":{"$error":"#N/A"}}]
[{"$f":"VLOOKUP(B9519,Categorias!$A:$B,2,FALSE)","v":{"$error":"#N/A"}}]
[{"$f":"VLOOKUP(B9520,Categorias!$A:$B,2,FALSE)","v":{"$error":"#N/A"}}]
[{"$f":"VLOOKUP(B9521,Categorias!$A:$B,2,FALSE)","v":{"$error":"#N/A"}}]
[{"$f":"VLOOKUP(B9522,Categorias!$A:$B,2,FALSE)","v":{"$error":"#N/A"}}]
[{"$f":"VLOOKUP(B9523,Categorias!$A:$B,2,FALSE)","v":{"$error":"#N/A"}}]
[{"$f":"VLOOKUP(B9524,Categorias!$A:$B,2,FALSE)","v":{"$error":"#N/A"}}]
[{"$f":"VLOOKUP(B9525,Categorias!$A:$B,2,FALSE)","v":{"$error":"#N/A"}}]
[{"$f":"VLOOKUP(B9526,Categorias!$A:$B,2,FALSE)","v":{"$error":"#N/A"}}]
[{"$f":"VLOOKUP(B9527,Categorias!$A:$B,2,FALSE)","v":{"$error":"#N/A"}}]
[{"$f":"VLOOKUP(B9528,Categorias!$A:$B,2,FALSE)","v":{"$error":"#N/A"}}]
[{"$f":"VLOOKUP(B9529,Categorias!$A:$B,2,FALSE)","v":{"$error":"#N/A"}}]
[{"$f":"VLOOKUP(B9530,Categorias!$A:$B,2,FALSE)","v":{"$error":"#N/A"}}]
[{"$f":"VLOOKUP(B9531,Categorias!$A:$B,2,FALSE)","v":{"$error":"#N/A"}}]
[{"$f":"VLOOKUP(B9532,Categorias!$A:$B,2,FALSE)","v":{"$error":"#N/A"}}]
[{"$f":"VLOOKUP(B9533,Categorias!$A:$B,2,FALSE)","v":{"$error":"#N/A"}}]
[{"$f":"VLOOKUP(B9534,Categorias!$A:$B,2,FALSE)","v":{"$error":"#N/A"}}]
[{"$f":"VLOOKUP(B9535,Categorias!$A:$B,2,FALSE)","v":{"$error":"#N/A"}}]
[{"$f":"VLOOKUP(B9536,Categorias!$A:$B,2,FALSE)","v":{"$error":"#N/A"}}]
[{"$f":"VLOOKUP(B9537,Categorias!$A:$B,2,FALSE)","v":{"$error":"#N/A"}}]
[{"$f":"VLOOKUP(B9538,Categorias!$A:$B,2,FALSE)","v":{"$error":"#N/A"}}]
[{"$f":"VLOOKUP(B9539,Categorias!$A:$B,2,FALSE)","v":{"$error":"#N/A"}}]
[{"$f":"VLOOKUP(B9540,Categorias!$A:$B,2,FALSE)","v":{"$error":"#N/A"}}]
[{"$f":"VLOOKUP(B9541,Categorias!$A:$B,2,FALSE)","v":{"$error":"#N/A"}}]
[{"$f":"VLOOKUP(B9542,Categorias!$A:$B,2,FALSE)","v":{"$error":"#N/A"}}]
[{"$f":"VLOOKUP(B9543,Categorias!$A:$B,2,FALSE)","v":{"$error":"#N/A"}}]
[{"$f":"VLOOKUP(B9544,Categorias!$A:$B,2,FALSE)","v":{"$error":"#N/A"}}]
[{"$f":"VLOOKUP(B9545,Categorias!$A:$B,2,FALSE)","v":{"$error":"#N/A"}}]
[{"$f":"VLOOKUP(B9546,Categorias!$A:$B,2,FALSE)","v":{"$error":"#N/A"}}]
[{"$f":"VLOOKUP(B9547,Categorias!$A:$B,2,FALSE)","v":{"$error":"#N/A"}}]
[{"$f":"VLOOKUP(B9548,Categorias!$A:$B,2,FALSE)","v":{"$error":"#N/A"}}]
[{"$f":"VLOOKUP(B9549,Categorias!$A:$B,2,FALSE)","v":{"$error":"#N/A"}}]
[{"$f":"VLOOKUP(B9550,Categorias!$A:$B,2,FALSE)","v":{"$error":"#N/A"}}]
[{"$f":"VLOOKUP(B9551,Categorias!$A:$B,2,FALSE)","v":{"$error":"#N/A"}}]
[{"$f":"VLOOKUP(B9552,Categorias!$A:$B,2,FALSE)","v":{"$error":"#N/A"}}]
[{"$f":"VLOOKUP(B9553,Categorias!$A:$B,2,FALSE)","v":{"$error":"#N/A"}}]
[{"$f":"VLOOKUP(B9554,Categorias!$A:$B,2,FALSE)","v":{"$error":"#N/A"}}]
[{"$f":"VLOOKUP(B9555,Categorias!$A:$B,2,FALSE)","v":{"$error":"#N/A"}}]
[{"$f":"VLOOKUP(B9556,Categorias!$A:$B,2,FALSE)","v":{"$error":"#N/A"}}]
[{"$f":"VLOOKUP(B9557,Categorias!$A:$B,2,FALSE)","v":{"$error":"#N/A"}}]
[{"$f":"VLOOKUP(B9558,Categorias!$A:$B,2,FALSE)","v":{"$error":"#N/A"}}]
[{"$f":"VLOOKUP(B9559,Categorias!$A:$B,2,FALSE)","v":{"$error":"#N/A"}}]
[{"$f":"VLOOKUP(B9560,Categorias!$A:$B,2,FALSE)","v":{"$error":"#N/A"}}]
[{"$f":"VLOOKUP(B9561,Categorias!$A:$B,2,FALSE)","v":{"$error":"#N/A"}}]
[{"$f":"VLOOKUP(B9562,Categorias!$A:$B,2,FALSE)","v":{"$error":"#N/A"}}]
[{"$f":"VLOOKUP(B9563,Categorias!$A:$B,2,FALSE)","v":{"$error":"#N/A"}}]
[{"$f":"VLOOKUP(B9564,Categorias!$A:$B,2,FALSE)","v":{"$error":"#N/A"}}]
[{"$f":"VLOOKUP(B9565,Categorias!$A:$B,2,FALSE)","v":{"$error":"#N/A"}}]
[{"$f":"VLOOKUP(B9566,Categorias!$A:$B,2,FALSE)","v":{"$error":"#N/A"}}]
[{"$f":"VLOOKUP(B9567,Categorias!$A:$B,2,FALSE)","v":{"$error":"#N/A"}}]
[{"$f":"VLOOKUP(B9568,Categorias!$A:$B,2,FALSE)","v":{"$error":"#N/A"}}]
[{"$f":"VLOOKUP(B9569,Categorias!$A:$B,2,FALSE)","v":{"$error":"#N/A"}}]
[{"$f":"VLOOKUP(B9570,Categorias!$A:$B,2,FALSE)","v":{"$error":"#N/A"}}]
[{"$f":"VLOOKUP(B9571,Categorias!$A:$B,2,FALSE)","v":{"$error":"#N/A"}}]
[{"$f":"VLOOKUP(B9572,Categorias!$A:$B,2,FALSE)","v":{"$error":"#N/A"}}]
[{"$f":"VLOOKUP(B9573,Categorias!$A:$B,2,FALSE)","v":{"$error":"#N/A"}}]
[{"$f":"VLOOKUP(B9574,Categorias!$A:$B,2,FALSE)","v":{"$error":"#N/A"}}]
[{"$f":"VLOOKUP(B9575,Categorias!$A:$B,2,FALSE)","v":{"$error":"#N/A"}}]
[{"$f":"VLOOKUP(B9576,Categorias!$A:$B,2,FALSE)","v":{"$error":"#N/A"}}]
[{"$f":"VLOOKUP(B9577,Categorias!$A:$B,2,FALSE)","v":{"$error":"#N/A"}}]
[{"$f":"VLOOKUP(B9578,Categorias!$A:$B,2,FALSE)","v":{"$error":"#N/A"}}]
[{"$f":"VLOOKUP(B9579,Categorias!$A:$B,2,FALSE)","v":{"$error":"#N/A"}}]
[{"$f":"VLOOKUP(B9580,Categorias!$A:$B,2,FALSE)","v":{"$error":"#N/A"}}]
[{"$f":"VLOOKUP(B9581,Categorias!$A:$B,2,FALSE)","v":{"$error":"#N/A"}}]
[{"$f":"VLOOKUP(B9582,Categorias!$A:$B,2,FALSE)","v":{"$error":"#N/A"}}]
[{"$f":"VLOOKUP(B9583,Categorias!$A:$B,2,FALSE)","v":{"$error":"#N/A"}}]
[{"$f":"VLOOKUP(B9584,Categorias!$A:$B,2,FALSE)","v":{"$error":"#N/A"}}]
[{"$f":"VLOOKUP(B9585,Categorias!$A:$B,2,FALSE)","v":{"$error":"#N/A"}}]
[{"$f":"VLOOKUP(B9586,Categorias!$A:$B,2,FALSE)","v":{"$error":"#N/A"}}]
[{"$f":"VLOOKUP(B9587,Categorias!$A:$B,2,FALSE)","v":{"$error":"#N/A"}}]
[{"$f":"VLOOKUP(B9588,Categorias!$A:$B,2,FALSE)","v":{"$error":"#N/A"}}]
[{"$f":"VLOOKUP(B9589,Categorias!$A:$B,2,FALSE)","v":{"$error":"#N/A"}}]
[{"$f":"VLOOKUP(B9590,Categorias!$A:$B,2,FALSE)","v":{"$error":"#N/A"}}]
[{"$f":"VLOOKUP(B9591,Categorias!$A:$B,2,FALSE)","v":{"$error":"#N/A"}}]
[{"$f":"VLOOKUP(B9592,Categorias!$A:$B,2,FALSE)","v":{"$error":"#N/A"}}]
[{"$f":"VLOOKUP(B9593,Categorias!$A:$B,2,FALSE)","v":{"$error":"#N/A"}}]
[{"$f":"VLOOKUP(B9594,Categorias!$A:$B,2,FALSE)","v":{"$error":"#N/A"}}]
[{"$f":"VLOOKUP(B9595,Categorias!$A:$B,2,FALSE)","v":{"$error":"#N/A"}}]
[{"$f":"VLOOKUP(B9596,Categorias!$A:$B,2,FALSE)","v":{"$error":"#N/A"}}]
[{"$f":"VLOOKUP(B9597,Categorias!$A:$B,2,FALSE)","v":{"$error":"#N/A"}}]
[{"$f":"VLOOKUP(B9598,Categorias!$A:$B,2,FALSE)","v":{"$error":"#N/A"}}]
[{"$f":"VLOOKUP(B9599,Categorias!$A:$B,2,FALSE)","v":{"$error":"#N/A"}}]
[{"$f":"VLOOKUP(B9600,Categorias!$A:$B,2,FALSE)","v":{"$error":"#N/A"}}]
[{"$f":"VLOOKUP(B9601,Categorias!$A:$B,2,FALSE)","v":{"$error":"#N/A"}}]
[{"$f":"VLOOKUP(B9602,Categorias!$A:$B,2,FALSE)","v":{"$error":"#N/A"}}]
[{"$f":"VLOOKUP(B9603,Categorias!$A:$B,2,FALSE)","v":{"$error":"#N/A"}}]
[{"$f":"VLOOKUP(B9604,Categorias!$A:$B,2,FALSE)","v":{"$error":"#N/A"}}]
[{"$f":"VLOOKUP(B9605,Categorias!$A:$B,2,FALSE)","v":{"$error":"#N/A"}}]
[{"$f":"VLOOKUP(B9606,Categorias!$A:$B,2,FALSE)","v":{"$error":"#N/A"}}]
[{"$f":"VLOOKUP(B9607,Categorias!$A:$B,2,FALSE)","v":{"$error":"#N/A"}}]
[{"$f":"VLOOKUP(B9608,Categorias!$A:$B,2,FALSE)","v":{"$error":"#N/A"}}]
[{"$f":"VLOOKUP(B9609,Categorias!$A:$B,2,FALSE)","v":{"$error":"#N/A"}}]
[{"$f":"VLOOKUP(B9610,Categorias!$A:$B,2,FALSE)","v":{"$error":"#N/A"}}]
[{"$f":"VLOOKUP(B9611,Categorias!$A:$B,2,FALSE)","v":{"$error":"#N/A"}}]
[{"$f":"VLOOKUP(B9612,Categorias!$A:$B,2,FALSE)","v":{"$error":"#N/A"}}]
[{"$f":"VLOOKUP(B9613,Categorias!$A:$B,2,FALSE)","v":{"$error":"#N/A"}}]
[{"$f":"VLOOKUP(B9614,Categorias!$A:$B,2,FALSE)","v":{"$error":"#N/A"}}]
[{"$f":"VLOOKUP(B9615,Categorias!$A:$B,2,FALSE)","v":{"$error":"#N/A"}}]
[{"$f":"VLOOKUP(B9616,Categorias!$A:$B,2,FALSE)","v":{"$error":"#N/A"}}]
[{"$f":"VLOOKUP(B9617,Categorias!$A:$B,2,FALSE)","v":{"$error":"#N/A"}}]
[{"$f":"VLOOKUP(B9618,Categorias!$A:$B,2,FALSE)","v":{"$error":"#N/A"}}]
[{"$f":"VLOOKUP(B9619,Categorias!$A:$B,2,FALSE)","v":{"$error":"#N/A"}}]
[{"$f":"VLOOKUP(B9620,Categorias!$A:$B,2,FALSE)","v":{"$error":"#N/A"}}]
[{"$f":"VLOOKUP(B9621,Categorias!$A:$B,2,FALSE)","v":{"$error":"#N/A"}}]
[{"$f":"VLOOKUP(B9622,Categorias!$A:$B,2,FALSE)","v":{"$error":"#N/A"}}]
[{"$f":"VLOOKUP(B9623,Categorias!$A:$B,2,FALSE)","v":{"$error":"#N/A"}}]
[{"$f":"VLOOKUP(B9624,Categorias!$A:$B,2,FALSE)","v":{"$error":"#N/A"}}]
[{"$f":"VLOOKUP(B9625,Categorias!$A:$B,2,FALSE)","v":{"$error":"#N/A"}}]
[{"$f":"VLOOKUP(B9626,Categorias!$A:$B,2,FALSE)","v":{"$error":"#N/A"}}]
[{"$f":"VLOOKUP(B9627,Categorias!$A:$B,2,FALSE)","v":{"$error":"#N/A"}}]
[{"$f":"VLOOKUP(B9628,Categorias!$A:$B,2,FALSE)","v":{"$error":"#N/A"}}]
[{"$f":"VLOOKUP(B9629,Categorias!$A:$B,2,FALSE)","v":{"$error":"#N/A"}}]
[{"$f":"VLOOKUP(B9630,Categorias!$A:$B,2,FALSE)","v":{"$error":"#N/A"}}]
[{"$f":"VLOOKUP(B9631,Categorias!$A:$B,2,FALSE)","v":{"$error":"#N/A"}}]
[{"$f":"VLOOKUP(B9632,Categorias!$A:$B,2,FALSE)","v":{"$error":"#N/A"}}]
[{"$f":"VLOOKUP(B9633,Categorias!$A:$B,2,FALSE)","v":{"$error":"#N/A"}}]
[{"$f":"VLOOKUP(B9634,Categorias!$A:$B,2,FALSE)","v":{"$error":"#N/A"}}]
[{"$f":"VLOOKUP(B9635,Categorias!$A:$B,2,FALSE)","v":{"$error":"#N/A"}}]
[{"$f":"VLOOKUP(B9636,Categorias!$A:$B,2,FALSE)","v":{"$error":"#N/A"}}]
[{"$f":"VLOOKUP(B9637,Categorias!$A:$B,2,FALSE)","v":{"$error":"#N/A"}}]
[{"$f":"VLOOKUP(B9638,Categorias!$A:$B,2,FALSE)","v":{"$error":"#N/A"}}]
[{"$f":"VLOOKUP(B9639,Categorias!$A:$B,2,FALSE)","v":{"$error":"#N/A"}}]
[{"$f":"VLOOKUP(B9640,Categorias!$A:$B,2,FALSE)","v":{"$error":"#N/A"}}]
[{"$f":"VLOOKUP(B9641,Categorias!$A:$B,2,FALSE)","v":{"$error":"#N/A"}}]
[{"$f":"VLOOKUP(B9642,Categorias!$A:$B,2,FALSE)","v":{"$error":"#N/A"}}]
[{"$f":"VLOOKUP(B9643,Categorias!$A:$B,2,FALSE)","v":{"$error":"#N/A"}}]
[{"$f":"VLOOKUP(B9644,Categorias!$A:$B,2,FALSE)","v":{"$error":"#N/A"}}]
[{"$f":"VLOOKUP(B9645,Categorias!$A:$B,2,FALSE)","v":{"$error":"#N/A"}}]
[{"$f":"VLOOKUP(B9646,Categorias!$A:$B,2,FALSE)","v":{"$error":"#N/A"}}]
[{"$f":"VLOOKUP(B9647,Categorias!$A:$B,2,FALSE)","v":{"$error":"#N/A"}}]
[{"$f":"VLOOKUP(B9648,Categorias!$A:$B,2,FALSE)","v":{"$error":"#N/A"}}]
[{"$f":"VLOOKUP(B9649,Categorias!$A:$B,2,FALSE)","v":{"$error":"#N/A"}}]
[{"$f":"VLOOKUP(B9650,Categorias!$A:$B,2,FALSE)","v":{"$error":"#N/A"}}]
[{"$f":"VLOOKUP(B9651,Categorias!$A:$B,2,FALSE)","v":{"$error":"#N/A"}}]
[{"$f":"VLOOKUP(B9652,Categorias!$A:$B,2,FALSE)","v":{"$error":"#N/A"}}]
[{"$f":"VLOOKUP(B9653,Categorias!$A:$B,2,FALSE)","v":{"$error":"#N/A"}}]
[{"$f":"VLOOKUP(B9654,Categorias!$A:$B,2,FALSE)","v":{"$error":"#N/A"}}]
[{"$f":"VLOOKUP(B9655,Categorias!$A:$B,2,FALSE)","v":{"$error":"#N/A"}}]
[{"$f":"VLOOKUP(B9656,Categorias!$A:$B,2,FALSE)","v":{"$error":"#N/A"}}]
[{"$f":"VLOOKUP(B9657,Categorias!$A:$B,2,FALSE)","v":{"$error":"#N/A"}}]
[{"$f":"VLOOKUP(B9658,Categorias!$A:$B,2,FALSE)","v":{"$error":"#N/A"}}]
[{"$f":"VLOOKUP(B9659,Categorias!$A:$B,2,FALSE)","v":{"$error":"#N/A"}}]
[{"$f":"VLOOKUP(B9660,Categorias!$A:$B,2,FALSE)","v":{"$error":"#N/A"}}]
[{"$f":"VLOOKUP(B9661,Categorias!$A:$B,2,FALSE)","v":{"$error":"#N/A"}}]
[{"$f":"VLOOKUP(B9662,Categorias!$A:$B,2,FALSE)","v":{"$error":"#N/A"}}]
[{"$f":"VLOOKUP(B9663,Categorias!$A:$B,2,FALSE)","v":{"$error":"#N/A"}}]
[{"$f":"VLOOKUP(B9664,Categorias!$A:$B,2,FALSE)","v":{"$error":"#N/A"}}]
[{"$f":"VLOOKUP(B9665,Categorias!$A:$B,2,FALSE)","v":{"$error":"#N/A"}}]
[{"$f":"VLOOKUP(B9666,Categorias!$A:$B,2,FALSE)","v":{"$error":"#N/A"}}]
[{"$f":"VLOOKUP(B9667,Categorias!$A:$B,2,FALSE)","v":{"$error":"#N/A"}}]
[{"$f":"VLOOKUP(B9668,Categorias!$A:$B,2,FALSE)","v":{"$error":"#N/A"}}]
[{"$f":"VLOOKUP(B9669,Categorias!$A:$B,2,FALSE)","v":{"$error":"#N/A"}}]
[{"$f":"VLOOKUP(B9670,Categorias!$A:$B,2,FALSE)","v":{"$error":"#N/A"}}]
[{"$f":"VLOOKUP(B9671,Categorias!$A:$B,2,FALSE)","v":{"$error":"#N/A"}}]
[{"$f":"VLOOKUP(B9672,Categorias!$A:$B,2,FALSE)","v":{"$error":"#N/A"}}]
[{"$f":"VLOOKUP(B9673,Categorias!$A:$B,2,FALSE)","v":{"$error":"#N/A"}}]
[{"$f":"VLOOKUP(B9674,Categorias!$A:$B,2,FALSE)","v":{"$error":"#N/A"}}]
[{"$f":"VLOOKUP(B9675,Categorias!$A:$B,2,FALSE)","v":{"$error":"#N/A"}}]
[{"$f":"VLOOKUP(B9676,Categorias!$A:$B,2,FALSE)","v":{"$error":"#N/A"}}]
[{"$f":"VLOOKUP(B9677,Categorias!$A:$B,2,FALSE)","v":{"$error":"#N/A"}}]
[{"$f":"VLOOKUP(B9678,Categorias!$A:$B,2,FALSE)","v":{"$error":"#N/A"}}]
[{"$f":"VLOOKUP(B9679,Categorias!$A:$B,2,FALSE)","v":{"$error":"#N/A"}}]
[{"$f":"VLOOKUP(B9680,Categorias!$A:$B,2,FALSE)","v":{"$error":"#N/A"}}]
[{"$f":"VLOOKUP(B9681,Categorias!$A:$B,2,FALSE)","v":{"$error":"#N/A"}}]
[{"$f":"VLOOKUP(B9682,Categorias!$A:$B,2,FALSE)","v":{"$error":"#N/A"}}]
[{"$f":"VLOOKUP(B9683,Categorias!$A:$B,2,FALSE)","v":{"$error":"#N/A"}}]
[{"$f":"VLOOKUP(B9684,Categorias!$A:$B,2,FALSE)","v":{"$error":"#N/A"}}]
[{"$f":"VLOOKUP(B9685,Categorias!$A:$B,2,FALSE)","v":{"$error":"#N/A"}}]
[{"$f":"VLOOKUP(B9686,Categorias!$A:$B,2,FALSE)","v":{"$error":"#N/A"}}]
[{"$f":"VLOOKUP(B9687,Categorias!$A:$B,2,FALSE)","v":{"$error":"#N/A"}}]
[{"$f":"VLOOKUP(B9688,Categorias!$A:$B,2,FALSE)","v":{"$error":"#N/A"}}]
[{"$f":"VLOOKUP(B9689,Categorias!$A:$B,2,FALSE)","v":{"$error":"#N/A"}}]
[{"$f":"VLOOKUP(B9690,Categorias!$A:$B,2,FALSE)","v":{"$error":"#N/A"}}]
[{"$f":"VLOOKUP(B9691,Categorias!$A:$B,2,FALSE)","v":{"$error":"#N/A"}}]
[{"$f":"VLOOKUP(B9692,Categorias!$A:$B,2,FALSE)","v":{"$error":"#N/A"}}]
[{"$f":"VLOOKUP(B9693,Categorias!$A:$B,2,FALSE)","v":{"$error":"#N/A"}}]
[{"$f":"VLOOKUP(B9694,Categorias!$A:$B,2,FALSE)","v":{"$error":"#N/A"}}]
[{"$f":"VLOOKUP(B9695,Categorias!$A:$B,2,FALSE)","v":{"$error":"#N/A"}}]
[{"$f":"VLOOKUP(B9696,Categorias!$A:$B,2,FALSE)","v":{"$error":"#N/A"}}]
[{"$f":"VLOOKUP(B9697,Categorias!$A:$B,2,FALSE)","v":{"$error":"#N/A"}}]
[{"$f":"VLOOKUP(B9698,Categorias!$A:$B,2,FALSE)","v":{"$error":"#N/A"}}]
[{"$f":"VLOOKUP(B9699,Categorias!$A:$B,2,FALSE)","v":{"$error":"#N/A"}}]
[{"$f":"VLOOKUP(B9700,Categorias!$A:$B,2,FALSE)","v":{"$error":"#N/A"}}]
[{"$f":"VLOOKUP(B9701,Categorias!$A:$B,2,FALSE)","v":{"$error":"#N/A"}}]
[{"$f":"VLOOKUP(B9702,Categorias!$A:$B,2,FALSE)","v":{"$error":"#N/A"}}]
[{"$f":"VLOOKUP(B9703,Categorias!$A:$B,2,FALSE)","v":{"$error":"#N/A"}}]
[{"$f":"VLOOKUP(B9704,Categorias!$A:$B,2,FALSE)","v":{"$error":"#N/A"}}]
[{"$f":"VLOOKUP(B9705,Categorias!$A:$B,2,FALSE)","v":{"$error":"#N/A"}}]
[{"$f":"VLOOKUP(B9706,Categorias!$A:$B,2,FALSE)","v":{"$error":"#N/A"}}]
[{"$f":"VLOOKUP(B9707,Categorias!$A:$B,2,FALSE)","v":{"$error":"#N/A"}}]
[{"$f":"VLOOKUP(B9708,Categorias!$A:$B,2,FALSE)","v":{"$error":"#N/A"}}]
[{"$f":"VLOOKUP(B9709,Categorias!$A:$B,2,FALSE)","v":{"$error":"#N/A"}}]
[{"$f":"VLOOKUP(B9710,Categorias!$A:$B,2,FALSE)","v":{"$error":"#N/A"}}]
[{"$f":"VLOOKUP(B9711,Categorias!$A:$B,2,FALSE)","v":{"$error":"#N/A"}}]
[{"$f":"VLOOKUP(B9712,Categorias!$A:$B,2,FALSE)","v":{"$error":"#N/A"}}]
[{"$f":"VLOOKUP(B9713,Categorias!$A:$B,2,FALSE)","v":{"$error":"#N/A"}}]
[{"$f":"VLOOKUP(B9714,Categorias!$A:$B,2,FALSE)","v":{"$error":"#N/A"}}]
[{"$f":"VLOOKUP(B9715,Categorias!$A:$B,2,FALSE)","v":{"$error":"#N/A"}}]
[{"$f":"VLOOKUP(B9716,Categorias!$A:$B,2,FALSE)","v":{"$error":"#N/A"}}]
[{"$f":"VLOOKUP(B9717,Categorias!$A:$B,2,FALSE)","v":{"$error":"#N/A"}}]
[{"$f":"VLOOKUP(B9718,Categorias!$A:$B,2,FALSE)","v":{"$error":"#N/A"}}]
[{"$f":"VLOOKUP(B9719,Categorias!$A:$B,2,FALSE)","v":{"$error":"#N/A"}}]
[{"$f":"VLOOKUP(B9720,Categorias!$A:$B,2,FALSE)","v":{"$error":"#N/A"}}]
[{"$f":"VLOOKUP(B9721,Categorias!$A:$B,2,FALSE)","v":{"$error":"#N/A"}}]
[{"$f":"VLOOKUP(B9722,Categorias!$A:$B,2,FALSE)","v":{"$error":"#N/A"}}]
[{"$f":"VLOOKUP(B9723,Categorias!$A:$B,2,FALSE)","v":{"$error":"#N/A"}}]
[{"$f":"VLOOKUP(B9724,Categorias!$A:$B,2,FALSE)","v":{"$error":"#N/A"}}]
[{"$f":"VLOOKUP(B9725,Categorias!$A:$B,2,FALSE)","v":{"$error":"#N/A"}}]
[{"$f":"VLOOKUP(B9726,Categorias!$A:$B,2,FALSE)","v":{"$error":"#N/A"}}]
[{"$f":"VLOOKUP(B9727,Categorias!$A:$B,2,FALSE)","v":{"$error":"#N/A"}}]
[{"$f":"VLOOKUP(B9728,Categorias!$A:$B,2,FALSE)","v":{"$error":"#N/A"}}]
[{"$f":"VLOOKUP(B9729,Categorias!$A:$B,2,FALSE)","v":{"$error":"#N/A"}}]
[{"$f":"VLOOKUP(B9730,Categorias!$A:$B,2,FALSE)","v":{"$error":"#N/A"}}]
[{"$f":"VLOOKUP(B9731,Categorias!$A:$B,2,FALSE)","v":{"$error":"#N/A"}}]
[{"$f":"VLOOKUP(B9732,Categorias!$A:$B,2,FALSE)","v":{"$error":"#N/A"}}]
[{"$f":"VLOOKUP(B9733,Categorias!$A:$B,2,FALSE)","v":{"$error":"#N/A"}}]
[{"$f":"VLOOKUP(B9734,Categorias!$A:$B,2,FALSE)","v":{"$error":"#N/A"}}]
[{"$f":"VLOOKUP(B9735,Categorias!$A:$B,2,FALSE)","v":{"$error":"#N/A"}}]
[{"$f":"VLOOKUP(B9736,Categorias!$A:$B,2,FALSE)","v":{"$error":"#N/A"}}]
[{"$f":"VLOOKUP(B9737,Categorias!$A:$B,2,FALSE)","v":{"$error":"#N/A"}}]
[{"$f":"VLOOKUP(B9738,Categorias!$A:$B,2,FALSE)","v":{"$error":"#N/A"}}]
[{"$f":"VLOOKUP(B9739,Categorias!$A:$B,2,FALSE)","v":{"$error":"#N/A"}}]
[{"$f":"VLOOKUP(B9740,Categorias!$A:$B,2,FALSE)","v":{"$error":"#N/A"}}]
[{"$f":"VLOOKUP(B9741,Categorias!$A:$B,2,FALSE)","v":{"$error":"#N/A"}}]
[{"$f":"VLOOKUP(B9742,Categorias!$A:$B,2,FALSE)","v":{"$error":"#N/A"}}]
[{"$f":"VLOOKUP(B9743,Categorias!$A:$B,2,FALSE)","v":{"$error":"#N/A"}}]
[{"$f":"VLOOKUP(B9744,Categorias!$A:$B,2,FALSE)","v":{"$error":"#N/A"}}]
[{"$f":"VLOOKUP(B9745,Categorias!$A:$B,2,FALSE)","v":{"$error":"#N/A"}}]
[{"$f":"VLOOKUP(B9746,Categorias!$A:$B,2,FALSE)","v":{"$error":"#N/A"}}]
[{"$f":"VLOOKUP(B9747,Categorias!$A:$B,2,FALSE)","v":{"$error":"#N/A"}}]
[{"$f":"VLOOKUP(B9748,Categorias!$A:$B,2,FALSE)","v":{"$error":"#N/A"}}]
[{"$f":"VLOOKUP(B9749,Categorias!$A:$B,2,FALSE)","v":{"$error":"#N/A"}}]
[{"$f":"VLOOKUP(B9750,Categorias!$A:$B,2,FALSE)","v":{"$error":"#N/A"}}]
[{"$f":"VLOOKUP(B9751,Categorias!$A:$B,2,FALSE)","v":{"$error":"#N/A"}}]
[{"$f":"VLOOKUP(B9752,Categorias!$A:$B,2,FALSE)","v":{"$error":"#N/A"}}]
[{"$f":"VLOOKUP(B9753,Categorias!$A:$B,2,FALSE)","v":{"$error":"#N/A"}}]
[{"$f":"VLOOKUP(B9754,Categorias!$A:$B,2,FALSE)","v":{"$error":"#N/A"}}]
[{"$f":"VLOOKUP(B9755,Categorias!$A:$B,2,FALSE)","v":{"$error":"#N/A"}}]
[{"$f":"VLOOKUP(B9756,Categorias!$A:$B,2,FALSE)","v":{"$error":"#N/A"}}]
[{"$f":"VLOOKUP(B9757,Categorias!$A:$B,2,FALSE)","v":{"$error":"#N/A"}}]
[{"$f":"VLOOKUP(B9758,Categorias!$A:$B,2,FALSE)","v":{"$error":"#N/A"}}]
[{"$f":"VLOOKUP(B9759,Categorias!$A:$B,2,FALSE)","v":{"$error":"#N/A"}}]
[{"$f":"VLOOKUP(B9760,Categorias!$A:$B,2,FALSE)","v":{"$error":"#N/A"}}]
[{"$f":"VLOOKUP(B9761,Categorias!$A:$B,2,FALSE)","v":{"$error":"#N/A"}}]
[{"$f":"VLOOKUP(B9762,Categorias!$A:$B,2,FALSE)","v":{"$error":"#N/A"}}]
[{"$f":"VLOOKUP(B9763,Categorias!$A:$B,2,FALSE)","v":{"$error":"#N/A"}}]
[{"$f":"VLOOKUP(B9764,Categorias!$A:$B,2,FALSE)","v":{"$error":"#N/A"}}]
[{"$f":"VLOOKUP(B9765,Categorias!$A:$B,2,FALSE)","v":{"$error":"#N/A"}}]
[{"$f":"VLOOKUP(B9766,Categorias!$A:$B,2,FALSE)","v":{"$error":"#N/A"}}]
[{"$f":"VLOOKUP(B9767,Categorias!$A:$B,2,FALSE)","v":{"$error":"#N/A"}}]
[{"$f":"VLOOKUP(B9768,Categorias!$A:$B,2,FALSE)","v":{"$error":"#N/A"}}]
[{"$f":"VLOOKUP(B9769,Categorias!$A:$B,2,FALSE)","v":{"$error":"#N/A"}}]
[{"$f":"VLOOKUP(B9770,Categorias!$A:$B,2,FALSE)","v":{"$error":"#N/A"}}]
[{"$f":"VLOOKUP(B9771,Categorias!$A:$B,2,FALSE)","v":{"$error":"#N/A"}}]
[{"$f":"VLOOKUP(B9772,Categorias!$A:$B,2,FALSE)","v":{"$error":"#N/A"}}]
[{"$f":"VLOOKUP(B9773,Categorias!$A:$B,2,FALSE)","v":{"$error":"#N/A"}}]
[{"$f":"VLOOKUP(B9774,Categorias!$A:$B,2,FALSE)","v":{"$error":"#N/A"}}]
[{"$f":"VLOOKUP(B9775,Categorias!$A:$B,2,FALSE)","v":{"$error":"#N/A"}}]
[{"$f":"VLOOKUP(B9776,Categorias!$A:$B,2,FALSE)","v":{"$error":"#N/A"}}]
[{"$f":"VLOOKUP(B9777,Categorias!$A:$B,2,FALSE)","v":{"$error":"#N/A"}}]
[{"$f":"VLOOKUP(B9778,Categorias!$A:$B,2,FALSE)","v":{"$error":"#N/A"}}]
[{"$f":"VLOOKUP(B9779,Categorias!$A:$B,2,FALSE)","v":{"$error":"#N/A"}}]
[{"$f":"VLOOKUP(B9780,Categorias!$A:$B,2,FALSE)","v":{"$error":"#N/A"}}]
[{"$f":"VLOOKUP(B9781,Categorias!$A:$B,2,FALSE)","v":{"$error":"#N/A"}}]
[{"$f":"VLOOKUP(B9782,Categorias!$A:$B,2,FALSE)","v":{"$error":"#N/A"}}]
[{"$f":"VLOOKUP(B9783,Categorias!$A:$B,2,FALSE)","v":{"$error":"#N/A"}}]
[{"$f":"VLOOKUP(B9784,Categorias!$A:$B,2,FALSE)","v":{"$error":"#N/A"}}]
[{"$f":"VLOOKUP(B9785,Categorias!$A:$B,2,FALSE)","v":{"$error":"#N/A"}}]
[{"$f":"VLOOKUP(B9786,Categorias!$A:$B,2,FALSE)","v":{"$error":"#N/A"}}]
[{"$f":"VLOOKUP(B9787,Categorias!$A:$B,2,FALSE)","v":{"$error":"#N/A"}}]
[{"$f":"VLOOKUP(B9788,Categorias!$A:$B,2,FALSE)","v":{"$error":"#N/A"}}]
[{"$f":"VLOOKUP(B9789,Categorias!$A:$B,2,FALSE)","v":{"$error":"#N/A"}}]
[{"$f":"VLOOKUP(B9790,Categorias!$A:$B,2,FALSE)","v":{"$error":"#N/A"}}]
[{"$f":"VLOOKUP(B9791,Categorias!$A:$B,2,FALSE)","v":{"$error":"#N/A"}}]
[{"$f":"VLOOKUP(B9792,Categorias!$A:$B,2,FALSE)","v":{"$error":"#N/A"}}]
[{"$f":"VLOOKUP(B9793,Categorias!$A:$B,2,FALSE)","v":{"$error":"#N/A"}}]
[{"$f":"VLOOKUP(B9794,Categorias!$A:$B,2,FALSE)","v":{"$error":"#N/A"}}]
[{"$f":"VLOOKUP(B9795,Categorias!$A:$B,2,FALSE)","v":{"$error":"#N/A"}}]
[{"$f":"VLOOKUP(B9796,Categorias!$A:$B,2,FALSE)","v":{"$error":"#N/A"}}]
[{"$f":"VLOOKUP(B9797,Categorias!$A:$B,2,FALSE)","v":{"$error":"#N/A"}}]
[{"$f":"VLOOKUP(B9798,Categorias!$A:$B,2,FALSE)","v":{"$error":"#N/A"}}]
[{"$f":"VLOOKUP(B9799,Categorias!$A:$B,2,FALSE)","v":{"$error":"#N/A"}}]
[{"$f":"VLOOKUP(B9800,Categorias!$A:$B,2,FALSE)","v":{"$error":"#N/A"}}]
[{"$f":"VLOOKUP(B9801,Categorias!$A:$B,2,FALSE)","v":{"$error":"#N/A"}}]
[{"$f":"VLOOKUP(B9802,Categorias!$A:$B,2,FALSE)","v":{"$error":"#N/A"}}]
[{"$f":"VLOOKUP(B9803,Categorias!$A:$B,2,FALSE)","v":{"$error":"#N/A"}}]
[{"$f":"VLOOKUP(B9804,Categorias!$A:$B,2,FALSE)","v":{"$error":"#N/A"}}]
[{"$f":"VLOOKUP(B9805,Categorias!$A:$B,2,FALSE)","v":{"$error":"#N/A"}}]
[{"$f":"VLOOKUP(B9806,Categorias!$A:$B,2,FALSE)","v":{"$error":"#N/A"}}]
[{"$f":"VLOOKUP(B9807,Categorias!$A:$B,2,FALSE)","v":{"$error":"#N/A"}}]
[{"$f":"VLOOKUP(B9808,Categorias!$A:$B,2,FALSE)","v":{"$error":"#N/A"}}]
[{"$f":"VLOOKUP(B9809,Categorias!$A:$B,2,FALSE)","v":{"$error":"#N/A"}}]
[{"$f":"VLOOKUP(B9810,Categorias!$A:$B,2,FALSE)","v":{"$error":"#N/A"}}]
[{"$f":"VLOOKUP(B9811,Categorias!$A:$B,2,FALSE)","v":{"$error":"#N/A"}}]
[{"$f":"VLOOKUP(B9812,Categorias!$A:$B,2,FALSE)","v":{"$error":"#N/A"}}]
[{"$f":"VLOOKUP(B9813,Categorias!$A:$B,2,FALSE)","v":{"$error":"#N/A"}}]
[{"$f":"VLOOKUP(B9814,Categorias!$A:$B,2,FALSE)","v":{"$error":"#N/A"}}]
[{"$f":"VLOOKUP(B9815,Categorias!$A:$B,2,FALSE)","v":{"$error":"#N/A"}}]
[{"$f":"VLOOKUP(B9816,Categorias!$A:$B,2,FALSE)","v":{"$error":"#N/A"}}]
[{"$f":"VLOOKUP(B9817,Categorias!$A:$B,2,FALSE)","v":{"$error":"#N/A"}}]
[{"$f":"VLOOKUP(B9818,Categorias!$A:$B,2,FALSE)","v":{"$error":"#N/A"}}]
[{"$f":"VLOOKUP(B9819,Categorias!$A:$B,2,FALSE)","v":{"$error":"#N/A"}}]
[{"$f":"VLOOKUP(B9820,Categorias!$A:$B,2,FALSE)","v":{"$error":"#N/A"}}]
[{"$f":"VLOOKUP(B9821,Categorias!$A:$B,2,FALSE)","v":{"$error":"#N/A"}}]
[{"$f":"VLOOKUP(B9822,Categorias!$A:$B,2,FALSE)","v":{"$error":"#N/A"}}]
[{"$f":"VLOOKUP(B9823,Categorias!$A:$B,2,FALSE)","v":{"$error":"#N/A"}}]
[{"$f":"VLOOKUP(B9824,Categorias!$A:$B,2,FALSE)","v":{"$error":"#N/A"}}]
[{"$f":"VLOOKUP(B9825,Categorias!$A:$B,2,FALSE)","v":{"$error":"#N/A"}}]
[{"$f":"VLOOKUP(B9826,Categorias!$A:$B,2,FALSE)","v":{"$error":"#N/A"}}]
[{"$f":"VLOOKUP(B9827,Categorias!$A:$B,2,FALSE)","v":{"$error":"#N/A"}}]
[{"$f":"VLOOKUP(B9828,Categorias!$A:$B,2,FALSE)","v":{"$error":"#N/A"}}]
[{"$f":"VLOOKUP(B9829,Categorias!$A:$B,2,FALSE)","v":{"$error":"#N/A"}}]
[{"$f":"VLOOKUP(B9830,Categorias!$A:$B,2,FALSE)","v":{"$error":"#N/A"}}]
[{"$f":"VLOOKUP(B9831,Categorias!$A:$B,2,FALSE)","v":{"$error":"#N/A"}}]
[{"$f":"VLOOKUP(B9832,Categorias!$A:$B,2,FALSE)","v":{"$error":"#N/A"}}]
[{"$f":"VLOOKUP(B9833,Categorias!$A:$B,2,FALSE)","v":{"$error":"#N/A"}}]
[{"$f":"VLOOKUP(B9834,Categorias!$A:$B,2,FALSE)","v":{"$error":"#N/A"}}]
[{"$f":"VLOOKUP(B9835,Categorias!$A:$B,2,FALSE)","v":{"$error":"#N/A"}}]
[{"$f":"VLOOKUP(B9836,Categorias!$A:$B,2,FALSE)","v":{"$error":"#N/A"}}]
[{"$f":"VLOOKUP(B9837,Categorias!$A:$B,2,FALSE)","v":{"$error":"#N/A"}}]
[{"$f":"VLOOKUP(B9838,Categorias!$A:$B,2,FALSE)","v":{"$error":"#N/A"}}]
[{"$f":"VLOOKUP(B9839,Categorias!$A:$B,2,FALSE)","v":{"$error":"#N/A"}}]
[{"$f":"VLOOKUP(B9840,Categorias!$A:$B,2,FALSE)","v":{"$error":"#N/A"}}]
[{"$f":"VLOOKUP(B9841,Categorias!$A:$B,2,FALSE)","v":{"$error":"#N/A"}}]
[{"$f":"VLOOKUP(B9842,Categorias!$A:$B,2,FALSE)","v":{"$error":"#N/A"}}]
[{"$f":"VLOOKUP(B9843,Categorias!$A:$B,2,FALSE)","v":{"$error":"#N/A"}}]
[{"$f":"VLOOKUP(B9844,Categorias!$A:$B,2,FALSE)","v":{"$error":"#N/A"}}]
[{"$f":"VLOOKUP(B9845,Categorias!$A:$B,2,FALSE)","v":{"$error":"#N/A"}}]
[{"$f":"VLOOKUP(B9846,Categorias!$A:$B,2,FALSE)","v":{"$error":"#N/A"}}]
[{"$f":"VLOOKUP(B9847,Categorias!$A:$B,2,FALSE)","v":{"$error":"#N/A"}}]
[{"$f":"VLOOKUP(B9848,Categorias!$A:$B,2,FALSE)","v":{"$error":"#N/A"}}]
[{"$f":"VLOOKUP(B9849,Categorias!$A:$B,2,FALSE)","v":{"$error":"#N/A"}}]
[{"$f":"VLOOKUP(B9850,Categorias!$A:$B,2,FALSE)","v":{"$error":"#N/A"}}]
[{"$f":"VLOOKUP(B9851,Categorias!$A:$B,2,FALSE)","v":{"$error":"#N/A"}}]
[{"$f":"VLOOKUP(B9852,Categorias!$A:$B,2,FALSE)","v":{"$error":"#N/A"}}]
[{"$f":"VLOOKUP(B9853,Categorias!$A:$B,2,FALSE)","v":{"$error":"#N/A"}}]
[{"$f":"VLOOKUP(B9854,Categorias!$A:$B,2,FALSE)","v":{"$error":"#N/A"}}]
[{"$f":"VLOOKUP(B9855,Categorias!$A:$B,2,FALSE)","v":{"$error":"#N/A"}}]
[{"$f":"VLOOKUP(B9856,Categorias!$A:$B,2,FALSE)","v":{"$error":"#N/A"}}]
[{"$f":"VLOOKUP(B9857,Categorias!$A:$B,2,FALSE)","v":{"$error":"#N/A"}}]
[{"$f":"VLOOKUP(B9858,Categorias!$A:$B,2,FALSE)","v":{"$error":"#N/A"}}]
[{"$f":"VLOOKUP(B9859,Categorias!$A:$B,2,FALSE)","v":{"$error":"#N/A"}}]
[{"$f":"VLOOKUP(B9860,Categorias!$A:$B,2,FALSE)","v":{"$error":"#N/A"}}]
[{"$f":"VLOOKUP(B9861,Categorias!$A:$B,2,FALSE)","v":{"$error":"#N/A"}}]
[{"$f":"VLOOKUP(B9862,Categorias!$A:$B,2,FALSE)","v":{"$error":"#N/A"}}]
[{"$f":"VLOOKUP(B9863,Categorias!$A:$B,2,FALSE)","v":{"$error":"#N/A"}}]
[{"$f":"VLOOKUP(B9864,Categorias!$A:$B,2,FALSE)","v":{"$error":"#N/A"}}]
[{"$f":"VLOOKUP(B9865,Categorias!$A:$B,2,FALSE)","v":{"$error":"#N/A"}}]
[{"$f":"VLOOKUP(B9866,Categorias!$A:$B,2,FALSE)","v":{"$error":"#N/A"}}]
[{"$f":"VLOOKUP(B9867,Categorias!$A:$B,2,FALSE)","v":{"$error":"#N/A"}}]
[{"$f":"VLOOKUP(B9868,Categorias!$A:$B,2,FALSE)","v":{"$error":"#N/A"}}]
[{"$f":"VLOOKUP(B9869,Categorias!$A:$B,2,FALSE)","v":{"$error":"#N/A"}}]
[{"$f":"VLOOKUP(B9870,Categorias!$A:$B,2,FALSE)","v":{"$error":"#N/A"}}]
[{"$f":"VLOOKUP(B9871,Categorias!$A:$B,2,FALSE)","v":{"$error":"#N/A"}}]
[{"$f":"VLOOKUP(B9872,Categorias!$A:$B,2,FALSE)","v":{"$error":"#N/A"}}]
[{"$f":"VLOOKUP(B9873,Categorias!$A:$B,2,FALSE)","v":{"$error":"#N/A"}}]
[{"$f":"VLOOKUP(B9874,Categorias!$A:$B,2,FALSE)","v":{"$error":"#N/A"}}]
[{"$f":"VLOOKUP(B9875,Categorias!$A:$B,2,FALSE)","v":{"$error":"#N/A"}}]
[{"$f":"VLOOKUP(B9876,Categorias!$A:$B,2,FALSE)","v":{"$error":"#N/A"}}]
[{"$f":"VLOOKUP(B9877,Categorias!$A:$B,2,FALSE)","v":{"$error":"#N/A"}}]
[{"$f":"VLOOKUP(B9878,Categorias!$A:$B,2,FALSE)","v":{"$error":"#N/A"}}]
[{"$f":"VLOOKUP(B9879,Categorias!$A:$B,2,FALSE)","v":{"$error":"#N/A"}}]
[{"$f":"VLOOKUP(B9880,Categorias!$A:$B,2,FALSE)","v":{"$error":"#N/A"}}]
[{"$f":"VLOOKUP(B9881,Categorias!$A:$B,2,FALSE)","v":{"$error":"#N/A"}}]
[{"$f":"VLOOKUP(B9882,Categorias!$A:$B,2,FALSE)","v":{"$error":"#N/A"}}]
[{"$f":"VLOOKUP(B9883,Categorias!$A:$B,2,FALSE)","v":{"$error":"#N/A"}}]
[{"$f":"VLOOKUP(B9884,Categorias!$A:$B,2,FALSE)","v":{"$error":"#N/A"}}]
[{"$f":"VLOOKUP(B9885,Categorias!$A:$B,2,FALSE)","v":{"$error":"#N/A"}}]
[{"$f":"VLOOKUP(B9886,Categorias!$A:$B,2,FALSE)","v":{"$error":"#N/A"}}]
[{"$f":"VLOOKUP(B9887,Categorias!$A:$B,2,FALSE)","v":{"$error":"#N/A"}}]
[{"$f":"VLOOKUP(B9888,Categorias!$A:$B,2,FALSE)","v":{"$error":"#N/A"}}]
[{"$f":"VLOOKUP(B9889,Categorias!$A:$B,2,FALSE)","v":{"$error":"#N/A"}}]
[{"$f":"VLOOKUP(B9890,Categorias!$A:$B,2,FALSE)","v":{"$error":"#N/A"}}]
[{"$f":"VLOOKUP(B9891,Categorias!$A:$B,2,FALSE)","v":{"$error":"#N/A"}}]
[{"$f":"VLOOKUP(B9892,Categorias!$A:$B,2,FALSE)","v":{"$error":"#N/A"}}]
[{"$f":"VLOOKUP(B9893,Categorias!$A:$B,2,FALSE)","v":{"$error":"#N/A"}}]
[{"$f":"VLOOKUP(B9894,Categorias!$A:$B,2,FALSE)","v":{"$error":"#N/A"}}]
[{"$f":"VLOOKUP(B9895,Categorias!$A:$B,2,FALSE)","v":{"$error":"#N/A"}}]
[{"$f":"VLOOKUP(B9896,Categorias!$A:$B,2,FALSE)","v":{"$error":"#N/A"}}]
[{"$f":"VLOOKUP(B9897,Categorias!$A:$B,2,FALSE)","v":{"$error":"#N/A"}}]
[{"$f":"VLOOKUP(B9898,Categorias!$A:$B,2,FALSE)","v":{"$error":"#N/A"}}]
[{"$f":"VLOOKUP(B9899,Categorias!$A:$B,2,FALSE)","v":{"$error":"#N/A"}}]
[{"$f":"VLOOKUP(B9900,Categorias!$A:$B,2,FALSE)","v":{"$error":"#N/A"}}]
[{"$f":"VLOOKUP(B9901,Categorias!$A:$B,2,FALSE)","v":{"$error":"#N/A"}}]
[{"$f":"VLOOKUP(B9902,Categorias!$A:$B,2,FALSE)","v":{"$error":"#N/A"}}]
[{"$f":"VLOOKUP(B9903,Categorias!$A:$B,2,FALSE)","v":{"$error":"#N/A"}}]
[{"$f":"VLOOKUP(B9904,Categorias!$A:$B,2,FALSE)","v":{"$error":"#N/A"}}]
[{"$f":"VLOOKUP(B9905,Categorias!$A:$B,2,FALSE)","v":{"$error":"#N/A"}}]
[{"$f":"VLOOKUP(B9906,Categorias!$A:$B,2,FALSE)","v":{"$error":"#N/A"}}]
[{"$f":"VLOOKUP(B9907,Categorias!$A:$B,2,FALSE)","v":{"$error":"#N/A"}}]
[{"$f":"VLOOKUP(B9908,Categorias!$A:$B,2,FALSE)","v":{"$error":"#N/A"}}]
[{"$f":"VLOOKUP(B9909,Categorias!$A:$B,2,FALSE)","v":{"$error":"#N/A"}}]
[{"$f":"VLOOKUP(B9910,Categorias!$A:$B,2,FALSE)","v":{"$error":"#N/A"}}]
[{"$f":"VLOOKUP(B9911,Categorias!$A:$B,2,FALSE)","v":{"$error":"#N/A"}}]
[{"$f":"VLOOKUP(B9912,Categorias!$A:$B,2,FALSE)","v":{"$error":"#N/A"}}]
[{"$f":"VLOOKUP(B9913,Categorias!$A:$B,2,FALSE)","v":{"$error":"#N/A"}}]
[{"$f":"VLOOKUP(B9914,Categorias!$A:$B,2,FALSE)","v":{"$error":"#N/A"}}]
[{"$f":"VLOOKUP(B9915,Categorias!$A:$B,2,FALSE)","v":{"$error":"#N/A"}}]
[{"$f":"VLOOKUP(B9916,Categorias!$A:$B,2,FALSE)","v":{"$error":"#N/A"}}]
[{"$f":"VLOOKUP(B9917,Categorias!$A:$B,2,FALSE)","v":{"$error":"#N/A"}}]
[{"$f":"VLOOKUP(B9918,Categorias!$A:$B,2,FALSE)","v":{"$error":"#N/A"}}]
[{"$f":"VLOOKUP(B9919,Categorias!$A:$B,2,FALSE)","v":{"$error":"#N/A"}}]
[{"$f":"VLOOKUP(B9920,Categorias!$A:$B,2,FALSE)","v":{"$error":"#N/A"}}]
[{"$f":"VLOOKUP(B9921,Categorias!$A:$B,2,FALSE)","v":{"$error":"#N/A"}}]
[{"$f":"VLOOKUP(B9922,Categorias!$A:$B,2,FALSE)","v":{"$error":"#N/A"}}]
[{"$f":"VLOOKUP(B9923,Categorias!$A:$B,2,FALSE)","v":{"$error":"#N/A"}}]
[{"$f":"VLOOKUP(B9924,Categorias!$A:$B,2,FALSE)","v":{"$error":"#N/A"}}]
[{"$f":"VLOOKUP(B9925,Categorias!$A:$B,2,FALSE)","v":{"$error":"#N/A"}}]
[{"$f":"VLOOKUP(B9926,Categorias!$A:$B,2,FALSE)","v":{"$error":"#N/A"}}]
[{"$f":"VLOOKUP(B9927,Categorias!$A:$B,2,FALSE)","v":{"$error":"#N/A"}}]
[{"$f":"VLOOKUP(B9928,Categorias!$A:$B,2,FALSE)","v":{"$error":"#N/A"}}]
[{"$f":"VLOOKUP(B9929,Categorias!$A:$B,2,FALSE)","v":{"$error":"#N/A"}}]
[{"$f":"VLOOKUP(B9930,Categorias!$A:$B,2,FALSE)","v":{"$error":"#N/A"}}]
[{"$f":"VLOOKUP(B9931,Categorias!$A:$B,2,FALSE)","v":{"$error":"#N/A"}}]
[{"$f":"VLOOKUP(B9932,Categorias!$A:$B,2,FALSE)","v":{"$error":"#N/A"}}]
[{"$f":"VLOOKUP(B9933,Categorias!$A:$B,2,FALSE)","v":{"$error":"#N/A"}}]
[{"$f":"VLOOKUP(B9934,Categorias!$A:$B,2,FALSE)","v":{"$error":"#N/A"}}]
[{"$f":"VLOOKUP(B9935,Categorias!$A:$B,2,FALSE)","v":{"$error":"#N/A"}}]
[{"$f":"VLOOKUP(B9936,Categorias!$A:$B,2,FALSE)","v":{"$error":"#N/A"}}]
[{"$f":"VLOOKUP(B9937,Categorias!$A:$B,2,FALSE)","v":{"$error":"#N/A"}}]
[{"$f":"VLOOKUP(B9938,Categorias!$A:$B,2,FALSE)","v":{"$error":"#N/A"}}]
[{"$f":"VLOOKUP(B9939,Categorias!$A:$B,2,FALSE)","v":{"$error":"#N/A"}}]
[{"$f":"VLOOKUP(B9940,Categorias!$A:$B,2,FALSE)","v":{"$error":"#N/A"}}]
[{"$f":"VLOOKUP(B9941,Categorias!$A:$B,2,FALSE)","v":{"$error":"#N/A"}}]
[{"$f":"VLOOKUP(B9942,Categorias!$A:$B,2,FALSE)","v":{"$error":"#N/A"}}]
[{"$f":"VLOOKUP(B9943,Categorias!$A:$B,2,FALSE)","v":{"$error":"#N/A"}}]
[{"$f":"VLOOKUP(B9944,Categorias!$A:$B,2,FALSE)","v":{"$error":"#N/A"}}]
[{"$f":"VLOOKUP(B9945,Categorias!$A:$B,2,FALSE)","v":{"$error":"#N/A"}}]
[{"$f":"VLOOKUP(B9946,Categorias!$A:$B,2,FALSE)","v":{"$error":"#N/A"}}]
[{"$f":"VLOOKUP(B9947,Categorias!$A:$B,2,FALSE)","v":{"$error":"#N/A"}}]
[{"$f":"VLOOKUP(B9948,Categorias!$A:$B,2,FALSE)","v":{"$error":"#N/A"}}]
[{"$f":"VLOOKUP(B9949,Categorias!$A:$B,2,FALSE)","v":{"$error":"#N/A"}}]
[{"$f":"VLOOKUP(B9950,Categorias!$A:$B,2,FALSE)","v":{"$error":"#N/A"}}]
[{"$f":"VLOOKUP(B9951,Categorias!$A:$B,2,FALSE)","v":{"$error":"#N/A"}}]
[{"$f":"VLOOKUP(B9952,Categorias!$A:$B,2,FALSE)","v":{"$error":"#N/A"}}]
[{"$f":"VLOOKUP(B9953,Categorias!$A:$B,2,FALSE)","v":{"$error":"#N/A"}}]
[{"$f":"VLOOKUP(B9954,Categorias!$A:$B,2,FALSE)","v":{"$error":"#N/A"}}]
[{"$f":"VLOOKUP(B9955,Categorias!$A:$B,2,FALSE)","v":{"$error":"#N/A"}}]
[{"$f":"VLOOKUP(B9956,Categorias!$A:$B,2,FALSE)","v":{"$error":"#N/A"}}]
[{"$f":"VLOOKUP(B9957,Categorias!$A:$B,2,FALSE)","v":{"$error":"#N/A"}}]
[{"$f":"VLOOKUP(B9958,Categorias!$A:$B,2,FALSE)","v":{"$error":"#N/A"}}]
[{"$f":"VLOOKUP(B9959,Categorias!$A:$B,2,FALSE)","v":{"$error":"#N/A"}}]
[{"$f":"VLOOKUP(B9960,Categorias!$A:$B,2,FALSE)","v":{"$error":"#N/A"}}]
[{"$f":"VLOOKUP(B9961,Categorias!$A:$B,2,FALSE)","v":{"$error":"#N/A"}}]
[{"$f":"VLOOKUP(B9962,Categorias!$A:$B,2,FALSE)","v":{"$error":"#N/A"}}]
[{"$f":"VLOOKUP(B9963,Categorias!$A:$B,2,FALSE)","v":{"$error":"#N/A"}}]
[{"$f":"VLOOKUP(B9964,Categorias!$A:$B,2,FALSE)","v":{"$error":"#N/A"}}]
[{"$f":"VLOOKUP(B9965,Categorias!$A:$B,2,FALSE)","v":{"$error":"#N/A"}}]
[{"$f":"VLOOKUP(B9966,Categorias!$A:$B,2,FALSE)","v":{"$error":"#N/A"}}]
[{"$f":"VLOOKUP(B9967,Categorias!$A:$B,2,FALSE)","v":{"$error":"#N/A"}}]
[{"$f":"VLOOKUP(B9968,Categorias!$A:$B,2,FALSE)","v":{"$error":"#N/A"}}]
[{"$f":"VLOOKUP(B9969,Categorias!$A:$B,2,FALSE)","v":{"$error":"#N/A"}}]
[{"$f":"VLOOKUP(B9970,Categorias!$A:$B,2,FALSE)","v":{"$error":"#N/A"}}]
[{"$f":"VLOOKUP(B9971,Categorias!$A:$B,2,FALSE)","v":{"$error":"#N/A"}}]
[{"$f":"VLOOKUP(B9972,Categorias!$A:$B,2,FALSE)","v":{"$error":"#N/A"}}]
[{"$f":"VLOOKUP(B9973,Categorias!$A:$B,2,FALSE)","v":{"$error":"#N/A"}}]
[{"$f":"VLOOKUP(B9974,Categorias!$A:$B,2,FALSE)","v":{"$error":"#N/A"}}]
[{"$f":"VLOOKUP(B9975,Categorias!$A:$B,2,FALSE)","v":{"$error":"#N/A"}}]
[{"$f":"VLOOKUP(B9976,Categorias!$A:$B,2,FALSE)","v":{"$error":"#N/A"}}]
[{"$f":"VLOOKUP(B9977,Categorias!$A:$B,2,FALSE)","v":{"$error":"#N/A"}}]
[{"$f":"VLOOKUP(B9978,Categorias!$A:$B,2,FALSE)","v":{"$error":"#N/A"}}]
[{"$f":"VLOOKUP(B9979,Categorias!$A:$B,2,FALSE)","v":{"$error":"#N/A"}}]
[{"$f":"VLOOKUP(B9980,Categorias!$A:$B,2,FALSE)","v":{"$error":"#N/A"}}]
[{"$f":"VLOOKUP(B9981,Categorias!$A:$B,2,FALSE)","v":{"$error":"#N/A"}}]
[{"$f":"VLOOKUP(B9982,Categorias!$A:$B,2,FALSE)","v":{"$error":"#N/A"}}]
[{"$f":"VLOOKUP(B9983,Categorias!$A:$B,2,FALSE)","v":{"$error":"#N/A"}}]
[{"$f":"VLOOKUP(B9984,Categorias!$A:$B,2,FALSE)","v":{"$error":"#N/A"}}]
[{"$f":"VLOOKUP(B9985,Categorias!$A:$B,2,FALSE)","v":{"$error":"#N/A"}}]
[{"$f":"VLOOKUP(B9986,Categorias!$A:$B,2,FALSE)","v":{"$error":"#N/A"}}]
[{"$f":"VLOOKUP(B9987,Categorias!$A:$B,2,FALSE)","v":{"$error":"#N/A"}}]
[{"$f":"VLOOKUP(B9988,Categorias!$A:$B,2,FALSE)","v":{"$error":"#N/A"}}]
[{"$f":"VLOOKUP(B9989,Categorias!$A:$B,2,FALSE)","v":{"$error":"#N/A"}}]
[{"$f":"VLOOKUP(B9990,Categorias!$A:$B,2,FALSE)","v":{"$error":"#N/A"}}]
[{"$f":"VLOOKUP(B9991,Categorias!$A:$B,2,FALSE)","v":{"$error":"#N/A"}}]
[{"$f":"VLOOKUP(B9992,Categorias!$A:$B,2,FALSE)","v":{"$error":"#N/A"}}]
[{"$f":"VLOOKUP(B9993,Categorias!$A:$B,2,FALSE)","v":{"$error":"#N/A"}}]
[{"$f":"VLOOKUP(B9994,Categorias!$A:$B,2,FALSE)","v":{"$error":"#N/A"}}]
[{"$f":"VLOOKUP(B9995,Categorias!$A:$B,2,FALSE)","v":{"$error":"#N/A"}}]
[{"$f":"VLOOKUP(B9996,Categorias!$A:$B,2,FALSE)","v":{"$error":"#N/A"}}]
[{"$f":"VLOOKUP(B9997,Categorias!$A:$B,2,FALSE)","v":{"$error":"#N/A"}}]
[{"$f":"VLOOKUP(B9998,Categorias!$A:$B,2,FALSE)","v":{"$error":"#N/A"}}]
[{"$f":"VLOOKUP(B9999,Categorias!$A:$B,2,FALSE)","v":{"$error":"#N/A"}}]
[{"$f":"VLOOKUP(B10000,Categorias!$A:$B,2,FALSE)","v":{"$error":"#N/A"}}]

{"sheet":"Categorias","index":1,"n_rows":104,"n_cols":2,"rows_kept":104,"cut":false,"hidden":false,"merged":[]}
["Categorias","IdCategoria"]
["Aduana","1"]
["Banco","2"]
["Caseta","3"]
["Cliente","4"]
["Gasolinera","5"]
["Lugar prohibido","6"]
["Oficina","7"]
["Proveedor","8"]
["Punto de control","9"]
["Punto de referencia","10"]
["Restaurante","11"]
["Retén militar","12"]
["Oficina Sucursal","14"]
["Patio","15"]
["Sitio Autorizado de Descanso","16"]
["Taller","17"]
["Centro de Distribucion","18"]
["Bodega","20"]
["Obra","21"]
["Tienda","22"]
["Plantacion","23"]
["IMSS","24"]
["ISSSTE","25"]
["Punto de servicio","30"]
["Zona de riesgo","31"]
["Planta","32"]
["Corralones","34"]
["Farmacia","39"]
["Destacamento de Policia","13"]
["Secretaria de salud","26"]
["Zona Centro","41"]
["Prospecto","42"]
["Casa","43"]
["Aeropuerto","44"]
["Zona Sur","35"]
["Zona Norte","36"]
["Zona bajío","37"]
["Zona Pacífico","38"]
["CADI","45"]
["VSP 1","46"]
["VSP 2","47"]
["VSP 3","48"]
["VSP 4","49"]
["Almacen","50"]
["CMP","51"]
["PKC","52"]
["PRO","53"]
["TRN","54"]
["Paradas de control","55"]
["Banco De Tierra","56"]
["Evento","57"]
["TMS","58"]
["Paradas autorizadas","59"]
["Paradas No autorizadas","60"]
["Puentes Internacionales","61"]
["Zonas","62"]
["Sectores","63"]
["IMSS NL HGZ No. 21","64"]
["IMSS NL HRE No. 23","65"]
["IMSS NL HRE No. 34","66"]
["IMSS NL UMAE No. 22","67"]
["IMSS NL UMAE No. 25","68"]
["IMSS COAH No. 71","69"]
["IMSS NL","70"]
["IMSS TAMPS","71"]
["IMSS ZAC","72"]
["IMSS COAHUILA","73"]
["IMSS DURANGO","74"]
["Alpha","75"]
["PDC","76"]
["Sala","77"]
["Sitio Activo","78"]
["BODEGA 1","80"]
["BODEGA 2","81"]
["BODEGA 3","82"]
["BODEGA 4","83"]
["BODEGA 5","84"]
["Veracruz","97"]
["Sucursal Monterrey","98"]
["Sucursal Torreón","99"]
["Sucursal México","100"]
["Sucursal Villahermosa","101"]
["Sucursal Mérida","102"]
["Sucursal Puebla","103"]
["Sucursal Guadalajara","104"]
["Sucursal Chihuahua","105"]
["Sucursal Tijuana","106"]
["Sucursal Mexicali","107"]
["Sucursal León","108"]
["Departamental","109"]
["Casino","110"]
["Cajero","111"]
["Hospital","112"]
["Conveniencia","113"]
["Plaza Comercial","114"]
["CFE","120"]
["Gobierno","121"]
["Particulares","122"]
["Hotel","115"]
["Autobus","116"]
["Escuela","117"]
["Teatro","118"]
["Cine","119"]